{"text_format":"1","workbook":"xlsx","n_sheets":10,"sheets":["Instructions","All Bill Data Entry","AH-Accounting","LN-Line Data","NOTE","NOTELNK","Export Files","CUST","PO","Values"],"not_rendered":{"charts":0,"images":1,"macros":1,"external_links":0,"defined_names":4,"comments":0,"pivot_tables":0},"unopened":[],"bounds":{"document_bytes":16777216,"sheet_cells":100000,"rows_first":2000,"rows_last":500,"rows_between":2000,"halvings":0,"cell_chars":16384,"cell_head_chars":4096},"cells_cut":0,"cells_raw":0,"read":"whole","date_system":"1900"}

{"sheet":"Instructions","index":0,"n_rows":35,"n_cols":1,"rows_kept":35,"cut":false,"hidden":false,"merged":[[6,0,7,15]]}
[]
[]
[]
[]
[]
["FSU Custom Billing Upload Template"]
["This Excel template is for FSU auxiliaries that utilize the upload and interface functionality of OMNI Financials.  Job Aid ABILL1 - Upload & Interface Bills.  Role FSU_AUX_BILLING required for access.  Contact Auxiliary Services at ctl-auxiliaryaccounting@fsu.edu for assistance."]
[]
[]
["Steps to Complete Upload"]
[]
["1. Customer Data"]
["Run query FSU_CTRL_AUX_CUST"]
["Paste results into the CUST tab"]
["Make sure columns BC and BD formulas are filled for all rows.  Do not override."]
[]
["2. PO Data"]
["Run query FSU_AUX_PO_DTL for your vendor"]
["Paste into the PO tab"]
["Make sure columns AC, AD, and AE formulas are filled.  Do not override."]
[]
["3. Billing Data"]
["Go to the All Billing Data Entry tab"]
["Review and fix any red-shaded cells (possible errors)"]
["Double-check all entries before continuing"]
[]
["4. Save the File"]
["Save the workbook as a .xlsm (macro-enabled Excel file)"]
[]
["5. Create CSV Files"]
["Go to the Export Files tab"]
["Read instructions, then click “Create .CSV Files”"]
[]
["6. Upload the Files"]
["Follow instructions in the job aid to upload and interface your files in OMNI"]

{"sheet":"All Bill Data Entry","index":1,"n_rows":307,"n_cols":25,"rows_kept":307,"cut":false,"hidden":false,"merged":[]}
[]
["FSU Custom Billing Template",null,null,"Grey cells auto populate based upon other information entered. Verify data.","Red cells may require attention. "]
[]
["Interface Line #","Billing Specialist","Identifier ","Charge Description","Long Note (254 characters)","Quantity","Unit Amount","Gross Extended Amount","Charge to Date","PO Reference","Internal PO Line","Customer ID","Customer Group  ","Contact Sequence","Dept Revenue","Fund Revenue","Account Revenue","Chartfield 1","Chartfield 2","Chartfield 3","Bill Source*","Customer Address Sequence Number","Contract*","Bill Inquiry Phone*","Temporary Bill Flag "]
["INTFC_LINE_NUM","BILLING_SPECIALIST","IDENTIFIER ","DESCR","TEXT254","QTY","UNIT_AMT","GROSS_EXTENDED_AMT","CHARGE_TO_DT","PO_REF","PO_LINE","BILL_TO_CUST_ID","N/A","CNTCT_SEQ_NUM","DEPTID ","FUND_CODE ","ACCOUNT","CHARTFIELD1","CHARTFIELD2","CHARTFIELD3","BILL_SOURCE","ADDRESS_SEQ_NUM","CONTRACT_NUM","BILL_INQUIRY_PHONE","TMP_BILL_FLG"]
["This number increases by 1 for each billing row (e.g., 1, 2, 3) and must match the transaction data across all uploaded files.","Choose the bill specialist for auxiliary billing in the cell drop down. ","Optional field, use only if needed. This field is for a unique ID, limited to 18 characters. Commas and special characters are not allowed.","Main charge description, limited to 30 characters. Commas and special characters are not allowed.","Optional field, use only if needed. Detailed charge description, up to 254 characters. Use only if needed. Commas and special characters are not allowed.","Quantity amount. Up to 3 decimal places.","Unit price. Up to 3 decimal places.","The gross amount of the charge line.","This is the date of the charge or the date through which the charges have been assessed. Should be in format YYYY-MM-DD.","Required for ALL customers. For Internal, ensure it is a 10-digit number preceded by 3 zeroes. If the PO is invalid or missing this cell will turn red. For external, input the PO provided by customer or if not provided, input “N/A\".","Required for internal customers only. If the PO/PO Line combo is invalid this cell will turn red. ","For internal customers, this field calculates. For external/ component unit customers, enter the appropriate customer ID (refer to CUST tab).","The group type of the customer being billed.","For internal customers, this field calculates.  For external/component unit customers, enter the contact sequence (refer to CUST tab).","Enter the correct 6-digit department ID for the selling auxiliary. If it starts with \"0\", add an apostrophe first (e.g., '074001).","Enter the correct 3-digit fund code for the selling auxiliary.","Enter the correct 6-digit revenue account code for the selling auxiliary (starts with 6). Enter based on whether the customer is internal or external/component unit.","Optional field.  If departments are utilizing these, use the applicable revenue chartfield to code each bill line appropriately.","Optional field.  If departments are utilizing these, use the applicable revenue chartfield to code each bill line appropriately.","Optional field.  If departments are utilizing these, use the applicable revenue chartfield to code each bill line appropriately.","This value populates automatically based upon the Billing Specialist. ","This value populates automatically based upon the Customer ID and Contact Sequence Number.","This value populates automatically based upon the Bill Source. ","This value populates automatically based upon the Bill Source. ","The formula will enter \"Y\" if the PO line entered is associated with a sponsored project.  "]
[{"$f":"IF(D7=\"\",\"\",1)","v":""},null,null,null,null,null,null,{"$f":"IF(F7=\"\",\"\",F7*G7)","v":""},null,null,null,{"$f":"IF(J7=\"\",\"\",INDEX(CUST!BC:BC,MATCH(INDEX(PO!AD:AD,MATCH(CONCATENATE('All Bill Data Entry'!J7,'All Bill Data Entry'!K7),PO!AC:AC,0)),CUST!I:I,0)))","v":""},{"$f":"IF(L7=\"\",\"\",INDEX(CUST!G:G,MATCH('All Bill Data Entry'!L7,CUST!B:B,0)))","v":""},{"$f":"IF(OR(M7=\"INTERNAL\",M7=\"COMPONENT\"),1,\"\")","v":""},null,null,null,null,null,null,{"$f":"IF($B7=\"\",\"\",INDEX(Values!H:H,MATCH('All Bill Data Entry'!$B7,Values!F:F,0)))","v":""},{"$f":"IF($D7=\"\",\"\",INDEX(CUST!N:N,MATCH('All Bill Data Entry'!L7&'All Bill Data Entry'!N7,CUST!BD:BD,0)))","v":""},{"$f":"IF($B7=\"\",\"\",INDEX(Values!I:I,MATCH('All Bill Data Entry'!$B7,Values!G:G,0)))","v":""},{"$f":"IF($B7=\"\",\"\",INDEX(Values!J:J,MATCH('All Bill Data Entry'!$B7,Values!G:G,0)))","v":""},{"$f":"IF(D7=\"\",\"\",IF(AND(LEN(J7)=10,LEFT(J7,3)=\"000\"),IF(INDEX(PO!AE:AE,MATCH(CONCATENATE('All Bill Data Entry'!J7,'All Bill Data Entry'!K7),PO!AC:AC,0))<>\"\",\"N\",\"N\"),\"N\"))","v":""}]
[{"$f":"IF(D8=\"\",\"\",A7+1)","v":""},null,null,null,null,null,null,{"$f":"IF(F8=\"\",\"\",F8*G8)","v":""},null,null,null,{"$f":"IF(J8=\"\",\"\",INDEX(CUST!BC:BC,MATCH(INDEX(PO!AD:AD,MATCH(CONCATENATE('All Bill Data Entry'!J8,'All Bill Data Entry'!K8),PO!AC:AC,0)),CUST!I:I,0)))","v":""},{"$f":"IF(L8=\"\",\"\",INDEX(CUST!G:G,MATCH('All Bill Data Entry'!L8,CUST!B:B,0)))","v":""},"",null,null,null,null,null,null,{"$f":"IF($B8=\"\",\"\",INDEX(Values!H:H,MATCH('All Bill Data Entry'!$B8,Values!F:F,0)))","v":""},{"$f":"IF($D8=\"\",\"\",INDEX(CUST!N:N,MATCH('All Bill Data Entry'!L8&'All Bill Data Entry'!N8,CUST!BD:BD,0)))","v":""},{"$f":"IF($B8=\"\",\"\",INDEX(Values!I:I,MATCH('All Bill Data Entry'!$B8,Values!G:G,0)))","v":""},{"$f":"IF($B8=\"\",\"\",INDEX(Values!J:J,MATCH('All Bill Data Entry'!$B8,Values!G:G,0)))","v":""},{"$f":"IF(D8=\"\",\"\",IF(AND(LEN(J8)=10,LEFT(J8,3)=\"000\"),IF(INDEX(PO!AE:AE,MATCH(CONCATENATE('All Bill Data Entry'!J8,'All Bill Data Entry'!K8),PO!AC:AC,0))<>\"\",\"N\",\"N\"),\"N\"))","v":""}]
[{"$f":"IF(D9=\"\",\"\",A8+1)","v":""},null,null,null,null,null,null,"",null,null,null,{"$f":"IF(J9=\"\",\"\",INDEX(CUST!BC:BC,MATCH(INDEX(PO!AD:AD,MATCH(CONCATENATE('All Bill Data Entry'!J9,'All Bill Data Entry'!K9),PO!AC:AC,0)),CUST!I:I,0)))","v":""},{"$f":"IF(L9=\"\",\"\",INDEX(CUST!G:G,MATCH('All Bill Data Entry'!L9,CUST!B:B,0)))","v":""},"",null,null,null,null,null,null,{"$f":"IF($B9=\"\",\"\",INDEX(Values!H:H,MATCH('All Bill Data Entry'!$B9,Values!F:F,0)))","v":""},{"$f":"IF($D9=\"\",\"\",INDEX(CUST!N:N,MATCH('All Bill Data Entry'!L9&'All Bill Data Entry'!N9,CUST!BD:BD,0)))","v":""},{"$f":"IF($B9=\"\",\"\",INDEX(Values!I:I,MATCH('All Bill Data Entry'!$B9,Values!G:G,0)))","v":""},{"$f":"IF($B9=\"\",\"\",INDEX(Values!J:J,MATCH('All Bill Data Entry'!$B9,Values!G:G,0)))","v":""},{"$f":"IF(D9=\"\",\"\",IF(AND(LEN(J9)=10,LEFT(J9,3)=\"000\"),IF(INDEX(PO!AE:AE,MATCH(CONCATENATE('All Bill Data Entry'!J9,'All Bill Data Entry'!K9),PO!AC:AC,0))<>\"\",\"N\",\"N\"),\"N\"))","v":""}]
["",null,null,null,null,null,null,"",null,null,null,{"$f":"IF(J10=\"\",\"\",INDEX(CUST!BC:BC,MATCH(INDEX(PO!AD:AD,MATCH(CONCATENATE('All Bill Data Entry'!J10,'All Bill Data Entry'!K10),PO!AC:AC,0)),CUST!I:I,0)))","v":""},{"$f":"IF(L10=\"\",\"\",INDEX(CUST!G:G,MATCH('All Bill Data Entry'!L10,CUST!B:B,0)))","v":""},"",null,null,null,null,null,null,{"$f":"IF($B10=\"\",\"\",INDEX(Values!H:H,MATCH('All Bill Data Entry'!$B10,Values!F:F,0)))","v":""},{"$f":"IF($D10=\"\",\"\",INDEX(CUST!N:N,MATCH('All Bill Data Entry'!L10&'All Bill Data Entry'!N10,CUST!BD:BD,0)))","v":""},{"$f":"IF($B10=\"\",\"\",INDEX(Values!I:I,MATCH('All Bill Data Entry'!$B10,Values!G:G,0)))","v":""},{"$f":"IF($B10=\"\",\"\",INDEX(Values!J:J,MATCH('All Bill Data Entry'!$B10,Values!G:G,0)))","v":""},{"$f":"IF(D10=\"\",\"\",IF(AND(LEN(J10)=10,LEFT(J10,3)=\"000\"),IF(INDEX(PO!AE:AE,MATCH(CONCATENATE('All Bill Data Entry'!J10,'All Bill Data Entry'!K10),PO!AC:AC,0))<>\"\",\"N\",\"N\"),\"N\"))","v":""}]
["",null,null,null,null,null,null,"",null,null,null,{"$f":"IF(J11=\"\",\"\",INDEX(CUST!BC:BC,MATCH(INDEX(PO!AD:AD,MATCH(CONCATENATE('All Bill Data Entry'!J11,'All Bill Data Entry'!K11),PO!AC:AC,0)),CUST!I:I,0)))","v":""},{"$f":"IF(L11=\"\",\"\",INDEX(CUST!G:G,MATCH('All Bill Data Entry'!L11,CUST!B:B,0)))","v":""},"",null,null,null,null,null,null,{"$f":"IF($B11=\"\",\"\",INDEX(Values!H:H,MATCH('All Bill Data Entry'!$B11,Values!F:F,0)))","v":""},{"$f":"IF($D11=\"\",\"\",INDEX(CUST!N:N,MATCH('All Bill Data Entry'!L11&'All Bill Data Entry'!N11,CUST!BD:BD,0)))","v":""},{"$f":"IF($B11=\"\",\"\",INDEX(Values!I:I,MATCH('All Bill Data Entry'!$B11,Values!G:G,0)))","v":""},{"$f":"IF($B11=\"\",\"\",INDEX(Values!J:J,MATCH('All Bill Data Entry'!$B11,Values!G:G,0)))","v":""},{"$f":"IF(D11=\"\",\"\",IF(AND(LEN(J11)=10,LEFT(J11,3)=\"000\"),IF(INDEX(PO!AE:AE,MATCH(CONCATENATE('All Bill Data Entry'!J11,'All Bill Data Entry'!K11),PO!AC:AC,0))<>\"\",\"N\",\"N\"),\"N\"))","v":""}]
["",null,null,null,null,null,null,"",null,null,null,{"$f":"IF(J12=\"\",\"\",INDEX(CUST!BC:BC,MATCH(INDEX(PO!AD:AD,MATCH(CONCATENATE('All Bill Data Entry'!J12,'All Bill Data Entry'!K12),PO!AC:AC,0)),CUST!I:I,0)))","v":""},{"$f":"IF(L12=\"\",\"\",INDEX(CUST!G:G,MATCH('All Bill Data Entry'!L12,CUST!B:B,0)))","v":""},"",null,null,null,null,null,null,{"$f":"IF($B12=\"\",\"\",INDEX(Values!H:H,MATCH('All Bill Data Entry'!$B12,Values!F:F,0)))","v":""},{"$f":"IF($D12=\"\",\"\",INDEX(CUST!N:N,MATCH('All Bill Data Entry'!L12&'All Bill Data Entry'!N12,CUST!BD:BD,0)))","v":""},{"$f":"IF($B12=\"\",\"\",INDEX(Values!I:I,MATCH('All Bill Data Entry'!$B12,Values!G:G,0)))","v":""},{"$f":"IF($B12=\"\",\"\",INDEX(Values!J:J,MATCH('All Bill Data Entry'!$B12,Values!G:G,0)))","v":""},{"$f":"IF(D12=\"\",\"\",IF(AND(LEN(J12)=10,LEFT(J12,3)=\"000\"),IF(INDEX(PO!AE:AE,MATCH(CONCATENATE('All Bill Data Entry'!J12,'All Bill Data Entry'!K12),PO!AC:AC,0))<>\"\",\"N\",\"N\"),\"N\"))","v":""}]
["",null,null,null,null,null,null,"",null,null,null,{"$f":"IF(J13=\"\",\"\",INDEX(CUST!BC:BC,MATCH(INDEX(PO!AD:AD,MATCH(CONCATENATE('All Bill Data Entry'!J13,'All Bill Data Entry'!K13),PO!AC:AC,0)),CUST!I:I,0)))","v":""},{"$f":"IF(L13=\"\",\"\",INDEX(CUST!G:G,MATCH('All Bill Data Entry'!L13,CUST!B:B,0)))","v":""},"",null,null,null,null,null,null,{"$f":"IF($B13=\"\",\"\",INDEX(Values!H:H,MATCH('All Bill Data Entry'!$B13,Values!F:F,0)))","v":""},{"$f":"IF($D13=\"\",\"\",INDEX(CUST!N:N,MATCH('All Bill Data Entry'!L13&'All Bill Data Entry'!N13,CUST!BD:BD,0)))","v":""},{"$f":"IF($B13=\"\",\"\",INDEX(Values!I:I,MATCH('All Bill Data Entry'!$B13,Values!G:G,0)))","v":""},{"$f":"IF($B13=\"\",\"\",INDEX(Values!J:J,MATCH('All Bill Data Entry'!$B13,Values!G:G,0)))","v":""},{"$f":"IF(D13=\"\",\"\",IF(AND(LEN(J13)=10,LEFT(J13,3)=\"000\"),IF(INDEX(PO!AE:AE,MATCH(CONCATENATE('All Bill Data Entry'!J13,'All Bill Data Entry'!K13),PO!AC:AC,0))<>\"\",\"N\",\"N\"),\"N\"))","v":""}]
["",null,null,null,null,null,null,"",null,null,null,{"$f":"IF(J14=\"\",\"\",INDEX(CUST!BC:BC,MATCH(INDEX(PO!AD:AD,MATCH(CONCATENATE('All Bill Data Entry'!J14,'All Bill Data Entry'!K14),PO!AC:AC,0)),CUST!I:I,0)))","v":""},{"$f":"IF(L14=\"\",\"\",INDEX(CUST!G:G,MATCH('All Bill Data Entry'!L14,CUST!B:B,0)))","v":""},"",null,null,null,null,null,null,{"$f":"IF($B14=\"\",\"\",INDEX(Values!H:H,MATCH('All Bill Data Entry'!$B14,Values!F:F,0)))","v":""},{"$f":"IF($D14=\"\",\"\",INDEX(CUST!N:N,MATCH('All Bill Data Entry'!L14&'All Bill Data Entry'!N14,CUST!BD:BD,0)))","v":""},{"$f":"IF($B14=\"\",\"\",INDEX(Values!I:I,MATCH('All Bill Data Entry'!$B14,Values!G:G,0)))","v":""},{"$f":"IF($B14=\"\",\"\",INDEX(Values!J:J,MATCH('All Bill Data Entry'!$B14,Values!G:G,0)))","v":""},{"$f":"IF(D14=\"\",\"\",IF(AND(LEN(J14)=10,LEFT(J14,3)=\"000\"),IF(INDEX(PO!AE:AE,MATCH(CONCATENATE('All Bill Data Entry'!J14,'All Bill Data Entry'!K14),PO!AC:AC,0))<>\"\",\"N\",\"N\"),\"N\"))","v":""}]
["",null,null,null,null,null,null,"",null,null,null,{"$f":"IF(J15=\"\",\"\",INDEX(CUST!BC:BC,MATCH(INDEX(PO!AD:AD,MATCH(CONCATENATE('All Bill Data Entry'!J15,'All Bill Data Entry'!K15),PO!AC:AC,0)),CUST!I:I,0)))","v":""},{"$f":"IF(L15=\"\",\"\",INDEX(CUST!G:G,MATCH('All Bill Data Entry'!L15,CUST!B:B,0)))","v":""},"",null,null,null,null,null,null,{"$f":"IF($B15=\"\",\"\",INDEX(Values!H:H,MATCH('All Bill Data Entry'!$B15,Values!F:F,0)))","v":""},{"$f":"IF($D15=\"\",\"\",INDEX(CUST!N:N,MATCH('All Bill Data Entry'!L15&'All Bill Data Entry'!N15,CUST!BD:BD,0)))","v":""},{"$f":"IF($B15=\"\",\"\",INDEX(Values!I:I,MATCH('All Bill Data Entry'!$B15,Values!G:G,0)))","v":""},{"$f":"IF($B15=\"\",\"\",INDEX(Values!J:J,MATCH('All Bill Data Entry'!$B15,Values!G:G,0)))","v":""},{"$f":"IF(D15=\"\",\"\",IF(AND(LEN(J15)=10,LEFT(J15,3)=\"000\"),IF(INDEX(PO!AE:AE,MATCH(CONCATENATE('All Bill Data Entry'!J15,'All Bill Data Entry'!K15),PO!AC:AC,0))<>\"\",\"N\",\"N\"),\"N\"))","v":""}]
["",null,null,null,null,null,null,"",null,null,null,{"$f":"IF(J16=\"\",\"\",INDEX(CUST!BC:BC,MATCH(INDEX(PO!AD:AD,MATCH(CONCATENATE('All Bill Data Entry'!J16,'All Bill Data Entry'!K16),PO!AC:AC,0)),CUST!I:I,0)))","v":""},{"$f":"IF(L16=\"\",\"\",INDEX(CUST!G:G,MATCH('All Bill Data Entry'!L16,CUST!B:B,0)))","v":""},"",null,null,null,null,null,null,{"$f":"IF($B16=\"\",\"\",INDEX(Values!H:H,MATCH('All Bill Data Entry'!$B16,Values!F:F,0)))","v":""},{"$f":"IF($D16=\"\",\"\",INDEX(CUST!N:N,MATCH('All Bill Data Entry'!L16&'All Bill Data Entry'!N16,CUST!BD:BD,0)))","v":""},{"$f":"IF($B16=\"\",\"\",INDEX(Values!I:I,MATCH('All Bill Data Entry'!$B16,Values!G:G,0)))","v":""},{"$f":"IF($B16=\"\",\"\",INDEX(Values!J:J,MATCH('All Bill Data Entry'!$B16,Values!G:G,0)))","v":""},{"$f":"IF(D16=\"\",\"\",IF(AND(LEN(J16)=10,LEFT(J16,3)=\"000\"),IF(INDEX(PO!AE:AE,MATCH(CONCATENATE('All Bill Data Entry'!J16,'All Bill Data Entry'!K16),PO!AC:AC,0))<>\"\",\"N\",\"N\"),\"N\"))","v":""}]
["",null,null,null,null,null,null,"",null,null,null,{"$f":"IF(J17=\"\",\"\",INDEX(CUST!BC:BC,MATCH(INDEX(PO!AD:AD,MATCH(CONCATENATE('All Bill Data Entry'!J17,'All Bill Data Entry'!K17),PO!AC:AC,0)),CUST!I:I,0)))","v":""},{"$f":"IF(L17=\"\",\"\",INDEX(CUST!G:G,MATCH('All Bill Data Entry'!L17,CUST!B:B,0)))","v":""},"",null,null,null,null,null,null,{"$f":"IF($B17=\"\",\"\",INDEX(Values!H:H,MATCH('All Bill Data Entry'!$B17,Values!F:F,0)))","v":""},{"$f":"IF($D17=\"\",\"\",INDEX(CUST!N:N,MATCH('All Bill Data Entry'!L17&'All Bill Data Entry'!N17,CUST!BD:BD,0)))","v":""},{"$f":"IF($B17=\"\",\"\",INDEX(Values!I:I,MATCH('All Bill Data Entry'!$B17,Values!G:G,0)))","v":""},{"$f":"IF($B17=\"\",\"\",INDEX(Values!J:J,MATCH('All Bill Data Entry'!$B17,Values!G:G,0)))","v":""},{"$f":"IF(D17=\"\",\"\",IF(AND(LEN(J17)=10,LEFT(J17,3)=\"000\"),IF(INDEX(PO!AE:AE,MATCH(CONCATENATE('All Bill Data Entry'!J17,'All Bill Data Entry'!K17),PO!AC:AC,0))<>\"\",\"N\",\"N\"),\"N\"))","v":""}]
["",null,null,null,null,null,null,"",null,null,null,{"$f":"IF(J18=\"\",\"\",INDEX(CUST!BC:BC,MATCH(INDEX(PO!AD:AD,MATCH(CONCATENATE('All Bill Data Entry'!J18,'All Bill Data Entry'!K18),PO!AC:AC,0)),CUST!I:I,0)))","v":""},{"$f":"IF(L18=\"\",\"\",INDEX(CUST!G:G,MATCH('All Bill Data Entry'!L18,CUST!B:B,0)))","v":""},"",null,null,null,null,null,null,{"$f":"IF($B18=\"\",\"\",INDEX(Values!H:H,MATCH('All Bill Data Entry'!$B18,Values!F:F,0)))","v":""},{"$f":"IF($D18=\"\",\"\",INDEX(CUST!N:N,MATCH('All Bill Data Entry'!L18&'All Bill Data Entry'!N18,CUST!BD:BD,0)))","v":""},{"$f":"IF($B18=\"\",\"\",INDEX(Values!I:I,MATCH('All Bill Data Entry'!$B18,Values!G:G,0)))","v":""},{"$f":"IF($B18=\"\",\"\",INDEX(Values!J:J,MATCH('All Bill Data Entry'!$B18,Values!G:G,0)))","v":""},{"$f":"IF(D18=\"\",\"\",IF(AND(LEN(J18)=10,LEFT(J18,3)=\"000\"),IF(INDEX(PO!AE:AE,MATCH(CONCATENATE('All Bill Data Entry'!J18,'All Bill Data Entry'!K18),PO!AC:AC,0))<>\"\",\"N\",\"N\"),\"N\"))","v":""}]
["",null,null,null,null,null,null,"",null,null,null,{"$f":"IF(J19=\"\",\"\",INDEX(CUST!BC:BC,MATCH(INDEX(PO!AD:AD,MATCH(CONCATENATE('All Bill Data Entry'!J19,'All Bill Data Entry'!K19),PO!AC:AC,0)),CUST!I:I,0)))","v":""},{"$f":"IF(L19=\"\",\"\",INDEX(CUST!G:G,MATCH('All Bill Data Entry'!L19,CUST!B:B,0)))","v":""},"",null,null,null,null,null,null,{"$f":"IF($B19=\"\",\"\",INDEX(Values!H:H,MATCH('All Bill Data Entry'!$B19,Values!F:F,0)))","v":""},{"$f":"IF($D19=\"\",\"\",INDEX(CUST!N:N,MATCH('All Bill Data Entry'!L19&'All Bill Data Entry'!N19,CUST!BD:BD,0)))","v":""},{"$f":"IF($B19=\"\",\"\",INDEX(Values!I:I,MATCH('All Bill Data Entry'!$B19,Values!G:G,0)))","v":""},{"$f":"IF($B19=\"\",\"\",INDEX(Values!J:J,MATCH('All Bill Data Entry'!$B19,Values!G:G,0)))","v":""},{"$f":"IF(D19=\"\",\"\",IF(AND(LEN(J19)=10,LEFT(J19,3)=\"000\"),IF(INDEX(PO!AE:AE,MATCH(CONCATENATE('All Bill Data Entry'!J19,'All Bill Data Entry'!K19),PO!AC:AC,0))<>\"\",\"N\",\"N\"),\"N\"))","v":""}]
["",null,null,null,null,null,null,"",null,null,null,{"$f":"IF(J20=\"\",\"\",INDEX(CUST!BC:BC,MATCH(INDEX(PO!AD:AD,MATCH(CONCATENATE('All Bill Data Entry'!J20,'All Bill Data Entry'!K20),PO!AC:AC,0)),CUST!I:I,0)))","v":""},{"$f":"IF(L20=\"\",\"\",INDEX(CUST!G:G,MATCH('All Bill Data Entry'!L20,CUST!B:B,0)))","v":""},"",null,null,null,null,null,null,{"$f":"IF($B20=\"\",\"\",INDEX(Values!H:H,MATCH('All Bill Data Entry'!$B20,Values!F:F,0)))","v":""},{"$f":"IF($D20=\"\",\"\",INDEX(CUST!N:N,MATCH('All Bill Data Entry'!L20&'All Bill Data Entry'!N20,CUST!BD:BD,0)))","v":""},{"$f":"IF($B20=\"\",\"\",INDEX(Values!I:I,MATCH('All Bill Data Entry'!$B20,Values!G:G,0)))","v":""},{"$f":"IF($B20=\"\",\"\",INDEX(Values!J:J,MATCH('All Bill Data Entry'!$B20,Values!G:G,0)))","v":""},{"$f":"IF(D20=\"\",\"\",IF(AND(LEN(J20)=10,LEFT(J20,3)=\"000\"),IF(INDEX(PO!AE:AE,MATCH(CONCATENATE('All Bill Data Entry'!J20,'All Bill Data Entry'!K20),PO!AC:AC,0))<>\"\",\"N\",\"N\"),\"N\"))","v":""}]
["",null,null,null,null,null,null,"",null,null,null,{"$f":"IF(J21=\"\",\"\",INDEX(CUST!BC:BC,MATCH(INDEX(PO!AD:AD,MATCH(CONCATENATE('All Bill Data Entry'!J21,'All Bill Data Entry'!K21),PO!AC:AC,0)),CUST!I:I,0)))","v":""},{"$f":"IF(L21=\"\",\"\",INDEX(CUST!G:G,MATCH('All Bill Data Entry'!L21,CUST!B:B,0)))","v":""},"",null,null,null,null,null,null,{"$f":"IF($B21=\"\",\"\",INDEX(Values!H:H,MATCH('All Bill Data Entry'!$B21,Values!F:F,0)))","v":""},{"$f":"IF($D21=\"\",\"\",INDEX(CUST!N:N,MATCH('All Bill Data Entry'!L21&'All Bill Data Entry'!N21,CUST!BD:BD,0)))","v":""},{"$f":"IF($B21=\"\",\"\",INDEX(Values!I:I,MATCH('All Bill Data Entry'!$B21,Values!G:G,0)))","v":""},{"$f":"IF($B21=\"\",\"\",INDEX(Values!J:J,MATCH('All Bill Data Entry'!$B21,Values!G:G,0)))","v":""},{"$f":"IF(D21=\"\",\"\",IF(AND(LEN(J21)=10,LEFT(J21,3)=\"000\"),IF(INDEX(PO!AE:AE,MATCH(CONCATENATE('All Bill Data Entry'!J21,'All Bill Data Entry'!K21),PO!AC:AC,0))<>\"\",\"N\",\"N\"),\"N\"))","v":""}]
["",null,null,null,null,null,null,"",null,null,null,{"$f":"IF(J22=\"\",\"\",INDEX(CUST!BC:BC,MATCH(INDEX(PO!AD:AD,MATCH(CONCATENATE('All Bill Data Entry'!J22,'All Bill Data Entry'!K22),PO!AC:AC,0)),CUST!I:I,0)))","v":""},{"$f":"IF(L22=\"\",\"\",INDEX(CUST!G:G,MATCH('All Bill Data Entry'!L22,CUST!B:B,0)))","v":""},"",null,null,null,null,null,null,{"$f":"IF($B22=\"\",\"\",INDEX(Values!H:H,MATCH('All Bill Data Entry'!$B22,Values!F:F,0)))","v":""},{"$f":"IF($D22=\"\",\"\",INDEX(CUST!N:N,MATCH('All Bill Data Entry'!L22&'All Bill Data Entry'!N22,CUST!BD:BD,0)))","v":""},{"$f":"IF($B22=\"\",\"\",INDEX(Values!I:I,MATCH('All Bill Data Entry'!$B22,Values!G:G,0)))","v":""},{"$f":"IF($B22=\"\",\"\",INDEX(Values!J:J,MATCH('All Bill Data Entry'!$B22,Values!G:G,0)))","v":""},{"$f":"IF(D22=\"\",\"\",IF(AND(LEN(J22)=10,LEFT(J22,3)=\"000\"),IF(INDEX(PO!AE:AE,MATCH(CONCATENATE('All Bill Data Entry'!J22,'All Bill Data Entry'!K22),PO!AC:AC,0))<>\"\",\"N\",\"N\"),\"N\"))","v":""}]
["",null,null,null,null,null,null,"",null,null,null,{"$f":"IF(J23=\"\",\"\",INDEX(CUST!BC:BC,MATCH(INDEX(PO!AD:AD,MATCH(CONCATENATE('All Bill Data Entry'!J23,'All Bill Data Entry'!K23),PO!AC:AC,0)),CUST!I:I,0)))","v":""},{"$f":"IF(L23=\"\",\"\",INDEX(CUST!G:G,MATCH('All Bill Data Entry'!L23,CUST!B:B,0)))","v":""},{"$f":"IF(OR(M23=\"INTERNAL\",M23=\"COMPONENT\"),1,\"\")","v":""},null,null,null,null,null,null,{"$f":"IF($B23=\"\",\"\",INDEX(Values!H:H,MATCH('All Bill Data Entry'!$B23,Values!F:F,0)))","v":""},{"$f":"IF($D23=\"\",\"\",INDEX(CUST!N:N,MATCH('All Bill Data Entry'!L23&'All Bill Data Entry'!N23,CUST!BD:BD,0)))","v":""},{"$f":"IF($B23=\"\",\"\",INDEX(Values!I:I,MATCH('All Bill Data Entry'!$B23,Values!G:G,0)))","v":""},{"$f":"IF($B23=\"\",\"\",INDEX(Values!J:J,MATCH('All Bill Data Entry'!$B23,Values!G:G,0)))","v":""},{"$f":"IF(D23=\"\",\"\",IF(AND(LEN(J23)=10,LEFT(J23,3)=\"000\"),IF(INDEX(PO!AE:AE,MATCH(CONCATENATE('All Bill Data Entry'!J23,'All Bill Data Entry'!K23),PO!AC:AC,0))<>\"\",\"N\",\"N\"),\"N\"))","v":""}]
["",null,null,null,null,null,null,"",null,null,null,{"$f":"IF(J24=\"\",\"\",INDEX(CUST!BC:BC,MATCH(INDEX(PO!AD:AD,MATCH(CONCATENATE('All Bill Data Entry'!J24,'All Bill Data Entry'!K24),PO!AC:AC,0)),CUST!I:I,0)))","v":""},{"$f":"IF(L24=\"\",\"\",INDEX(CUST!G:G,MATCH('All Bill Data Entry'!L24,CUST!B:B,0)))","v":""},"",null,null,null,null,null,null,{"$f":"IF($B24=\"\",\"\",INDEX(Values!H:H,MATCH('All Bill Data Entry'!$B24,Values!F:F,0)))","v":""},{"$f":"IF($D24=\"\",\"\",INDEX(CUST!N:N,MATCH('All Bill Data Entry'!L24&'All Bill Data Entry'!N24,CUST!BD:BD,0)))","v":""},{"$f":"IF($B24=\"\",\"\",INDEX(Values!I:I,MATCH('All Bill Data Entry'!$B24,Values!G:G,0)))","v":""},{"$f":"IF($B24=\"\",\"\",INDEX(Values!J:J,MATCH('All Bill Data Entry'!$B24,Values!G:G,0)))","v":""},{"$f":"IF(D24=\"\",\"\",IF(AND(LEN(J24)=10,LEFT(J24,3)=\"000\"),IF(INDEX(PO!AE:AE,MATCH(CONCATENATE('All Bill Data Entry'!J24,'All Bill Data Entry'!K24),PO!AC:AC,0))<>\"\",\"N\",\"N\"),\"N\"))","v":""}]
["",null,null,null,null,null,null,"",null,null,null,{"$f":"IF(J25=\"\",\"\",INDEX(CUST!BC:BC,MATCH(INDEX(PO!AD:AD,MATCH(CONCATENATE('All Bill Data Entry'!J25,'All Bill Data Entry'!K25),PO!AC:AC,0)),CUST!I:I,0)))","v":""},{"$f":"IF(L25=\"\",\"\",INDEX(CUST!G:G,MATCH('All Bill Data Entry'!L25,CUST!B:B,0)))","v":""},"",null,null,null,null,null,null,{"$f":"IF($B25=\"\",\"\",INDEX(Values!H:H,MATCH('All Bill Data Entry'!$B25,Values!F:F,0)))","v":""},{"$f":"IF($D25=\"\",\"\",INDEX(CUST!N:N,MATCH('All Bill Data Entry'!L25&'All Bill Data Entry'!N25,CUST!BD:BD,0)))","v":""},{"$f":"IF($B25=\"\",\"\",INDEX(Values!I:I,MATCH('All Bill Data Entry'!$B25,Values!G:G,0)))","v":""},{"$f":"IF($B25=\"\",\"\",INDEX(Values!J:J,MATCH('All Bill Data Entry'!$B25,Values!G:G,0)))","v":""},{"$f":"IF(D25=\"\",\"\",IF(AND(LEN(J25)=10,LEFT(J25,3)=\"000\"),IF(INDEX(PO!AE:AE,MATCH(CONCATENATE('All Bill Data Entry'!J25,'All Bill Data Entry'!K25),PO!AC:AC,0))<>\"\",\"N\",\"N\"),\"N\"))","v":""}]
["",null,null,null,null,null,null,"",null,null,null,{"$f":"IF(J26=\"\",\"\",INDEX(CUST!BC:BC,MATCH(INDEX(PO!AD:AD,MATCH(CONCATENATE('All Bill Data Entry'!J26,'All Bill Data Entry'!K26),PO!AC:AC,0)),CUST!I:I,0)))","v":""},{"$f":"IF(L26=\"\",\"\",INDEX(CUST!G:G,MATCH('All Bill Data Entry'!L26,CUST!B:B,0)))","v":""},"",null,null,null,null,null,null,{"$f":"IF($B26=\"\",\"\",INDEX(Values!H:H,MATCH('All Bill Data Entry'!$B26,Values!F:F,0)))","v":""},{"$f":"IF($D26=\"\",\"\",INDEX(CUST!N:N,MATCH('All Bill Data Entry'!L26&'All Bill Data Entry'!N26,CUST!BD:BD,0)))","v":""},{"$f":"IF($B26=\"\",\"\",INDEX(Values!I:I,MATCH('All Bill Data Entry'!$B26,Values!G:G,0)))","v":""},{"$f":"IF($B26=\"\",\"\",INDEX(Values!J:J,MATCH('All Bill Data Entry'!$B26,Values!G:G,0)))","v":""},{"$f":"IF(D26=\"\",\"\",IF(AND(LEN(J26)=10,LEFT(J26,3)=\"000\"),IF(INDEX(PO!AE:AE,MATCH(CONCATENATE('All Bill Data Entry'!J26,'All Bill Data Entry'!K26),PO!AC:AC,0))<>\"\",\"N\",\"N\"),\"N\"))","v":""}]
["",null,null,null,null,null,null,"",null,null,null,{"$f":"IF(J27=\"\",\"\",INDEX(CUST!BC:BC,MATCH(INDEX(PO!AD:AD,MATCH(CONCATENATE('All Bill Data Entry'!J27,'All Bill Data Entry'!K27),PO!AC:AC,0)),CUST!I:I,0)))","v":""},{"$f":"IF(L27=\"\",\"\",INDEX(CUST!G:G,MATCH('All Bill Data Entry'!L27,CUST!B:B,0)))","v":""},"",null,null,null,null,null,null,{"$f":"IF($B27=\"\",\"\",INDEX(Values!H:H,MATCH('All Bill Data Entry'!$B27,Values!F:F,0)))","v":""},{"$f":"IF($D27=\"\",\"\",INDEX(CUST!N:N,MATCH('All Bill Data Entry'!L27&'All Bill Data Entry'!N27,CUST!BD:BD,0)))","v":""},{"$f":"IF($B27=\"\",\"\",INDEX(Values!I:I,MATCH('All Bill Data Entry'!$B27,Values!G:G,0)))","v":""},{"$f":"IF($B27=\"\",\"\",INDEX(Values!J:J,MATCH('All Bill Data Entry'!$B27,Values!G:G,0)))","v":""},{"$f":"IF(D27=\"\",\"\",IF(AND(LEN(J27)=10,LEFT(J27,3)=\"000\"),IF(INDEX(PO!AE:AE,MATCH(CONCATENATE('All Bill Data Entry'!J27,'All Bill Data Entry'!K27),PO!AC:AC,0))<>\"\",\"N\",\"N\"),\"N\"))","v":""}]
["",null,null,null,null,null,null,"",null,null,null,{"$f":"IF(J28=\"\",\"\",INDEX(CUST!BC:BC,MATCH(INDEX(PO!AD:AD,MATCH(CONCATENATE('All Bill Data Entry'!J28,'All Bill Data Entry'!K28),PO!AC:AC,0)),CUST!I:I,0)))","v":""},{"$f":"IF(L28=\"\",\"\",INDEX(CUST!G:G,MATCH('All Bill Data Entry'!L28,CUST!B:B,0)))","v":""},"",null,null,null,null,null,null,{"$f":"IF($B28=\"\",\"\",INDEX(Values!H:H,MATCH('All Bill Data Entry'!$B28,Values!F:F,0)))","v":""},{"$f":"IF($D28=\"\",\"\",INDEX(CUST!N:N,MATCH('All Bill Data Entry'!L28&'All Bill Data Entry'!N28,CUST!BD:BD,0)))","v":""},{"$f":"IF($B28=\"\",\"\",INDEX(Values!I:I,MATCH('All Bill Data Entry'!$B28,Values!G:G,0)))","v":""},{"$f":"IF($B28=\"\",\"\",INDEX(Values!J:J,MATCH('All Bill Data Entry'!$B28,Values!G:G,0)))","v":""},{"$f":"IF(D28=\"\",\"\",IF(AND(LEN(J28)=10,LEFT(J28,3)=\"000\"),IF(INDEX(PO!AE:AE,MATCH(CONCATENATE('All Bill Data Entry'!J28,'All Bill Data Entry'!K28),PO!AC:AC,0))<>\"\",\"N\",\"N\"),\"N\"))","v":""}]
["",null,null,null,null,null,null,"",null,null,null,{"$f":"IF(J29=\"\",\"\",INDEX(CUST!BC:BC,MATCH(INDEX(PO!AD:AD,MATCH(CONCATENATE('All Bill Data Entry'!J29,'All Bill Data Entry'!K29),PO!AC:AC,0)),CUST!I:I,0)))","v":""},{"$f":"IF(L29=\"\",\"\",INDEX(CUST!G:G,MATCH('All Bill Data Entry'!L29,CUST!B:B,0)))","v":""},"",null,null,null,null,null,null,{"$f":"IF($B29=\"\",\"\",INDEX(Values!H:H,MATCH('All Bill Data Entry'!$B29,Values!F:F,0)))","v":""},{"$f":"IF($D29=\"\",\"\",INDEX(CUST!N:N,MATCH('All Bill Data Entry'!L29&'All Bill Data Entry'!N29,CUST!BD:BD,0)))","v":""},{"$f":"IF($B29=\"\",\"\",INDEX(Values!I:I,MATCH('All Bill Data Entry'!$B29,Values!G:G,0)))","v":""},{"$f":"IF($B29=\"\",\"\",INDEX(Values!J:J,MATCH('All Bill Data Entry'!$B29,Values!G:G,0)))","v":""},{"$f":"IF(D29=\"\",\"\",IF(AND(LEN(J29)=10,LEFT(J29,3)=\"000\"),IF(INDEX(PO!AE:AE,MATCH(CONCATENATE('All Bill Data Entry'!J29,'All Bill Data Entry'!K29),PO!AC:AC,0))<>\"\",\"N\",\"N\"),\"N\"))","v":""}]
["",null,null,null,null,null,null,"",null,null,null,{"$f":"IF(J30=\"\",\"\",INDEX(CUST!BC:BC,MATCH(INDEX(PO!AD:AD,MATCH(CONCATENATE('All Bill Data Entry'!J30,'All Bill Data Entry'!K30),PO!AC:AC,0)),CUST!I:I,0)))","v":""},{"$f":"IF(L30=\"\",\"\",INDEX(CUST!G:G,MATCH('All Bill Data Entry'!L30,CUST!B:B,0)))","v":""},"",null,null,null,null,null,null,{"$f":"IF($B30=\"\",\"\",INDEX(Values!H:H,MATCH('All Bill Data Entry'!$B30,Values!F:F,0)))","v":""},{"$f":"IF($D30=\"\",\"\",INDEX(CUST!N:N,MATCH('All Bill Data Entry'!L30&'All Bill Data Entry'!N30,CUST!BD:BD,0)))","v":""},{"$f":"IF($B30=\"\",\"\",INDEX(Values!I:I,MATCH('All Bill Data Entry'!$B30,Values!G:G,0)))","v":""},{"$f":"IF($B30=\"\",\"\",INDEX(Values!J:J,MATCH('All Bill Data Entry'!$B30,Values!G:G,0)))","v":""},{"$f":"IF(D30=\"\",\"\",IF(AND(LEN(J30)=10,LEFT(J30,3)=\"000\"),IF(INDEX(PO!AE:AE,MATCH(CONCATENATE('All Bill Data Entry'!J30,'All Bill Data Entry'!K30),PO!AC:AC,0))<>\"\",\"N\",\"N\"),\"N\"))","v":""}]
["",null,null,null,null,null,null,"",null,null,null,{"$f":"IF(J31=\"\",\"\",INDEX(CUST!BC:BC,MATCH(INDEX(PO!AD:AD,MATCH(CONCATENATE('All Bill Data Entry'!J31,'All Bill Data Entry'!K31),PO!AC:AC,0)),CUST!I:I,0)))","v":""},{"$f":"IF(L31=\"\",\"\",INDEX(CUST!G:G,MATCH('All Bill Data Entry'!L31,CUST!B:B,0)))","v":""},"",null,null,null,null,null,null,{"$f":"IF($B31=\"\",\"\",INDEX(Values!H:H,MATCH('All Bill Data Entry'!$B31,Values!F:F,0)))","v":""},{"$f":"IF($D31=\"\",\"\",INDEX(CUST!N:N,MATCH('All Bill Data Entry'!L31&'All Bill Data Entry'!N31,CUST!BD:BD,0)))","v":""},{"$f":"IF($B31=\"\",\"\",INDEX(Values!I:I,MATCH('All Bill Data Entry'!$B31,Values!G:G,0)))","v":""},{"$f":"IF($B31=\"\",\"\",INDEX(Values!J:J,MATCH('All Bill Data Entry'!$B31,Values!G:G,0)))","v":""},{"$f":"IF(D31=\"\",\"\",IF(AND(LEN(J31)=10,LEFT(J31,3)=\"000\"),IF(INDEX(PO!AE:AE,MATCH(CONCATENATE('All Bill Data Entry'!J31,'All Bill Data Entry'!K31),PO!AC:AC,0))<>\"\",\"N\",\"N\"),\"N\"))","v":""}]
["",null,null,null,null,null,null,"",null,null,null,{"$f":"IF(J32=\"\",\"\",INDEX(CUST!BC:BC,MATCH(INDEX(PO!AD:AD,MATCH(CONCATENATE('All Bill Data Entry'!J32,'All Bill Data Entry'!K32),PO!AC:AC,0)),CUST!I:I,0)))","v":""},{"$f":"IF(L32=\"\",\"\",INDEX(CUST!G:G,MATCH('All Bill Data Entry'!L32,CUST!B:B,0)))","v":""},"",null,null,null,null,null,null,{"$f":"IF($B32=\"\",\"\",INDEX(Values!H:H,MATCH('All Bill Data Entry'!$B32,Values!F:F,0)))","v":""},{"$f":"IF($D32=\"\",\"\",INDEX(CUST!N:N,MATCH('All Bill Data Entry'!L32&'All Bill Data Entry'!N32,CUST!BD:BD,0)))","v":""},{"$f":"IF($B32=\"\",\"\",INDEX(Values!I:I,MATCH('All Bill Data Entry'!$B32,Values!G:G,0)))","v":""},{"$f":"IF($B32=\"\",\"\",INDEX(Values!J:J,MATCH('All Bill Data Entry'!$B32,Values!G:G,0)))","v":""},{"$f":"IF(D32=\"\",\"\",IF(AND(LEN(J32)=10,LEFT(J32,3)=\"000\"),IF(INDEX(PO!AE:AE,MATCH(CONCATENATE('All Bill Data Entry'!J32,'All Bill Data Entry'!K32),PO!AC:AC,0))<>\"\",\"N\",\"N\"),\"N\"))","v":""}]
["",null,null,null,null,null,null,"",null,null,null,{"$f":"IF(J33=\"\",\"\",INDEX(CUST!BC:BC,MATCH(INDEX(PO!AD:AD,MATCH(CONCATENATE('All Bill Data Entry'!J33,'All Bill Data Entry'!K33),PO!AC:AC,0)),CUST!I:I,0)))","v":""},{"$f":"IF(L33=\"\",\"\",INDEX(CUST!G:G,MATCH('All Bill Data Entry'!L33,CUST!B:B,0)))","v":""},"",null,null,null,null,null,null,{"$f":"IF($B33=\"\",\"\",INDEX(Values!H:H,MATCH('All Bill Data Entry'!$B33,Values!F:F,0)))","v":""},{"$f":"IF($D33=\"\",\"\",INDEX(CUST!N:N,MATCH('All Bill Data Entry'!L33&'All Bill Data Entry'!N33,CUST!BD:BD,0)))","v":""},{"$f":"IF($B33=\"\",\"\",INDEX(Values!I:I,MATCH('All Bill Data Entry'!$B33,Values!G:G,0)))","v":""},{"$f":"IF($B33=\"\",\"\",INDEX(Values!J:J,MATCH('All Bill Data Entry'!$B33,Values!G:G,0)))","v":""},{"$f":"IF(D33=\"\",\"\",IF(AND(LEN(J33)=10,LEFT(J33,3)=\"000\"),IF(INDEX(PO!AE:AE,MATCH(CONCATENATE('All Bill Data Entry'!J33,'All Bill Data Entry'!K33),PO!AC:AC,0))<>\"\",\"N\",\"N\"),\"N\"))","v":""}]
["",null,null,null,null,null,null,"",null,null,null,{"$f":"IF(J34=\"\",\"\",INDEX(CUST!BC:BC,MATCH(INDEX(PO!AD:AD,MATCH(CONCATENATE('All Bill Data Entry'!J34,'All Bill Data Entry'!K34),PO!AC:AC,0)),CUST!I:I,0)))","v":""},{"$f":"IF(L34=\"\",\"\",INDEX(CUST!G:G,MATCH('All Bill Data Entry'!L34,CUST!B:B,0)))","v":""},"",null,null,null,null,null,null,{"$f":"IF($B34=\"\",\"\",INDEX(Values!H:H,MATCH('All Bill Data Entry'!$B34,Values!F:F,0)))","v":""},{"$f":"IF($D34=\"\",\"\",INDEX(CUST!N:N,MATCH('All Bill Data Entry'!L34&'All Bill Data Entry'!N34,CUST!BD:BD,0)))","v":""},{"$f":"IF($B34=\"\",\"\",INDEX(Values!I:I,MATCH('All Bill Data Entry'!$B34,Values!G:G,0)))","v":""},{"$f":"IF($B34=\"\",\"\",INDEX(Values!J:J,MATCH('All Bill Data Entry'!$B34,Values!G:G,0)))","v":""},{"$f":"IF(D34=\"\",\"\",IF(AND(LEN(J34)=10,LEFT(J34,3)=\"000\"),IF(INDEX(PO!AE:AE,MATCH(CONCATENATE('All Bill Data Entry'!J34,'All Bill Data Entry'!K34),PO!AC:AC,0))<>\"\",\"N\",\"N\"),\"N\"))","v":""}]
["",null,null,null,null,null,null,"",null,null,null,{"$f":"IF(J35=\"\",\"\",INDEX(CUST!BC:BC,MATCH(INDEX(PO!AD:AD,MATCH(CONCATENATE('All Bill Data Entry'!J35,'All Bill Data Entry'!K35),PO!AC:AC,0)),CUST!I:I,0)))","v":""},{"$f":"IF(L35=\"\",\"\",INDEX(CUST!G:G,MATCH('All Bill Data Entry'!L35,CUST!B:B,0)))","v":""},"",null,null,null,null,null,null,{"$f":"IF($B35=\"\",\"\",INDEX(Values!H:H,MATCH('All Bill Data Entry'!$B35,Values!F:F,0)))","v":""},{"$f":"IF($D35=\"\",\"\",INDEX(CUST!N:N,MATCH('All Bill Data Entry'!L35&'All Bill Data Entry'!N35,CUST!BD:BD,0)))","v":""},{"$f":"IF($B35=\"\",\"\",INDEX(Values!I:I,MATCH('All Bill Data Entry'!$B35,Values!G:G,0)))","v":""},{"$f":"IF($B35=\"\",\"\",INDEX(Values!J:J,MATCH('All Bill Data Entry'!$B35,Values!G:G,0)))","v":""},{"$f":"IF(D35=\"\",\"\",IF(AND(LEN(J35)=10,LEFT(J35,3)=\"000\"),IF(INDEX(PO!AE:AE,MATCH(CONCATENATE('All Bill Data Entry'!J35,'All Bill Data Entry'!K35),PO!AC:AC,0))<>\"\",\"N\",\"N\"),\"N\"))","v":""}]
["",null,null,null,null,null,null,"",null,null,null,{"$f":"IF(J36=\"\",\"\",INDEX(CUST!BC:BC,MATCH(INDEX(PO!AD:AD,MATCH(CONCATENATE('All Bill Data Entry'!J36,'All Bill Data Entry'!K36),PO!AC:AC,0)),CUST!I:I,0)))","v":""},{"$f":"IF(L36=\"\",\"\",INDEX(CUST!G:G,MATCH('All Bill Data Entry'!L36,CUST!B:B,0)))","v":""},"",null,null,null,null,null,null,{"$f":"IF($B36=\"\",\"\",INDEX(Values!H:H,MATCH('All Bill Data Entry'!$B36,Values!F:F,0)))","v":""},{"$f":"IF($D36=\"\",\"\",INDEX(CUST!N:N,MATCH('All Bill Data Entry'!L36&'All Bill Data Entry'!N36,CUST!BD:BD,0)))","v":""},{"$f":"IF($B36=\"\",\"\",INDEX(Values!I:I,MATCH('All Bill Data Entry'!$B36,Values!G:G,0)))","v":""},{"$f":"IF($B36=\"\",\"\",INDEX(Values!J:J,MATCH('All Bill Data Entry'!$B36,Values!G:G,0)))","v":""},{"$f":"IF(D36=\"\",\"\",IF(AND(LEN(J36)=10,LEFT(J36,3)=\"000\"),IF(INDEX(PO!AE:AE,MATCH(CONCATENATE('All Bill Data Entry'!J36,'All Bill Data Entry'!K36),PO!AC:AC,0))<>\"\",\"N\",\"N\"),\"N\"))","v":""}]
["",null,null,null,null,null,null,"",null,null,null,{"$f":"IF(J37=\"\",\"\",INDEX(CUST!BC:BC,MATCH(INDEX(PO!AD:AD,MATCH(CONCATENATE('All Bill Data Entry'!J37,'All Bill Data Entry'!K37),PO!AC:AC,0)),CUST!I:I,0)))","v":""},{"$f":"IF(L37=\"\",\"\",INDEX(CUST!G:G,MATCH('All Bill Data Entry'!L37,CUST!B:B,0)))","v":""},"",null,null,null,null,null,null,{"$f":"IF($B37=\"\",\"\",INDEX(Values!H:H,MATCH('All Bill Data Entry'!$B37,Values!F:F,0)))","v":""},{"$f":"IF($D37=\"\",\"\",INDEX(CUST!N:N,MATCH('All Bill Data Entry'!L37&'All Bill Data Entry'!N37,CUST!BD:BD,0)))","v":""},{"$f":"IF($B37=\"\",\"\",INDEX(Values!I:I,MATCH('All Bill Data Entry'!$B37,Values!G:G,0)))","v":""},{"$f":"IF($B37=\"\",\"\",INDEX(Values!J:J,MATCH('All Bill Data Entry'!$B37,Values!G:G,0)))","v":""},{"$f":"IF(D37=\"\",\"\",IF(AND(LEN(J37)=10,LEFT(J37,3)=\"000\"),IF(INDEX(PO!AE:AE,MATCH(CONCATENATE('All Bill Data Entry'!J37,'All Bill Data Entry'!K37),PO!AC:AC,0))<>\"\",\"N\",\"N\"),\"N\"))","v":""}]
["",null,null,null,null,null,null,"",null,null,null,{"$f":"IF(J38=\"\",\"\",INDEX(CUST!BC:BC,MATCH(INDEX(PO!AD:AD,MATCH(CONCATENATE('All Bill Data Entry'!J38,'All Bill Data Entry'!K38),PO!AC:AC,0)),CUST!I:I,0)))","v":""},{"$f":"IF(L38=\"\",\"\",INDEX(CUST!G:G,MATCH('All Bill Data Entry'!L38,CUST!B:B,0)))","v":""},"",null,null,null,null,null,null,{"$f":"IF($B38=\"\",\"\",INDEX(Values!H:H,MATCH('All Bill Data Entry'!$B38,Values!F:F,0)))","v":""},{"$f":"IF($D38=\"\",\"\",INDEX(CUST!N:N,MATCH('All Bill Data Entry'!L38&'All Bill Data Entry'!N38,CUST!BD:BD,0)))","v":""},{"$f":"IF($B38=\"\",\"\",INDEX(Values!I:I,MATCH('All Bill Data Entry'!$B38,Values!G:G,0)))","v":""},{"$f":"IF($B38=\"\",\"\",INDEX(Values!J:J,MATCH('All Bill Data Entry'!$B38,Values!G:G,0)))","v":""},{"$f":"IF(D38=\"\",\"\",IF(AND(LEN(J38)=10,LEFT(J38,3)=\"000\"),IF(INDEX(PO!AE:AE,MATCH(CONCATENATE('All Bill Data Entry'!J38,'All Bill Data Entry'!K38),PO!AC:AC,0))<>\"\",\"N\",\"N\"),\"N\"))","v":""}]
["",null,null,null,null,null,null,"",null,null,null,{"$f":"IF(J39=\"\",\"\",INDEX(CUST!BC:BC,MATCH(INDEX(PO!AD:AD,MATCH(CONCATENATE('All Bill Data Entry'!J39,'All Bill Data Entry'!K39),PO!AC:AC,0)),CUST!I:I,0)))","v":""},{"$f":"IF(L39=\"\",\"\",INDEX(CUST!G:G,MATCH('All Bill Data Entry'!L39,CUST!B:B,0)))","v":""},"",null,null,null,null,null,null,{"$f":"IF($B39=\"\",\"\",INDEX(Values!H:H,MATCH('All Bill Data Entry'!$B39,Values!F:F,0)))","v":""},{"$f":"IF($D39=\"\",\"\",INDEX(CUST!N:N,MATCH('All Bill Data Entry'!L39&'All Bill Data Entry'!N39,CUST!BD:BD,0)))","v":""},{"$f":"IF($B39=\"\",\"\",INDEX(Values!I:I,MATCH('All Bill Data Entry'!$B39,Values!G:G,0)))","v":""},{"$f":"IF($B39=\"\",\"\",INDEX(Values!J:J,MATCH('All Bill Data Entry'!$B39,Values!G:G,0)))","v":""},{"$f":"IF(D39=\"\",\"\",IF(AND(LEN(J39)=10,LEFT(J39,3)=\"000\"),IF(INDEX(PO!AE:AE,MATCH(CONCATENATE('All Bill Data Entry'!J39,'All Bill Data Entry'!K39),PO!AC:AC,0))<>\"\",\"N\",\"N\"),\"N\"))","v":""}]
["",null,null,null,null,null,null,"",null,null,null,{"$f":"IF(J40=\"\",\"\",INDEX(CUST!BC:BC,MATCH(INDEX(PO!AD:AD,MATCH(CONCATENATE('All Bill Data Entry'!J40,'All Bill Data Entry'!K40),PO!AC:AC,0)),CUST!I:I,0)))","v":""},{"$f":"IF(L40=\"\",\"\",INDEX(CUST!G:G,MATCH('All Bill Data Entry'!L40,CUST!B:B,0)))","v":""},"",null,null,null,null,null,null,{"$f":"IF($B40=\"\",\"\",INDEX(Values!H:H,MATCH('All Bill Data Entry'!$B40,Values!F:F,0)))","v":""},{"$f":"IF($D40=\"\",\"\",INDEX(CUST!N:N,MATCH('All Bill Data Entry'!L40&'All Bill Data Entry'!N40,CUST!BD:BD,0)))","v":""},{"$f":"IF($B40=\"\",\"\",INDEX(Values!I:I,MATCH('All Bill Data Entry'!$B40,Values!G:G,0)))","v":""},{"$f":"IF($B40=\"\",\"\",INDEX(Values!J:J,MATCH('All Bill Data Entry'!$B40,Values!G:G,0)))","v":""},{"$f":"IF(D40=\"\",\"\",IF(AND(LEN(J40)=10,LEFT(J40,3)=\"000\"),IF(INDEX(PO!AE:AE,MATCH(CONCATENATE('All Bill Data Entry'!J40,'All Bill Data Entry'!K40),PO!AC:AC,0))<>\"\",\"N\",\"N\"),\"N\"))","v":""}]
["",null,null,null,null,null,null,"",null,null,null,{"$f":"IF(J41=\"\",\"\",INDEX(CUST!BC:BC,MATCH(INDEX(PO!AD:AD,MATCH(CONCATENATE('All Bill Data Entry'!J41,'All Bill Data Entry'!K41),PO!AC:AC,0)),CUST!I:I,0)))","v":""},{"$f":"IF(L41=\"\",\"\",INDEX(CUST!G:G,MATCH('All Bill Data Entry'!L41,CUST!B:B,0)))","v":""},"",null,null,null,null,null,null,{"$f":"IF($B41=\"\",\"\",INDEX(Values!H:H,MATCH('All Bill Data Entry'!$B41,Values!F:F,0)))","v":""},{"$f":"IF($D41=\"\",\"\",INDEX(CUST!N:N,MATCH('All Bill Data Entry'!L41&'All Bill Data Entry'!N41,CUST!BD:BD,0)))","v":""},{"$f":"IF($B41=\"\",\"\",INDEX(Values!I:I,MATCH('All Bill Data Entry'!$B41,Values!G:G,0)))","v":""},{"$f":"IF($B41=\"\",\"\",INDEX(Values!J:J,MATCH('All Bill Data Entry'!$B41,Values!G:G,0)))","v":""},{"$f":"IF(D41=\"\",\"\",IF(AND(LEN(J41)=10,LEFT(J41,3)=\"000\"),IF(INDEX(PO!AE:AE,MATCH(CONCATENATE('All Bill Data Entry'!J41,'All Bill Data Entry'!K41),PO!AC:AC,0))<>\"\",\"N\",\"N\"),\"N\"))","v":""}]
["",null,null,null,null,null,null,"",null,null,null,{"$f":"IF(J42=\"\",\"\",INDEX(CUST!BC:BC,MATCH(INDEX(PO!AD:AD,MATCH(CONCATENATE('All Bill Data Entry'!J42,'All Bill Data Entry'!K42),PO!AC:AC,0)),CUST!I:I,0)))","v":""},{"$f":"IF(L42=\"\",\"\",INDEX(CUST!G:G,MATCH('All Bill Data Entry'!L42,CUST!B:B,0)))","v":""},"",null,null,null,null,null,null,{"$f":"IF($B42=\"\",\"\",INDEX(Values!H:H,MATCH('All Bill Data Entry'!$B42,Values!F:F,0)))","v":""},{"$f":"IF($D42=\"\",\"\",INDEX(CUST!N:N,MATCH('All Bill Data Entry'!L42&'All Bill Data Entry'!N42,CUST!BD:BD,0)))","v":""},{"$f":"IF($B42=\"\",\"\",INDEX(Values!I:I,MATCH('All Bill Data Entry'!$B42,Values!G:G,0)))","v":""},{"$f":"IF($B42=\"\",\"\",INDEX(Values!J:J,MATCH('All Bill Data Entry'!$B42,Values!G:G,0)))","v":""},{"$f":"IF(D42=\"\",\"\",IF(AND(LEN(J42)=10,LEFT(J42,3)=\"000\"),IF(INDEX(PO!AE:AE,MATCH(CONCATENATE('All Bill Data Entry'!J42,'All Bill Data Entry'!K42),PO!AC:AC,0))<>\"\",\"N\",\"N\"),\"N\"))","v":""}]
["",null,null,null,null,null,null,"",null,null,null,{"$f":"IF(J43=\"\",\"\",INDEX(CUST!BC:BC,MATCH(INDEX(PO!AD:AD,MATCH(CONCATENATE('All Bill Data Entry'!J43,'All Bill Data Entry'!K43),PO!AC:AC,0)),CUST!I:I,0)))","v":""},{"$f":"IF(L43=\"\",\"\",INDEX(CUST!G:G,MATCH('All Bill Data Entry'!L43,CUST!B:B,0)))","v":""},"",null,null,null,null,null,null,{"$f":"IF($B43=\"\",\"\",INDEX(Values!H:H,MATCH('All Bill Data Entry'!$B43,Values!F:F,0)))","v":""},{"$f":"IF($D43=\"\",\"\",INDEX(CUST!N:N,MATCH('All Bill Data Entry'!L43&'All Bill Data Entry'!N43,CUST!BD:BD,0)))","v":""},{"$f":"IF($B43=\"\",\"\",INDEX(Values!I:I,MATCH('All Bill Data Entry'!$B43,Values!G:G,0)))","v":""},{"$f":"IF($B43=\"\",\"\",INDEX(Values!J:J,MATCH('All Bill Data Entry'!$B43,Values!G:G,0)))","v":""},{"$f":"IF(D43=\"\",\"\",IF(AND(LEN(J43)=10,LEFT(J43,3)=\"000\"),IF(INDEX(PO!AE:AE,MATCH(CONCATENATE('All Bill Data Entry'!J43,'All Bill Data Entry'!K43),PO!AC:AC,0))<>\"\",\"N\",\"N\"),\"N\"))","v":""}]
["",null,null,null,null,null,null,"",null,null,null,{"$f":"IF(J44=\"\",\"\",INDEX(CUST!BC:BC,MATCH(INDEX(PO!AD:AD,MATCH(CONCATENATE('All Bill Data Entry'!J44,'All Bill Data Entry'!K44),PO!AC:AC,0)),CUST!I:I,0)))","v":""},{"$f":"IF(L44=\"\",\"\",INDEX(CUST!G:G,MATCH('All Bill Data Entry'!L44,CUST!B:B,0)))","v":""},"",null,null,null,null,null,null,{"$f":"IF($B44=\"\",\"\",INDEX(Values!H:H,MATCH('All Bill Data Entry'!$B44,Values!F:F,0)))","v":""},{"$f":"IF($D44=\"\",\"\",INDEX(CUST!N:N,MATCH('All Bill Data Entry'!L44&'All Bill Data Entry'!N44,CUST!BD:BD,0)))","v":""},{"$f":"IF($B44=\"\",\"\",INDEX(Values!I:I,MATCH('All Bill Data Entry'!$B44,Values!G:G,0)))","v":""},{"$f":"IF($B44=\"\",\"\",INDEX(Values!J:J,MATCH('All Bill Data Entry'!$B44,Values!G:G,0)))","v":""},{"$f":"IF(D44=\"\",\"\",IF(AND(LEN(J44)=10,LEFT(J44,3)=\"000\"),IF(INDEX(PO!AE:AE,MATCH(CONCATENATE('All Bill Data Entry'!J44,'All Bill Data Entry'!K44),PO!AC:AC,0))<>\"\",\"N\",\"N\"),\"N\"))","v":""}]
["",null,null,null,null,null,null,"",null,null,null,{"$f":"IF(J45=\"\",\"\",INDEX(CUST!BC:BC,MATCH(INDEX(PO!AD:AD,MATCH(CONCATENATE('All Bill Data Entry'!J45,'All Bill Data Entry'!K45),PO!AC:AC,0)),CUST!I:I,0)))","v":""},{"$f":"IF(L45=\"\",\"\",INDEX(CUST!G:G,MATCH('All Bill Data Entry'!L45,CUST!B:B,0)))","v":""},"",null,null,null,null,null,null,{"$f":"IF($B45=\"\",\"\",INDEX(Values!H:H,MATCH('All Bill Data Entry'!$B45,Values!F:F,0)))","v":""},{"$f":"IF($D45=\"\",\"\",INDEX(CUST!N:N,MATCH('All Bill Data Entry'!L45&'All Bill Data Entry'!N45,CUST!BD:BD,0)))","v":""},{"$f":"IF($B45=\"\",\"\",INDEX(Values!I:I,MATCH('All Bill Data Entry'!$B45,Values!G:G,0)))","v":""},{"$f":"IF($B45=\"\",\"\",INDEX(Values!J:J,MATCH('All Bill Data Entry'!$B45,Values!G:G,0)))","v":""},{"$f":"IF(D45=\"\",\"\",IF(AND(LEN(J45)=10,LEFT(J45,3)=\"000\"),IF(INDEX(PO!AE:AE,MATCH(CONCATENATE('All Bill Data Entry'!J45,'All Bill Data Entry'!K45),PO!AC:AC,0))<>\"\",\"N\",\"N\"),\"N\"))","v":""}]
["",null,null,null,null,null,null,"",null,null,null,{"$f":"IF(J46=\"\",\"\",INDEX(CUST!BC:BC,MATCH(INDEX(PO!AD:AD,MATCH(CONCATENATE('All Bill Data Entry'!J46,'All Bill Data Entry'!K46),PO!AC:AC,0)),CUST!I:I,0)))","v":""},{"$f":"IF(L46=\"\",\"\",INDEX(CUST!G:G,MATCH('All Bill Data Entry'!L46,CUST!B:B,0)))","v":""},"",null,null,null,null,null,null,{"$f":"IF($B46=\"\",\"\",INDEX(Values!H:H,MATCH('All Bill Data Entry'!$B46,Values!F:F,0)))","v":""},{"$f":"IF($D46=\"\",\"\",INDEX(CUST!N:N,MATCH('All Bill Data Entry'!L46&'All Bill Data Entry'!N46,CUST!BD:BD,0)))","v":""},{"$f":"IF($B46=\"\",\"\",INDEX(Values!I:I,MATCH('All Bill Data Entry'!$B46,Values!G:G,0)))","v":""},{"$f":"IF($B46=\"\",\"\",INDEX(Values!J:J,MATCH('All Bill Data Entry'!$B46,Values!G:G,0)))","v":""},{"$f":"IF(D46=\"\",\"\",IF(AND(LEN(J46)=10,LEFT(J46,3)=\"000\"),IF(INDEX(PO!AE:AE,MATCH(CONCATENATE('All Bill Data Entry'!J46,'All Bill Data Entry'!K46),PO!AC:AC,0))<>\"\",\"N\",\"N\"),\"N\"))","v":""}]
["",null,null,null,null,null,null,"",null,null,null,{"$f":"IF(J47=\"\",\"\",INDEX(CUST!BC:BC,MATCH(INDEX(PO!AD:AD,MATCH(CONCATENATE('All Bill Data Entry'!J47,'All Bill Data Entry'!K47),PO!AC:AC,0)),CUST!I:I,0)))","v":""},{"$f":"IF(L47=\"\",\"\",INDEX(CUST!G:G,MATCH('All Bill Data Entry'!L47,CUST!B:B,0)))","v":""},"",null,null,null,null,null,null,{"$f":"IF($B47=\"\",\"\",INDEX(Values!H:H,MATCH('All Bill Data Entry'!$B47,Values!F:F,0)))","v":""},{"$f":"IF($D47=\"\",\"\",INDEX(CUST!N:N,MATCH('All Bill Data Entry'!L47&'All Bill Data Entry'!N47,CUST!BD:BD,0)))","v":""},{"$f":"IF($B47=\"\",\"\",INDEX(Values!I:I,MATCH('All Bill Data Entry'!$B47,Values!G:G,0)))","v":""},{"$f":"IF($B47=\"\",\"\",INDEX(Values!J:J,MATCH('All Bill Data Entry'!$B47,Values!G:G,0)))","v":""},{"$f":"IF(D47=\"\",\"\",IF(AND(LEN(J47)=10,LEFT(J47,3)=\"000\"),IF(INDEX(PO!AE:AE,MATCH(CONCATENATE('All Bill Data Entry'!J47,'All Bill Data Entry'!K47),PO!AC:AC,0))<>\"\",\"N\",\"N\"),\"N\"))","v":""}]
["",null,null,null,null,null,null,"",null,null,null,{"$f":"IF(J48=\"\",\"\",INDEX(CUST!BC:BC,MATCH(INDEX(PO!AD:AD,MATCH(CONCATENATE('All Bill Data Entry'!J48,'All Bill Data Entry'!K48),PO!AC:AC,0)),CUST!I:I,0)))","v":""},{"$f":"IF(L48=\"\",\"\",INDEX(CUST!G:G,MATCH('All Bill Data Entry'!L48,CUST!B:B,0)))","v":""},"",null,null,null,null,null,null,{"$f":"IF($B48=\"\",\"\",INDEX(Values!H:H,MATCH('All Bill Data Entry'!$B48,Values!F:F,0)))","v":""},{"$f":"IF($D48=\"\",\"\",INDEX(CUST!N:N,MATCH('All Bill Data Entry'!L48&'All Bill Data Entry'!N48,CUST!BD:BD,0)))","v":""},{"$f":"IF($B48=\"\",\"\",INDEX(Values!I:I,MATCH('All Bill Data Entry'!$B48,Values!G:G,0)))","v":""},{"$f":"IF($B48=\"\",\"\",INDEX(Values!J:J,MATCH('All Bill Data Entry'!$B48,Values!G:G,0)))","v":""},{"$f":"IF(D48=\"\",\"\",IF(AND(LEN(J48)=10,LEFT(J48,3)=\"000\"),IF(INDEX(PO!AE:AE,MATCH(CONCATENATE('All Bill Data Entry'!J48,'All Bill Data Entry'!K48),PO!AC:AC,0))<>\"\",\"N\",\"N\"),\"N\"))","v":""}]
["",null,null,null,null,null,null,"",null,null,null,{"$f":"IF(J49=\"\",\"\",INDEX(CUST!BC:BC,MATCH(INDEX(PO!AD:AD,MATCH(CONCATENATE('All Bill Data Entry'!J49,'All Bill Data Entry'!K49),PO!AC:AC,0)),CUST!I:I,0)))","v":""},{"$f":"IF(L49=\"\",\"\",INDEX(CUST!G:G,MATCH('All Bill Data Entry'!L49,CUST!B:B,0)))","v":""},"",null,null,null,null,null,null,{"$f":"IF($B49=\"\",\"\",INDEX(Values!H:H,MATCH('All Bill Data Entry'!$B49,Values!F:F,0)))","v":""},{"$f":"IF($D49=\"\",\"\",INDEX(CUST!N:N,MATCH('All Bill Data Entry'!L49&'All Bill Data Entry'!N49,CUST!BD:BD,0)))","v":""},{"$f":"IF($B49=\"\",\"\",INDEX(Values!I:I,MATCH('All Bill Data Entry'!$B49,Values!G:G,0)))","v":""},{"$f":"IF($B49=\"\",\"\",INDEX(Values!J:J,MATCH('All Bill Data Entry'!$B49,Values!G:G,0)))","v":""},{"$f":"IF(D49=\"\",\"\",IF(AND(LEN(J49)=10,LEFT(J49,3)=\"000\"),IF(INDEX(PO!AE:AE,MATCH(CONCATENATE('All Bill Data Entry'!J49,'All Bill Data Entry'!K49),PO!AC:AC,0))<>\"\",\"N\",\"N\"),\"N\"))","v":""}]
["",null,null,null,null,null,null,"",null,null,null,{"$f":"IF(J50=\"\",\"\",INDEX(CUST!BC:BC,MATCH(INDEX(PO!AD:AD,MATCH(CONCATENATE('All Bill Data Entry'!J50,'All Bill Data Entry'!K50),PO!AC:AC,0)),CUST!I:I,0)))","v":""},{"$f":"IF(L50=\"\",\"\",INDEX(CUST!G:G,MATCH('All Bill Data Entry'!L50,CUST!B:B,0)))","v":""},"",null,null,null,null,null,null,{"$f":"IF($B50=\"\",\"\",INDEX(Values!H:H,MATCH('All Bill Data Entry'!$B50,Values!F:F,0)))","v":""},{"$f":"IF($D50=\"\",\"\",INDEX(CUST!N:N,MATCH('All Bill Data Entry'!L50&'All Bill Data Entry'!N50,CUST!BD:BD,0)))","v":""},{"$f":"IF($B50=\"\",\"\",INDEX(Values!I:I,MATCH('All Bill Data Entry'!$B50,Values!G:G,0)))","v":""},{"$f":"IF($B50=\"\",\"\",INDEX(Values!J:J,MATCH('All Bill Data Entry'!$B50,Values!G:G,0)))","v":""},{"$f":"IF(D50=\"\",\"\",IF(AND(LEN(J50)=10,LEFT(J50,3)=\"000\"),IF(INDEX(PO!AE:AE,MATCH(CONCATENATE('All Bill Data Entry'!J50,'All Bill Data Entry'!K50),PO!AC:AC,0))<>\"\",\"N\",\"N\"),\"N\"))","v":""}]
["",null,null,null,null,null,null,"",null,null,null,{"$f":"IF(J51=\"\",\"\",INDEX(CUST!BC:BC,MATCH(INDEX(PO!AD:AD,MATCH(CONCATENATE('All Bill Data Entry'!J51,'All Bill Data Entry'!K51),PO!AC:AC,0)),CUST!I:I,0)))","v":""},{"$f":"IF(L51=\"\",\"\",INDEX(CUST!G:G,MATCH('All Bill Data Entry'!L51,CUST!B:B,0)))","v":""},"",null,null,null,null,null,null,{"$f":"IF($B51=\"\",\"\",INDEX(Values!H:H,MATCH('All Bill Data Entry'!$B51,Values!F:F,0)))","v":""},{"$f":"IF($D51=\"\",\"\",INDEX(CUST!N:N,MATCH('All Bill Data Entry'!L51&'All Bill Data Entry'!N51,CUST!BD:BD,0)))","v":""},{"$f":"IF($B51=\"\",\"\",INDEX(Values!I:I,MATCH('All Bill Data Entry'!$B51,Values!G:G,0)))","v":""},{"$f":"IF($B51=\"\",\"\",INDEX(Values!J:J,MATCH('All Bill Data Entry'!$B51,Values!G:G,0)))","v":""},{"$f":"IF(D51=\"\",\"\",IF(AND(LEN(J51)=10,LEFT(J51,3)=\"000\"),IF(INDEX(PO!AE:AE,MATCH(CONCATENATE('All Bill Data Entry'!J51,'All Bill Data Entry'!K51),PO!AC:AC,0))<>\"\",\"N\",\"N\"),\"N\"))","v":""}]
["",null,null,null,null,null,null,"",null,null,null,{"$f":"IF(J52=\"\",\"\",INDEX(CUST!BC:BC,MATCH(INDEX(PO!AD:AD,MATCH(CONCATENATE('All Bill Data Entry'!J52,'All Bill Data Entry'!K52),PO!AC:AC,0)),CUST!I:I,0)))","v":""},{"$f":"IF(L52=\"\",\"\",INDEX(CUST!G:G,MATCH('All Bill Data Entry'!L52,CUST!B:B,0)))","v":""},"",null,null,null,null,null,null,{"$f":"IF($B52=\"\",\"\",INDEX(Values!H:H,MATCH('All Bill Data Entry'!$B52,Values!F:F,0)))","v":""},{"$f":"IF($D52=\"\",\"\",INDEX(CUST!N:N,MATCH('All Bill Data Entry'!L52&'All Bill Data Entry'!N52,CUST!BD:BD,0)))","v":""},{"$f":"IF($B52=\"\",\"\",INDEX(Values!I:I,MATCH('All Bill Data Entry'!$B52,Values!G:G,0)))","v":""},{"$f":"IF($B52=\"\",\"\",INDEX(Values!J:J,MATCH('All Bill Data Entry'!$B52,Values!G:G,0)))","v":""},{"$f":"IF(D52=\"\",\"\",IF(AND(LEN(J52)=10,LEFT(J52,3)=\"000\"),IF(INDEX(PO!AE:AE,MATCH(CONCATENATE('All Bill Data Entry'!J52,'All Bill Data Entry'!K52),PO!AC:AC,0))<>\"\",\"N\",\"N\"),\"N\"))","v":""}]
["",null,null,null,null,null,null,"",null,null,null,{"$f":"IF(J53=\"\",\"\",INDEX(CUST!BC:BC,MATCH(INDEX(PO!AD:AD,MATCH(CONCATENATE('All Bill Data Entry'!J53,'All Bill Data Entry'!K53),PO!AC:AC,0)),CUST!I:I,0)))","v":""},{"$f":"IF(L53=\"\",\"\",INDEX(CUST!G:G,MATCH('All Bill Data Entry'!L53,CUST!B:B,0)))","v":""},"",null,null,null,null,null,null,{"$f":"IF($B53=\"\",\"\",INDEX(Values!H:H,MATCH('All Bill Data Entry'!$B53,Values!F:F,0)))","v":""},{"$f":"IF($D53=\"\",\"\",INDEX(CUST!N:N,MATCH('All Bill Data Entry'!L53&'All Bill Data Entry'!N53,CUST!BD:BD,0)))","v":""},{"$f":"IF($B53=\"\",\"\",INDEX(Values!I:I,MATCH('All Bill Data Entry'!$B53,Values!G:G,0)))","v":""},{"$f":"IF($B53=\"\",\"\",INDEX(Values!J:J,MATCH('All Bill Data Entry'!$B53,Values!G:G,0)))","v":""},{"$f":"IF(D53=\"\",\"\",IF(AND(LEN(J53)=10,LEFT(J53,3)=\"000\"),IF(INDEX(PO!AE:AE,MATCH(CONCATENATE('All Bill Data Entry'!J53,'All Bill Data Entry'!K53),PO!AC:AC,0))<>\"\",\"N\",\"N\"),\"N\"))","v":""}]
["",null,null,null,null,null,null,"",null,null,null,{"$f":"IF(J54=\"\",\"\",INDEX(CUST!BC:BC,MATCH(INDEX(PO!AD:AD,MATCH(CONCATENATE('All Bill Data Entry'!J54,'All Bill Data Entry'!K54),PO!AC:AC,0)),CUST!I:I,0)))","v":""},{"$f":"IF(L54=\"\",\"\",INDEX(CUST!G:G,MATCH('All Bill Data Entry'!L54,CUST!B:B,0)))","v":""},"",null,null,null,null,null,null,{"$f":"IF($B54=\"\",\"\",INDEX(Values!H:H,MATCH('All Bill Data Entry'!$B54,Values!F:F,0)))","v":""},{"$f":"IF($D54=\"\",\"\",INDEX(CUST!N:N,MATCH('All Bill Data Entry'!L54&'All Bill Data Entry'!N54,CUST!BD:BD,0)))","v":""},{"$f":"IF($B54=\"\",\"\",INDEX(Values!I:I,MATCH('All Bill Data Entry'!$B54,Values!G:G,0)))","v":""},{"$f":"IF($B54=\"\",\"\",INDEX(Values!J:J,MATCH('All Bill Data Entry'!$B54,Values!G:G,0)))","v":""},{"$f":"IF(D54=\"\",\"\",IF(AND(LEN(J54)=10,LEFT(J54,3)=\"000\"),IF(INDEX(PO!AE:AE,MATCH(CONCATENATE('All Bill Data Entry'!J54,'All Bill Data Entry'!K54),PO!AC:AC,0))<>\"\",\"N\",\"N\"),\"N\"))","v":""}]
["",null,null,null,null,null,null,"",null,null,null,{"$f":"IF(J55=\"\",\"\",INDEX(CUST!BC:BC,MATCH(INDEX(PO!AD:AD,MATCH(CONCATENATE('All Bill Data Entry'!J55,'All Bill Data Entry'!K55),PO!AC:AC,0)),CUST!I:I,0)))","v":""},{"$f":"IF(L55=\"\",\"\",INDEX(CUST!G:G,MATCH('All Bill Data Entry'!L55,CUST!B:B,0)))","v":""},"",null,null,null,null,null,null,{"$f":"IF($B55=\"\",\"\",INDEX(Values!H:H,MATCH('All Bill Data Entry'!$B55,Values!F:F,0)))","v":""},{"$f":"IF($D55=\"\",\"\",INDEX(CUST!N:N,MATCH('All Bill Data Entry'!L55&'All Bill Data Entry'!N55,CUST!BD:BD,0)))","v":""},{"$f":"IF($B55=\"\",\"\",INDEX(Values!I:I,MATCH('All Bill Data Entry'!$B55,Values!G:G,0)))","v":""},{"$f":"IF($B55=\"\",\"\",INDEX(Values!J:J,MATCH('All Bill Data Entry'!$B55,Values!G:G,0)))","v":""},{"$f":"IF(D55=\"\",\"\",IF(AND(LEN(J55)=10,LEFT(J55,3)=\"000\"),IF(INDEX(PO!AE:AE,MATCH(CONCATENATE('All Bill Data Entry'!J55,'All Bill Data Entry'!K55),PO!AC:AC,0))<>\"\",\"N\",\"N\"),\"N\"))","v":""}]
["",null,null,null,null,null,null,"",null,null,null,{"$f":"IF(J56=\"\",\"\",INDEX(CUST!BC:BC,MATCH(INDEX(PO!AD:AD,MATCH(CONCATENATE('All Bill Data Entry'!J56,'All Bill Data Entry'!K56),PO!AC:AC,0)),CUST!I:I,0)))","v":""},{"$f":"IF(L56=\"\",\"\",INDEX(CUST!G:G,MATCH('All Bill Data Entry'!L56,CUST!B:B,0)))","v":""},"",null,null,null,null,null,null,{"$f":"IF($B56=\"\",\"\",INDEX(Values!H:H,MATCH('All Bill Data Entry'!$B56,Values!F:F,0)))","v":""},{"$f":"IF($D56=\"\",\"\",INDEX(CUST!N:N,MATCH('All Bill Data Entry'!L56&'All Bill Data Entry'!N56,CUST!BD:BD,0)))","v":""},{"$f":"IF($B56=\"\",\"\",INDEX(Values!I:I,MATCH('All Bill Data Entry'!$B56,Values!G:G,0)))","v":""},{"$f":"IF($B56=\"\",\"\",INDEX(Values!J:J,MATCH('All Bill Data Entry'!$B56,Values!G:G,0)))","v":""},{"$f":"IF(D56=\"\",\"\",IF(AND(LEN(J56)=10,LEFT(J56,3)=\"000\"),IF(INDEX(PO!AE:AE,MATCH(CONCATENATE('All Bill Data Entry'!J56,'All Bill Data Entry'!K56),PO!AC:AC,0))<>\"\",\"N\",\"N\"),\"N\"))","v":""}]
["",null,null,null,null,null,null,"",null,null,null,{"$f":"IF(J57=\"\",\"\",INDEX(CUST!BC:BC,MATCH(INDEX(PO!AD:AD,MATCH(CONCATENATE('All Bill Data Entry'!J57,'All Bill Data Entry'!K57),PO!AC:AC,0)),CUST!I:I,0)))","v":""},{"$f":"IF(L57=\"\",\"\",INDEX(CUST!G:G,MATCH('All Bill Data Entry'!L57,CUST!B:B,0)))","v":""},"",null,null,null,null,null,null,{"$f":"IF($B57=\"\",\"\",INDEX(Values!H:H,MATCH('All Bill Data Entry'!$B57,Values!F:F,0)))","v":""},{"$f":"IF($D57=\"\",\"\",INDEX(CUST!N:N,MATCH('All Bill Data Entry'!L57&'All Bill Data Entry'!N57,CUST!BD:BD,0)))","v":""},{"$f":"IF($B57=\"\",\"\",INDEX(Values!I:I,MATCH('All Bill Data Entry'!$B57,Values!G:G,0)))","v":""},{"$f":"IF($B57=\"\",\"\",INDEX(Values!J:J,MATCH('All Bill Data Entry'!$B57,Values!G:G,0)))","v":""},{"$f":"IF(D57=\"\",\"\",IF(AND(LEN(J57)=10,LEFT(J57,3)=\"000\"),IF(INDEX(PO!AE:AE,MATCH(CONCATENATE('All Bill Data Entry'!J57,'All Bill Data Entry'!K57),PO!AC:AC,0))<>\"\",\"N\",\"N\"),\"N\"))","v":""}]
["",null,null,null,null,null,null,"",null,null,null,{"$f":"IF(J58=\"\",\"\",INDEX(CUST!BC:BC,MATCH(INDEX(PO!AD:AD,MATCH(CONCATENATE('All Bill Data Entry'!J58,'All Bill Data Entry'!K58),PO!AC:AC,0)),CUST!I:I,0)))","v":""},{"$f":"IF(L58=\"\",\"\",INDEX(CUST!G:G,MATCH('All Bill Data Entry'!L58,CUST!B:B,0)))","v":""},"",null,null,null,null,null,null,{"$f":"IF($B58=\"\",\"\",INDEX(Values!H:H,MATCH('All Bill Data Entry'!$B58,Values!F:F,0)))","v":""},{"$f":"IF($D58=\"\",\"\",INDEX(CUST!N:N,MATCH('All Bill Data Entry'!L58&'All Bill Data Entry'!N58,CUST!BD:BD,0)))","v":""},{"$f":"IF($B58=\"\",\"\",INDEX(Values!I:I,MATCH('All Bill Data Entry'!$B58,Values!G:G,0)))","v":""},{"$f":"IF($B58=\"\",\"\",INDEX(Values!J:J,MATCH('All Bill Data Entry'!$B58,Values!G:G,0)))","v":""},{"$f":"IF(D58=\"\",\"\",IF(AND(LEN(J58)=10,LEFT(J58,3)=\"000\"),IF(INDEX(PO!AE:AE,MATCH(CONCATENATE('All Bill Data Entry'!J58,'All Bill Data Entry'!K58),PO!AC:AC,0))<>\"\",\"N\",\"N\"),\"N\"))","v":""}]
["",null,null,null,null,null,null,"",null,null,null,{"$f":"IF(J59=\"\",\"\",INDEX(CUST!BC:BC,MATCH(INDEX(PO!AD:AD,MATCH(CONCATENATE('All Bill Data Entry'!J59,'All Bill Data Entry'!K59),PO!AC:AC,0)),CUST!I:I,0)))","v":""},{"$f":"IF(L59=\"\",\"\",INDEX(CUST!G:G,MATCH('All Bill Data Entry'!L59,CUST!B:B,0)))","v":""},"",null,null,null,null,null,null,{"$f":"IF($B59=\"\",\"\",INDEX(Values!H:H,MATCH('All Bill Data Entry'!$B59,Values!F:F,0)))","v":""},{"$f":"IF($D59=\"\",\"\",INDEX(CUST!N:N,MATCH('All Bill Data Entry'!L59&'All Bill Data Entry'!N59,CUST!BD:BD,0)))","v":""},{"$f":"IF($B59=\"\",\"\",INDEX(Values!I:I,MATCH('All Bill Data Entry'!$B59,Values!G:G,0)))","v":""},{"$f":"IF($B59=\"\",\"\",INDEX(Values!J:J,MATCH('All Bill Data Entry'!$B59,Values!G:G,0)))","v":""},{"$f":"IF(D59=\"\",\"\",IF(AND(LEN(J59)=10,LEFT(J59,3)=\"000\"),IF(INDEX(PO!AE:AE,MATCH(CONCATENATE('All Bill Data Entry'!J59,'All Bill Data Entry'!K59),PO!AC:AC,0))<>\"\",\"N\",\"N\"),\"N\"))","v":""}]
["",null,null,null,null,null,null,"",null,null,null,{"$f":"IF(J60=\"\",\"\",INDEX(CUST!BC:BC,MATCH(INDEX(PO!AD:AD,MATCH(CONCATENATE('All Bill Data Entry'!J60,'All Bill Data Entry'!K60),PO!AC:AC,0)),CUST!I:I,0)))","v":""},{"$f":"IF(L60=\"\",\"\",INDEX(CUST!G:G,MATCH('All Bill Data Entry'!L60,CUST!B:B,0)))","v":""},"",null,null,null,null,null,null,{"$f":"IF($B60=\"\",\"\",INDEX(Values!H:H,MATCH('All Bill Data Entry'!$B60,Values!F:F,0)))","v":""},{"$f":"IF($D60=\"\",\"\",INDEX(CUST!N:N,MATCH('All Bill Data Entry'!L60&'All Bill Data Entry'!N60,CUST!BD:BD,0)))","v":""},{"$f":"IF($B60=\"\",\"\",INDEX(Values!I:I,MATCH('All Bill Data Entry'!$B60,Values!G:G,0)))","v":""},{"$f":"IF($B60=\"\",\"\",INDEX(Values!J:J,MATCH('All Bill Data Entry'!$B60,Values!G:G,0)))","v":""},{"$f":"IF(D60=\"\",\"\",IF(AND(LEN(J60)=10,LEFT(J60,3)=\"000\"),IF(INDEX(PO!AE:AE,MATCH(CONCATENATE('All Bill Data Entry'!J60,'All Bill Data Entry'!K60),PO!AC:AC,0))<>\"\",\"N\",\"N\"),\"N\"))","v":""}]
["",null,null,null,null,null,null,"",null,null,null,{"$f":"IF(J61=\"\",\"\",INDEX(CUST!BC:BC,MATCH(INDEX(PO!AD:AD,MATCH(CONCATENATE('All Bill Data Entry'!J61,'All Bill Data Entry'!K61),PO!AC:AC,0)),CUST!I:I,0)))","v":""},{"$f":"IF(L61=\"\",\"\",INDEX(CUST!G:G,MATCH('All Bill Data Entry'!L61,CUST!B:B,0)))","v":""},"",null,null,null,null,null,null,{"$f":"IF($B61=\"\",\"\",INDEX(Values!H:H,MATCH('All Bill Data Entry'!$B61,Values!F:F,0)))","v":""},{"$f":"IF($D61=\"\",\"\",INDEX(CUST!N:N,MATCH('All Bill Data Entry'!L61&'All Bill Data Entry'!N61,CUST!BD:BD,0)))","v":""},{"$f":"IF($B61=\"\",\"\",INDEX(Values!I:I,MATCH('All Bill Data Entry'!$B61,Values!G:G,0)))","v":""},{"$f":"IF($B61=\"\",\"\",INDEX(Values!J:J,MATCH('All Bill Data Entry'!$B61,Values!G:G,0)))","v":""},{"$f":"IF(D61=\"\",\"\",IF(AND(LEN(J61)=10,LEFT(J61,3)=\"000\"),IF(INDEX(PO!AE:AE,MATCH(CONCATENATE('All Bill Data Entry'!J61,'All Bill Data Entry'!K61),PO!AC:AC,0))<>\"\",\"N\",\"N\"),\"N\"))","v":""}]
["",null,null,null,null,null,null,"",null,null,null,{"$f":"IF(J62=\"\",\"\",INDEX(CUST!BC:BC,MATCH(INDEX(PO!AD:AD,MATCH(CONCATENATE('All Bill Data Entry'!J62,'All Bill Data Entry'!K62),PO!AC:AC,0)),CUST!I:I,0)))","v":""},{"$f":"IF(L62=\"\",\"\",INDEX(CUST!G:G,MATCH('All Bill Data Entry'!L62,CUST!B:B,0)))","v":""},"",null,null,null,null,null,null,{"$f":"IF($B62=\"\",\"\",INDEX(Values!H:H,MATCH('All Bill Data Entry'!$B62,Values!F:F,0)))","v":""},{"$f":"IF($D62=\"\",\"\",INDEX(CUST!N:N,MATCH('All Bill Data Entry'!L62&'All Bill Data Entry'!N62,CUST!BD:BD,0)))","v":""},{"$f":"IF($B62=\"\",\"\",INDEX(Values!I:I,MATCH('All Bill Data Entry'!$B62,Values!G:G,0)))","v":""},{"$f":"IF($B62=\"\",\"\",INDEX(Values!J:J,MATCH('All Bill Data Entry'!$B62,Values!G:G,0)))","v":""},{"$f":"IF(D62=\"\",\"\",IF(AND(LEN(J62)=10,LEFT(J62,3)=\"000\"),IF(INDEX(PO!AE:AE,MATCH(CONCATENATE('All Bill Data Entry'!J62,'All Bill Data Entry'!K62),PO!AC:AC,0))<>\"\",\"N\",\"N\"),\"N\"))","v":""}]
["",null,null,null,null,null,null,"",null,null,null,{"$f":"IF(J63=\"\",\"\",INDEX(CUST!BC:BC,MATCH(INDEX(PO!AD:AD,MATCH(CONCATENATE('All Bill Data Entry'!J63,'All Bill Data Entry'!K63),PO!AC:AC,0)),CUST!I:I,0)))","v":""},{"$f":"IF(L63=\"\",\"\",INDEX(CUST!G:G,MATCH('All Bill Data Entry'!L63,CUST!B:B,0)))","v":""},"",null,null,null,null,null,null,{"$f":"IF($B63=\"\",\"\",INDEX(Values!H:H,MATCH('All Bill Data Entry'!$B63,Values!F:F,0)))","v":""},{"$f":"IF($D63=\"\",\"\",INDEX(CUST!N:N,MATCH('All Bill Data Entry'!L63&'All Bill Data Entry'!N63,CUST!BD:BD,0)))","v":""},{"$f":"IF($B63=\"\",\"\",INDEX(Values!I:I,MATCH('All Bill Data Entry'!$B63,Values!G:G,0)))","v":""},{"$f":"IF($B63=\"\",\"\",INDEX(Values!J:J,MATCH('All Bill Data Entry'!$B63,Values!G:G,0)))","v":""},{"$f":"IF(D63=\"\",\"\",IF(AND(LEN(J63)=10,LEFT(J63,3)=\"000\"),IF(INDEX(PO!AE:AE,MATCH(CONCATENATE('All Bill Data Entry'!J63,'All Bill Data Entry'!K63),PO!AC:AC,0))<>\"\",\"N\",\"N\"),\"N\"))","v":""}]
["",null,null,null,null,null,null,"",null,null,null,{"$f":"IF(J64=\"\",\"\",INDEX(CUST!BC:BC,MATCH(INDEX(PO!AD:AD,MATCH(CONCATENATE('All Bill Data Entry'!J64,'All Bill Data Entry'!K64),PO!AC:AC,0)),CUST!I:I,0)))","v":""},{"$f":"IF(L64=\"\",\"\",INDEX(CUST!G:G,MATCH('All Bill Data Entry'!L64,CUST!B:B,0)))","v":""},"",null,null,null,null,null,null,{"$f":"IF($B64=\"\",\"\",INDEX(Values!H:H,MATCH('All Bill Data Entry'!$B64,Values!F:F,0)))","v":""},{"$f":"IF($D64=\"\",\"\",INDEX(CUST!N:N,MATCH('All Bill Data Entry'!L64&'All Bill Data Entry'!N64,CUST!BD:BD,0)))","v":""},{"$f":"IF($B64=\"\",\"\",INDEX(Values!I:I,MATCH('All Bill Data Entry'!$B64,Values!G:G,0)))","v":""},{"$f":"IF($B64=\"\",\"\",INDEX(Values!J:J,MATCH('All Bill Data Entry'!$B64,Values!G:G,0)))","v":""},{"$f":"IF(D64=\"\",\"\",IF(AND(LEN(J64)=10,LEFT(J64,3)=\"000\"),IF(INDEX(PO!AE:AE,MATCH(CONCATENATE('All Bill Data Entry'!J64,'All Bill Data Entry'!K64),PO!AC:AC,0))<>\"\",\"N\",\"N\"),\"N\"))","v":""}]
["",null,null,null,null,null,null,"",null,null,null,{"$f":"IF(J65=\"\",\"\",INDEX(CUST!BC:BC,MATCH(INDEX(PO!AD:AD,MATCH(CONCATENATE('All Bill Data Entry'!J65,'All Bill Data Entry'!K65),PO!AC:AC,0)),CUST!I:I,0)))","v":""},{"$f":"IF(L65=\"\",\"\",INDEX(CUST!G:G,MATCH('All Bill Data Entry'!L65,CUST!B:B,0)))","v":""},"",null,null,null,null,null,null,{"$f":"IF($B65=\"\",\"\",INDEX(Values!H:H,MATCH('All Bill Data Entry'!$B65,Values!F:F,0)))","v":""},{"$f":"IF($D65=\"\",\"\",INDEX(CUST!N:N,MATCH('All Bill Data Entry'!L65&'All Bill Data Entry'!N65,CUST!BD:BD,0)))","v":""},{"$f":"IF($B65=\"\",\"\",INDEX(Values!I:I,MATCH('All Bill Data Entry'!$B65,Values!G:G,0)))","v":""},{"$f":"IF($B65=\"\",\"\",INDEX(Values!J:J,MATCH('All Bill Data Entry'!$B65,Values!G:G,0)))","v":""},{"$f":"IF(D65=\"\",\"\",IF(AND(LEN(J65)=10,LEFT(J65,3)=\"000\"),IF(INDEX(PO!AE:AE,MATCH(CONCATENATE('All Bill Data Entry'!J65,'All Bill Data Entry'!K65),PO!AC:AC,0))<>\"\",\"N\",\"N\"),\"N\"))","v":""}]
["",null,null,null,null,null,null,"",null,null,null,{"$f":"IF(J66=\"\",\"\",INDEX(CUST!BC:BC,MATCH(INDEX(PO!AD:AD,MATCH(CONCATENATE('All Bill Data Entry'!J66,'All Bill Data Entry'!K66),PO!AC:AC,0)),CUST!I:I,0)))","v":""},{"$f":"IF(L66=\"\",\"\",INDEX(CUST!G:G,MATCH('All Bill Data Entry'!L66,CUST!B:B,0)))","v":""},"",null,null,null,null,null,null,{"$f":"IF($B66=\"\",\"\",INDEX(Values!H:H,MATCH('All Bill Data Entry'!$B66,Values!F:F,0)))","v":""},{"$f":"IF($D66=\"\",\"\",INDEX(CUST!N:N,MATCH('All Bill Data Entry'!L66&'All Bill Data Entry'!N66,CUST!BD:BD,0)))","v":""},{"$f":"IF($B66=\"\",\"\",INDEX(Values!I:I,MATCH('All Bill Data Entry'!$B66,Values!G:G,0)))","v":""},{"$f":"IF($B66=\"\",\"\",INDEX(Values!J:J,MATCH('All Bill Data Entry'!$B66,Values!G:G,0)))","v":""},{"$f":"IF(D66=\"\",\"\",IF(AND(LEN(J66)=10,LEFT(J66,3)=\"000\"),IF(INDEX(PO!AE:AE,MATCH(CONCATENATE('All Bill Data Entry'!J66,'All Bill Data Entry'!K66),PO!AC:AC,0))<>\"\",\"N\",\"N\"),\"N\"))","v":""}]
["",null,null,null,null,null,null,"",null,null,null,{"$f":"IF(J67=\"\",\"\",INDEX(CUST!BC:BC,MATCH(INDEX(PO!AD:AD,MATCH(CONCATENATE('All Bill Data Entry'!J67,'All Bill Data Entry'!K67),PO!AC:AC,0)),CUST!I:I,0)))","v":""},{"$f":"IF(L67=\"\",\"\",INDEX(CUST!G:G,MATCH('All Bill Data Entry'!L67,CUST!B:B,0)))","v":""},"",null,null,null,null,null,null,{"$f":"IF($B67=\"\",\"\",INDEX(Values!H:H,MATCH('All Bill Data Entry'!$B67,Values!F:F,0)))","v":""},{"$f":"IF($D67=\"\",\"\",INDEX(CUST!N:N,MATCH('All Bill Data Entry'!L67&'All Bill Data Entry'!N67,CUST!BD:BD,0)))","v":""},{"$f":"IF($B67=\"\",\"\",INDEX(Values!I:I,MATCH('All Bill Data Entry'!$B67,Values!G:G,0)))","v":""},{"$f":"IF($B67=\"\",\"\",INDEX(Values!J:J,MATCH('All Bill Data Entry'!$B67,Values!G:G,0)))","v":""},{"$f":"IF(D67=\"\",\"\",IF(AND(LEN(J67)=10,LEFT(J67,3)=\"000\"),IF(INDEX(PO!AE:AE,MATCH(CONCATENATE('All Bill Data Entry'!J67,'All Bill Data Entry'!K67),PO!AC:AC,0))<>\"\",\"N\",\"N\"),\"N\"))","v":""}]
["",null,null,null,null,null,null,"",null,null,null,{"$f":"IF(J68=\"\",\"\",INDEX(CUST!BC:BC,MATCH(INDEX(PO!AD:AD,MATCH(CONCATENATE('All Bill Data Entry'!J68,'All Bill Data Entry'!K68),PO!AC:AC,0)),CUST!I:I,0)))","v":""},{"$f":"IF(L68=\"\",\"\",INDEX(CUST!G:G,MATCH('All Bill Data Entry'!L68,CUST!B:B,0)))","v":""},"",null,null,null,null,null,null,{"$f":"IF($B68=\"\",\"\",INDEX(Values!H:H,MATCH('All Bill Data Entry'!$B68,Values!F:F,0)))","v":""},{"$f":"IF($D68=\"\",\"\",INDEX(CUST!N:N,MATCH('All Bill Data Entry'!L68&'All Bill Data Entry'!N68,CUST!BD:BD,0)))","v":""},{"$f":"IF($B68=\"\",\"\",INDEX(Values!I:I,MATCH('All Bill Data Entry'!$B68,Values!G:G,0)))","v":""},{"$f":"IF($B68=\"\",\"\",INDEX(Values!J:J,MATCH('All Bill Data Entry'!$B68,Values!G:G,0)))","v":""},{"$f":"IF(D68=\"\",\"\",IF(AND(LEN(J68)=10,LEFT(J68,3)=\"000\"),IF(INDEX(PO!AE:AE,MATCH(CONCATENATE('All Bill Data Entry'!J68,'All Bill Data Entry'!K68),PO!AC:AC,0))<>\"\",\"N\",\"N\"),\"N\"))","v":""}]
["",null,null,null,null,null,null,"",null,null,null,{"$f":"IF(J69=\"\",\"\",INDEX(CUST!BC:BC,MATCH(INDEX(PO!AD:AD,MATCH(CONCATENATE('All Bill Data Entry'!J69,'All Bill Data Entry'!K69),PO!AC:AC,0)),CUST!I:I,0)))","v":""},{"$f":"IF(L69=\"\",\"\",INDEX(CUST!G:G,MATCH('All Bill Data Entry'!L69,CUST!B:B,0)))","v":""},"",null,null,null,null,null,null,{"$f":"IF($B69=\"\",\"\",INDEX(Values!H:H,MATCH('All Bill Data Entry'!$B69,Values!F:F,0)))","v":""},{"$f":"IF($D69=\"\",\"\",INDEX(CUST!N:N,MATCH('All Bill Data Entry'!L69&'All Bill Data Entry'!N69,CUST!BD:BD,0)))","v":""},{"$f":"IF($B69=\"\",\"\",INDEX(Values!I:I,MATCH('All Bill Data Entry'!$B69,Values!G:G,0)))","v":""},{"$f":"IF($B69=\"\",\"\",INDEX(Values!J:J,MATCH('All Bill Data Entry'!$B69,Values!G:G,0)))","v":""},{"$f":"IF(D69=\"\",\"\",IF(AND(LEN(J69)=10,LEFT(J69,3)=\"000\"),IF(INDEX(PO!AE:AE,MATCH(CONCATENATE('All Bill Data Entry'!J69,'All Bill Data Entry'!K69),PO!AC:AC,0))<>\"\",\"N\",\"N\"),\"N\"))","v":""}]
["",null,null,null,null,null,null,"",null,null,null,{"$f":"IF(J70=\"\",\"\",INDEX(CUST!BC:BC,MATCH(INDEX(PO!AD:AD,MATCH(CONCATENATE('All Bill Data Entry'!J70,'All Bill Data Entry'!K70),PO!AC:AC,0)),CUST!I:I,0)))","v":""},{"$f":"IF(L70=\"\",\"\",INDEX(CUST!G:G,MATCH('All Bill Data Entry'!L70,CUST!B:B,0)))","v":""},"",null,null,null,null,null,null,{"$f":"IF($B70=\"\",\"\",INDEX(Values!H:H,MATCH('All Bill Data Entry'!$B70,Values!F:F,0)))","v":""},{"$f":"IF($D70=\"\",\"\",INDEX(CUST!N:N,MATCH('All Bill Data Entry'!L70&'All Bill Data Entry'!N70,CUST!BD:BD,0)))","v":""},{"$f":"IF($B70=\"\",\"\",INDEX(Values!I:I,MATCH('All Bill Data Entry'!$B70,Values!G:G,0)))","v":""},{"$f":"IF($B70=\"\",\"\",INDEX(Values!J:J,MATCH('All Bill Data Entry'!$B70,Values!G:G,0)))","v":""},{"$f":"IF(D70=\"\",\"\",IF(AND(LEN(J70)=10,LEFT(J70,3)=\"000\"),IF(INDEX(PO!AE:AE,MATCH(CONCATENATE('All Bill Data Entry'!J70,'All Bill Data Entry'!K70),PO!AC:AC,0))<>\"\",\"N\",\"N\"),\"N\"))","v":""}]
["",null,null,null,null,null,null,"",null,null,null,{"$f":"IF(J71=\"\",\"\",INDEX(CUST!BC:BC,MATCH(INDEX(PO!AD:AD,MATCH(CONCATENATE('All Bill Data Entry'!J71,'All Bill Data Entry'!K71),PO!AC:AC,0)),CUST!I:I,0)))","v":""},{"$f":"IF(L71=\"\",\"\",INDEX(CUST!G:G,MATCH('All Bill Data Entry'!L71,CUST!B:B,0)))","v":""},{"$f":"IF(OR(M71=\"INTERNAL\",M71=\"COMPONENT\"),1,\"\")","v":""},null,null,null,null,null,null,{"$f":"IF($B71=\"\",\"\",INDEX(Values!H:H,MATCH('All Bill Data Entry'!$B71,Values!F:F,0)))","v":""},{"$f":"IF($D71=\"\",\"\",INDEX(CUST!N:N,MATCH('All Bill Data Entry'!L71&'All Bill Data Entry'!N71,CUST!BD:BD,0)))","v":""},{"$f":"IF($B71=\"\",\"\",INDEX(Values!I:I,MATCH('All Bill Data Entry'!$B71,Values!G:G,0)))","v":""},{"$f":"IF($B71=\"\",\"\",INDEX(Values!J:J,MATCH('All Bill Data Entry'!$B71,Values!G:G,0)))","v":""},{"$f":"IF(D71=\"\",\"\",IF(AND(LEN(J71)=10,LEFT(J71,3)=\"000\"),IF(INDEX(PO!AE:AE,MATCH(CONCATENATE('All Bill Data Entry'!J71,'All Bill Data Entry'!K71),PO!AC:AC,0))<>\"\",\"N\",\"N\"),\"N\"))","v":""}]
["",null,null,null,null,null,null,{"$f":"IF(F72=\"\",\"\",F72*G72)","v":""},null,null,null,{"$f":"IF(J72=\"\",\"\",INDEX(CUST!BC:BC,MATCH(INDEX(PO!AD:AD,MATCH(CONCATENATE('All Bill Data Entry'!J72,'All Bill Data Entry'!K72),PO!AC:AC,0)),CUST!I:I,0)))","v":""},{"$f":"IF(L72=\"\",\"\",INDEX(CUST!G:G,MATCH('All Bill Data Entry'!L72,CUST!B:B,0)))","v":""},"",null,null,null,null,null,null,{"$f":"IF($B72=\"\",\"\",INDEX(Values!H:H,MATCH('All Bill Data Entry'!$B72,Values!F:F,0)))","v":""},{"$f":"IF($D72=\"\",\"\",INDEX(CUST!N:N,MATCH('All Bill Data Entry'!L72&'All Bill Data Entry'!N72,CUST!BD:BD,0)))","v":""},{"$f":"IF($B72=\"\",\"\",INDEX(Values!I:I,MATCH('All Bill Data Entry'!$B72,Values!G:G,0)))","v":""},{"$f":"IF($B72=\"\",\"\",INDEX(Values!J:J,MATCH('All Bill Data Entry'!$B72,Values!G:G,0)))","v":""},{"$f":"IF(D72=\"\",\"\",IF(AND(LEN(J72)=10,LEFT(J72,3)=\"000\"),IF(INDEX(PO!AE:AE,MATCH(CONCATENATE('All Bill Data Entry'!J72,'All Bill Data Entry'!K72),PO!AC:AC,0))<>\"\",\"N\",\"N\"),\"N\"))","v":""}]
[{"$f":"IF(D73=\"\",\"\",A72+1)","v":""},null,null,null,null,null,null,"",null,null,null,{"$f":"IF(J73=\"\",\"\",INDEX(CUST!BC:BC,MATCH(INDEX(PO!AD:AD,MATCH(CONCATENATE('All Bill Data Entry'!J73,'All Bill Data Entry'!K73),PO!AC:AC,0)),CUST!I:I,0)))","v":""},{"$f":"IF(L73=\"\",\"\",INDEX(CUST!G:G,MATCH('All Bill Data Entry'!L73,CUST!B:B,0)))","v":""},"",null,null,null,null,null,null,{"$f":"IF($B73=\"\",\"\",INDEX(Values!H:H,MATCH('All Bill Data Entry'!$B73,Values!F:F,0)))","v":""},{"$f":"IF($D73=\"\",\"\",INDEX(CUST!N:N,MATCH('All Bill Data Entry'!L73&'All Bill Data Entry'!N73,CUST!BD:BD,0)))","v":""},{"$f":"IF($B73=\"\",\"\",INDEX(Values!I:I,MATCH('All Bill Data Entry'!$B73,Values!G:G,0)))","v":""},{"$f":"IF($B73=\"\",\"\",INDEX(Values!J:J,MATCH('All Bill Data Entry'!$B73,Values!G:G,0)))","v":""},{"$f":"IF(D73=\"\",\"\",IF(AND(LEN(J73)=10,LEFT(J73,3)=\"000\"),IF(INDEX(PO!AE:AE,MATCH(CONCATENATE('All Bill Data Entry'!J73,'All Bill Data Entry'!K73),PO!AC:AC,0))<>\"\",\"N\",\"N\"),\"N\"))","v":""}]
["",null,null,null,null,null,null,"",null,null,null,{"$f":"IF(J74=\"\",\"\",INDEX(CUST!BC:BC,MATCH(INDEX(PO!AD:AD,MATCH(CONCATENATE('All Bill Data Entry'!J74,'All Bill Data Entry'!K74),PO!AC:AC,0)),CUST!I:I,0)))","v":""},{"$f":"IF(L74=\"\",\"\",INDEX(CUST!G:G,MATCH('All Bill Data Entry'!L74,CUST!B:B,0)))","v":""},"",null,null,null,null,null,null,{"$f":"IF($B74=\"\",\"\",INDEX(Values!H:H,MATCH('All Bill Data Entry'!$B74,Values!F:F,0)))","v":""},{"$f":"IF($D74=\"\",\"\",INDEX(CUST!N:N,MATCH('All Bill Data Entry'!L74&'All Bill Data Entry'!N74,CUST!BD:BD,0)))","v":""},{"$f":"IF($B74=\"\",\"\",INDEX(Values!I:I,MATCH('All Bill Data Entry'!$B74,Values!G:G,0)))","v":""},{"$f":"IF($B74=\"\",\"\",INDEX(Values!J:J,MATCH('All Bill Data Entry'!$B74,Values!G:G,0)))","v":""},{"$f":"IF(D74=\"\",\"\",IF(AND(LEN(J74)=10,LEFT(J74,3)=\"000\"),IF(INDEX(PO!AE:AE,MATCH(CONCATENATE('All Bill Data Entry'!J74,'All Bill Data Entry'!K74),PO!AC:AC,0))<>\"\",\"N\",\"N\"),\"N\"))","v":""}]
["",null,null,null,null,null,null,"",null,null,null,{"$f":"IF(J75=\"\",\"\",INDEX(CUST!BC:BC,MATCH(INDEX(PO!AD:AD,MATCH(CONCATENATE('All Bill Data Entry'!J75,'All Bill Data Entry'!K75),PO!AC:AC,0)),CUST!I:I,0)))","v":""},{"$f":"IF(L75=\"\",\"\",INDEX(CUST!G:G,MATCH('All Bill Data Entry'!L75,CUST!B:B,0)))","v":""},"",null,null,null,null,null,null,{"$f":"IF($B75=\"\",\"\",INDEX(Values!H:H,MATCH('All Bill Data Entry'!$B75,Values!F:F,0)))","v":""},{"$f":"IF($D75=\"\",\"\",INDEX(CUST!N:N,MATCH('All Bill Data Entry'!L75&'All Bill Data Entry'!N75,CUST!BD:BD,0)))","v":""},{"$f":"IF($B75=\"\",\"\",INDEX(Values!I:I,MATCH('All Bill Data Entry'!$B75,Values!G:G,0)))","v":""},{"$f":"IF($B75=\"\",\"\",INDEX(Values!J:J,MATCH('All Bill Data Entry'!$B75,Values!G:G,0)))","v":""},{"$f":"IF(D75=\"\",\"\",IF(AND(LEN(J75)=10,LEFT(J75,3)=\"000\"),IF(INDEX(PO!AE:AE,MATCH(CONCATENATE('All Bill Data Entry'!J75,'All Bill Data Entry'!K75),PO!AC:AC,0))<>\"\",\"N\",\"N\"),\"N\"))","v":""}]
["",null,null,null,null,null,null,"",null,null,null,{"$f":"IF(J76=\"\",\"\",INDEX(CUST!BC:BC,MATCH(INDEX(PO!AD:AD,MATCH(CONCATENATE('All Bill Data Entry'!J76,'All Bill Data Entry'!K76),PO!AC:AC,0)),CUST!I:I,0)))","v":""},{"$f":"IF(L76=\"\",\"\",INDEX(CUST!G:G,MATCH('All Bill Data Entry'!L76,CUST!B:B,0)))","v":""},"",null,null,null,null,null,null,{"$f":"IF($B76=\"\",\"\",INDEX(Values!H:H,MATCH('All Bill Data Entry'!$B76,Values!F:F,0)))","v":""},{"$f":"IF($D76=\"\",\"\",INDEX(CUST!N:N,MATCH('All Bill Data Entry'!L76&'All Bill Data Entry'!N76,CUST!BD:BD,0)))","v":""},{"$f":"IF($B76=\"\",\"\",INDEX(Values!I:I,MATCH('All Bill Data Entry'!$B76,Values!G:G,0)))","v":""},{"$f":"IF($B76=\"\",\"\",INDEX(Values!J:J,MATCH('All Bill Data Entry'!$B76,Values!G:G,0)))","v":""},{"$f":"IF(D76=\"\",\"\",IF(AND(LEN(J76)=10,LEFT(J76,3)=\"000\"),IF(INDEX(PO!AE:AE,MATCH(CONCATENATE('All Bill Data Entry'!J76,'All Bill Data Entry'!K76),PO!AC:AC,0))<>\"\",\"N\",\"N\"),\"N\"))","v":""}]
["",null,null,null,null,null,null,"",null,null,null,{"$f":"IF(J77=\"\",\"\",INDEX(CUST!BC:BC,MATCH(INDEX(PO!AD:AD,MATCH(CONCATENATE('All Bill Data Entry'!J77,'All Bill Data Entry'!K77),PO!AC:AC,0)),CUST!I:I,0)))","v":""},{"$f":"IF(L77=\"\",\"\",INDEX(CUST!G:G,MATCH('All Bill Data Entry'!L77,CUST!B:B,0)))","v":""},"",null,null,null,null,null,null,{"$f":"IF($B77=\"\",\"\",INDEX(Values!H:H,MATCH('All Bill Data Entry'!$B77,Values!F:F,0)))","v":""},{"$f":"IF($D77=\"\",\"\",INDEX(CUST!N:N,MATCH('All Bill Data Entry'!L77&'All Bill Data Entry'!N77,CUST!BD:BD,0)))","v":""},{"$f":"IF($B77=\"\",\"\",INDEX(Values!I:I,MATCH('All Bill Data Entry'!$B77,Values!G:G,0)))","v":""},{"$f":"IF($B77=\"\",\"\",INDEX(Values!J:J,MATCH('All Bill Data Entry'!$B77,Values!G:G,0)))","v":""},{"$f":"IF(D77=\"\",\"\",IF(AND(LEN(J77)=10,LEFT(J77,3)=\"000\"),IF(INDEX(PO!AE:AE,MATCH(CONCATENATE('All Bill Data Entry'!J77,'All Bill Data Entry'!K77),PO!AC:AC,0))<>\"\",\"N\",\"N\"),\"N\"))","v":""}]
["",null,null,null,null,null,null,"",null,null,null,{"$f":"IF(J78=\"\",\"\",INDEX(CUST!BC:BC,MATCH(INDEX(PO!AD:AD,MATCH(CONCATENATE('All Bill Data Entry'!J78,'All Bill Data Entry'!K78),PO!AC:AC,0)),CUST!I:I,0)))","v":""},{"$f":"IF(L78=\"\",\"\",INDEX(CUST!G:G,MATCH('All Bill Data Entry'!L78,CUST!B:B,0)))","v":""},"",null,null,null,null,null,null,{"$f":"IF($B78=\"\",\"\",INDEX(Values!H:H,MATCH('All Bill Data Entry'!$B78,Values!F:F,0)))","v":""},{"$f":"IF($D78=\"\",\"\",INDEX(CUST!N:N,MATCH('All Bill Data Entry'!L78&'All Bill Data Entry'!N78,CUST!BD:BD,0)))","v":""},{"$f":"IF($B78=\"\",\"\",INDEX(Values!I:I,MATCH('All Bill Data Entry'!$B78,Values!G:G,0)))","v":""},{"$f":"IF($B78=\"\",\"\",INDEX(Values!J:J,MATCH('All Bill Data Entry'!$B78,Values!G:G,0)))","v":""},{"$f":"IF(D78=\"\",\"\",IF(AND(LEN(J78)=10,LEFT(J78,3)=\"000\"),IF(INDEX(PO!AE:AE,MATCH(CONCATENATE('All Bill Data Entry'!J78,'All Bill Data Entry'!K78),PO!AC:AC,0))<>\"\",\"N\",\"N\"),\"N\"))","v":""}]
["",null,null,null,null,null,null,"",null,null,null,{"$f":"IF(J79=\"\",\"\",INDEX(CUST!BC:BC,MATCH(INDEX(PO!AD:AD,MATCH(CONCATENATE('All Bill Data Entry'!J79,'All Bill Data Entry'!K79),PO!AC:AC,0)),CUST!I:I,0)))","v":""},{"$f":"IF(L79=\"\",\"\",INDEX(CUST!G:G,MATCH('All Bill Data Entry'!L79,CUST!B:B,0)))","v":""},"",null,null,null,null,null,null,{"$f":"IF($B79=\"\",\"\",INDEX(Values!H:H,MATCH('All Bill Data Entry'!$B79,Values!F:F,0)))","v":""},{"$f":"IF($D79=\"\",\"\",INDEX(CUST!N:N,MATCH('All Bill Data Entry'!L79&'All Bill Data Entry'!N79,CUST!BD:BD,0)))","v":""},{"$f":"IF($B79=\"\",\"\",INDEX(Values!I:I,MATCH('All Bill Data Entry'!$B79,Values!G:G,0)))","v":""},{"$f":"IF($B79=\"\",\"\",INDEX(Values!J:J,MATCH('All Bill Data Entry'!$B79,Values!G:G,0)))","v":""},{"$f":"IF(D79=\"\",\"\",IF(AND(LEN(J79)=10,LEFT(J79,3)=\"000\"),IF(INDEX(PO!AE:AE,MATCH(CONCATENATE('All Bill Data Entry'!J79,'All Bill Data Entry'!K79),PO!AC:AC,0))<>\"\",\"N\",\"N\"),\"N\"))","v":""}]
["",null,null,null,null,null,null,"",null,null,null,{"$f":"IF(J80=\"\",\"\",INDEX(CUST!BC:BC,MATCH(INDEX(PO!AD:AD,MATCH(CONCATENATE('All Bill Data Entry'!J80,'All Bill Data Entry'!K80),PO!AC:AC,0)),CUST!I:I,0)))","v":""},{"$f":"IF(L80=\"\",\"\",INDEX(CUST!G:G,MATCH('All Bill Data Entry'!L80,CUST!B:B,0)))","v":""},"",null,null,null,null,null,null,{"$f":"IF($B80=\"\",\"\",INDEX(Values!H:H,MATCH('All Bill Data Entry'!$B80,Values!F:F,0)))","v":""},{"$f":"IF($D80=\"\",\"\",INDEX(CUST!N:N,MATCH('All Bill Data Entry'!L80&'All Bill Data Entry'!N80,CUST!BD:BD,0)))","v":""},{"$f":"IF($B80=\"\",\"\",INDEX(Values!I:I,MATCH('All Bill Data Entry'!$B80,Values!G:G,0)))","v":""},{"$f":"IF($B80=\"\",\"\",INDEX(Values!J:J,MATCH('All Bill Data Entry'!$B80,Values!G:G,0)))","v":""},{"$f":"IF(D80=\"\",\"\",IF(AND(LEN(J80)=10,LEFT(J80,3)=\"000\"),IF(INDEX(PO!AE:AE,MATCH(CONCATENATE('All Bill Data Entry'!J80,'All Bill Data Entry'!K80),PO!AC:AC,0))<>\"\",\"N\",\"N\"),\"N\"))","v":""}]
["",null,null,null,null,null,null,"",null,null,null,{"$f":"IF(J81=\"\",\"\",INDEX(CUST!BC:BC,MATCH(INDEX(PO!AD:AD,MATCH(CONCATENATE('All Bill Data Entry'!J81,'All Bill Data Entry'!K81),PO!AC:AC,0)),CUST!I:I,0)))","v":""},{"$f":"IF(L81=\"\",\"\",INDEX(CUST!G:G,MATCH('All Bill Data Entry'!L81,CUST!B:B,0)))","v":""},"",null,null,null,null,null,null,{"$f":"IF($B81=\"\",\"\",INDEX(Values!H:H,MATCH('All Bill Data Entry'!$B81,Values!F:F,0)))","v":""},{"$f":"IF($D81=\"\",\"\",INDEX(CUST!N:N,MATCH('All Bill Data Entry'!L81&'All Bill Data Entry'!N81,CUST!BD:BD,0)))","v":""},{"$f":"IF($B81=\"\",\"\",INDEX(Values!I:I,MATCH('All Bill Data Entry'!$B81,Values!G:G,0)))","v":""},{"$f":"IF($B81=\"\",\"\",INDEX(Values!J:J,MATCH('All Bill Data Entry'!$B81,Values!G:G,0)))","v":""},{"$f":"IF(D81=\"\",\"\",IF(AND(LEN(J81)=10,LEFT(J81,3)=\"000\"),IF(INDEX(PO!AE:AE,MATCH(CONCATENATE('All Bill Data Entry'!J81,'All Bill Data Entry'!K81),PO!AC:AC,0))<>\"\",\"N\",\"N\"),\"N\"))","v":""}]
["",null,null,null,null,null,null,"",null,null,null,{"$f":"IF(J82=\"\",\"\",INDEX(CUST!BC:BC,MATCH(INDEX(PO!AD:AD,MATCH(CONCATENATE('All Bill Data Entry'!J82,'All Bill Data Entry'!K82),PO!AC:AC,0)),CUST!I:I,0)))","v":""},{"$f":"IF(L82=\"\",\"\",INDEX(CUST!G:G,MATCH('All Bill Data Entry'!L82,CUST!B:B,0)))","v":""},"",null,null,null,null,null,null,{"$f":"IF($B82=\"\",\"\",INDEX(Values!H:H,MATCH('All Bill Data Entry'!$B82,Values!F:F,0)))","v":""},{"$f":"IF($D82=\"\",\"\",INDEX(CUST!N:N,MATCH('All Bill Data Entry'!L82&'All Bill Data Entry'!N82,CUST!BD:BD,0)))","v":""},{"$f":"IF($B82=\"\",\"\",INDEX(Values!I:I,MATCH('All Bill Data Entry'!$B82,Values!G:G,0)))","v":""},{"$f":"IF($B82=\"\",\"\",INDEX(Values!J:J,MATCH('All Bill Data Entry'!$B82,Values!G:G,0)))","v":""},{"$f":"IF(D82=\"\",\"\",IF(AND(LEN(J82)=10,LEFT(J82,3)=\"000\"),IF(INDEX(PO!AE:AE,MATCH(CONCATENATE('All Bill Data Entry'!J82,'All Bill Data Entry'!K82),PO!AC:AC,0))<>\"\",\"N\",\"N\"),\"N\"))","v":""}]
["",null,null,null,null,null,null,"",null,null,null,{"$f":"IF(J83=\"\",\"\",INDEX(CUST!BC:BC,MATCH(INDEX(PO!AD:AD,MATCH(CONCATENATE('All Bill Data Entry'!J83,'All Bill Data Entry'!K83),PO!AC:AC,0)),CUST!I:I,0)))","v":""},{"$f":"IF(L83=\"\",\"\",INDEX(CUST!G:G,MATCH('All Bill Data Entry'!L83,CUST!B:B,0)))","v":""},"",null,null,null,null,null,null,{"$f":"IF($B83=\"\",\"\",INDEX(Values!H:H,MATCH('All Bill Data Entry'!$B83,Values!F:F,0)))","v":""},{"$f":"IF($D83=\"\",\"\",INDEX(CUST!N:N,MATCH('All Bill Data Entry'!L83&'All Bill Data Entry'!N83,CUST!BD:BD,0)))","v":""},{"$f":"IF($B83=\"\",\"\",INDEX(Values!I:I,MATCH('All Bill Data Entry'!$B83,Values!G:G,0)))","v":""},{"$f":"IF($B83=\"\",\"\",INDEX(Values!J:J,MATCH('All Bill Data Entry'!$B83,Values!G:G,0)))","v":""},{"$f":"IF(D83=\"\",\"\",IF(AND(LEN(J83)=10,LEFT(J83,3)=\"000\"),IF(INDEX(PO!AE:AE,MATCH(CONCATENATE('All Bill Data Entry'!J83,'All Bill Data Entry'!K83),PO!AC:AC,0))<>\"\",\"N\",\"N\"),\"N\"))","v":""}]
["",null,null,null,null,null,null,"",null,null,null,{"$f":"IF(J84=\"\",\"\",INDEX(CUST!BC:BC,MATCH(INDEX(PO!AD:AD,MATCH(CONCATENATE('All Bill Data Entry'!J84,'All Bill Data Entry'!K84),PO!AC:AC,0)),CUST!I:I,0)))","v":""},{"$f":"IF(L84=\"\",\"\",INDEX(CUST!G:G,MATCH('All Bill Data Entry'!L84,CUST!B:B,0)))","v":""},"",null,null,null,null,null,null,{"$f":"IF($B84=\"\",\"\",INDEX(Values!H:H,MATCH('All Bill Data Entry'!$B84,Values!F:F,0)))","v":""},{"$f":"IF($D84=\"\",\"\",INDEX(CUST!N:N,MATCH('All Bill Data Entry'!L84&'All Bill Data Entry'!N84,CUST!BD:BD,0)))","v":""},{"$f":"IF($B84=\"\",\"\",INDEX(Values!I:I,MATCH('All Bill Data Entry'!$B84,Values!G:G,0)))","v":""},{"$f":"IF($B84=\"\",\"\",INDEX(Values!J:J,MATCH('All Bill Data Entry'!$B84,Values!G:G,0)))","v":""},{"$f":"IF(D84=\"\",\"\",IF(AND(LEN(J84)=10,LEFT(J84,3)=\"000\"),IF(INDEX(PO!AE:AE,MATCH(CONCATENATE('All Bill Data Entry'!J84,'All Bill Data Entry'!K84),PO!AC:AC,0))<>\"\",\"N\",\"N\"),\"N\"))","v":""}]
["",null,null,null,null,null,null,"",null,null,null,{"$f":"IF(J85=\"\",\"\",INDEX(CUST!BC:BC,MATCH(INDEX(PO!AD:AD,MATCH(CONCATENATE('All Bill Data Entry'!J85,'All Bill Data Entry'!K85),PO!AC:AC,0)),CUST!I:I,0)))","v":""},{"$f":"IF(L85=\"\",\"\",INDEX(CUST!G:G,MATCH('All Bill Data Entry'!L85,CUST!B:B,0)))","v":""},"",null,null,null,null,null,null,{"$f":"IF($B85=\"\",\"\",INDEX(Values!H:H,MATCH('All Bill Data Entry'!$B85,Values!F:F,0)))","v":""},{"$f":"IF($D85=\"\",\"\",INDEX(CUST!N:N,MATCH('All Bill Data Entry'!L85&'All Bill Data Entry'!N85,CUST!BD:BD,0)))","v":""},{"$f":"IF($B85=\"\",\"\",INDEX(Values!I:I,MATCH('All Bill Data Entry'!$B85,Values!G:G,0)))","v":""},{"$f":"IF($B85=\"\",\"\",INDEX(Values!J:J,MATCH('All Bill Data Entry'!$B85,Values!G:G,0)))","v":""},{"$f":"IF(D85=\"\",\"\",IF(AND(LEN(J85)=10,LEFT(J85,3)=\"000\"),IF(INDEX(PO!AE:AE,MATCH(CONCATENATE('All Bill Data Entry'!J85,'All Bill Data Entry'!K85),PO!AC:AC,0))<>\"\",\"N\",\"N\"),\"N\"))","v":""}]
["",null,null,null,null,null,null,"",null,null,null,{"$f":"IF(J86=\"\",\"\",INDEX(CUST!BC:BC,MATCH(INDEX(PO!AD:AD,MATCH(CONCATENATE('All Bill Data Entry'!J86,'All Bill Data Entry'!K86),PO!AC:AC,0)),CUST!I:I,0)))","v":""},{"$f":"IF(L86=\"\",\"\",INDEX(CUST!G:G,MATCH('All Bill Data Entry'!L86,CUST!B:B,0)))","v":""},"",null,null,null,null,null,null,{"$f":"IF($B86=\"\",\"\",INDEX(Values!H:H,MATCH('All Bill Data Entry'!$B86,Values!F:F,0)))","v":""},{"$f":"IF($D86=\"\",\"\",INDEX(CUST!N:N,MATCH('All Bill Data Entry'!L86&'All Bill Data Entry'!N86,CUST!BD:BD,0)))","v":""},{"$f":"IF($B86=\"\",\"\",INDEX(Values!I:I,MATCH('All Bill Data Entry'!$B86,Values!G:G,0)))","v":""},{"$f":"IF($B86=\"\",\"\",INDEX(Values!J:J,MATCH('All Bill Data Entry'!$B86,Values!G:G,0)))","v":""},{"$f":"IF(D86=\"\",\"\",IF(AND(LEN(J86)=10,LEFT(J86,3)=\"000\"),IF(INDEX(PO!AE:AE,MATCH(CONCATENATE('All Bill Data Entry'!J86,'All Bill Data Entry'!K86),PO!AC:AC,0))<>\"\",\"N\",\"N\"),\"N\"))","v":""}]
["",null,null,null,null,null,null,"",null,null,null,{"$f":"IF(J87=\"\",\"\",INDEX(CUST!BC:BC,MATCH(INDEX(PO!AD:AD,MATCH(CONCATENATE('All Bill Data Entry'!J87,'All Bill Data Entry'!K87),PO!AC:AC,0)),CUST!I:I,0)))","v":""},{"$f":"IF(L87=\"\",\"\",INDEX(CUST!G:G,MATCH('All Bill Data Entry'!L87,CUST!B:B,0)))","v":""},"",null,null,null,null,null,null,{"$f":"IF($B87=\"\",\"\",INDEX(Values!H:H,MATCH('All Bill Data Entry'!$B87,Values!F:F,0)))","v":""},{"$f":"IF($D87=\"\",\"\",INDEX(CUST!N:N,MATCH('All Bill Data Entry'!L87&'All Bill Data Entry'!N87,CUST!BD:BD,0)))","v":""},{"$f":"IF($B87=\"\",\"\",INDEX(Values!I:I,MATCH('All Bill Data Entry'!$B87,Values!G:G,0)))","v":""},{"$f":"IF($B87=\"\",\"\",INDEX(Values!J:J,MATCH('All Bill Data Entry'!$B87,Values!G:G,0)))","v":""},{"$f":"IF(D87=\"\",\"\",IF(AND(LEN(J87)=10,LEFT(J87,3)=\"000\"),IF(INDEX(PO!AE:AE,MATCH(CONCATENATE('All Bill Data Entry'!J87,'All Bill Data Entry'!K87),PO!AC:AC,0))<>\"\",\"N\",\"N\"),\"N\"))","v":""}]
["",null,null,null,null,null,null,"",null,null,null,{"$f":"IF(J88=\"\",\"\",INDEX(CUST!BC:BC,MATCH(INDEX(PO!AD:AD,MATCH(CONCATENATE('All Bill Data Entry'!J88,'All Bill Data Entry'!K88),PO!AC:AC,0)),CUST!I:I,0)))","v":""},{"$f":"IF(L88=\"\",\"\",INDEX(CUST!G:G,MATCH('All Bill Data Entry'!L88,CUST!B:B,0)))","v":""},"",null,null,null,null,null,null,{"$f":"IF($B88=\"\",\"\",INDEX(Values!H:H,MATCH('All Bill Data Entry'!$B88,Values!F:F,0)))","v":""},{"$f":"IF($D88=\"\",\"\",INDEX(CUST!N:N,MATCH('All Bill Data Entry'!L88&'All Bill Data Entry'!N88,CUST!BD:BD,0)))","v":""},{"$f":"IF($B88=\"\",\"\",INDEX(Values!I:I,MATCH('All Bill Data Entry'!$B88,Values!G:G,0)))","v":""},{"$f":"IF($B88=\"\",\"\",INDEX(Values!J:J,MATCH('All Bill Data Entry'!$B88,Values!G:G,0)))","v":""},{"$f":"IF(D88=\"\",\"\",IF(AND(LEN(J88)=10,LEFT(J88,3)=\"000\"),IF(INDEX(PO!AE:AE,MATCH(CONCATENATE('All Bill Data Entry'!J88,'All Bill Data Entry'!K88),PO!AC:AC,0))<>\"\",\"N\",\"N\"),\"N\"))","v":""}]
["",null,null,null,null,null,null,"",null,null,null,{"$f":"IF(J89=\"\",\"\",INDEX(CUST!BC:BC,MATCH(INDEX(PO!AD:AD,MATCH(CONCATENATE('All Bill Data Entry'!J89,'All Bill Data Entry'!K89),PO!AC:AC,0)),CUST!I:I,0)))","v":""},{"$f":"IF(L89=\"\",\"\",INDEX(CUST!G:G,MATCH('All Bill Data Entry'!L89,CUST!B:B,0)))","v":""},"",null,null,null,null,null,null,{"$f":"IF($B89=\"\",\"\",INDEX(Values!H:H,MATCH('All Bill Data Entry'!$B89,Values!F:F,0)))","v":""},{"$f":"IF($D89=\"\",\"\",INDEX(CUST!N:N,MATCH('All Bill Data Entry'!L89&'All Bill Data Entry'!N89,CUST!BD:BD,0)))","v":""},{"$f":"IF($B89=\"\",\"\",INDEX(Values!I:I,MATCH('All Bill Data Entry'!$B89,Values!G:G,0)))","v":""},{"$f":"IF($B89=\"\",\"\",INDEX(Values!J:J,MATCH('All Bill Data Entry'!$B89,Values!G:G,0)))","v":""},{"$f":"IF(D89=\"\",\"\",IF(AND(LEN(J89)=10,LEFT(J89,3)=\"000\"),IF(INDEX(PO!AE:AE,MATCH(CONCATENATE('All Bill Data Entry'!J89,'All Bill Data Entry'!K89),PO!AC:AC,0))<>\"\",\"N\",\"N\"),\"N\"))","v":""}]
["",null,null,null,null,null,null,"",null,null,null,{"$f":"IF(J90=\"\",\"\",INDEX(CUST!BC:BC,MATCH(INDEX(PO!AD:AD,MATCH(CONCATENATE('All Bill Data Entry'!J90,'All Bill Data Entry'!K90),PO!AC:AC,0)),CUST!I:I,0)))","v":""},{"$f":"IF(L90=\"\",\"\",INDEX(CUST!G:G,MATCH('All Bill Data Entry'!L90,CUST!B:B,0)))","v":""},"",null,null,null,null,null,null,{"$f":"IF($B90=\"\",\"\",INDEX(Values!H:H,MATCH('All Bill Data Entry'!$B90,Values!F:F,0)))","v":""},{"$f":"IF($D90=\"\",\"\",INDEX(CUST!N:N,MATCH('All Bill Data Entry'!L90&'All Bill Data Entry'!N90,CUST!BD:BD,0)))","v":""},{"$f":"IF($B90=\"\",\"\",INDEX(Values!I:I,MATCH('All Bill Data Entry'!$B90,Values!G:G,0)))","v":""},{"$f":"IF($B90=\"\",\"\",INDEX(Values!J:J,MATCH('All Bill Data Entry'!$B90,Values!G:G,0)))","v":""},{"$f":"IF(D90=\"\",\"\",IF(AND(LEN(J90)=10,LEFT(J90,3)=\"000\"),IF(INDEX(PO!AE:AE,MATCH(CONCATENATE('All Bill Data Entry'!J90,'All Bill Data Entry'!K90),PO!AC:AC,0))<>\"\",\"N\",\"N\"),\"N\"))","v":""}]
["",null,null,null,null,null,null,"",null,null,null,{"$f":"IF(J91=\"\",\"\",INDEX(CUST!BC:BC,MATCH(INDEX(PO!AD:AD,MATCH(CONCATENATE('All Bill Data Entry'!J91,'All Bill Data Entry'!K91),PO!AC:AC,0)),CUST!I:I,0)))","v":""},{"$f":"IF(L91=\"\",\"\",INDEX(CUST!G:G,MATCH('All Bill Data Entry'!L91,CUST!B:B,0)))","v":""},"",null,null,null,null,null,null,{"$f":"IF($B91=\"\",\"\",INDEX(Values!H:H,MATCH('All Bill Data Entry'!$B91,Values!F:F,0)))","v":""},{"$f":"IF($D91=\"\",\"\",INDEX(CUST!N:N,MATCH('All Bill Data Entry'!L91&'All Bill Data Entry'!N91,CUST!BD:BD,0)))","v":""},{"$f":"IF($B91=\"\",\"\",INDEX(Values!I:I,MATCH('All Bill Data Entry'!$B91,Values!G:G,0)))","v":""},{"$f":"IF($B91=\"\",\"\",INDEX(Values!J:J,MATCH('All Bill Data Entry'!$B91,Values!G:G,0)))","v":""},{"$f":"IF(D91=\"\",\"\",IF(AND(LEN(J91)=10,LEFT(J91,3)=\"000\"),IF(INDEX(PO!AE:AE,MATCH(CONCATENATE('All Bill Data Entry'!J91,'All Bill Data Entry'!K91),PO!AC:AC,0))<>\"\",\"N\",\"N\"),\"N\"))","v":""}]
["",null,null,null,null,null,null,"",null,null,null,{"$f":"IF(J92=\"\",\"\",INDEX(CUST!BC:BC,MATCH(INDEX(PO!AD:AD,MATCH(CONCATENATE('All Bill Data Entry'!J92,'All Bill Data Entry'!K92),PO!AC:AC,0)),CUST!I:I,0)))","v":""},{"$f":"IF(L92=\"\",\"\",INDEX(CUST!G:G,MATCH('All Bill Data Entry'!L92,CUST!B:B,0)))","v":""},"",null,null,null,null,null,null,{"$f":"IF($B92=\"\",\"\",INDEX(Values!H:H,MATCH('All Bill Data Entry'!$B92,Values!F:F,0)))","v":""},{"$f":"IF($D92=\"\",\"\",INDEX(CUST!N:N,MATCH('All Bill Data Entry'!L92&'All Bill Data Entry'!N92,CUST!BD:BD,0)))","v":""},{"$f":"IF($B92=\"\",\"\",INDEX(Values!I:I,MATCH('All Bill Data Entry'!$B92,Values!G:G,0)))","v":""},{"$f":"IF($B92=\"\",\"\",INDEX(Values!J:J,MATCH('All Bill Data Entry'!$B92,Values!G:G,0)))","v":""},{"$f":"IF(D92=\"\",\"\",IF(AND(LEN(J92)=10,LEFT(J92,3)=\"000\"),IF(INDEX(PO!AE:AE,MATCH(CONCATENATE('All Bill Data Entry'!J92,'All Bill Data Entry'!K92),PO!AC:AC,0))<>\"\",\"N\",\"N\"),\"N\"))","v":""}]
["",null,null,null,null,null,null,"",null,null,null,{"$f":"IF(J93=\"\",\"\",INDEX(CUST!BC:BC,MATCH(INDEX(PO!AD:AD,MATCH(CONCATENATE('All Bill Data Entry'!J93,'All Bill Data Entry'!K93),PO!AC:AC,0)),CUST!I:I,0)))","v":""},{"$f":"IF(L93=\"\",\"\",INDEX(CUST!G:G,MATCH('All Bill Data Entry'!L93,CUST!B:B,0)))","v":""},"",null,null,null,null,null,null,{"$f":"IF($B93=\"\",\"\",INDEX(Values!H:H,MATCH('All Bill Data Entry'!$B93,Values!F:F,0)))","v":""},{"$f":"IF($D93=\"\",\"\",INDEX(CUST!N:N,MATCH('All Bill Data Entry'!L93&'All Bill Data Entry'!N93,CUST!BD:BD,0)))","v":""},{"$f":"IF($B93=\"\",\"\",INDEX(Values!I:I,MATCH('All Bill Data Entry'!$B93,Values!G:G,0)))","v":""},{"$f":"IF($B93=\"\",\"\",INDEX(Values!J:J,MATCH('All Bill Data Entry'!$B93,Values!G:G,0)))","v":""},{"$f":"IF(D93=\"\",\"\",IF(AND(LEN(J93)=10,LEFT(J93,3)=\"000\"),IF(INDEX(PO!AE:AE,MATCH(CONCATENATE('All Bill Data Entry'!J93,'All Bill Data Entry'!K93),PO!AC:AC,0))<>\"\",\"N\",\"N\"),\"N\"))","v":""}]
["",null,null,null,null,null,null,"",null,null,null,{"$f":"IF(J94=\"\",\"\",INDEX(CUST!BC:BC,MATCH(INDEX(PO!AD:AD,MATCH(CONCATENATE('All Bill Data Entry'!J94,'All Bill Data Entry'!K94),PO!AC:AC,0)),CUST!I:I,0)))","v":""},{"$f":"IF(L94=\"\",\"\",INDEX(CUST!G:G,MATCH('All Bill Data Entry'!L94,CUST!B:B,0)))","v":""},"",null,null,null,null,null,null,{"$f":"IF($B94=\"\",\"\",INDEX(Values!H:H,MATCH('All Bill Data Entry'!$B94,Values!F:F,0)))","v":""},{"$f":"IF($D94=\"\",\"\",INDEX(CUST!N:N,MATCH('All Bill Data Entry'!L94&'All Bill Data Entry'!N94,CUST!BD:BD,0)))","v":""},{"$f":"IF($B94=\"\",\"\",INDEX(Values!I:I,MATCH('All Bill Data Entry'!$B94,Values!G:G,0)))","v":""},{"$f":"IF($B94=\"\",\"\",INDEX(Values!J:J,MATCH('All Bill Data Entry'!$B94,Values!G:G,0)))","v":""},{"$f":"IF(D94=\"\",\"\",IF(AND(LEN(J94)=10,LEFT(J94,3)=\"000\"),IF(INDEX(PO!AE:AE,MATCH(CONCATENATE('All Bill Data Entry'!J94,'All Bill Data Entry'!K94),PO!AC:AC,0))<>\"\",\"N\",\"N\"),\"N\"))","v":""}]
["",null,null,null,null,null,null,"",null,null,null,{"$f":"IF(J95=\"\",\"\",INDEX(CUST!BC:BC,MATCH(INDEX(PO!AD:AD,MATCH(CONCATENATE('All Bill Data Entry'!J95,'All Bill Data Entry'!K95),PO!AC:AC,0)),CUST!I:I,0)))","v":""},{"$f":"IF(L95=\"\",\"\",INDEX(CUST!G:G,MATCH('All Bill Data Entry'!L95,CUST!B:B,0)))","v":""},"",null,null,null,null,null,null,{"$f":"IF($B95=\"\",\"\",INDEX(Values!H:H,MATCH('All Bill Data Entry'!$B95,Values!F:F,0)))","v":""},{"$f":"IF($D95=\"\",\"\",INDEX(CUST!N:N,MATCH('All Bill Data Entry'!L95&'All Bill Data Entry'!N95,CUST!BD:BD,0)))","v":""},{"$f":"IF($B95=\"\",\"\",INDEX(Values!I:I,MATCH('All Bill Data Entry'!$B95,Values!G:G,0)))","v":""},{"$f":"IF($B95=\"\",\"\",INDEX(Values!J:J,MATCH('All Bill Data Entry'!$B95,Values!G:G,0)))","v":""},{"$f":"IF(D95=\"\",\"\",IF(AND(LEN(J95)=10,LEFT(J95,3)=\"000\"),IF(INDEX(PO!AE:AE,MATCH(CONCATENATE('All Bill Data Entry'!J95,'All Bill Data Entry'!K95),PO!AC:AC,0))<>\"\",\"N\",\"N\"),\"N\"))","v":""}]
["",null,null,null,null,null,null,"",null,null,null,{"$f":"IF(J96=\"\",\"\",INDEX(CUST!BC:BC,MATCH(INDEX(PO!AD:AD,MATCH(CONCATENATE('All Bill Data Entry'!J96,'All Bill Data Entry'!K96),PO!AC:AC,0)),CUST!I:I,0)))","v":""},{"$f":"IF(L96=\"\",\"\",INDEX(CUST!G:G,MATCH('All Bill Data Entry'!L96,CUST!B:B,0)))","v":""},"",null,null,null,null,null,null,{"$f":"IF($B96=\"\",\"\",INDEX(Values!H:H,MATCH('All Bill Data Entry'!$B96,Values!F:F,0)))","v":""},{"$f":"IF($D96=\"\",\"\",INDEX(CUST!N:N,MATCH('All Bill Data Entry'!L96&'All Bill Data Entry'!N96,CUST!BD:BD,0)))","v":""},{"$f":"IF($B96=\"\",\"\",INDEX(Values!I:I,MATCH('All Bill Data Entry'!$B96,Values!G:G,0)))","v":""},{"$f":"IF($B96=\"\",\"\",INDEX(Values!J:J,MATCH('All Bill Data Entry'!$B96,Values!G:G,0)))","v":""},{"$f":"IF(D96=\"\",\"\",IF(AND(LEN(J96)=10,LEFT(J96,3)=\"000\"),IF(INDEX(PO!AE:AE,MATCH(CONCATENATE('All Bill Data Entry'!J96,'All Bill Data Entry'!K96),PO!AC:AC,0))<>\"\",\"N\",\"N\"),\"N\"))","v":""}]
["",null,null,null,null,null,null,"",null,null,null,{"$f":"IF(J97=\"\",\"\",INDEX(CUST!BC:BC,MATCH(INDEX(PO!AD:AD,MATCH(CONCATENATE('All Bill Data Entry'!J97,'All Bill Data Entry'!K97),PO!AC:AC,0)),CUST!I:I,0)))","v":""},{"$f":"IF(L97=\"\",\"\",INDEX(CUST!G:G,MATCH('All Bill Data Entry'!L97,CUST!B:B,0)))","v":""},"",null,null,null,null,null,null,{"$f":"IF($B97=\"\",\"\",INDEX(Values!H:H,MATCH('All Bill Data Entry'!$B97,Values!F:F,0)))","v":""},{"$f":"IF($D97=\"\",\"\",INDEX(CUST!N:N,MATCH('All Bill Data Entry'!L97&'All Bill Data Entry'!N97,CUST!BD:BD,0)))","v":""},{"$f":"IF($B97=\"\",\"\",INDEX(Values!I:I,MATCH('All Bill Data Entry'!$B97,Values!G:G,0)))","v":""},{"$f":"IF($B97=\"\",\"\",INDEX(Values!J:J,MATCH('All Bill Data Entry'!$B97,Values!G:G,0)))","v":""},{"$f":"IF(D97=\"\",\"\",IF(AND(LEN(J97)=10,LEFT(J97,3)=\"000\"),IF(INDEX(PO!AE:AE,MATCH(CONCATENATE('All Bill Data Entry'!J97,'All Bill Data Entry'!K97),PO!AC:AC,0))<>\"\",\"N\",\"N\"),\"N\"))","v":""}]
["",null,null,null,null,null,null,"",null,null,null,{"$f":"IF(J98=\"\",\"\",INDEX(CUST!BC:BC,MATCH(INDEX(PO!AD:AD,MATCH(CONCATENATE('All Bill Data Entry'!J98,'All Bill Data Entry'!K98),PO!AC:AC,0)),CUST!I:I,0)))","v":""},{"$f":"IF(L98=\"\",\"\",INDEX(CUST!G:G,MATCH('All Bill Data Entry'!L98,CUST!B:B,0)))","v":""},"",null,null,null,null,null,null,{"$f":"IF($B98=\"\",\"\",INDEX(Values!H:H,MATCH('All Bill Data Entry'!$B98,Values!F:F,0)))","v":""},{"$f":"IF($D98=\"\",\"\",INDEX(CUST!N:N,MATCH('All Bill Data Entry'!L98&'All Bill Data Entry'!N98,CUST!BD:BD,0)))","v":""},{"$f":"IF($B98=\"\",\"\",INDEX(Values!I:I,MATCH('All Bill Data Entry'!$B98,Values!G:G,0)))","v":""},{"$f":"IF($B98=\"\",\"\",INDEX(Values!J:J,MATCH('All Bill Data Entry'!$B98,Values!G:G,0)))","v":""},{"$f":"IF(D98=\"\",\"\",IF(AND(LEN(J98)=10,LEFT(J98,3)=\"000\"),IF(INDEX(PO!AE:AE,MATCH(CONCATENATE('All Bill Data Entry'!J98,'All Bill Data Entry'!K98),PO!AC:AC,0))<>\"\",\"N\",\"N\"),\"N\"))","v":""}]
["",null,null,null,null,null,null,"",null,null,null,{"$f":"IF(J99=\"\",\"\",INDEX(CUST!BC:BC,MATCH(INDEX(PO!AD:AD,MATCH(CONCATENATE('All Bill Data Entry'!J99,'All Bill Data Entry'!K99),PO!AC:AC,0)),CUST!I:I,0)))","v":""},{"$f":"IF(L99=\"\",\"\",INDEX(CUST!G:G,MATCH('All Bill Data Entry'!L99,CUST!B:B,0)))","v":""},"",null,null,null,null,null,null,{"$f":"IF($B99=\"\",\"\",INDEX(Values!H:H,MATCH('All Bill Data Entry'!$B99,Values!F:F,0)))","v":""},{"$f":"IF($D99=\"\",\"\",INDEX(CUST!N:N,MATCH('All Bill Data Entry'!L99&'All Bill Data Entry'!N99,CUST!BD:BD,0)))","v":""},{"$f":"IF($B99=\"\",\"\",INDEX(Values!I:I,MATCH('All Bill Data Entry'!$B99,Values!G:G,0)))","v":""},{"$f":"IF($B99=\"\",\"\",INDEX(Values!J:J,MATCH('All Bill Data Entry'!$B99,Values!G:G,0)))","v":""},{"$f":"IF(D99=\"\",\"\",IF(AND(LEN(J99)=10,LEFT(J99,3)=\"000\"),IF(INDEX(PO!AE:AE,MATCH(CONCATENATE('All Bill Data Entry'!J99,'All Bill Data Entry'!K99),PO!AC:AC,0))<>\"\",\"N\",\"N\"),\"N\"))","v":""}]
["",null,null,null,null,null,null,"",null,null,null,{"$f":"IF(J100=\"\",\"\",INDEX(CUST!BC:BC,MATCH(INDEX(PO!AD:AD,MATCH(CONCATENATE('All Bill Data Entry'!J100,'All Bill Data Entry'!K100),PO!AC:AC,0)),CUST!I:I,0)))","v":""},{"$f":"IF(L100=\"\",\"\",INDEX(CUST!G:G,MATCH('All Bill Data Entry'!L100,CUST!B:B,0)))","v":""},"",null,null,null,null,null,null,{"$f":"IF($B100=\"\",\"\",INDEX(Values!H:H,MATCH('All Bill Data Entry'!$B100,Values!F:F,0)))","v":""},{"$f":"IF($D100=\"\",\"\",INDEX(CUST!N:N,MATCH('All Bill Data Entry'!L100&'All Bill Data Entry'!N100,CUST!BD:BD,0)))","v":""},{"$f":"IF($B100=\"\",\"\",INDEX(Values!I:I,MATCH('All Bill Data Entry'!$B100,Values!G:G,0)))","v":""},{"$f":"IF($B100=\"\",\"\",INDEX(Values!J:J,MATCH('All Bill Data Entry'!$B100,Values!G:G,0)))","v":""},{"$f":"IF(D100=\"\",\"\",IF(AND(LEN(J100)=10,LEFT(J100,3)=\"000\"),IF(INDEX(PO!AE:AE,MATCH(CONCATENATE('All Bill Data Entry'!J100,'All Bill Data Entry'!K100),PO!AC:AC,0))<>\"\",\"N\",\"N\"),\"N\"))","v":""}]
["",null,null,null,null,null,null,"",null,null,null,{"$f":"IF(J101=\"\",\"\",INDEX(CUST!BC:BC,MATCH(INDEX(PO!AD:AD,MATCH(CONCATENATE('All Bill Data Entry'!J101,'All Bill Data Entry'!K101),PO!AC:AC,0)),CUST!I:I,0)))","v":""},{"$f":"IF(L101=\"\",\"\",INDEX(CUST!G:G,MATCH('All Bill Data Entry'!L101,CUST!B:B,0)))","v":""},"",null,null,null,null,null,null,{"$f":"IF($B101=\"\",\"\",INDEX(Values!H:H,MATCH('All Bill Data Entry'!$B101,Values!F:F,0)))","v":""},{"$f":"IF($D101=\"\",\"\",INDEX(CUST!N:N,MATCH('All Bill Data Entry'!L101&'All Bill Data Entry'!N101,CUST!BD:BD,0)))","v":""},{"$f":"IF($B101=\"\",\"\",INDEX(Values!I:I,MATCH('All Bill Data Entry'!$B101,Values!G:G,0)))","v":""},{"$f":"IF($B101=\"\",\"\",INDEX(Values!J:J,MATCH('All Bill Data Entry'!$B101,Values!G:G,0)))","v":""},{"$f":"IF(D101=\"\",\"\",IF(AND(LEN(J101)=10,LEFT(J101,3)=\"000\"),IF(INDEX(PO!AE:AE,MATCH(CONCATENATE('All Bill Data Entry'!J101,'All Bill Data Entry'!K101),PO!AC:AC,0))<>\"\",\"N\",\"N\"),\"N\"))","v":""}]
["",null,null,null,null,null,null,"",null,null,null,{"$f":"IF(J102=\"\",\"\",INDEX(CUST!BC:BC,MATCH(INDEX(PO!AD:AD,MATCH(CONCATENATE('All Bill Data Entry'!J102,'All Bill Data Entry'!K102),PO!AC:AC,0)),CUST!I:I,0)))","v":""},{"$f":"IF(L102=\"\",\"\",INDEX(CUST!G:G,MATCH('All Bill Data Entry'!L102,CUST!B:B,0)))","v":""},"",null,null,null,null,null,null,{"$f":"IF($B102=\"\",\"\",INDEX(Values!H:H,MATCH('All Bill Data Entry'!$B102,Values!F:F,0)))","v":""},{"$f":"IF($D102=\"\",\"\",INDEX(CUST!N:N,MATCH('All Bill Data Entry'!L102&'All Bill Data Entry'!N102,CUST!BD:BD,0)))","v":""},{"$f":"IF($B102=\"\",\"\",INDEX(Values!I:I,MATCH('All Bill Data Entry'!$B102,Values!G:G,0)))","v":""},{"$f":"IF($B102=\"\",\"\",INDEX(Values!J:J,MATCH('All Bill Data Entry'!$B102,Values!G:G,0)))","v":""},{"$f":"IF(D102=\"\",\"\",IF(AND(LEN(J102)=10,LEFT(J102,3)=\"000\"),IF(INDEX(PO!AE:AE,MATCH(CONCATENATE('All Bill Data Entry'!J102,'All Bill Data Entry'!K102),PO!AC:AC,0))<>\"\",\"N\",\"N\"),\"N\"))","v":""}]
["",null,null,null,null,null,null,"",null,null,null,{"$f":"IF(J103=\"\",\"\",INDEX(CUST!BC:BC,MATCH(INDEX(PO!AD:AD,MATCH(CONCATENATE('All Bill Data Entry'!J103,'All Bill Data Entry'!K103),PO!AC:AC,0)),CUST!I:I,0)))","v":""},{"$f":"IF(L103=\"\",\"\",INDEX(CUST!G:G,MATCH('All Bill Data Entry'!L103,CUST!B:B,0)))","v":""},"",null,null,null,null,null,null,{"$f":"IF($B103=\"\",\"\",INDEX(Values!H:H,MATCH('All Bill Data Entry'!$B103,Values!F:F,0)))","v":""},{"$f":"IF($D103=\"\",\"\",INDEX(CUST!N:N,MATCH('All Bill Data Entry'!L103&'All Bill Data Entry'!N103,CUST!BD:BD,0)))","v":""},{"$f":"IF($B103=\"\",\"\",INDEX(Values!I:I,MATCH('All Bill Data Entry'!$B103,Values!G:G,0)))","v":""},{"$f":"IF($B103=\"\",\"\",INDEX(Values!J:J,MATCH('All Bill Data Entry'!$B103,Values!G:G,0)))","v":""},{"$f":"IF(D103=\"\",\"\",IF(AND(LEN(J103)=10,LEFT(J103,3)=\"000\"),IF(INDEX(PO!AE:AE,MATCH(CONCATENATE('All Bill Data Entry'!J103,'All Bill Data Entry'!K103),PO!AC:AC,0))<>\"\",\"N\",\"N\"),\"N\"))","v":""}]
["",null,null,null,null,null,null,"",null,null,null,{"$f":"IF(J104=\"\",\"\",INDEX(CUST!BC:BC,MATCH(INDEX(PO!AD:AD,MATCH(CONCATENATE('All Bill Data Entry'!J104,'All Bill Data Entry'!K104),PO!AC:AC,0)),CUST!I:I,0)))","v":""},{"$f":"IF(L104=\"\",\"\",INDEX(CUST!G:G,MATCH('All Bill Data Entry'!L104,CUST!B:B,0)))","v":""},"",null,null,null,null,null,null,{"$f":"IF($B104=\"\",\"\",INDEX(Values!H:H,MATCH('All Bill Data Entry'!$B104,Values!F:F,0)))","v":""},{"$f":"IF($D104=\"\",\"\",INDEX(CUST!N:N,MATCH('All Bill Data Entry'!L104&'All Bill Data Entry'!N104,CUST!BD:BD,0)))","v":""},{"$f":"IF($B104=\"\",\"\",INDEX(Values!I:I,MATCH('All Bill Data Entry'!$B104,Values!G:G,0)))","v":""},{"$f":"IF($B104=\"\",\"\",INDEX(Values!J:J,MATCH('All Bill Data Entry'!$B104,Values!G:G,0)))","v":""},{"$f":"IF(D104=\"\",\"\",IF(AND(LEN(J104)=10,LEFT(J104,3)=\"000\"),IF(INDEX(PO!AE:AE,MATCH(CONCATENATE('All Bill Data Entry'!J104,'All Bill Data Entry'!K104),PO!AC:AC,0))<>\"\",\"N\",\"N\"),\"N\"))","v":""}]
["",null,null,null,null,null,null,"",null,null,null,{"$f":"IF(J105=\"\",\"\",INDEX(CUST!BC:BC,MATCH(INDEX(PO!AD:AD,MATCH(CONCATENATE('All Bill Data Entry'!J105,'All Bill Data Entry'!K105),PO!AC:AC,0)),CUST!I:I,0)))","v":""},{"$f":"IF(L105=\"\",\"\",INDEX(CUST!G:G,MATCH('All Bill Data Entry'!L105,CUST!B:B,0)))","v":""},"",null,null,null,null,null,null,{"$f":"IF($B105=\"\",\"\",INDEX(Values!H:H,MATCH('All Bill Data Entry'!$B105,Values!F:F,0)))","v":""},{"$f":"IF($D105=\"\",\"\",INDEX(CUST!N:N,MATCH('All Bill Data Entry'!L105&'All Bill Data Entry'!N105,CUST!BD:BD,0)))","v":""},{"$f":"IF($B105=\"\",\"\",INDEX(Values!I:I,MATCH('All Bill Data Entry'!$B105,Values!G:G,0)))","v":""},{"$f":"IF($B105=\"\",\"\",INDEX(Values!J:J,MATCH('All Bill Data Entry'!$B105,Values!G:G,0)))","v":""},{"$f":"IF(D105=\"\",\"\",IF(AND(LEN(J105)=10,LEFT(J105,3)=\"000\"),IF(INDEX(PO!AE:AE,MATCH(CONCATENATE('All Bill Data Entry'!J105,'All Bill Data Entry'!K105),PO!AC:AC,0))<>\"\",\"N\",\"N\"),\"N\"))","v":""}]
["",null,null,null,null,null,null,"",null,null,null,{"$f":"IF(J106=\"\",\"\",INDEX(CUST!BC:BC,MATCH(INDEX(PO!AD:AD,MATCH(CONCATENATE('All Bill Data Entry'!J106,'All Bill Data Entry'!K106),PO!AC:AC,0)),CUST!I:I,0)))","v":""},{"$f":"IF(L106=\"\",\"\",INDEX(CUST!G:G,MATCH('All Bill Data Entry'!L106,CUST!B:B,0)))","v":""},"",null,null,null,null,null,null,{"$f":"IF($B106=\"\",\"\",INDEX(Values!H:H,MATCH('All Bill Data Entry'!$B106,Values!F:F,0)))","v":""},{"$f":"IF($D106=\"\",\"\",INDEX(CUST!N:N,MATCH('All Bill Data Entry'!L106&'All Bill Data Entry'!N106,CUST!BD:BD,0)))","v":""},{"$f":"IF($B106=\"\",\"\",INDEX(Values!I:I,MATCH('All Bill Data Entry'!$B106,Values!G:G,0)))","v":""},{"$f":"IF($B106=\"\",\"\",INDEX(Values!J:J,MATCH('All Bill Data Entry'!$B106,Values!G:G,0)))","v":""},{"$f":"IF(D106=\"\",\"\",IF(AND(LEN(J106)=10,LEFT(J106,3)=\"000\"),IF(INDEX(PO!AE:AE,MATCH(CONCATENATE('All Bill Data Entry'!J106,'All Bill Data Entry'!K106),PO!AC:AC,0))<>\"\",\"N\",\"N\"),\"N\"))","v":""}]
["",null,null,null,null,null,null,"",null,null,null,{"$f":"IF(J107=\"\",\"\",INDEX(CUST!BC:BC,MATCH(INDEX(PO!AD:AD,MATCH(CONCATENATE('All Bill Data Entry'!J107,'All Bill Data Entry'!K107),PO!AC:AC,0)),CUST!I:I,0)))","v":""},{"$f":"IF(L107=\"\",\"\",INDEX(CUST!G:G,MATCH('All Bill Data Entry'!L107,CUST!B:B,0)))","v":""},"",null,null,null,null,null,null,{"$f":"IF($B107=\"\",\"\",INDEX(Values!H:H,MATCH('All Bill Data Entry'!$B107,Values!F:F,0)))","v":""},{"$f":"IF($D107=\"\",\"\",INDEX(CUST!N:N,MATCH('All Bill Data Entry'!L107&'All Bill Data Entry'!N107,CUST!BD:BD,0)))","v":""},{"$f":"IF($B107=\"\",\"\",INDEX(Values!I:I,MATCH('All Bill Data Entry'!$B107,Values!G:G,0)))","v":""},{"$f":"IF($B107=\"\",\"\",INDEX(Values!J:J,MATCH('All Bill Data Entry'!$B107,Values!G:G,0)))","v":""},{"$f":"IF(D107=\"\",\"\",IF(AND(LEN(J107)=10,LEFT(J107,3)=\"000\"),IF(INDEX(PO!AE:AE,MATCH(CONCATENATE('All Bill Data Entry'!J107,'All Bill Data Entry'!K107),PO!AC:AC,0))<>\"\",\"N\",\"N\"),\"N\"))","v":""}]
["",null,null,null,null,null,null,"",null,null,null,{"$f":"IF(J108=\"\",\"\",INDEX(CUST!BC:BC,MATCH(INDEX(PO!AD:AD,MATCH(CONCATENATE('All Bill Data Entry'!J108,'All Bill Data Entry'!K108),PO!AC:AC,0)),CUST!I:I,0)))","v":""},{"$f":"IF(L108=\"\",\"\",INDEX(CUST!G:G,MATCH('All Bill Data Entry'!L108,CUST!B:B,0)))","v":""},"",null,null,null,null,null,null,{"$f":"IF($B108=\"\",\"\",INDEX(Values!H:H,MATCH('All Bill Data Entry'!$B108,Values!F:F,0)))","v":""},{"$f":"IF($D108=\"\",\"\",INDEX(CUST!N:N,MATCH('All Bill Data Entry'!L108&'All Bill Data Entry'!N108,CUST!BD:BD,0)))","v":""},{"$f":"IF($B108=\"\",\"\",INDEX(Values!I:I,MATCH('All Bill Data Entry'!$B108,Values!G:G,0)))","v":""},{"$f":"IF($B108=\"\",\"\",INDEX(Values!J:J,MATCH('All Bill Data Entry'!$B108,Values!G:G,0)))","v":""},{"$f":"IF(D108=\"\",\"\",IF(AND(LEN(J108)=10,LEFT(J108,3)=\"000\"),IF(INDEX(PO!AE:AE,MATCH(CONCATENATE('All Bill Data Entry'!J108,'All Bill Data Entry'!K108),PO!AC:AC,0))<>\"\",\"N\",\"N\"),\"N\"))","v":""}]
["",null,null,null,null,null,null,"",null,null,null,{"$f":"IF(J109=\"\",\"\",INDEX(CUST!BC:BC,MATCH(INDEX(PO!AD:AD,MATCH(CONCATENATE('All Bill Data Entry'!J109,'All Bill Data Entry'!K109),PO!AC:AC,0)),CUST!I:I,0)))","v":""},{"$f":"IF(L109=\"\",\"\",INDEX(CUST!G:G,MATCH('All Bill Data Entry'!L109,CUST!B:B,0)))","v":""},"",null,null,null,null,null,null,{"$f":"IF($B109=\"\",\"\",INDEX(Values!H:H,MATCH('All Bill Data Entry'!$B109,Values!F:F,0)))","v":""},{"$f":"IF($D109=\"\",\"\",INDEX(CUST!N:N,MATCH('All Bill Data Entry'!L109&'All Bill Data Entry'!N109,CUST!BD:BD,0)))","v":""},{"$f":"IF($B109=\"\",\"\",INDEX(Values!I:I,MATCH('All Bill Data Entry'!$B109,Values!G:G,0)))","v":""},{"$f":"IF($B109=\"\",\"\",INDEX(Values!J:J,MATCH('All Bill Data Entry'!$B109,Values!G:G,0)))","v":""},{"$f":"IF(D109=\"\",\"\",IF(AND(LEN(J109)=10,LEFT(J109,3)=\"000\"),IF(INDEX(PO!AE:AE,MATCH(CONCATENATE('All Bill Data Entry'!J109,'All Bill Data Entry'!K109),PO!AC:AC,0))<>\"\",\"N\",\"N\"),\"N\"))","v":""}]
["",null,null,null,null,null,null,"",null,null,null,{"$f":"IF(J110=\"\",\"\",INDEX(CUST!BC:BC,MATCH(INDEX(PO!AD:AD,MATCH(CONCATENATE('All Bill Data Entry'!J110,'All Bill Data Entry'!K110),PO!AC:AC,0)),CUST!I:I,0)))","v":""},{"$f":"IF(L110=\"\",\"\",INDEX(CUST!G:G,MATCH('All Bill Data Entry'!L110,CUST!B:B,0)))","v":""},"",null,null,null,null,null,null,{"$f":"IF($B110=\"\",\"\",INDEX(Values!H:H,MATCH('All Bill Data Entry'!$B110,Values!F:F,0)))","v":""},{"$f":"IF($D110=\"\",\"\",INDEX(CUST!N:N,MATCH('All Bill Data Entry'!L110&'All Bill Data Entry'!N110,CUST!BD:BD,0)))","v":""},{"$f":"IF($B110=\"\",\"\",INDEX(Values!I:I,MATCH('All Bill Data Entry'!$B110,Values!G:G,0)))","v":""},{"$f":"IF($B110=\"\",\"\",INDEX(Values!J:J,MATCH('All Bill Data Entry'!$B110,Values!G:G,0)))","v":""},{"$f":"IF(D110=\"\",\"\",IF(AND(LEN(J110)=10,LEFT(J110,3)=\"000\"),IF(INDEX(PO!AE:AE,MATCH(CONCATENATE('All Bill Data Entry'!J110,'All Bill Data Entry'!K110),PO!AC:AC,0))<>\"\",\"N\",\"N\"),\"N\"))","v":""}]
["",null,null,null,null,null,null,"",null,null,null,{"$f":"IF(J111=\"\",\"\",INDEX(CUST!BC:BC,MATCH(INDEX(PO!AD:AD,MATCH(CONCATENATE('All Bill Data Entry'!J111,'All Bill Data Entry'!K111),PO!AC:AC,0)),CUST!I:I,0)))","v":""},{"$f":"IF(L111=\"\",\"\",INDEX(CUST!G:G,MATCH('All Bill Data Entry'!L111,CUST!B:B,0)))","v":""},"",null,null,null,null,null,null,{"$f":"IF($B111=\"\",\"\",INDEX(Values!H:H,MATCH('All Bill Data Entry'!$B111,Values!F:F,0)))","v":""},{"$f":"IF($D111=\"\",\"\",INDEX(CUST!N:N,MATCH('All Bill Data Entry'!L111&'All Bill Data Entry'!N111,CUST!BD:BD,0)))","v":""},{"$f":"IF($B111=\"\",\"\",INDEX(Values!I:I,MATCH('All Bill Data Entry'!$B111,Values!G:G,0)))","v":""},{"$f":"IF($B111=\"\",\"\",INDEX(Values!J:J,MATCH('All Bill Data Entry'!$B111,Values!G:G,0)))","v":""},{"$f":"IF(D111=\"\",\"\",IF(AND(LEN(J111)=10,LEFT(J111,3)=\"000\"),IF(INDEX(PO!AE:AE,MATCH(CONCATENATE('All Bill Data Entry'!J111,'All Bill Data Entry'!K111),PO!AC:AC,0))<>\"\",\"N\",\"N\"),\"N\"))","v":""}]
["",null,null,null,null,null,null,"",null,null,null,{"$f":"IF(J112=\"\",\"\",INDEX(CUST!BC:BC,MATCH(INDEX(PO!AD:AD,MATCH(CONCATENATE('All Bill Data Entry'!J112,'All Bill Data Entry'!K112),PO!AC:AC,0)),CUST!I:I,0)))","v":""},{"$f":"IF(L112=\"\",\"\",INDEX(CUST!G:G,MATCH('All Bill Data Entry'!L112,CUST!B:B,0)))","v":""},"",null,null,null,null,null,null,{"$f":"IF($B112=\"\",\"\",INDEX(Values!H:H,MATCH('All Bill Data Entry'!$B112,Values!F:F,0)))","v":""},{"$f":"IF($D112=\"\",\"\",INDEX(CUST!N:N,MATCH('All Bill Data Entry'!L112&'All Bill Data Entry'!N112,CUST!BD:BD,0)))","v":""},{"$f":"IF($B112=\"\",\"\",INDEX(Values!I:I,MATCH('All Bill Data Entry'!$B112,Values!G:G,0)))","v":""},{"$f":"IF($B112=\"\",\"\",INDEX(Values!J:J,MATCH('All Bill Data Entry'!$B112,Values!G:G,0)))","v":""},{"$f":"IF(D112=\"\",\"\",IF(AND(LEN(J112)=10,LEFT(J112,3)=\"000\"),IF(INDEX(PO!AE:AE,MATCH(CONCATENATE('All Bill Data Entry'!J112,'All Bill Data Entry'!K112),PO!AC:AC,0))<>\"\",\"N\",\"N\"),\"N\"))","v":""}]
["",null,null,null,null,null,null,"",null,null,null,{"$f":"IF(J113=\"\",\"\",INDEX(CUST!BC:BC,MATCH(INDEX(PO!AD:AD,MATCH(CONCATENATE('All Bill Data Entry'!J113,'All Bill Data Entry'!K113),PO!AC:AC,0)),CUST!I:I,0)))","v":""},{"$f":"IF(L113=\"\",\"\",INDEX(CUST!G:G,MATCH('All Bill Data Entry'!L113,CUST!B:B,0)))","v":""},"",null,null,null,null,null,null,{"$f":"IF($B113=\"\",\"\",INDEX(Values!H:H,MATCH('All Bill Data Entry'!$B113,Values!F:F,0)))","v":""},{"$f":"IF($D113=\"\",\"\",INDEX(CUST!N:N,MATCH('All Bill Data Entry'!L113&'All Bill Data Entry'!N113,CUST!BD:BD,0)))","v":""},{"$f":"IF($B113=\"\",\"\",INDEX(Values!I:I,MATCH('All Bill Data Entry'!$B113,Values!G:G,0)))","v":""},{"$f":"IF($B113=\"\",\"\",INDEX(Values!J:J,MATCH('All Bill Data Entry'!$B113,Values!G:G,0)))","v":""},{"$f":"IF(D113=\"\",\"\",IF(AND(LEN(J113)=10,LEFT(J113,3)=\"000\"),IF(INDEX(PO!AE:AE,MATCH(CONCATENATE('All Bill Data Entry'!J113,'All Bill Data Entry'!K113),PO!AC:AC,0))<>\"\",\"N\",\"N\"),\"N\"))","v":""}]
["",null,null,null,null,null,null,"",null,null,null,{"$f":"IF(J114=\"\",\"\",INDEX(CUST!BC:BC,MATCH(INDEX(PO!AD:AD,MATCH(CONCATENATE('All Bill Data Entry'!J114,'All Bill Data Entry'!K114),PO!AC:AC,0)),CUST!I:I,0)))","v":""},{"$f":"IF(L114=\"\",\"\",INDEX(CUST!G:G,MATCH('All Bill Data Entry'!L114,CUST!B:B,0)))","v":""},"",null,null,null,null,null,null,{"$f":"IF($B114=\"\",\"\",INDEX(Values!H:H,MATCH('All Bill Data Entry'!$B114,Values!F:F,0)))","v":""},{"$f":"IF($D114=\"\",\"\",INDEX(CUST!N:N,MATCH('All Bill Data Entry'!L114&'All Bill Data Entry'!N114,CUST!BD:BD,0)))","v":""},{"$f":"IF($B114=\"\",\"\",INDEX(Values!I:I,MATCH('All Bill Data Entry'!$B114,Values!G:G,0)))","v":""},{"$f":"IF($B114=\"\",\"\",INDEX(Values!J:J,MATCH('All Bill Data Entry'!$B114,Values!G:G,0)))","v":""},{"$f":"IF(D114=\"\",\"\",IF(AND(LEN(J114)=10,LEFT(J114,3)=\"000\"),IF(INDEX(PO!AE:AE,MATCH(CONCATENATE('All Bill Data Entry'!J114,'All Bill Data Entry'!K114),PO!AC:AC,0))<>\"\",\"N\",\"N\"),\"N\"))","v":""}]
["",null,null,null,null,null,null,"",null,null,null,{"$f":"IF(J115=\"\",\"\",INDEX(CUST!BC:BC,MATCH(INDEX(PO!AD:AD,MATCH(CONCATENATE('All Bill Data Entry'!J115,'All Bill Data Entry'!K115),PO!AC:AC,0)),CUST!I:I,0)))","v":""},{"$f":"IF(L115=\"\",\"\",INDEX(CUST!G:G,MATCH('All Bill Data Entry'!L115,CUST!B:B,0)))","v":""},"",null,null,null,null,null,null,{"$f":"IF($B115=\"\",\"\",INDEX(Values!H:H,MATCH('All Bill Data Entry'!$B115,Values!F:F,0)))","v":""},{"$f":"IF($D115=\"\",\"\",INDEX(CUST!N:N,MATCH('All Bill Data Entry'!L115&'All Bill Data Entry'!N115,CUST!BD:BD,0)))","v":""},{"$f":"IF($B115=\"\",\"\",INDEX(Values!I:I,MATCH('All Bill Data Entry'!$B115,Values!G:G,0)))","v":""},{"$f":"IF($B115=\"\",\"\",INDEX(Values!J:J,MATCH('All Bill Data Entry'!$B115,Values!G:G,0)))","v":""},{"$f":"IF(D115=\"\",\"\",IF(AND(LEN(J115)=10,LEFT(J115,3)=\"000\"),IF(INDEX(PO!AE:AE,MATCH(CONCATENATE('All Bill Data Entry'!J115,'All Bill Data Entry'!K115),PO!AC:AC,0))<>\"\",\"N\",\"N\"),\"N\"))","v":""}]
["",null,null,null,null,null,null,"",null,null,null,{"$f":"IF(J116=\"\",\"\",INDEX(CUST!BC:BC,MATCH(INDEX(PO!AD:AD,MATCH(CONCATENATE('All Bill Data Entry'!J116,'All Bill Data Entry'!K116),PO!AC:AC,0)),CUST!I:I,0)))","v":""},{"$f":"IF(L116=\"\",\"\",INDEX(CUST!G:G,MATCH('All Bill Data Entry'!L116,CUST!B:B,0)))","v":""},"",null,null,null,null,null,null,{"$f":"IF($B116=\"\",\"\",INDEX(Values!H:H,MATCH('All Bill Data Entry'!$B116,Values!F:F,0)))","v":""},{"$f":"IF($D116=\"\",\"\",INDEX(CUST!N:N,MATCH('All Bill Data Entry'!L116&'All Bill Data Entry'!N116,CUST!BD:BD,0)))","v":""},{"$f":"IF($B116=\"\",\"\",INDEX(Values!I:I,MATCH('All Bill Data Entry'!$B116,Values!G:G,0)))","v":""},{"$f":"IF($B116=\"\",\"\",INDEX(Values!J:J,MATCH('All Bill Data Entry'!$B116,Values!G:G,0)))","v":""},{"$f":"IF(D116=\"\",\"\",IF(AND(LEN(J116)=10,LEFT(J116,3)=\"000\"),IF(INDEX(PO!AE:AE,MATCH(CONCATENATE('All Bill Data Entry'!J116,'All Bill Data Entry'!K116),PO!AC:AC,0))<>\"\",\"N\",\"N\"),\"N\"))","v":""}]
["",null,null,null,null,null,null,"",null,null,null,{"$f":"IF(J117=\"\",\"\",INDEX(CUST!BC:BC,MATCH(INDEX(PO!AD:AD,MATCH(CONCATENATE('All Bill Data Entry'!J117,'All Bill Data Entry'!K117),PO!AC:AC,0)),CUST!I:I,0)))","v":""},{"$f":"IF(L117=\"\",\"\",INDEX(CUST!G:G,MATCH('All Bill Data Entry'!L117,CUST!B:B,0)))","v":""},"",null,null,null,null,null,null,{"$f":"IF($B117=\"\",\"\",INDEX(Values!H:H,MATCH('All Bill Data Entry'!$B117,Values!F:F,0)))","v":""},{"$f":"IF($D117=\"\",\"\",INDEX(CUST!N:N,MATCH('All Bill Data Entry'!L117&'All Bill Data Entry'!N117,CUST!BD:BD,0)))","v":""},{"$f":"IF($B117=\"\",\"\",INDEX(Values!I:I,MATCH('All Bill Data Entry'!$B117,Values!G:G,0)))","v":""},{"$f":"IF($B117=\"\",\"\",INDEX(Values!J:J,MATCH('All Bill Data Entry'!$B117,Values!G:G,0)))","v":""},{"$f":"IF(D117=\"\",\"\",IF(AND(LEN(J117)=10,LEFT(J117,3)=\"000\"),IF(INDEX(PO!AE:AE,MATCH(CONCATENATE('All Bill Data Entry'!J117,'All Bill Data Entry'!K117),PO!AC:AC,0))<>\"\",\"N\",\"N\"),\"N\"))","v":""}]
["",null,null,null,null,null,null,"",null,null,null,{"$f":"IF(J118=\"\",\"\",INDEX(CUST!BC:BC,MATCH(INDEX(PO!AD:AD,MATCH(CONCATENATE('All Bill Data Entry'!J118,'All Bill Data Entry'!K118),PO!AC:AC,0)),CUST!I:I,0)))","v":""},{"$f":"IF(L118=\"\",\"\",INDEX(CUST!G:G,MATCH('All Bill Data Entry'!L118,CUST!B:B,0)))","v":""},"",null,null,null,null,null,null,{"$f":"IF($B118=\"\",\"\",INDEX(Values!H:H,MATCH('All Bill Data Entry'!$B118,Values!F:F,0)))","v":""},{"$f":"IF($D118=\"\",\"\",INDEX(CUST!N:N,MATCH('All Bill Data Entry'!L118&'All Bill Data Entry'!N118,CUST!BD:BD,0)))","v":""},{"$f":"IF($B118=\"\",\"\",INDEX(Values!I:I,MATCH('All Bill Data Entry'!$B118,Values!G:G,0)))","v":""},{"$f":"IF($B118=\"\",\"\",INDEX(Values!J:J,MATCH('All Bill Data Entry'!$B118,Values!G:G,0)))","v":""},{"$f":"IF(D118=\"\",\"\",IF(AND(LEN(J118)=10,LEFT(J118,3)=\"000\"),IF(INDEX(PO!AE:AE,MATCH(CONCATENATE('All Bill Data Entry'!J118,'All Bill Data Entry'!K118),PO!AC:AC,0))<>\"\",\"N\",\"N\"),\"N\"))","v":""}]
["",null,null,null,null,null,null,"",null,null,null,{"$f":"IF(J119=\"\",\"\",INDEX(CUST!BC:BC,MATCH(INDEX(PO!AD:AD,MATCH(CONCATENATE('All Bill Data Entry'!J119,'All Bill Data Entry'!K119),PO!AC:AC,0)),CUST!I:I,0)))","v":""},{"$f":"IF(L119=\"\",\"\",INDEX(CUST!G:G,MATCH('All Bill Data Entry'!L119,CUST!B:B,0)))","v":""},"",null,null,null,null,null,null,{"$f":"IF($B119=\"\",\"\",INDEX(Values!H:H,MATCH('All Bill Data Entry'!$B119,Values!F:F,0)))","v":""},{"$f":"IF($D119=\"\",\"\",INDEX(CUST!N:N,MATCH('All Bill Data Entry'!L119&'All Bill Data Entry'!N119,CUST!BD:BD,0)))","v":""},{"$f":"IF($B119=\"\",\"\",INDEX(Values!I:I,MATCH('All Bill Data Entry'!$B119,Values!G:G,0)))","v":""},{"$f":"IF($B119=\"\",\"\",INDEX(Values!J:J,MATCH('All Bill Data Entry'!$B119,Values!G:G,0)))","v":""},{"$f":"IF(D119=\"\",\"\",IF(AND(LEN(J119)=10,LEFT(J119,3)=\"000\"),IF(INDEX(PO!AE:AE,MATCH(CONCATENATE('All Bill Data Entry'!J119,'All Bill Data Entry'!K119),PO!AC:AC,0))<>\"\",\"N\",\"N\"),\"N\"))","v":""}]
["",null,null,null,null,null,null,"",null,null,null,{"$f":"IF(J120=\"\",\"\",INDEX(CUST!BC:BC,MATCH(INDEX(PO!AD:AD,MATCH(CONCATENATE('All Bill Data Entry'!J120,'All Bill Data Entry'!K120),PO!AC:AC,0)),CUST!I:I,0)))","v":""},{"$f":"IF(L120=\"\",\"\",INDEX(CUST!G:G,MATCH('All Bill Data Entry'!L120,CUST!B:B,0)))","v":""},"",null,null,null,null,null,null,{"$f":"IF($B120=\"\",\"\",INDEX(Values!H:H,MATCH('All Bill Data Entry'!$B120,Values!F:F,0)))","v":""},{"$f":"IF($D120=\"\",\"\",INDEX(CUST!N:N,MATCH('All Bill Data Entry'!L120&'All Bill Data Entry'!N120,CUST!BD:BD,0)))","v":""},{"$f":"IF($B120=\"\",\"\",INDEX(Values!I:I,MATCH('All Bill Data Entry'!$B120,Values!G:G,0)))","v":""},{"$f":"IF($B120=\"\",\"\",INDEX(Values!J:J,MATCH('All Bill Data Entry'!$B120,Values!G:G,0)))","v":""},{"$f":"IF(D120=\"\",\"\",IF(AND(LEN(J120)=10,LEFT(J120,3)=\"000\"),IF(INDEX(PO!AE:AE,MATCH(CONCATENATE('All Bill Data Entry'!J120,'All Bill Data Entry'!K120),PO!AC:AC,0))<>\"\",\"N\",\"N\"),\"N\"))","v":""}]
["",null,null,null,null,null,null,"",null,null,null,{"$f":"IF(J121=\"\",\"\",INDEX(CUST!BC:BC,MATCH(INDEX(PO!AD:AD,MATCH(CONCATENATE('All Bill Data Entry'!J121,'All Bill Data Entry'!K121),PO!AC:AC,0)),CUST!I:I,0)))","v":""},{"$f":"IF(L121=\"\",\"\",INDEX(CUST!G:G,MATCH('All Bill Data Entry'!L121,CUST!B:B,0)))","v":""},"",null,null,null,null,null,null,{"$f":"IF($B121=\"\",\"\",INDEX(Values!H:H,MATCH('All Bill Data Entry'!$B121,Values!F:F,0)))","v":""},{"$f":"IF($D121=\"\",\"\",INDEX(CUST!N:N,MATCH('All Bill Data Entry'!L121&'All Bill Data Entry'!N121,CUST!BD:BD,0)))","v":""},{"$f":"IF($B121=\"\",\"\",INDEX(Values!I:I,MATCH('All Bill Data Entry'!$B121,Values!G:G,0)))","v":""},{"$f":"IF($B121=\"\",\"\",INDEX(Values!J:J,MATCH('All Bill Data Entry'!$B121,Values!G:G,0)))","v":""},{"$f":"IF(D121=\"\",\"\",IF(AND(LEN(J121)=10,LEFT(J121,3)=\"000\"),IF(INDEX(PO!AE:AE,MATCH(CONCATENATE('All Bill Data Entry'!J121,'All Bill Data Entry'!K121),PO!AC:AC,0))<>\"\",\"N\",\"N\"),\"N\"))","v":""}]
["",null,null,null,null,null,null,"",null,null,null,{"$f":"IF(J122=\"\",\"\",INDEX(CUST!BC:BC,MATCH(INDEX(PO!AD:AD,MATCH(CONCATENATE('All Bill Data Entry'!J122,'All Bill Data Entry'!K122),PO!AC:AC,0)),CUST!I:I,0)))","v":""},{"$f":"IF(L122=\"\",\"\",INDEX(CUST!G:G,MATCH('All Bill Data Entry'!L122,CUST!B:B,0)))","v":""},"",null,null,null,null,null,null,{"$f":"IF($B122=\"\",\"\",INDEX(Values!H:H,MATCH('All Bill Data Entry'!$B122,Values!F:F,0)))","v":""},{"$f":"IF($D122=\"\",\"\",INDEX(CUST!N:N,MATCH('All Bill Data Entry'!L122&'All Bill Data Entry'!N122,CUST!BD:BD,0)))","v":""},{"$f":"IF($B122=\"\",\"\",INDEX(Values!I:I,MATCH('All Bill Data Entry'!$B122,Values!G:G,0)))","v":""},{"$f":"IF($B122=\"\",\"\",INDEX(Values!J:J,MATCH('All Bill Data Entry'!$B122,Values!G:G,0)))","v":""},{"$f":"IF(D122=\"\",\"\",IF(AND(LEN(J122)=10,LEFT(J122,3)=\"000\"),IF(INDEX(PO!AE:AE,MATCH(CONCATENATE('All Bill Data Entry'!J122,'All Bill Data Entry'!K122),PO!AC:AC,0))<>\"\",\"N\",\"N\"),\"N\"))","v":""}]
["",null,null,null,null,null,null,"",null,null,null,{"$f":"IF(J123=\"\",\"\",INDEX(CUST!BC:BC,MATCH(INDEX(PO!AD:AD,MATCH(CONCATENATE('All Bill Data Entry'!J123,'All Bill Data Entry'!K123),PO!AC:AC,0)),CUST!I:I,0)))","v":""},{"$f":"IF(L123=\"\",\"\",INDEX(CUST!G:G,MATCH('All Bill Data Entry'!L123,CUST!B:B,0)))","v":""},"",null,null,null,null,null,null,{"$f":"IF($B123=\"\",\"\",INDEX(Values!H:H,MATCH('All Bill Data Entry'!$B123,Values!F:F,0)))","v":""},{"$f":"IF($D123=\"\",\"\",INDEX(CUST!N:N,MATCH('All Bill Data Entry'!L123&'All Bill Data Entry'!N123,CUST!BD:BD,0)))","v":""},{"$f":"IF($B123=\"\",\"\",INDEX(Values!I:I,MATCH('All Bill Data Entry'!$B123,Values!G:G,0)))","v":""},{"$f":"IF($B123=\"\",\"\",INDEX(Values!J:J,MATCH('All Bill Data Entry'!$B123,Values!G:G,0)))","v":""},{"$f":"IF(D123=\"\",\"\",IF(AND(LEN(J123)=10,LEFT(J123,3)=\"000\"),IF(INDEX(PO!AE:AE,MATCH(CONCATENATE('All Bill Data Entry'!J123,'All Bill Data Entry'!K123),PO!AC:AC,0))<>\"\",\"N\",\"N\"),\"N\"))","v":""}]
["",null,null,null,null,null,null,"",null,null,null,{"$f":"IF(J124=\"\",\"\",INDEX(CUST!BC:BC,MATCH(INDEX(PO!AD:AD,MATCH(CONCATENATE('All Bill Data Entry'!J124,'All Bill Data Entry'!K124),PO!AC:AC,0)),CUST!I:I,0)))","v":""},{"$f":"IF(L124=\"\",\"\",INDEX(CUST!G:G,MATCH('All Bill Data Entry'!L124,CUST!B:B,0)))","v":""},"",null,null,null,null,null,null,{"$f":"IF($B124=\"\",\"\",INDEX(Values!H:H,MATCH('All Bill Data Entry'!$B124,Values!F:F,0)))","v":""},{"$f":"IF($D124=\"\",\"\",INDEX(CUST!N:N,MATCH('All Bill Data Entry'!L124&'All Bill Data Entry'!N124,CUST!BD:BD,0)))","v":""},{"$f":"IF($B124=\"\",\"\",INDEX(Values!I:I,MATCH('All Bill Data Entry'!$B124,Values!G:G,0)))","v":""},{"$f":"IF($B124=\"\",\"\",INDEX(Values!J:J,MATCH('All Bill Data Entry'!$B124,Values!G:G,0)))","v":""},{"$f":"IF(D124=\"\",\"\",IF(AND(LEN(J124)=10,LEFT(J124,3)=\"000\"),IF(INDEX(PO!AE:AE,MATCH(CONCATENATE('All Bill Data Entry'!J124,'All Bill Data Entry'!K124),PO!AC:AC,0))<>\"\",\"N\",\"N\"),\"N\"))","v":""}]
["",null,null,null,null,null,null,"",null,null,null,{"$f":"IF(J125=\"\",\"\",INDEX(CUST!BC:BC,MATCH(INDEX(PO!AD:AD,MATCH(CONCATENATE('All Bill Data Entry'!J125,'All Bill Data Entry'!K125),PO!AC:AC,0)),CUST!I:I,0)))","v":""},{"$f":"IF(L125=\"\",\"\",INDEX(CUST!G:G,MATCH('All Bill Data Entry'!L125,CUST!B:B,0)))","v":""},"",null,null,null,null,null,null,{"$f":"IF($B125=\"\",\"\",INDEX(Values!H:H,MATCH('All Bill Data Entry'!$B125,Values!F:F,0)))","v":""},{"$f":"IF($D125=\"\",\"\",INDEX(CUST!N:N,MATCH('All Bill Data Entry'!L125&'All Bill Data Entry'!N125,CUST!BD:BD,0)))","v":""},{"$f":"IF($B125=\"\",\"\",INDEX(Values!I:I,MATCH('All Bill Data Entry'!$B125,Values!G:G,0)))","v":""},{"$f":"IF($B125=\"\",\"\",INDEX(Values!J:J,MATCH('All Bill Data Entry'!$B125,Values!G:G,0)))","v":""},{"$f":"IF(D125=\"\",\"\",IF(AND(LEN(J125)=10,LEFT(J125,3)=\"000\"),IF(INDEX(PO!AE:AE,MATCH(CONCATENATE('All Bill Data Entry'!J125,'All Bill Data Entry'!K125),PO!AC:AC,0))<>\"\",\"N\",\"N\"),\"N\"))","v":""}]
["",null,null,null,null,null,null,"",null,null,null,{"$f":"IF(J126=\"\",\"\",INDEX(CUST!BC:BC,MATCH(INDEX(PO!AD:AD,MATCH(CONCATENATE('All Bill Data Entry'!J126,'All Bill Data Entry'!K126),PO!AC:AC,0)),CUST!I:I,0)))","v":""},{"$f":"IF(L126=\"\",\"\",INDEX(CUST!G:G,MATCH('All Bill Data Entry'!L126,CUST!B:B,0)))","v":""},"",null,null,null,null,null,null,{"$f":"IF($B126=\"\",\"\",INDEX(Values!H:H,MATCH('All Bill Data Entry'!$B126,Values!F:F,0)))","v":""},{"$f":"IF($D126=\"\",\"\",INDEX(CUST!N:N,MATCH('All Bill Data Entry'!L126&'All Bill Data Entry'!N126,CUST!BD:BD,0)))","v":""},{"$f":"IF($B126=\"\",\"\",INDEX(Values!I:I,MATCH('All Bill Data Entry'!$B126,Values!G:G,0)))","v":""},{"$f":"IF($B126=\"\",\"\",INDEX(Values!J:J,MATCH('All Bill Data Entry'!$B126,Values!G:G,0)))","v":""},{"$f":"IF(D126=\"\",\"\",IF(AND(LEN(J126)=10,LEFT(J126,3)=\"000\"),IF(INDEX(PO!AE:AE,MATCH(CONCATENATE('All Bill Data Entry'!J126,'All Bill Data Entry'!K126),PO!AC:AC,0))<>\"\",\"N\",\"N\"),\"N\"))","v":""}]
["",null,null,null,null,null,null,"",null,null,null,{"$f":"IF(J127=\"\",\"\",INDEX(CUST!BC:BC,MATCH(INDEX(PO!AD:AD,MATCH(CONCATENATE('All Bill Data Entry'!J127,'All Bill Data Entry'!K127),PO!AC:AC,0)),CUST!I:I,0)))","v":""},{"$f":"IF(L127=\"\",\"\",INDEX(CUST!G:G,MATCH('All Bill Data Entry'!L127,CUST!B:B,0)))","v":""},"",null,null,null,null,null,null,{"$f":"IF($B127=\"\",\"\",INDEX(Values!H:H,MATCH('All Bill Data Entry'!$B127,Values!F:F,0)))","v":""},{"$f":"IF($D127=\"\",\"\",INDEX(CUST!N:N,MATCH('All Bill Data Entry'!L127&'All Bill Data Entry'!N127,CUST!BD:BD,0)))","v":""},{"$f":"IF($B127=\"\",\"\",INDEX(Values!I:I,MATCH('All Bill Data Entry'!$B127,Values!G:G,0)))","v":""},{"$f":"IF($B127=\"\",\"\",INDEX(Values!J:J,MATCH('All Bill Data Entry'!$B127,Values!G:G,0)))","v":""},{"$f":"IF(D127=\"\",\"\",IF(AND(LEN(J127)=10,LEFT(J127,3)=\"000\"),IF(INDEX(PO!AE:AE,MATCH(CONCATENATE('All Bill Data Entry'!J127,'All Bill Data Entry'!K127),PO!AC:AC,0))<>\"\",\"N\",\"N\"),\"N\"))","v":""}]
["",null,null,null,null,null,null,"",null,null,null,{"$f":"IF(J128=\"\",\"\",INDEX(CUST!BC:BC,MATCH(INDEX(PO!AD:AD,MATCH(CONCATENATE('All Bill Data Entry'!J128,'All Bill Data Entry'!K128),PO!AC:AC,0)),CUST!I:I,0)))","v":""},{"$f":"IF(L128=\"\",\"\",INDEX(CUST!G:G,MATCH('All Bill Data Entry'!L128,CUST!B:B,0)))","v":""},"",null,null,null,null,null,null,{"$f":"IF($B128=\"\",\"\",INDEX(Values!H:H,MATCH('All Bill Data Entry'!$B128,Values!F:F,0)))","v":""},{"$f":"IF($D128=\"\",\"\",INDEX(CUST!N:N,MATCH('All Bill Data Entry'!L128&'All Bill Data Entry'!N128,CUST!BD:BD,0)))","v":""},{"$f":"IF($B128=\"\",\"\",INDEX(Values!I:I,MATCH('All Bill Data Entry'!$B128,Values!G:G,0)))","v":""},{"$f":"IF($B128=\"\",\"\",INDEX(Values!J:J,MATCH('All Bill Data Entry'!$B128,Values!G:G,0)))","v":""},{"$f":"IF(D128=\"\",\"\",IF(AND(LEN(J128)=10,LEFT(J128,3)=\"000\"),IF(INDEX(PO!AE:AE,MATCH(CONCATENATE('All Bill Data Entry'!J128,'All Bill Data Entry'!K128),PO!AC:AC,0))<>\"\",\"N\",\"N\"),\"N\"))","v":""}]
["",null,null,null,null,null,null,"",null,null,null,{"$f":"IF(J129=\"\",\"\",INDEX(CUST!BC:BC,MATCH(INDEX(PO!AD:AD,MATCH(CONCATENATE('All Bill Data Entry'!J129,'All Bill Data Entry'!K129),PO!AC:AC,0)),CUST!I:I,0)))","v":""},{"$f":"IF(L129=\"\",\"\",INDEX(CUST!G:G,MATCH('All Bill Data Entry'!L129,CUST!B:B,0)))","v":""},"",null,null,null,null,null,null,{"$f":"IF($B129=\"\",\"\",INDEX(Values!H:H,MATCH('All Bill Data Entry'!$B129,Values!F:F,0)))","v":""},{"$f":"IF($D129=\"\",\"\",INDEX(CUST!N:N,MATCH('All Bill Data Entry'!L129&'All Bill Data Entry'!N129,CUST!BD:BD,0)))","v":""},{"$f":"IF($B129=\"\",\"\",INDEX(Values!I:I,MATCH('All Bill Data Entry'!$B129,Values!G:G,0)))","v":""},{"$f":"IF($B129=\"\",\"\",INDEX(Values!J:J,MATCH('All Bill Data Entry'!$B129,Values!G:G,0)))","v":""},{"$f":"IF(D129=\"\",\"\",IF(AND(LEN(J129)=10,LEFT(J129,3)=\"000\"),IF(INDEX(PO!AE:AE,MATCH(CONCATENATE('All Bill Data Entry'!J129,'All Bill Data Entry'!K129),PO!AC:AC,0))<>\"\",\"N\",\"N\"),\"N\"))","v":""}]
["",null,null,null,null,null,null,"",null,null,null,{"$f":"IF(J130=\"\",\"\",INDEX(CUST!BC:BC,MATCH(INDEX(PO!AD:AD,MATCH(CONCATENATE('All Bill Data Entry'!J130,'All Bill Data Entry'!K130),PO!AC:AC,0)),CUST!I:I,0)))","v":""},{"$f":"IF(L130=\"\",\"\",INDEX(CUST!G:G,MATCH('All Bill Data Entry'!L130,CUST!B:B,0)))","v":""},"",null,null,null,null,null,null,{"$f":"IF($B130=\"\",\"\",INDEX(Values!H:H,MATCH('All Bill Data Entry'!$B130,Values!F:F,0)))","v":""},{"$f":"IF($D130=\"\",\"\",INDEX(CUST!N:N,MATCH('All Bill Data Entry'!L130&'All Bill Data Entry'!N130,CUST!BD:BD,0)))","v":""},{"$f":"IF($B130=\"\",\"\",INDEX(Values!I:I,MATCH('All Bill Data Entry'!$B130,Values!G:G,0)))","v":""},{"$f":"IF($B130=\"\",\"\",INDEX(Values!J:J,MATCH('All Bill Data Entry'!$B130,Values!G:G,0)))","v":""},{"$f":"IF(D130=\"\",\"\",IF(AND(LEN(J130)=10,LEFT(J130,3)=\"000\"),IF(INDEX(PO!AE:AE,MATCH(CONCATENATE('All Bill Data Entry'!J130,'All Bill Data Entry'!K130),PO!AC:AC,0))<>\"\",\"N\",\"N\"),\"N\"))","v":""}]
["",null,null,null,null,null,null,"",null,null,null,{"$f":"IF(J131=\"\",\"\",INDEX(CUST!BC:BC,MATCH(INDEX(PO!AD:AD,MATCH(CONCATENATE('All Bill Data Entry'!J131,'All Bill Data Entry'!K131),PO!AC:AC,0)),CUST!I:I,0)))","v":""},{"$f":"IF(L131=\"\",\"\",INDEX(CUST!G:G,MATCH('All Bill Data Entry'!L131,CUST!B:B,0)))","v":""},"",null,null,null,null,null,null,{"$f":"IF($B131=\"\",\"\",INDEX(Values!H:H,MATCH('All Bill Data Entry'!$B131,Values!F:F,0)))","v":""},{"$f":"IF($D131=\"\",\"\",INDEX(CUST!N:N,MATCH('All Bill Data Entry'!L131&'All Bill Data Entry'!N131,CUST!BD:BD,0)))","v":""},{"$f":"IF($B131=\"\",\"\",INDEX(Values!I:I,MATCH('All Bill Data Entry'!$B131,Values!G:G,0)))","v":""},{"$f":"IF($B131=\"\",\"\",INDEX(Values!J:J,MATCH('All Bill Data Entry'!$B131,Values!G:G,0)))","v":""},{"$f":"IF(D131=\"\",\"\",IF(AND(LEN(J131)=10,LEFT(J131,3)=\"000\"),IF(INDEX(PO!AE:AE,MATCH(CONCATENATE('All Bill Data Entry'!J131,'All Bill Data Entry'!K131),PO!AC:AC,0))<>\"\",\"N\",\"N\"),\"N\"))","v":""}]
["",null,null,null,null,null,null,"",null,null,null,{"$f":"IF(J132=\"\",\"\",INDEX(CUST!BC:BC,MATCH(INDEX(PO!AD:AD,MATCH(CONCATENATE('All Bill Data Entry'!J132,'All Bill Data Entry'!K132),PO!AC:AC,0)),CUST!I:I,0)))","v":""},{"$f":"IF(L132=\"\",\"\",INDEX(CUST!G:G,MATCH('All Bill Data Entry'!L132,CUST!B:B,0)))","v":""},"",null,null,null,null,null,null,{"$f":"IF($B132=\"\",\"\",INDEX(Values!H:H,MATCH('All Bill Data Entry'!$B132,Values!F:F,0)))","v":""},{"$f":"IF($D132=\"\",\"\",INDEX(CUST!N:N,MATCH('All Bill Data Entry'!L132&'All Bill Data Entry'!N132,CUST!BD:BD,0)))","v":""},{"$f":"IF($B132=\"\",\"\",INDEX(Values!I:I,MATCH('All Bill Data Entry'!$B132,Values!G:G,0)))","v":""},{"$f":"IF($B132=\"\",\"\",INDEX(Values!J:J,MATCH('All Bill Data Entry'!$B132,Values!G:G,0)))","v":""},{"$f":"IF(D132=\"\",\"\",IF(AND(LEN(J132)=10,LEFT(J132,3)=\"000\"),IF(INDEX(PO!AE:AE,MATCH(CONCATENATE('All Bill Data Entry'!J132,'All Bill Data Entry'!K132),PO!AC:AC,0))<>\"\",\"N\",\"N\"),\"N\"))","v":""}]
["",null,null,null,null,null,null,"",null,null,null,{"$f":"IF(J133=\"\",\"\",INDEX(CUST!BC:BC,MATCH(INDEX(PO!AD:AD,MATCH(CONCATENATE('All Bill Data Entry'!J133,'All Bill Data Entry'!K133),PO!AC:AC,0)),CUST!I:I,0)))","v":""},{"$f":"IF(L133=\"\",\"\",INDEX(CUST!G:G,MATCH('All Bill Data Entry'!L133,CUST!B:B,0)))","v":""},"",null,null,null,null,null,null,{"$f":"IF($B133=\"\",\"\",INDEX(Values!H:H,MATCH('All Bill Data Entry'!$B133,Values!F:F,0)))","v":""},{"$f":"IF($D133=\"\",\"\",INDEX(CUST!N:N,MATCH('All Bill Data Entry'!L133&'All Bill Data Entry'!N133,CUST!BD:BD,0)))","v":""},{"$f":"IF($B133=\"\",\"\",INDEX(Values!I:I,MATCH('All Bill Data Entry'!$B133,Values!G:G,0)))","v":""},{"$f":"IF($B133=\"\",\"\",INDEX(Values!J:J,MATCH('All Bill Data Entry'!$B133,Values!G:G,0)))","v":""},{"$f":"IF(D133=\"\",\"\",IF(AND(LEN(J133)=10,LEFT(J133,3)=\"000\"),IF(INDEX(PO!AE:AE,MATCH(CONCATENATE('All Bill Data Entry'!J133,'All Bill Data Entry'!K133),PO!AC:AC,0))<>\"\",\"N\",\"N\"),\"N\"))","v":""}]
["",null,null,null,null,null,null,"",null,null,null,{"$f":"IF(J134=\"\",\"\",INDEX(CUST!BC:BC,MATCH(INDEX(PO!AD:AD,MATCH(CONCATENATE('All Bill Data Entry'!J134,'All Bill Data Entry'!K134),PO!AC:AC,0)),CUST!I:I,0)))","v":""},{"$f":"IF(L134=\"\",\"\",INDEX(CUST!G:G,MATCH('All Bill Data Entry'!L134,CUST!B:B,0)))","v":""},"",null,null,null,null,null,null,{"$f":"IF($B134=\"\",\"\",INDEX(Values!H:H,MATCH('All Bill Data Entry'!$B134,Values!F:F,0)))","v":""},{"$f":"IF($D134=\"\",\"\",INDEX(CUST!N:N,MATCH('All Bill Data Entry'!L134&'All Bill Data Entry'!N134,CUST!BD:BD,0)))","v":""},{"$f":"IF($B134=\"\",\"\",INDEX(Values!I:I,MATCH('All Bill Data Entry'!$B134,Values!G:G,0)))","v":""},{"$f":"IF($B134=\"\",\"\",INDEX(Values!J:J,MATCH('All Bill Data Entry'!$B134,Values!G:G,0)))","v":""},{"$f":"IF(D134=\"\",\"\",IF(AND(LEN(J134)=10,LEFT(J134,3)=\"000\"),IF(INDEX(PO!AE:AE,MATCH(CONCATENATE('All Bill Data Entry'!J134,'All Bill Data Entry'!K134),PO!AC:AC,0))<>\"\",\"N\",\"N\"),\"N\"))","v":""}]
["",null,null,null,null,null,null,"",null,null,null,{"$f":"IF(J135=\"\",\"\",INDEX(CUST!BC:BC,MATCH(INDEX(PO!AD:AD,MATCH(CONCATENATE('All Bill Data Entry'!J135,'All Bill Data Entry'!K135),PO!AC:AC,0)),CUST!I:I,0)))","v":""},{"$f":"IF(L135=\"\",\"\",INDEX(CUST!G:G,MATCH('All Bill Data Entry'!L135,CUST!B:B,0)))","v":""},{"$f":"IF(OR(M135=\"INTERNAL\",M135=\"COMPONENT\"),1,\"\")","v":""},null,null,null,null,null,null,{"$f":"IF($B135=\"\",\"\",INDEX(Values!H:H,MATCH('All Bill Data Entry'!$B135,Values!F:F,0)))","v":""},{"$f":"IF($D135=\"\",\"\",INDEX(CUST!N:N,MATCH('All Bill Data Entry'!L135&'All Bill Data Entry'!N135,CUST!BD:BD,0)))","v":""},{"$f":"IF($B135=\"\",\"\",INDEX(Values!I:I,MATCH('All Bill Data Entry'!$B135,Values!G:G,0)))","v":""},{"$f":"IF($B135=\"\",\"\",INDEX(Values!J:J,MATCH('All Bill Data Entry'!$B135,Values!G:G,0)))","v":""},{"$f":"IF(D135=\"\",\"\",IF(AND(LEN(J135)=10,LEFT(J135,3)=\"000\"),IF(INDEX(PO!AE:AE,MATCH(CONCATENATE('All Bill Data Entry'!J135,'All Bill Data Entry'!K135),PO!AC:AC,0))<>\"\",\"N\",\"N\"),\"N\"))","v":""}]
["",null,null,null,null,null,null,{"$f":"IF(F136=\"\",\"\",F136*G136)","v":""},null,null,null,{"$f":"IF(J136=\"\",\"\",INDEX(CUST!BC:BC,MATCH(INDEX(PO!AD:AD,MATCH(CONCATENATE('All Bill Data Entry'!J136,'All Bill Data Entry'!K136),PO!AC:AC,0)),CUST!I:I,0)))","v":""},{"$f":"IF(L136=\"\",\"\",INDEX(CUST!G:G,MATCH('All Bill Data Entry'!L136,CUST!B:B,0)))","v":""},"",null,null,null,null,null,null,{"$f":"IF($B136=\"\",\"\",INDEX(Values!H:H,MATCH('All Bill Data Entry'!$B136,Values!F:F,0)))","v":""},{"$f":"IF($D136=\"\",\"\",INDEX(CUST!N:N,MATCH('All Bill Data Entry'!L136&'All Bill Data Entry'!N136,CUST!BD:BD,0)))","v":""},{"$f":"IF($B136=\"\",\"\",INDEX(Values!I:I,MATCH('All Bill Data Entry'!$B136,Values!G:G,0)))","v":""},{"$f":"IF($B136=\"\",\"\",INDEX(Values!J:J,MATCH('All Bill Data Entry'!$B136,Values!G:G,0)))","v":""},{"$f":"IF(D136=\"\",\"\",IF(AND(LEN(J136)=10,LEFT(J136,3)=\"000\"),IF(INDEX(PO!AE:AE,MATCH(CONCATENATE('All Bill Data Entry'!J136,'All Bill Data Entry'!K136),PO!AC:AC,0))<>\"\",\"N\",\"N\"),\"N\"))","v":""}]
[{"$f":"IF(D137=\"\",\"\",A136+1)","v":""},null,null,null,null,null,null,"",null,null,null,{"$f":"IF(J137=\"\",\"\",INDEX(CUST!BC:BC,MATCH(INDEX(PO!AD:AD,MATCH(CONCATENATE('All Bill Data Entry'!J137,'All Bill Data Entry'!K137),PO!AC:AC,0)),CUST!I:I,0)))","v":""},{"$f":"IF(L137=\"\",\"\",INDEX(CUST!G:G,MATCH('All Bill Data Entry'!L137,CUST!B:B,0)))","v":""},"",null,null,null,null,null,null,{"$f":"IF($B137=\"\",\"\",INDEX(Values!H:H,MATCH('All Bill Data Entry'!$B137,Values!F:F,0)))","v":""},{"$f":"IF($D137=\"\",\"\",INDEX(CUST!N:N,MATCH('All Bill Data Entry'!L137&'All Bill Data Entry'!N137,CUST!BD:BD,0)))","v":""},{"$f":"IF($B137=\"\",\"\",INDEX(Values!I:I,MATCH('All Bill Data Entry'!$B137,Values!G:G,0)))","v":""},{"$f":"IF($B137=\"\",\"\",INDEX(Values!J:J,MATCH('All Bill Data Entry'!$B137,Values!G:G,0)))","v":""},{"$f":"IF(D137=\"\",\"\",IF(AND(LEN(J137)=10,LEFT(J137,3)=\"000\"),IF(INDEX(PO!AE:AE,MATCH(CONCATENATE('All Bill Data Entry'!J137,'All Bill Data Entry'!K137),PO!AC:AC,0))<>\"\",\"N\",\"N\"),\"N\"))","v":""}]
["",null,null,null,null,null,null,"",null,null,null,{"$f":"IF(J138=\"\",\"\",INDEX(CUST!BC:BC,MATCH(INDEX(PO!AD:AD,MATCH(CONCATENATE('All Bill Data Entry'!J138,'All Bill Data Entry'!K138),PO!AC:AC,0)),CUST!I:I,0)))","v":""},{"$f":"IF(L138=\"\",\"\",INDEX(CUST!G:G,MATCH('All Bill Data Entry'!L138,CUST!B:B,0)))","v":""},"",null,null,null,null,null,null,{"$f":"IF($B138=\"\",\"\",INDEX(Values!H:H,MATCH('All Bill Data Entry'!$B138,Values!F:F,0)))","v":""},{"$f":"IF($D138=\"\",\"\",INDEX(CUST!N:N,MATCH('All Bill Data Entry'!L138&'All Bill Data Entry'!N138,CUST!BD:BD,0)))","v":""},{"$f":"IF($B138=\"\",\"\",INDEX(Values!I:I,MATCH('All Bill Data Entry'!$B138,Values!G:G,0)))","v":""},{"$f":"IF($B138=\"\",\"\",INDEX(Values!J:J,MATCH('All Bill Data Entry'!$B138,Values!G:G,0)))","v":""},{"$f":"IF(D138=\"\",\"\",IF(AND(LEN(J138)=10,LEFT(J138,3)=\"000\"),IF(INDEX(PO!AE:AE,MATCH(CONCATENATE('All Bill Data Entry'!J138,'All Bill Data Entry'!K138),PO!AC:AC,0))<>\"\",\"N\",\"N\"),\"N\"))","v":""}]
["",null,null,null,null,null,null,"",null,null,null,{"$f":"IF(J139=\"\",\"\",INDEX(CUST!BC:BC,MATCH(INDEX(PO!AD:AD,MATCH(CONCATENATE('All Bill Data Entry'!J139,'All Bill Data Entry'!K139),PO!AC:AC,0)),CUST!I:I,0)))","v":""},{"$f":"IF(L139=\"\",\"\",INDEX(CUST!G:G,MATCH('All Bill Data Entry'!L139,CUST!B:B,0)))","v":""},"",null,null,null,null,null,null,{"$f":"IF($B139=\"\",\"\",INDEX(Values!H:H,MATCH('All Bill Data Entry'!$B139,Values!F:F,0)))","v":""},{"$f":"IF($D139=\"\",\"\",INDEX(CUST!N:N,MATCH('All Bill Data Entry'!L139&'All Bill Data Entry'!N139,CUST!BD:BD,0)))","v":""},{"$f":"IF($B139=\"\",\"\",INDEX(Values!I:I,MATCH('All Bill Data Entry'!$B139,Values!G:G,0)))","v":""},{"$f":"IF($B139=\"\",\"\",INDEX(Values!J:J,MATCH('All Bill Data Entry'!$B139,Values!G:G,0)))","v":""},{"$f":"IF(D139=\"\",\"\",IF(AND(LEN(J139)=10,LEFT(J139,3)=\"000\"),IF(INDEX(PO!AE:AE,MATCH(CONCATENATE('All Bill Data Entry'!J139,'All Bill Data Entry'!K139),PO!AC:AC,0))<>\"\",\"N\",\"N\"),\"N\"))","v":""}]
["",null,null,null,null,null,null,"",null,null,null,{"$f":"IF(J140=\"\",\"\",INDEX(CUST!BC:BC,MATCH(INDEX(PO!AD:AD,MATCH(CONCATENATE('All Bill Data Entry'!J140,'All Bill Data Entry'!K140),PO!AC:AC,0)),CUST!I:I,0)))","v":""},{"$f":"IF(L140=\"\",\"\",INDEX(CUST!G:G,MATCH('All Bill Data Entry'!L140,CUST!B:B,0)))","v":""},"",null,null,null,null,null,null,{"$f":"IF($B140=\"\",\"\",INDEX(Values!H:H,MATCH('All Bill Data Entry'!$B140,Values!F:F,0)))","v":""},{"$f":"IF($D140=\"\",\"\",INDEX(CUST!N:N,MATCH('All Bill Data Entry'!L140&'All Bill Data Entry'!N140,CUST!BD:BD,0)))","v":""},{"$f":"IF($B140=\"\",\"\",INDEX(Values!I:I,MATCH('All Bill Data Entry'!$B140,Values!G:G,0)))","v":""},{"$f":"IF($B140=\"\",\"\",INDEX(Values!J:J,MATCH('All Bill Data Entry'!$B140,Values!G:G,0)))","v":""},{"$f":"IF(D140=\"\",\"\",IF(AND(LEN(J140)=10,LEFT(J140,3)=\"000\"),IF(INDEX(PO!AE:AE,MATCH(CONCATENATE('All Bill Data Entry'!J140,'All Bill Data Entry'!K140),PO!AC:AC,0))<>\"\",\"N\",\"N\"),\"N\"))","v":""}]
["",null,null,null,null,null,null,"",null,null,null,{"$f":"IF(J141=\"\",\"\",INDEX(CUST!BC:BC,MATCH(INDEX(PO!AD:AD,MATCH(CONCATENATE('All Bill Data Entry'!J141,'All Bill Data Entry'!K141),PO!AC:AC,0)),CUST!I:I,0)))","v":""},{"$f":"IF(L141=\"\",\"\",INDEX(CUST!G:G,MATCH('All Bill Data Entry'!L141,CUST!B:B,0)))","v":""},"",null,null,null,null,null,null,{"$f":"IF($B141=\"\",\"\",INDEX(Values!H:H,MATCH('All Bill Data Entry'!$B141,Values!F:F,0)))","v":""},{"$f":"IF($D141=\"\",\"\",INDEX(CUST!N:N,MATCH('All Bill Data Entry'!L141&'All Bill Data Entry'!N141,CUST!BD:BD,0)))","v":""},{"$f":"IF($B141=\"\",\"\",INDEX(Values!I:I,MATCH('All Bill Data Entry'!$B141,Values!G:G,0)))","v":""},{"$f":"IF($B141=\"\",\"\",INDEX(Values!J:J,MATCH('All Bill Data Entry'!$B141,Values!G:G,0)))","v":""},{"$f":"IF(D141=\"\",\"\",IF(AND(LEN(J141)=10,LEFT(J141,3)=\"000\"),IF(INDEX(PO!AE:AE,MATCH(CONCATENATE('All Bill Data Entry'!J141,'All Bill Data Entry'!K141),PO!AC:AC,0))<>\"\",\"N\",\"N\"),\"N\"))","v":""}]
["",null,null,null,null,null,null,"",null,null,null,{"$f":"IF(J142=\"\",\"\",INDEX(CUST!BC:BC,MATCH(INDEX(PO!AD:AD,MATCH(CONCATENATE('All Bill Data Entry'!J142,'All Bill Data Entry'!K142),PO!AC:AC,0)),CUST!I:I,0)))","v":""},{"$f":"IF(L142=\"\",\"\",INDEX(CUST!G:G,MATCH('All Bill Data Entry'!L142,CUST!B:B,0)))","v":""},"",null,null,null,null,null,null,{"$f":"IF($B142=\"\",\"\",INDEX(Values!H:H,MATCH('All Bill Data Entry'!$B142,Values!F:F,0)))","v":""},{"$f":"IF($D142=\"\",\"\",INDEX(CUST!N:N,MATCH('All Bill Data Entry'!L142&'All Bill Data Entry'!N142,CUST!BD:BD,0)))","v":""},{"$f":"IF($B142=\"\",\"\",INDEX(Values!I:I,MATCH('All Bill Data Entry'!$B142,Values!G:G,0)))","v":""},{"$f":"IF($B142=\"\",\"\",INDEX(Values!J:J,MATCH('All Bill Data Entry'!$B142,Values!G:G,0)))","v":""},{"$f":"IF(D142=\"\",\"\",IF(AND(LEN(J142)=10,LEFT(J142,3)=\"000\"),IF(INDEX(PO!AE:AE,MATCH(CONCATENATE('All Bill Data Entry'!J142,'All Bill Data Entry'!K142),PO!AC:AC,0))<>\"\",\"N\",\"N\"),\"N\"))","v":""}]
["",null,null,null,null,null,null,"",null,null,null,{"$f":"IF(J143=\"\",\"\",INDEX(CUST!BC:BC,MATCH(INDEX(PO!AD:AD,MATCH(CONCATENATE('All Bill Data Entry'!J143,'All Bill Data Entry'!K143),PO!AC:AC,0)),CUST!I:I,0)))","v":""},{"$f":"IF(L143=\"\",\"\",INDEX(CUST!G:G,MATCH('All Bill Data Entry'!L143,CUST!B:B,0)))","v":""},"",null,null,null,null,null,null,{"$f":"IF($B143=\"\",\"\",INDEX(Values!H:H,MATCH('All Bill Data Entry'!$B143,Values!F:F,0)))","v":""},{"$f":"IF($D143=\"\",\"\",INDEX(CUST!N:N,MATCH('All Bill Data Entry'!L143&'All Bill Data Entry'!N143,CUST!BD:BD,0)))","v":""},{"$f":"IF($B143=\"\",\"\",INDEX(Values!I:I,MATCH('All Bill Data Entry'!$B143,Values!G:G,0)))","v":""},{"$f":"IF($B143=\"\",\"\",INDEX(Values!J:J,MATCH('All Bill Data Entry'!$B143,Values!G:G,0)))","v":""},{"$f":"IF(D143=\"\",\"\",IF(AND(LEN(J143)=10,LEFT(J143,3)=\"000\"),IF(INDEX(PO!AE:AE,MATCH(CONCATENATE('All Bill Data Entry'!J143,'All Bill Data Entry'!K143),PO!AC:AC,0))<>\"\",\"N\",\"N\"),\"N\"))","v":""}]
["",null,null,null,null,null,null,"",null,null,null,{"$f":"IF(J144=\"\",\"\",INDEX(CUST!BC:BC,MATCH(INDEX(PO!AD:AD,MATCH(CONCATENATE('All Bill Data Entry'!J144,'All Bill Data Entry'!K144),PO!AC:AC,0)),CUST!I:I,0)))","v":""},{"$f":"IF(L144=\"\",\"\",INDEX(CUST!G:G,MATCH('All Bill Data Entry'!L144,CUST!B:B,0)))","v":""},"",null,null,null,null,null,null,{"$f":"IF($B144=\"\",\"\",INDEX(Values!H:H,MATCH('All Bill Data Entry'!$B144,Values!F:F,0)))","v":""},{"$f":"IF($D144=\"\",\"\",INDEX(CUST!N:N,MATCH('All Bill Data Entry'!L144&'All Bill Data Entry'!N144,CUST!BD:BD,0)))","v":""},{"$f":"IF($B144=\"\",\"\",INDEX(Values!I:I,MATCH('All Bill Data Entry'!$B144,Values!G:G,0)))","v":""},{"$f":"IF($B144=\"\",\"\",INDEX(Values!J:J,MATCH('All Bill Data Entry'!$B144,Values!G:G,0)))","v":""},{"$f":"IF(D144=\"\",\"\",IF(AND(LEN(J144)=10,LEFT(J144,3)=\"000\"),IF(INDEX(PO!AE:AE,MATCH(CONCATENATE('All Bill Data Entry'!J144,'All Bill Data Entry'!K144),PO!AC:AC,0))<>\"\",\"N\",\"N\"),\"N\"))","v":""}]
["",null,null,null,null,null,null,"",null,null,null,{"$f":"IF(J145=\"\",\"\",INDEX(CUST!BC:BC,MATCH(INDEX(PO!AD:AD,MATCH(CONCATENATE('All Bill Data Entry'!J145,'All Bill Data Entry'!K145),PO!AC:AC,0)),CUST!I:I,0)))","v":""},{"$f":"IF(L145=\"\",\"\",INDEX(CUST!G:G,MATCH('All Bill Data Entry'!L145,CUST!B:B,0)))","v":""},"",null,null,null,null,null,null,{"$f":"IF($B145=\"\",\"\",INDEX(Values!H:H,MATCH('All Bill Data Entry'!$B145,Values!F:F,0)))","v":""},{"$f":"IF($D145=\"\",\"\",INDEX(CUST!N:N,MATCH('All Bill Data Entry'!L145&'All Bill Data Entry'!N145,CUST!BD:BD,0)))","v":""},{"$f":"IF($B145=\"\",\"\",INDEX(Values!I:I,MATCH('All Bill Data Entry'!$B145,Values!G:G,0)))","v":""},{"$f":"IF($B145=\"\",\"\",INDEX(Values!J:J,MATCH('All Bill Data Entry'!$B145,Values!G:G,0)))","v":""},{"$f":"IF(D145=\"\",\"\",IF(AND(LEN(J145)=10,LEFT(J145,3)=\"000\"),IF(INDEX(PO!AE:AE,MATCH(CONCATENATE('All Bill Data Entry'!J145,'All Bill Data Entry'!K145),PO!AC:AC,0))<>\"\",\"N\",\"N\"),\"N\"))","v":""}]
["",null,null,null,null,null,null,"",null,null,null,{"$f":"IF(J146=\"\",\"\",INDEX(CUST!BC:BC,MATCH(INDEX(PO!AD:AD,MATCH(CONCATENATE('All Bill Data Entry'!J146,'All Bill Data Entry'!K146),PO!AC:AC,0)),CUST!I:I,0)))","v":""},{"$f":"IF(L146=\"\",\"\",INDEX(CUST!G:G,MATCH('All Bill Data Entry'!L146,CUST!B:B,0)))","v":""},"",null,null,null,null,null,null,{"$f":"IF($B146=\"\",\"\",INDEX(Values!H:H,MATCH('All Bill Data Entry'!$B146,Values!F:F,0)))","v":""},{"$f":"IF($D146=\"\",\"\",INDEX(CUST!N:N,MATCH('All Bill Data Entry'!L146&'All Bill Data Entry'!N146,CUST!BD:BD,0)))","v":""},{"$f":"IF($B146=\"\",\"\",INDEX(Values!I:I,MATCH('All Bill Data Entry'!$B146,Values!G:G,0)))","v":""},{"$f":"IF($B146=\"\",\"\",INDEX(Values!J:J,MATCH('All Bill Data Entry'!$B146,Values!G:G,0)))","v":""},{"$f":"IF(D146=\"\",\"\",IF(AND(LEN(J146)=10,LEFT(J146,3)=\"000\"),IF(INDEX(PO!AE:AE,MATCH(CONCATENATE('All Bill Data Entry'!J146,'All Bill Data Entry'!K146),PO!AC:AC,0))<>\"\",\"N\",\"N\"),\"N\"))","v":""}]
["",null,null,null,null,null,null,"",null,null,null,{"$f":"IF(J147=\"\",\"\",INDEX(CUST!BC:BC,MATCH(INDEX(PO!AD:AD,MATCH(CONCATENATE('All Bill Data Entry'!J147,'All Bill Data Entry'!K147),PO!AC:AC,0)),CUST!I:I,0)))","v":""},{"$f":"IF(L147=\"\",\"\",INDEX(CUST!G:G,MATCH('All Bill Data Entry'!L147,CUST!B:B,0)))","v":""},"",null,null,null,null,null,null,{"$f":"IF($B147=\"\",\"\",INDEX(Values!H:H,MATCH('All Bill Data Entry'!$B147,Values!F:F,0)))","v":""},{"$f":"IF($D147=\"\",\"\",INDEX(CUST!N:N,MATCH('All Bill Data Entry'!L147&'All Bill Data Entry'!N147,CUST!BD:BD,0)))","v":""},{"$f":"IF($B147=\"\",\"\",INDEX(Values!I:I,MATCH('All Bill Data Entry'!$B147,Values!G:G,0)))","v":""},{"$f":"IF($B147=\"\",\"\",INDEX(Values!J:J,MATCH('All Bill Data Entry'!$B147,Values!G:G,0)))","v":""},{"$f":"IF(D147=\"\",\"\",IF(AND(LEN(J147)=10,LEFT(J147,3)=\"000\"),IF(INDEX(PO!AE:AE,MATCH(CONCATENATE('All Bill Data Entry'!J147,'All Bill Data Entry'!K147),PO!AC:AC,0))<>\"\",\"N\",\"N\"),\"N\"))","v":""}]
["",null,null,null,null,null,null,"",null,null,null,{"$f":"IF(J148=\"\",\"\",INDEX(CUST!BC:BC,MATCH(INDEX(PO!AD:AD,MATCH(CONCATENATE('All Bill Data Entry'!J148,'All Bill Data Entry'!K148),PO!AC:AC,0)),CUST!I:I,0)))","v":""},{"$f":"IF(L148=\"\",\"\",INDEX(CUST!G:G,MATCH('All Bill Data Entry'!L148,CUST!B:B,0)))","v":""},"",null,null,null,null,null,null,{"$f":"IF($B148=\"\",\"\",INDEX(Values!H:H,MATCH('All Bill Data Entry'!$B148,Values!F:F,0)))","v":""},{"$f":"IF($D148=\"\",\"\",INDEX(CUST!N:N,MATCH('All Bill Data Entry'!L148&'All Bill Data Entry'!N148,CUST!BD:BD,0)))","v":""},{"$f":"IF($B148=\"\",\"\",INDEX(Values!I:I,MATCH('All Bill Data Entry'!$B148,Values!G:G,0)))","v":""},{"$f":"IF($B148=\"\",\"\",INDEX(Values!J:J,MATCH('All Bill Data Entry'!$B148,Values!G:G,0)))","v":""},{"$f":"IF(D148=\"\",\"\",IF(AND(LEN(J148)=10,LEFT(J148,3)=\"000\"),IF(INDEX(PO!AE:AE,MATCH(CONCATENATE('All Bill Data Entry'!J148,'All Bill Data Entry'!K148),PO!AC:AC,0))<>\"\",\"N\",\"N\"),\"N\"))","v":""}]
["",null,null,null,null,null,null,"",null,null,null,{"$f":"IF(J149=\"\",\"\",INDEX(CUST!BC:BC,MATCH(INDEX(PO!AD:AD,MATCH(CONCATENATE('All Bill Data Entry'!J149,'All Bill Data Entry'!K149),PO!AC:AC,0)),CUST!I:I,0)))","v":""},{"$f":"IF(L149=\"\",\"\",INDEX(CUST!G:G,MATCH('All Bill Data Entry'!L149,CUST!B:B,0)))","v":""},"",null,null,null,null,null,null,{"$f":"IF($B149=\"\",\"\",INDEX(Values!H:H,MATCH('All Bill Data Entry'!$B149,Values!F:F,0)))","v":""},{"$f":"IF($D149=\"\",\"\",INDEX(CUST!N:N,MATCH('All Bill Data Entry'!L149&'All Bill Data Entry'!N149,CUST!BD:BD,0)))","v":""},{"$f":"IF($B149=\"\",\"\",INDEX(Values!I:I,MATCH('All Bill Data Entry'!$B149,Values!G:G,0)))","v":""},{"$f":"IF($B149=\"\",\"\",INDEX(Values!J:J,MATCH('All Bill Data Entry'!$B149,Values!G:G,0)))","v":""},{"$f":"IF(D149=\"\",\"\",IF(AND(LEN(J149)=10,LEFT(J149,3)=\"000\"),IF(INDEX(PO!AE:AE,MATCH(CONCATENATE('All Bill Data Entry'!J149,'All Bill Data Entry'!K149),PO!AC:AC,0))<>\"\",\"N\",\"N\"),\"N\"))","v":""}]
["",null,null,null,null,null,null,"",null,null,null,{"$f":"IF(J150=\"\",\"\",INDEX(CUST!BC:BC,MATCH(INDEX(PO!AD:AD,MATCH(CONCATENATE('All Bill Data Entry'!J150,'All Bill Data Entry'!K150),PO!AC:AC,0)),CUST!I:I,0)))","v":""},{"$f":"IF(L150=\"\",\"\",INDEX(CUST!G:G,MATCH('All Bill Data Entry'!L150,CUST!B:B,0)))","v":""},"",null,null,null,null,null,null,{"$f":"IF($B150=\"\",\"\",INDEX(Values!H:H,MATCH('All Bill Data Entry'!$B150,Values!F:F,0)))","v":""},{"$f":"IF($D150=\"\",\"\",INDEX(CUST!N:N,MATCH('All Bill Data Entry'!L150&'All Bill Data Entry'!N150,CUST!BD:BD,0)))","v":""},{"$f":"IF($B150=\"\",\"\",INDEX(Values!I:I,MATCH('All Bill Data Entry'!$B150,Values!G:G,0)))","v":""},{"$f":"IF($B150=\"\",\"\",INDEX(Values!J:J,MATCH('All Bill Data Entry'!$B150,Values!G:G,0)))","v":""},{"$f":"IF(D150=\"\",\"\",IF(AND(LEN(J150)=10,LEFT(J150,3)=\"000\"),IF(INDEX(PO!AE:AE,MATCH(CONCATENATE('All Bill Data Entry'!J150,'All Bill Data Entry'!K150),PO!AC:AC,0))<>\"\",\"N\",\"N\"),\"N\"))","v":""}]
["",null,null,null,null,null,null,"",null,null,null,{"$f":"IF(J151=\"\",\"\",INDEX(CUST!BC:BC,MATCH(INDEX(PO!AD:AD,MATCH(CONCATENATE('All Bill Data Entry'!J151,'All Bill Data Entry'!K151),PO!AC:AC,0)),CUST!I:I,0)))","v":""},{"$f":"IF(L151=\"\",\"\",INDEX(CUST!G:G,MATCH('All Bill Data Entry'!L151,CUST!B:B,0)))","v":""},"",null,null,null,null,null,null,{"$f":"IF($B151=\"\",\"\",INDEX(Values!H:H,MATCH('All Bill Data Entry'!$B151,Values!F:F,0)))","v":""},{"$f":"IF($D151=\"\",\"\",INDEX(CUST!N:N,MATCH('All Bill Data Entry'!L151&'All Bill Data Entry'!N151,CUST!BD:BD,0)))","v":""},{"$f":"IF($B151=\"\",\"\",INDEX(Values!I:I,MATCH('All Bill Data Entry'!$B151,Values!G:G,0)))","v":""},{"$f":"IF($B151=\"\",\"\",INDEX(Values!J:J,MATCH('All Bill Data Entry'!$B151,Values!G:G,0)))","v":""},{"$f":"IF(D151=\"\",\"\",IF(AND(LEN(J151)=10,LEFT(J151,3)=\"000\"),IF(INDEX(PO!AE:AE,MATCH(CONCATENATE('All Bill Data Entry'!J151,'All Bill Data Entry'!K151),PO!AC:AC,0))<>\"\",\"N\",\"N\"),\"N\"))","v":""}]
["",null,null,null,null,null,null,"",null,null,null,{"$f":"IF(J152=\"\",\"\",INDEX(CUST!BC:BC,MATCH(INDEX(PO!AD:AD,MATCH(CONCATENATE('All Bill Data Entry'!J152,'All Bill Data Entry'!K152),PO!AC:AC,0)),CUST!I:I,0)))","v":""},{"$f":"IF(L152=\"\",\"\",INDEX(CUST!G:G,MATCH('All Bill Data Entry'!L152,CUST!B:B,0)))","v":""},"",null,null,null,null,null,null,{"$f":"IF($B152=\"\",\"\",INDEX(Values!H:H,MATCH('All Bill Data Entry'!$B152,Values!F:F,0)))","v":""},{"$f":"IF($D152=\"\",\"\",INDEX(CUST!N:N,MATCH('All Bill Data Entry'!L152&'All Bill Data Entry'!N152,CUST!BD:BD,0)))","v":""},{"$f":"IF($B152=\"\",\"\",INDEX(Values!I:I,MATCH('All Bill Data Entry'!$B152,Values!G:G,0)))","v":""},{"$f":"IF($B152=\"\",\"\",INDEX(Values!J:J,MATCH('All Bill Data Entry'!$B152,Values!G:G,0)))","v":""},{"$f":"IF(D152=\"\",\"\",IF(AND(LEN(J152)=10,LEFT(J152,3)=\"000\"),IF(INDEX(PO!AE:AE,MATCH(CONCATENATE('All Bill Data Entry'!J152,'All Bill Data Entry'!K152),PO!AC:AC,0))<>\"\",\"N\",\"N\"),\"N\"))","v":""}]
["",null,null,null,null,null,null,"",null,null,null,{"$f":"IF(J153=\"\",\"\",INDEX(CUST!BC:BC,MATCH(INDEX(PO!AD:AD,MATCH(CONCATENATE('All Bill Data Entry'!J153,'All Bill Data Entry'!K153),PO!AC:AC,0)),CUST!I:I,0)))","v":""},{"$f":"IF(L153=\"\",\"\",INDEX(CUST!G:G,MATCH('All Bill Data Entry'!L153,CUST!B:B,0)))","v":""},"",null,null,null,null,null,null,{"$f":"IF($B153=\"\",\"\",INDEX(Values!H:H,MATCH('All Bill Data Entry'!$B153,Values!F:F,0)))","v":""},{"$f":"IF($D153=\"\",\"\",INDEX(CUST!N:N,MATCH('All Bill Data Entry'!L153&'All Bill Data Entry'!N153,CUST!BD:BD,0)))","v":""},{"$f":"IF($B153=\"\",\"\",INDEX(Values!I:I,MATCH('All Bill Data Entry'!$B153,Values!G:G,0)))","v":""},{"$f":"IF($B153=\"\",\"\",INDEX(Values!J:J,MATCH('All Bill Data Entry'!$B153,Values!G:G,0)))","v":""},{"$f":"IF(D153=\"\",\"\",IF(AND(LEN(J153)=10,LEFT(J153,3)=\"000\"),IF(INDEX(PO!AE:AE,MATCH(CONCATENATE('All Bill Data Entry'!J153,'All Bill Data Entry'!K153),PO!AC:AC,0))<>\"\",\"N\",\"N\"),\"N\"))","v":""}]
["",null,null,null,null,null,null,"",null,null,null,{"$f":"IF(J154=\"\",\"\",INDEX(CUST!BC:BC,MATCH(INDEX(PO!AD:AD,MATCH(CONCATENATE('All Bill Data Entry'!J154,'All Bill Data Entry'!K154),PO!AC:AC,0)),CUST!I:I,0)))","v":""},{"$f":"IF(L154=\"\",\"\",INDEX(CUST!G:G,MATCH('All Bill Data Entry'!L154,CUST!B:B,0)))","v":""},"",null,null,null,null,null,null,{"$f":"IF($B154=\"\",\"\",INDEX(Values!H:H,MATCH('All Bill Data Entry'!$B154,Values!F:F,0)))","v":""},{"$f":"IF($D154=\"\",\"\",INDEX(CUST!N:N,MATCH('All Bill Data Entry'!L154&'All Bill Data Entry'!N154,CUST!BD:BD,0)))","v":""},{"$f":"IF($B154=\"\",\"\",INDEX(Values!I:I,MATCH('All Bill Data Entry'!$B154,Values!G:G,0)))","v":""},{"$f":"IF($B154=\"\",\"\",INDEX(Values!J:J,MATCH('All Bill Data Entry'!$B154,Values!G:G,0)))","v":""},{"$f":"IF(D154=\"\",\"\",IF(AND(LEN(J154)=10,LEFT(J154,3)=\"000\"),IF(INDEX(PO!AE:AE,MATCH(CONCATENATE('All Bill Data Entry'!J154,'All Bill Data Entry'!K154),PO!AC:AC,0))<>\"\",\"N\",\"N\"),\"N\"))","v":""}]
["",null,null,null,null,null,null,"",null,null,null,{"$f":"IF(J155=\"\",\"\",INDEX(CUST!BC:BC,MATCH(INDEX(PO!AD:AD,MATCH(CONCATENATE('All Bill Data Entry'!J155,'All Bill Data Entry'!K155),PO!AC:AC,0)),CUST!I:I,0)))","v":""},{"$f":"IF(L155=\"\",\"\",INDEX(CUST!G:G,MATCH('All Bill Data Entry'!L155,CUST!B:B,0)))","v":""},"",null,null,null,null,null,null,{"$f":"IF($B155=\"\",\"\",INDEX(Values!H:H,MATCH('All Bill Data Entry'!$B155,Values!F:F,0)))","v":""},{"$f":"IF($D155=\"\",\"\",INDEX(CUST!N:N,MATCH('All Bill Data Entry'!L155&'All Bill Data Entry'!N155,CUST!BD:BD,0)))","v":""},{"$f":"IF($B155=\"\",\"\",INDEX(Values!I:I,MATCH('All Bill Data Entry'!$B155,Values!G:G,0)))","v":""},{"$f":"IF($B155=\"\",\"\",INDEX(Values!J:J,MATCH('All Bill Data Entry'!$B155,Values!G:G,0)))","v":""},{"$f":"IF(D155=\"\",\"\",IF(AND(LEN(J155)=10,LEFT(J155,3)=\"000\"),IF(INDEX(PO!AE:AE,MATCH(CONCATENATE('All Bill Data Entry'!J155,'All Bill Data Entry'!K155),PO!AC:AC,0))<>\"\",\"N\",\"N\"),\"N\"))","v":""}]
["",null,null,null,null,null,null,"",null,null,null,{"$f":"IF(J156=\"\",\"\",INDEX(CUST!BC:BC,MATCH(INDEX(PO!AD:AD,MATCH(CONCATENATE('All Bill Data Entry'!J156,'All Bill Data Entry'!K156),PO!AC:AC,0)),CUST!I:I,0)))","v":""},{"$f":"IF(L156=\"\",\"\",INDEX(CUST!G:G,MATCH('All Bill Data Entry'!L156,CUST!B:B,0)))","v":""},"",null,null,null,null,null,null,{"$f":"IF($B156=\"\",\"\",INDEX(Values!H:H,MATCH('All Bill Data Entry'!$B156,Values!F:F,0)))","v":""},{"$f":"IF($D156=\"\",\"\",INDEX(CUST!N:N,MATCH('All Bill Data Entry'!L156&'All Bill Data Entry'!N156,CUST!BD:BD,0)))","v":""},{"$f":"IF($B156=\"\",\"\",INDEX(Values!I:I,MATCH('All Bill Data Entry'!$B156,Values!G:G,0)))","v":""},{"$f":"IF($B156=\"\",\"\",INDEX(Values!J:J,MATCH('All Bill Data Entry'!$B156,Values!G:G,0)))","v":""},{"$f":"IF(D156=\"\",\"\",IF(AND(LEN(J156)=10,LEFT(J156,3)=\"000\"),IF(INDEX(PO!AE:AE,MATCH(CONCATENATE('All Bill Data Entry'!J156,'All Bill Data Entry'!K156),PO!AC:AC,0))<>\"\",\"N\",\"N\"),\"N\"))","v":""}]
["",null,null,null,null,null,null,"",null,null,null,{"$f":"IF(J157=\"\",\"\",INDEX(CUST!BC:BC,MATCH(INDEX(PO!AD:AD,MATCH(CONCATENATE('All Bill Data Entry'!J157,'All Bill Data Entry'!K157),PO!AC:AC,0)),CUST!I:I,0)))","v":""},{"$f":"IF(L157=\"\",\"\",INDEX(CUST!G:G,MATCH('All Bill Data Entry'!L157,CUST!B:B,0)))","v":""},"",null,null,null,null,null,null,{"$f":"IF($B157=\"\",\"\",INDEX(Values!H:H,MATCH('All Bill Data Entry'!$B157,Values!F:F,0)))","v":""},{"$f":"IF($D157=\"\",\"\",INDEX(CUST!N:N,MATCH('All Bill Data Entry'!L157&'All Bill Data Entry'!N157,CUST!BD:BD,0)))","v":""},{"$f":"IF($B157=\"\",\"\",INDEX(Values!I:I,MATCH('All Bill Data Entry'!$B157,Values!G:G,0)))","v":""},{"$f":"IF($B157=\"\",\"\",INDEX(Values!J:J,MATCH('All Bill Data Entry'!$B157,Values!G:G,0)))","v":""},{"$f":"IF(D157=\"\",\"\",IF(AND(LEN(J157)=10,LEFT(J157,3)=\"000\"),IF(INDEX(PO!AE:AE,MATCH(CONCATENATE('All Bill Data Entry'!J157,'All Bill Data Entry'!K157),PO!AC:AC,0))<>\"\",\"N\",\"N\"),\"N\"))","v":""}]
["",null,null,null,null,null,null,"",null,null,null,{"$f":"IF(J158=\"\",\"\",INDEX(CUST!BC:BC,MATCH(INDEX(PO!AD:AD,MATCH(CONCATENATE('All Bill Data Entry'!J158,'All Bill Data Entry'!K158),PO!AC:AC,0)),CUST!I:I,0)))","v":""},{"$f":"IF(L158=\"\",\"\",INDEX(CUST!G:G,MATCH('All Bill Data Entry'!L158,CUST!B:B,0)))","v":""},"",null,null,null,null,null,null,{"$f":"IF($B158=\"\",\"\",INDEX(Values!H:H,MATCH('All Bill Data Entry'!$B158,Values!F:F,0)))","v":""},{"$f":"IF($D158=\"\",\"\",INDEX(CUST!N:N,MATCH('All Bill Data Entry'!L158&'All Bill Data Entry'!N158,CUST!BD:BD,0)))","v":""},{"$f":"IF($B158=\"\",\"\",INDEX(Values!I:I,MATCH('All Bill Data Entry'!$B158,Values!G:G,0)))","v":""},{"$f":"IF($B158=\"\",\"\",INDEX(Values!J:J,MATCH('All Bill Data Entry'!$B158,Values!G:G,0)))","v":""},{"$f":"IF(D158=\"\",\"\",IF(AND(LEN(J158)=10,LEFT(J158,3)=\"000\"),IF(INDEX(PO!AE:AE,MATCH(CONCATENATE('All Bill Data Entry'!J158,'All Bill Data Entry'!K158),PO!AC:AC,0))<>\"\",\"N\",\"N\"),\"N\"))","v":""}]
["",null,null,null,null,null,null,"",null,null,null,{"$f":"IF(J159=\"\",\"\",INDEX(CUST!BC:BC,MATCH(INDEX(PO!AD:AD,MATCH(CONCATENATE('All Bill Data Entry'!J159,'All Bill Data Entry'!K159),PO!AC:AC,0)),CUST!I:I,0)))","v":""},{"$f":"IF(L159=\"\",\"\",INDEX(CUST!G:G,MATCH('All Bill Data Entry'!L159,CUST!B:B,0)))","v":""},"",null,null,null,null,null,null,{"$f":"IF($B159=\"\",\"\",INDEX(Values!H:H,MATCH('All Bill Data Entry'!$B159,Values!F:F,0)))","v":""},{"$f":"IF($D159=\"\",\"\",INDEX(CUST!N:N,MATCH('All Bill Data Entry'!L159&'All Bill Data Entry'!N159,CUST!BD:BD,0)))","v":""},{"$f":"IF($B159=\"\",\"\",INDEX(Values!I:I,MATCH('All Bill Data Entry'!$B159,Values!G:G,0)))","v":""},{"$f":"IF($B159=\"\",\"\",INDEX(Values!J:J,MATCH('All Bill Data Entry'!$B159,Values!G:G,0)))","v":""},{"$f":"IF(D159=\"\",\"\",IF(AND(LEN(J159)=10,LEFT(J159,3)=\"000\"),IF(INDEX(PO!AE:AE,MATCH(CONCATENATE('All Bill Data Entry'!J159,'All Bill Data Entry'!K159),PO!AC:AC,0))<>\"\",\"N\",\"N\"),\"N\"))","v":""}]
["",null,null,null,null,null,null,"",null,null,null,{"$f":"IF(J160=\"\",\"\",INDEX(CUST!BC:BC,MATCH(INDEX(PO!AD:AD,MATCH(CONCATENATE('All Bill Data Entry'!J160,'All Bill Data Entry'!K160),PO!AC:AC,0)),CUST!I:I,0)))","v":""},{"$f":"IF(L160=\"\",\"\",INDEX(CUST!G:G,MATCH('All Bill Data Entry'!L160,CUST!B:B,0)))","v":""},"",null,null,null,null,null,null,{"$f":"IF($B160=\"\",\"\",INDEX(Values!H:H,MATCH('All Bill Data Entry'!$B160,Values!F:F,0)))","v":""},{"$f":"IF($D160=\"\",\"\",INDEX(CUST!N:N,MATCH('All Bill Data Entry'!L160&'All Bill Data Entry'!N160,CUST!BD:BD,0)))","v":""},{"$f":"IF($B160=\"\",\"\",INDEX(Values!I:I,MATCH('All Bill Data Entry'!$B160,Values!G:G,0)))","v":""},{"$f":"IF($B160=\"\",\"\",INDEX(Values!J:J,MATCH('All Bill Data Entry'!$B160,Values!G:G,0)))","v":""},{"$f":"IF(D160=\"\",\"\",IF(AND(LEN(J160)=10,LEFT(J160,3)=\"000\"),IF(INDEX(PO!AE:AE,MATCH(CONCATENATE('All Bill Data Entry'!J160,'All Bill Data Entry'!K160),PO!AC:AC,0))<>\"\",\"N\",\"N\"),\"N\"))","v":""}]
["",null,null,null,null,null,null,"",null,null,null,{"$f":"IF(J161=\"\",\"\",INDEX(CUST!BC:BC,MATCH(INDEX(PO!AD:AD,MATCH(CONCATENATE('All Bill Data Entry'!J161,'All Bill Data Entry'!K161),PO!AC:AC,0)),CUST!I:I,0)))","v":""},{"$f":"IF(L161=\"\",\"\",INDEX(CUST!G:G,MATCH('All Bill Data Entry'!L161,CUST!B:B,0)))","v":""},"",null,null,null,null,null,null,{"$f":"IF($B161=\"\",\"\",INDEX(Values!H:H,MATCH('All Bill Data Entry'!$B161,Values!F:F,0)))","v":""},{"$f":"IF($D161=\"\",\"\",INDEX(CUST!N:N,MATCH('All Bill Data Entry'!L161&'All Bill Data Entry'!N161,CUST!BD:BD,0)))","v":""},{"$f":"IF($B161=\"\",\"\",INDEX(Values!I:I,MATCH('All Bill Data Entry'!$B161,Values!G:G,0)))","v":""},{"$f":"IF($B161=\"\",\"\",INDEX(Values!J:J,MATCH('All Bill Data Entry'!$B161,Values!G:G,0)))","v":""},{"$f":"IF(D161=\"\",\"\",IF(AND(LEN(J161)=10,LEFT(J161,3)=\"000\"),IF(INDEX(PO!AE:AE,MATCH(CONCATENATE('All Bill Data Entry'!J161,'All Bill Data Entry'!K161),PO!AC:AC,0))<>\"\",\"N\",\"N\"),\"N\"))","v":""}]
["",null,null,null,null,null,null,"",null,null,null,{"$f":"IF(J162=\"\",\"\",INDEX(CUST!BC:BC,MATCH(INDEX(PO!AD:AD,MATCH(CONCATENATE('All Bill Data Entry'!J162,'All Bill Data Entry'!K162),PO!AC:AC,0)),CUST!I:I,0)))","v":""},{"$f":"IF(L162=\"\",\"\",INDEX(CUST!G:G,MATCH('All Bill Data Entry'!L162,CUST!B:B,0)))","v":""},"",null,null,null,null,null,null,{"$f":"IF($B162=\"\",\"\",INDEX(Values!H:H,MATCH('All Bill Data Entry'!$B162,Values!F:F,0)))","v":""},{"$f":"IF($D162=\"\",\"\",INDEX(CUST!N:N,MATCH('All Bill Data Entry'!L162&'All Bill Data Entry'!N162,CUST!BD:BD,0)))","v":""},{"$f":"IF($B162=\"\",\"\",INDEX(Values!I:I,MATCH('All Bill Data Entry'!$B162,Values!G:G,0)))","v":""},{"$f":"IF($B162=\"\",\"\",INDEX(Values!J:J,MATCH('All Bill Data Entry'!$B162,Values!G:G,0)))","v":""},{"$f":"IF(D162=\"\",\"\",IF(AND(LEN(J162)=10,LEFT(J162,3)=\"000\"),IF(INDEX(PO!AE:AE,MATCH(CONCATENATE('All Bill Data Entry'!J162,'All Bill Data Entry'!K162),PO!AC:AC,0))<>\"\",\"N\",\"N\"),\"N\"))","v":""}]
["",null,null,null,null,null,null,"",null,null,null,{"$f":"IF(J163=\"\",\"\",INDEX(CUST!BC:BC,MATCH(INDEX(PO!AD:AD,MATCH(CONCATENATE('All Bill Data Entry'!J163,'All Bill Data Entry'!K163),PO!AC:AC,0)),CUST!I:I,0)))","v":""},{"$f":"IF(L163=\"\",\"\",INDEX(CUST!G:G,MATCH('All Bill Data Entry'!L163,CUST!B:B,0)))","v":""},"",null,null,null,null,null,null,{"$f":"IF($B163=\"\",\"\",INDEX(Values!H:H,MATCH('All Bill Data Entry'!$B163,Values!F:F,0)))","v":""},{"$f":"IF($D163=\"\",\"\",INDEX(CUST!N:N,MATCH('All Bill Data Entry'!L163&'All Bill Data Entry'!N163,CUST!BD:BD,0)))","v":""},{"$f":"IF($B163=\"\",\"\",INDEX(Values!I:I,MATCH('All Bill Data Entry'!$B163,Values!G:G,0)))","v":""},{"$f":"IF($B163=\"\",\"\",INDEX(Values!J:J,MATCH('All Bill Data Entry'!$B163,Values!G:G,0)))","v":""},{"$f":"IF(D163=\"\",\"\",IF(AND(LEN(J163)=10,LEFT(J163,3)=\"000\"),IF(INDEX(PO!AE:AE,MATCH(CONCATENATE('All Bill Data Entry'!J163,'All Bill Data Entry'!K163),PO!AC:AC,0))<>\"\",\"N\",\"N\"),\"N\"))","v":""}]
["",null,null,null,null,null,null,"",null,null,null,{"$f":"IF(J164=\"\",\"\",INDEX(CUST!BC:BC,MATCH(INDEX(PO!AD:AD,MATCH(CONCATENATE('All Bill Data Entry'!J164,'All Bill Data Entry'!K164),PO!AC:AC,0)),CUST!I:I,0)))","v":""},{"$f":"IF(L164=\"\",\"\",INDEX(CUST!G:G,MATCH('All Bill Data Entry'!L164,CUST!B:B,0)))","v":""},"",null,null,null,null,null,null,{"$f":"IF($B164=\"\",\"\",INDEX(Values!H:H,MATCH('All Bill Data Entry'!$B164,Values!F:F,0)))","v":""},{"$f":"IF($D164=\"\",\"\",INDEX(CUST!N:N,MATCH('All Bill Data Entry'!L164&'All Bill Data Entry'!N164,CUST!BD:BD,0)))","v":""},{"$f":"IF($B164=\"\",\"\",INDEX(Values!I:I,MATCH('All Bill Data Entry'!$B164,Values!G:G,0)))","v":""},{"$f":"IF($B164=\"\",\"\",INDEX(Values!J:J,MATCH('All Bill Data Entry'!$B164,Values!G:G,0)))","v":""},{"$f":"IF(D164=\"\",\"\",IF(AND(LEN(J164)=10,LEFT(J164,3)=\"000\"),IF(INDEX(PO!AE:AE,MATCH(CONCATENATE('All Bill Data Entry'!J164,'All Bill Data Entry'!K164),PO!AC:AC,0))<>\"\",\"N\",\"N\"),\"N\"))","v":""}]
["",null,null,null,null,null,null,"",null,null,null,{"$f":"IF(J165=\"\",\"\",INDEX(CUST!BC:BC,MATCH(INDEX(PO!AD:AD,MATCH(CONCATENATE('All Bill Data Entry'!J165,'All Bill Data Entry'!K165),PO!AC:AC,0)),CUST!I:I,0)))","v":""},{"$f":"IF(L165=\"\",\"\",INDEX(CUST!G:G,MATCH('All Bill Data Entry'!L165,CUST!B:B,0)))","v":""},"",null,null,null,null,null,null,{"$f":"IF($B165=\"\",\"\",INDEX(Values!H:H,MATCH('All Bill Data Entry'!$B165,Values!F:F,0)))","v":""},{"$f":"IF($D165=\"\",\"\",INDEX(CUST!N:N,MATCH('All Bill Data Entry'!L165&'All Bill Data Entry'!N165,CUST!BD:BD,0)))","v":""},{"$f":"IF($B165=\"\",\"\",INDEX(Values!I:I,MATCH('All Bill Data Entry'!$B165,Values!G:G,0)))","v":""},{"$f":"IF($B165=\"\",\"\",INDEX(Values!J:J,MATCH('All Bill Data Entry'!$B165,Values!G:G,0)))","v":""},{"$f":"IF(D165=\"\",\"\",IF(AND(LEN(J165)=10,LEFT(J165,3)=\"000\"),IF(INDEX(PO!AE:AE,MATCH(CONCATENATE('All Bill Data Entry'!J165,'All Bill Data Entry'!K165),PO!AC:AC,0))<>\"\",\"N\",\"N\"),\"N\"))","v":""}]
["",null,null,null,null,null,null,"",null,null,null,{"$f":"IF(J166=\"\",\"\",INDEX(CUST!BC:BC,MATCH(INDEX(PO!AD:AD,MATCH(CONCATENATE('All Bill Data Entry'!J166,'All Bill Data Entry'!K166),PO!AC:AC,0)),CUST!I:I,0)))","v":""},{"$f":"IF(L166=\"\",\"\",INDEX(CUST!G:G,MATCH('All Bill Data Entry'!L166,CUST!B:B,0)))","v":""},"",null,null,null,null,null,null,{"$f":"IF($B166=\"\",\"\",INDEX(Values!H:H,MATCH('All Bill Data Entry'!$B166,Values!F:F,0)))","v":""},{"$f":"IF($D166=\"\",\"\",INDEX(CUST!N:N,MATCH('All Bill Data Entry'!L166&'All Bill Data Entry'!N166,CUST!BD:BD,0)))","v":""},{"$f":"IF($B166=\"\",\"\",INDEX(Values!I:I,MATCH('All Bill Data Entry'!$B166,Values!G:G,0)))","v":""},{"$f":"IF($B166=\"\",\"\",INDEX(Values!J:J,MATCH('All Bill Data Entry'!$B166,Values!G:G,0)))","v":""},{"$f":"IF(D166=\"\",\"\",IF(AND(LEN(J166)=10,LEFT(J166,3)=\"000\"),IF(INDEX(PO!AE:AE,MATCH(CONCATENATE('All Bill Data Entry'!J166,'All Bill Data Entry'!K166),PO!AC:AC,0))<>\"\",\"N\",\"N\"),\"N\"))","v":""}]
["",null,null,null,null,null,null,"",null,null,null,{"$f":"IF(J167=\"\",\"\",INDEX(CUST!BC:BC,MATCH(INDEX(PO!AD:AD,MATCH(CONCATENATE('All Bill Data Entry'!J167,'All Bill Data Entry'!K167),PO!AC:AC,0)),CUST!I:I,0)))","v":""},{"$f":"IF(L167=\"\",\"\",INDEX(CUST!G:G,MATCH('All Bill Data Entry'!L167,CUST!B:B,0)))","v":""},"",null,null,null,null,null,null,{"$f":"IF($B167=\"\",\"\",INDEX(Values!H:H,MATCH('All Bill Data Entry'!$B167,Values!F:F,0)))","v":""},{"$f":"IF($D167=\"\",\"\",INDEX(CUST!N:N,MATCH('All Bill Data Entry'!L167&'All Bill Data Entry'!N167,CUST!BD:BD,0)))","v":""},{"$f":"IF($B167=\"\",\"\",INDEX(Values!I:I,MATCH('All Bill Data Entry'!$B167,Values!G:G,0)))","v":""},{"$f":"IF($B167=\"\",\"\",INDEX(Values!J:J,MATCH('All Bill Data Entry'!$B167,Values!G:G,0)))","v":""},{"$f":"IF(D167=\"\",\"\",IF(AND(LEN(J167)=10,LEFT(J167,3)=\"000\"),IF(INDEX(PO!AE:AE,MATCH(CONCATENATE('All Bill Data Entry'!J167,'All Bill Data Entry'!K167),PO!AC:AC,0))<>\"\",\"N\",\"N\"),\"N\"))","v":""}]
["",null,null,null,null,null,null,"",null,null,null,{"$f":"IF(J168=\"\",\"\",INDEX(CUST!BC:BC,MATCH(INDEX(PO!AD:AD,MATCH(CONCATENATE('All Bill Data Entry'!J168,'All Bill Data Entry'!K168),PO!AC:AC,0)),CUST!I:I,0)))","v":""},{"$f":"IF(L168=\"\",\"\",INDEX(CUST!G:G,MATCH('All Bill Data Entry'!L168,CUST!B:B,0)))","v":""},"",null,null,null,null,null,null,{"$f":"IF($B168=\"\",\"\",INDEX(Values!H:H,MATCH('All Bill Data Entry'!$B168,Values!F:F,0)))","v":""},{"$f":"IF($D168=\"\",\"\",INDEX(CUST!N:N,MATCH('All Bill Data Entry'!L168&'All Bill Data Entry'!N168,CUST!BD:BD,0)))","v":""},{"$f":"IF($B168=\"\",\"\",INDEX(Values!I:I,MATCH('All Bill Data Entry'!$B168,Values!G:G,0)))","v":""},{"$f":"IF($B168=\"\",\"\",INDEX(Values!J:J,MATCH('All Bill Data Entry'!$B168,Values!G:G,0)))","v":""},{"$f":"IF(D168=\"\",\"\",IF(AND(LEN(J168)=10,LEFT(J168,3)=\"000\"),IF(INDEX(PO!AE:AE,MATCH(CONCATENATE('All Bill Data Entry'!J168,'All Bill Data Entry'!K168),PO!AC:AC,0))<>\"\",\"N\",\"N\"),\"N\"))","v":""}]
["",null,null,null,null,null,null,"",null,null,null,{"$f":"IF(J169=\"\",\"\",INDEX(CUST!BC:BC,MATCH(INDEX(PO!AD:AD,MATCH(CONCATENATE('All Bill Data Entry'!J169,'All Bill Data Entry'!K169),PO!AC:AC,0)),CUST!I:I,0)))","v":""},{"$f":"IF(L169=\"\",\"\",INDEX(CUST!G:G,MATCH('All Bill Data Entry'!L169,CUST!B:B,0)))","v":""},"",null,null,null,null,null,null,{"$f":"IF($B169=\"\",\"\",INDEX(Values!H:H,MATCH('All Bill Data Entry'!$B169,Values!F:F,0)))","v":""},{"$f":"IF($D169=\"\",\"\",INDEX(CUST!N:N,MATCH('All Bill Data Entry'!L169&'All Bill Data Entry'!N169,CUST!BD:BD,0)))","v":""},{"$f":"IF($B169=\"\",\"\",INDEX(Values!I:I,MATCH('All Bill Data Entry'!$B169,Values!G:G,0)))","v":""},{"$f":"IF($B169=\"\",\"\",INDEX(Values!J:J,MATCH('All Bill Data Entry'!$B169,Values!G:G,0)))","v":""},{"$f":"IF(D169=\"\",\"\",IF(AND(LEN(J169)=10,LEFT(J169,3)=\"000\"),IF(INDEX(PO!AE:AE,MATCH(CONCATENATE('All Bill Data Entry'!J169,'All Bill Data Entry'!K169),PO!AC:AC,0))<>\"\",\"N\",\"N\"),\"N\"))","v":""}]
["",null,null,null,null,null,null,"",null,null,null,{"$f":"IF(J170=\"\",\"\",INDEX(CUST!BC:BC,MATCH(INDEX(PO!AD:AD,MATCH(CONCATENATE('All Bill Data Entry'!J170,'All Bill Data Entry'!K170),PO!AC:AC,0)),CUST!I:I,0)))","v":""},{"$f":"IF(L170=\"\",\"\",INDEX(CUST!G:G,MATCH('All Bill Data Entry'!L170,CUST!B:B,0)))","v":""},"",null,null,null,null,null,null,{"$f":"IF($B170=\"\",\"\",INDEX(Values!H:H,MATCH('All Bill Data Entry'!$B170,Values!F:F,0)))","v":""},{"$f":"IF($D170=\"\",\"\",INDEX(CUST!N:N,MATCH('All Bill Data Entry'!L170&'All Bill Data Entry'!N170,CUST!BD:BD,0)))","v":""},{"$f":"IF($B170=\"\",\"\",INDEX(Values!I:I,MATCH('All Bill Data Entry'!$B170,Values!G:G,0)))","v":""},{"$f":"IF($B170=\"\",\"\",INDEX(Values!J:J,MATCH('All Bill Data Entry'!$B170,Values!G:G,0)))","v":""},{"$f":"IF(D170=\"\",\"\",IF(AND(LEN(J170)=10,LEFT(J170,3)=\"000\"),IF(INDEX(PO!AE:AE,MATCH(CONCATENATE('All Bill Data Entry'!J170,'All Bill Data Entry'!K170),PO!AC:AC,0))<>\"\",\"N\",\"N\"),\"N\"))","v":""}]
["",null,null,null,null,null,null,"",null,null,null,{"$f":"IF(J171=\"\",\"\",INDEX(CUST!BC:BC,MATCH(INDEX(PO!AD:AD,MATCH(CONCATENATE('All Bill Data Entry'!J171,'All Bill Data Entry'!K171),PO!AC:AC,0)),CUST!I:I,0)))","v":""},{"$f":"IF(L171=\"\",\"\",INDEX(CUST!G:G,MATCH('All Bill Data Entry'!L171,CUST!B:B,0)))","v":""},"",null,null,null,null,null,null,{"$f":"IF($B171=\"\",\"\",INDEX(Values!H:H,MATCH('All Bill Data Entry'!$B171,Values!F:F,0)))","v":""},{"$f":"IF($D171=\"\",\"\",INDEX(CUST!N:N,MATCH('All Bill Data Entry'!L171&'All Bill Data Entry'!N171,CUST!BD:BD,0)))","v":""},{"$f":"IF($B171=\"\",\"\",INDEX(Values!I:I,MATCH('All Bill Data Entry'!$B171,Values!G:G,0)))","v":""},{"$f":"IF($B171=\"\",\"\",INDEX(Values!J:J,MATCH('All Bill Data Entry'!$B171,Values!G:G,0)))","v":""},{"$f":"IF(D171=\"\",\"\",IF(AND(LEN(J171)=10,LEFT(J171,3)=\"000\"),IF(INDEX(PO!AE:AE,MATCH(CONCATENATE('All Bill Data Entry'!J171,'All Bill Data Entry'!K171),PO!AC:AC,0))<>\"\",\"N\",\"N\"),\"N\"))","v":""}]
["",null,null,null,null,null,null,"",null,null,null,{"$f":"IF(J172=\"\",\"\",INDEX(CUST!BC:BC,MATCH(INDEX(PO!AD:AD,MATCH(CONCATENATE('All Bill Data Entry'!J172,'All Bill Data Entry'!K172),PO!AC:AC,0)),CUST!I:I,0)))","v":""},{"$f":"IF(L172=\"\",\"\",INDEX(CUST!G:G,MATCH('All Bill Data Entry'!L172,CUST!B:B,0)))","v":""},"",null,null,null,null,null,null,{"$f":"IF($B172=\"\",\"\",INDEX(Values!H:H,MATCH('All Bill Data Entry'!$B172,Values!F:F,0)))","v":""},{"$f":"IF($D172=\"\",\"\",INDEX(CUST!N:N,MATCH('All Bill Data Entry'!L172&'All Bill Data Entry'!N172,CUST!BD:BD,0)))","v":""},{"$f":"IF($B172=\"\",\"\",INDEX(Values!I:I,MATCH('All Bill Data Entry'!$B172,Values!G:G,0)))","v":""},{"$f":"IF($B172=\"\",\"\",INDEX(Values!J:J,MATCH('All Bill Data Entry'!$B172,Values!G:G,0)))","v":""},{"$f":"IF(D172=\"\",\"\",IF(AND(LEN(J172)=10,LEFT(J172,3)=\"000\"),IF(INDEX(PO!AE:AE,MATCH(CONCATENATE('All Bill Data Entry'!J172,'All Bill Data Entry'!K172),PO!AC:AC,0))<>\"\",\"N\",\"N\"),\"N\"))","v":""}]
["",null,null,null,null,null,null,"",null,null,null,{"$f":"IF(J173=\"\",\"\",INDEX(CUST!BC:BC,MATCH(INDEX(PO!AD:AD,MATCH(CONCATENATE('All Bill Data Entry'!J173,'All Bill Data Entry'!K173),PO!AC:AC,0)),CUST!I:I,0)))","v":""},{"$f":"IF(L173=\"\",\"\",INDEX(CUST!G:G,MATCH('All Bill Data Entry'!L173,CUST!B:B,0)))","v":""},"",null,null,null,null,null,null,{"$f":"IF($B173=\"\",\"\",INDEX(Values!H:H,MATCH('All Bill Data Entry'!$B173,Values!F:F,0)))","v":""},{"$f":"IF($D173=\"\",\"\",INDEX(CUST!N:N,MATCH('All Bill Data Entry'!L173&'All Bill Data Entry'!N173,CUST!BD:BD,0)))","v":""},{"$f":"IF($B173=\"\",\"\",INDEX(Values!I:I,MATCH('All Bill Data Entry'!$B173,Values!G:G,0)))","v":""},{"$f":"IF($B173=\"\",\"\",INDEX(Values!J:J,MATCH('All Bill Data Entry'!$B173,Values!G:G,0)))","v":""},{"$f":"IF(D173=\"\",\"\",IF(AND(LEN(J173)=10,LEFT(J173,3)=\"000\"),IF(INDEX(PO!AE:AE,MATCH(CONCATENATE('All Bill Data Entry'!J173,'All Bill Data Entry'!K173),PO!AC:AC,0))<>\"\",\"N\",\"N\"),\"N\"))","v":""}]
["",null,null,null,null,null,null,"",null,null,null,{"$f":"IF(J174=\"\",\"\",INDEX(CUST!BC:BC,MATCH(INDEX(PO!AD:AD,MATCH(CONCATENATE('All Bill Data Entry'!J174,'All Bill Data Entry'!K174),PO!AC:AC,0)),CUST!I:I,0)))","v":""},{"$f":"IF(L174=\"\",\"\",INDEX(CUST!G:G,MATCH('All Bill Data Entry'!L174,CUST!B:B,0)))","v":""},"",null,null,null,null,null,null,{"$f":"IF($B174=\"\",\"\",INDEX(Values!H:H,MATCH('All Bill Data Entry'!$B174,Values!F:F,0)))","v":""},{"$f":"IF($D174=\"\",\"\",INDEX(CUST!N:N,MATCH('All Bill Data Entry'!L174&'All Bill Data Entry'!N174,CUST!BD:BD,0)))","v":""},{"$f":"IF($B174=\"\",\"\",INDEX(Values!I:I,MATCH('All Bill Data Entry'!$B174,Values!G:G,0)))","v":""},{"$f":"IF($B174=\"\",\"\",INDEX(Values!J:J,MATCH('All Bill Data Entry'!$B174,Values!G:G,0)))","v":""},{"$f":"IF(D174=\"\",\"\",IF(AND(LEN(J174)=10,LEFT(J174,3)=\"000\"),IF(INDEX(PO!AE:AE,MATCH(CONCATENATE('All Bill Data Entry'!J174,'All Bill Data Entry'!K174),PO!AC:AC,0))<>\"\",\"N\",\"N\"),\"N\"))","v":""}]
["",null,null,null,null,null,null,"",null,null,null,{"$f":"IF(J175=\"\",\"\",INDEX(CUST!BC:BC,MATCH(INDEX(PO!AD:AD,MATCH(CONCATENATE('All Bill Data Entry'!J175,'All Bill Data Entry'!K175),PO!AC:AC,0)),CUST!I:I,0)))","v":""},{"$f":"IF(L175=\"\",\"\",INDEX(CUST!G:G,MATCH('All Bill Data Entry'!L175,CUST!B:B,0)))","v":""},"",null,null,null,null,null,null,{"$f":"IF($B175=\"\",\"\",INDEX(Values!H:H,MATCH('All Bill Data Entry'!$B175,Values!F:F,0)))","v":""},{"$f":"IF($D175=\"\",\"\",INDEX(CUST!N:N,MATCH('All Bill Data Entry'!L175&'All Bill Data Entry'!N175,CUST!BD:BD,0)))","v":""},{"$f":"IF($B175=\"\",\"\",INDEX(Values!I:I,MATCH('All Bill Data Entry'!$B175,Values!G:G,0)))","v":""},{"$f":"IF($B175=\"\",\"\",INDEX(Values!J:J,MATCH('All Bill Data Entry'!$B175,Values!G:G,0)))","v":""},{"$f":"IF(D175=\"\",\"\",IF(AND(LEN(J175)=10,LEFT(J175,3)=\"000\"),IF(INDEX(PO!AE:AE,MATCH(CONCATENATE('All Bill Data Entry'!J175,'All Bill Data Entry'!K175),PO!AC:AC,0))<>\"\",\"N\",\"N\"),\"N\"))","v":""}]
["",null,null,null,null,null,null,"",null,null,null,{"$f":"IF(J176=\"\",\"\",INDEX(CUST!BC:BC,MATCH(INDEX(PO!AD:AD,MATCH(CONCATENATE('All Bill Data Entry'!J176,'All Bill Data Entry'!K176),PO!AC:AC,0)),CUST!I:I,0)))","v":""},{"$f":"IF(L176=\"\",\"\",INDEX(CUST!G:G,MATCH('All Bill Data Entry'!L176,CUST!B:B,0)))","v":""},"",null,null,null,null,null,null,{"$f":"IF($B176=\"\",\"\",INDEX(Values!H:H,MATCH('All Bill Data Entry'!$B176,Values!F:F,0)))","v":""},{"$f":"IF($D176=\"\",\"\",INDEX(CUST!N:N,MATCH('All Bill Data Entry'!L176&'All Bill Data Entry'!N176,CUST!BD:BD,0)))","v":""},{"$f":"IF($B176=\"\",\"\",INDEX(Values!I:I,MATCH('All Bill Data Entry'!$B176,Values!G:G,0)))","v":""},{"$f":"IF($B176=\"\",\"\",INDEX(Values!J:J,MATCH('All Bill Data Entry'!$B176,Values!G:G,0)))","v":""},{"$f":"IF(D176=\"\",\"\",IF(AND(LEN(J176)=10,LEFT(J176,3)=\"000\"),IF(INDEX(PO!AE:AE,MATCH(CONCATENATE('All Bill Data Entry'!J176,'All Bill Data Entry'!K176),PO!AC:AC,0))<>\"\",\"N\",\"N\"),\"N\"))","v":""}]
["",null,null,null,null,null,null,"",null,null,null,{"$f":"IF(J177=\"\",\"\",INDEX(CUST!BC:BC,MATCH(INDEX(PO!AD:AD,MATCH(CONCATENATE('All Bill Data Entry'!J177,'All Bill Data Entry'!K177),PO!AC:AC,0)),CUST!I:I,0)))","v":""},{"$f":"IF(L177=\"\",\"\",INDEX(CUST!G:G,MATCH('All Bill Data Entry'!L177,CUST!B:B,0)))","v":""},"",null,null,null,null,null,null,{"$f":"IF($B177=\"\",\"\",INDEX(Values!H:H,MATCH('All Bill Data Entry'!$B177,Values!F:F,0)))","v":""},{"$f":"IF($D177=\"\",\"\",INDEX(CUST!N:N,MATCH('All Bill Data Entry'!L177&'All Bill Data Entry'!N177,CUST!BD:BD,0)))","v":""},{"$f":"IF($B177=\"\",\"\",INDEX(Values!I:I,MATCH('All Bill Data Entry'!$B177,Values!G:G,0)))","v":""},{"$f":"IF($B177=\"\",\"\",INDEX(Values!J:J,MATCH('All Bill Data Entry'!$B177,Values!G:G,0)))","v":""},{"$f":"IF(D177=\"\",\"\",IF(AND(LEN(J177)=10,LEFT(J177,3)=\"000\"),IF(INDEX(PO!AE:AE,MATCH(CONCATENATE('All Bill Data Entry'!J177,'All Bill Data Entry'!K177),PO!AC:AC,0))<>\"\",\"N\",\"N\"),\"N\"))","v":""}]
["",null,null,null,null,null,null,"",null,null,null,{"$f":"IF(J178=\"\",\"\",INDEX(CUST!BC:BC,MATCH(INDEX(PO!AD:AD,MATCH(CONCATENATE('All Bill Data Entry'!J178,'All Bill Data Entry'!K178),PO!AC:AC,0)),CUST!I:I,0)))","v":""},{"$f":"IF(L178=\"\",\"\",INDEX(CUST!G:G,MATCH('All Bill Data Entry'!L178,CUST!B:B,0)))","v":""},"",null,null,null,null,null,null,{"$f":"IF($B178=\"\",\"\",INDEX(Values!H:H,MATCH('All Bill Data Entry'!$B178,Values!F:F,0)))","v":""},{"$f":"IF($D178=\"\",\"\",INDEX(CUST!N:N,MATCH('All Bill Data Entry'!L178&'All Bill Data Entry'!N178,CUST!BD:BD,0)))","v":""},{"$f":"IF($B178=\"\",\"\",INDEX(Values!I:I,MATCH('All Bill Data Entry'!$B178,Values!G:G,0)))","v":""},{"$f":"IF($B178=\"\",\"\",INDEX(Values!J:J,MATCH('All Bill Data Entry'!$B178,Values!G:G,0)))","v":""},{"$f":"IF(D178=\"\",\"\",IF(AND(LEN(J178)=10,LEFT(J178,3)=\"000\"),IF(INDEX(PO!AE:AE,MATCH(CONCATENATE('All Bill Data Entry'!J178,'All Bill Data Entry'!K178),PO!AC:AC,0))<>\"\",\"N\",\"N\"),\"N\"))","v":""}]
["",null,null,null,null,null,null,"",null,null,null,{"$f":"IF(J179=\"\",\"\",INDEX(CUST!BC:BC,MATCH(INDEX(PO!AD:AD,MATCH(CONCATENATE('All Bill Data Entry'!J179,'All Bill Data Entry'!K179),PO!AC:AC,0)),CUST!I:I,0)))","v":""},{"$f":"IF(L179=\"\",\"\",INDEX(CUST!G:G,MATCH('All Bill Data Entry'!L179,CUST!B:B,0)))","v":""},"",null,null,null,null,null,null,{"$f":"IF($B179=\"\",\"\",INDEX(Values!H:H,MATCH('All Bill Data Entry'!$B179,Values!F:F,0)))","v":""},{"$f":"IF($D179=\"\",\"\",INDEX(CUST!N:N,MATCH('All Bill Data Entry'!L179&'All Bill Data Entry'!N179,CUST!BD:BD,0)))","v":""},{"$f":"IF($B179=\"\",\"\",INDEX(Values!I:I,MATCH('All Bill Data Entry'!$B179,Values!G:G,0)))","v":""},{"$f":"IF($B179=\"\",\"\",INDEX(Values!J:J,MATCH('All Bill Data Entry'!$B179,Values!G:G,0)))","v":""},{"$f":"IF(D179=\"\",\"\",IF(AND(LEN(J179)=10,LEFT(J179,3)=\"000\"),IF(INDEX(PO!AE:AE,MATCH(CONCATENATE('All Bill Data Entry'!J179,'All Bill Data Entry'!K179),PO!AC:AC,0))<>\"\",\"N\",\"N\"),\"N\"))","v":""}]
["",null,null,null,null,null,null,"",null,null,null,{"$f":"IF(J180=\"\",\"\",INDEX(CUST!BC:BC,MATCH(INDEX(PO!AD:AD,MATCH(CONCATENATE('All Bill Data Entry'!J180,'All Bill Data Entry'!K180),PO!AC:AC,0)),CUST!I:I,0)))","v":""},{"$f":"IF(L180=\"\",\"\",INDEX(CUST!G:G,MATCH('All Bill Data Entry'!L180,CUST!B:B,0)))","v":""},"",null,null,null,null,null,null,{"$f":"IF($B180=\"\",\"\",INDEX(Values!H:H,MATCH('All Bill Data Entry'!$B180,Values!F:F,0)))","v":""},{"$f":"IF($D180=\"\",\"\",INDEX(CUST!N:N,MATCH('All Bill Data Entry'!L180&'All Bill Data Entry'!N180,CUST!BD:BD,0)))","v":""},{"$f":"IF($B180=\"\",\"\",INDEX(Values!I:I,MATCH('All Bill Data Entry'!$B180,Values!G:G,0)))","v":""},{"$f":"IF($B180=\"\",\"\",INDEX(Values!J:J,MATCH('All Bill Data Entry'!$B180,Values!G:G,0)))","v":""},{"$f":"IF(D180=\"\",\"\",IF(AND(LEN(J180)=10,LEFT(J180,3)=\"000\"),IF(INDEX(PO!AE:AE,MATCH(CONCATENATE('All Bill Data Entry'!J180,'All Bill Data Entry'!K180),PO!AC:AC,0))<>\"\",\"N\",\"N\"),\"N\"))","v":""}]
["",null,null,null,null,null,null,"",null,null,null,{"$f":"IF(J181=\"\",\"\",INDEX(CUST!BC:BC,MATCH(INDEX(PO!AD:AD,MATCH(CONCATENATE('All Bill Data Entry'!J181,'All Bill Data Entry'!K181),PO!AC:AC,0)),CUST!I:I,0)))","v":""},{"$f":"IF(L181=\"\",\"\",INDEX(CUST!G:G,MATCH('All Bill Data Entry'!L181,CUST!B:B,0)))","v":""},"",null,null,null,null,null,null,{"$f":"IF($B181=\"\",\"\",INDEX(Values!H:H,MATCH('All Bill Data Entry'!$B181,Values!F:F,0)))","v":""},{"$f":"IF($D181=\"\",\"\",INDEX(CUST!N:N,MATCH('All Bill Data Entry'!L181&'All Bill Data Entry'!N181,CUST!BD:BD,0)))","v":""},{"$f":"IF($B181=\"\",\"\",INDEX(Values!I:I,MATCH('All Bill Data Entry'!$B181,Values!G:G,0)))","v":""},{"$f":"IF($B181=\"\",\"\",INDEX(Values!J:J,MATCH('All Bill Data Entry'!$B181,Values!G:G,0)))","v":""},{"$f":"IF(D181=\"\",\"\",IF(AND(LEN(J181)=10,LEFT(J181,3)=\"000\"),IF(INDEX(PO!AE:AE,MATCH(CONCATENATE('All Bill Data Entry'!J181,'All Bill Data Entry'!K181),PO!AC:AC,0))<>\"\",\"N\",\"N\"),\"N\"))","v":""}]
["",null,null,null,null,null,null,"",null,null,null,{"$f":"IF(J182=\"\",\"\",INDEX(CUST!BC:BC,MATCH(INDEX(PO!AD:AD,MATCH(CONCATENATE('All Bill Data Entry'!J182,'All Bill Data Entry'!K182),PO!AC:AC,0)),CUST!I:I,0)))","v":""},{"$f":"IF(L182=\"\",\"\",INDEX(CUST!G:G,MATCH('All Bill Data Entry'!L182,CUST!B:B,0)))","v":""},"",null,null,null,null,null,null,{"$f":"IF($B182=\"\",\"\",INDEX(Values!H:H,MATCH('All Bill Data Entry'!$B182,Values!F:F,0)))","v":""},{"$f":"IF($D182=\"\",\"\",INDEX(CUST!N:N,MATCH('All Bill Data Entry'!L182&'All Bill Data Entry'!N182,CUST!BD:BD,0)))","v":""},{"$f":"IF($B182=\"\",\"\",INDEX(Values!I:I,MATCH('All Bill Data Entry'!$B182,Values!G:G,0)))","v":""},{"$f":"IF($B182=\"\",\"\",INDEX(Values!J:J,MATCH('All Bill Data Entry'!$B182,Values!G:G,0)))","v":""},{"$f":"IF(D182=\"\",\"\",IF(AND(LEN(J182)=10,LEFT(J182,3)=\"000\"),IF(INDEX(PO!AE:AE,MATCH(CONCATENATE('All Bill Data Entry'!J182,'All Bill Data Entry'!K182),PO!AC:AC,0))<>\"\",\"N\",\"N\"),\"N\"))","v":""}]
["",null,null,null,null,null,null,"",null,null,null,{"$f":"IF(J183=\"\",\"\",INDEX(CUST!BC:BC,MATCH(INDEX(PO!AD:AD,MATCH(CONCATENATE('All Bill Data Entry'!J183,'All Bill Data Entry'!K183),PO!AC:AC,0)),CUST!I:I,0)))","v":""},{"$f":"IF(L183=\"\",\"\",INDEX(CUST!G:G,MATCH('All Bill Data Entry'!L183,CUST!B:B,0)))","v":""},"",null,null,null,null,null,null,{"$f":"IF($B183=\"\",\"\",INDEX(Values!H:H,MATCH('All Bill Data Entry'!$B183,Values!F:F,0)))","v":""},{"$f":"IF($D183=\"\",\"\",INDEX(CUST!N:N,MATCH('All Bill Data Entry'!L183&'All Bill Data Entry'!N183,CUST!BD:BD,0)))","v":""},{"$f":"IF($B183=\"\",\"\",INDEX(Values!I:I,MATCH('All Bill Data Entry'!$B183,Values!G:G,0)))","v":""},{"$f":"IF($B183=\"\",\"\",INDEX(Values!J:J,MATCH('All Bill Data Entry'!$B183,Values!G:G,0)))","v":""},{"$f":"IF(D183=\"\",\"\",IF(AND(LEN(J183)=10,LEFT(J183,3)=\"000\"),IF(INDEX(PO!AE:AE,MATCH(CONCATENATE('All Bill Data Entry'!J183,'All Bill Data Entry'!K183),PO!AC:AC,0))<>\"\",\"N\",\"N\"),\"N\"))","v":""}]
["",null,null,null,null,null,null,"",null,null,null,{"$f":"IF(J184=\"\",\"\",INDEX(CUST!BC:BC,MATCH(INDEX(PO!AD:AD,MATCH(CONCATENATE('All Bill Data Entry'!J184,'All Bill Data Entry'!K184),PO!AC:AC,0)),CUST!I:I,0)))","v":""},{"$f":"IF(L184=\"\",\"\",INDEX(CUST!G:G,MATCH('All Bill Data Entry'!L184,CUST!B:B,0)))","v":""},"",null,null,null,null,null,null,{"$f":"IF($B184=\"\",\"\",INDEX(Values!H:H,MATCH('All Bill Data Entry'!$B184,Values!F:F,0)))","v":""},{"$f":"IF($D184=\"\",\"\",INDEX(CUST!N:N,MATCH('All Bill Data Entry'!L184&'All Bill Data Entry'!N184,CUST!BD:BD,0)))","v":""},{"$f":"IF($B184=\"\",\"\",INDEX(Values!I:I,MATCH('All Bill Data Entry'!$B184,Values!G:G,0)))","v":""},{"$f":"IF($B184=\"\",\"\",INDEX(Values!J:J,MATCH('All Bill Data Entry'!$B184,Values!G:G,0)))","v":""},{"$f":"IF(D184=\"\",\"\",IF(AND(LEN(J184)=10,LEFT(J184,3)=\"000\"),IF(INDEX(PO!AE:AE,MATCH(CONCATENATE('All Bill Data Entry'!J184,'All Bill Data Entry'!K184),PO!AC:AC,0))<>\"\",\"N\",\"N\"),\"N\"))","v":""}]
["",null,null,null,null,null,null,"",null,null,null,{"$f":"IF(J185=\"\",\"\",INDEX(CUST!BC:BC,MATCH(INDEX(PO!AD:AD,MATCH(CONCATENATE('All Bill Data Entry'!J185,'All Bill Data Entry'!K185),PO!AC:AC,0)),CUST!I:I,0)))","v":""},{"$f":"IF(L185=\"\",\"\",INDEX(CUST!G:G,MATCH('All Bill Data Entry'!L185,CUST!B:B,0)))","v":""},"",null,null,null,null,null,null,{"$f":"IF($B185=\"\",\"\",INDEX(Values!H:H,MATCH('All Bill Data Entry'!$B185,Values!F:F,0)))","v":""},{"$f":"IF($D185=\"\",\"\",INDEX(CUST!N:N,MATCH('All Bill Data Entry'!L185&'All Bill Data Entry'!N185,CUST!BD:BD,0)))","v":""},{"$f":"IF($B185=\"\",\"\",INDEX(Values!I:I,MATCH('All Bill Data Entry'!$B185,Values!G:G,0)))","v":""},{"$f":"IF($B185=\"\",\"\",INDEX(Values!J:J,MATCH('All Bill Data Entry'!$B185,Values!G:G,0)))","v":""},{"$f":"IF(D185=\"\",\"\",IF(AND(LEN(J185)=10,LEFT(J185,3)=\"000\"),IF(INDEX(PO!AE:AE,MATCH(CONCATENATE('All Bill Data Entry'!J185,'All Bill Data Entry'!K185),PO!AC:AC,0))<>\"\",\"N\",\"N\"),\"N\"))","v":""}]
["",null,null,null,null,null,null,"",null,null,null,{"$f":"IF(J186=\"\",\"\",INDEX(CUST!BC:BC,MATCH(INDEX(PO!AD:AD,MATCH(CONCATENATE('All Bill Data Entry'!J186,'All Bill Data Entry'!K186),PO!AC:AC,0)),CUST!I:I,0)))","v":""},{"$f":"IF(L186=\"\",\"\",INDEX(CUST!G:G,MATCH('All Bill Data Entry'!L186,CUST!B:B,0)))","v":""},"",null,null,null,null,null,null,{"$f":"IF($B186=\"\",\"\",INDEX(Values!H:H,MATCH('All Bill Data Entry'!$B186,Values!F:F,0)))","v":""},{"$f":"IF($D186=\"\",\"\",INDEX(CUST!N:N,MATCH('All Bill Data Entry'!L186&'All Bill Data Entry'!N186,CUST!BD:BD,0)))","v":""},{"$f":"IF($B186=\"\",\"\",INDEX(Values!I:I,MATCH('All Bill Data Entry'!$B186,Values!G:G,0)))","v":""},{"$f":"IF($B186=\"\",\"\",INDEX(Values!J:J,MATCH('All Bill Data Entry'!$B186,Values!G:G,0)))","v":""},{"$f":"IF(D186=\"\",\"\",IF(AND(LEN(J186)=10,LEFT(J186,3)=\"000\"),IF(INDEX(PO!AE:AE,MATCH(CONCATENATE('All Bill Data Entry'!J186,'All Bill Data Entry'!K186),PO!AC:AC,0))<>\"\",\"N\",\"N\"),\"N\"))","v":""}]
["",null,null,null,null,null,null,"",null,null,null,{"$f":"IF(J187=\"\",\"\",INDEX(CUST!BC:BC,MATCH(INDEX(PO!AD:AD,MATCH(CONCATENATE('All Bill Data Entry'!J187,'All Bill Data Entry'!K187),PO!AC:AC,0)),CUST!I:I,0)))","v":""},{"$f":"IF(L187=\"\",\"\",INDEX(CUST!G:G,MATCH('All Bill Data Entry'!L187,CUST!B:B,0)))","v":""},"",null,null,null,null,null,null,{"$f":"IF($B187=\"\",\"\",INDEX(Values!H:H,MATCH('All Bill Data Entry'!$B187,Values!F:F,0)))","v":""},{"$f":"IF($D187=\"\",\"\",INDEX(CUST!N:N,MATCH('All Bill Data Entry'!L187&'All Bill Data Entry'!N187,CUST!BD:BD,0)))","v":""},{"$f":"IF($B187=\"\",\"\",INDEX(Values!I:I,MATCH('All Bill Data Entry'!$B187,Values!G:G,0)))","v":""},{"$f":"IF($B187=\"\",\"\",INDEX(Values!J:J,MATCH('All Bill Data Entry'!$B187,Values!G:G,0)))","v":""},{"$f":"IF(D187=\"\",\"\",IF(AND(LEN(J187)=10,LEFT(J187,3)=\"000\"),IF(INDEX(PO!AE:AE,MATCH(CONCATENATE('All Bill Data Entry'!J187,'All Bill Data Entry'!K187),PO!AC:AC,0))<>\"\",\"N\",\"N\"),\"N\"))","v":""}]
["",null,null,null,null,null,null,"",null,null,null,{"$f":"IF(J188=\"\",\"\",INDEX(CUST!BC:BC,MATCH(INDEX(PO!AD:AD,MATCH(CONCATENATE('All Bill Data Entry'!J188,'All Bill Data Entry'!K188),PO!AC:AC,0)),CUST!I:I,0)))","v":""},{"$f":"IF(L188=\"\",\"\",INDEX(CUST!G:G,MATCH('All Bill Data Entry'!L188,CUST!B:B,0)))","v":""},"",null,null,null,null,null,null,{"$f":"IF($B188=\"\",\"\",INDEX(Values!H:H,MATCH('All Bill Data Entry'!$B188,Values!F:F,0)))","v":""},{"$f":"IF($D188=\"\",\"\",INDEX(CUST!N:N,MATCH('All Bill Data Entry'!L188&'All Bill Data Entry'!N188,CUST!BD:BD,0)))","v":""},{"$f":"IF($B188=\"\",\"\",INDEX(Values!I:I,MATCH('All Bill Data Entry'!$B188,Values!G:G,0)))","v":""},{"$f":"IF($B188=\"\",\"\",INDEX(Values!J:J,MATCH('All Bill Data Entry'!$B188,Values!G:G,0)))","v":""},{"$f":"IF(D188=\"\",\"\",IF(AND(LEN(J188)=10,LEFT(J188,3)=\"000\"),IF(INDEX(PO!AE:AE,MATCH(CONCATENATE('All Bill Data Entry'!J188,'All Bill Data Entry'!K188),PO!AC:AC,0))<>\"\",\"N\",\"N\"),\"N\"))","v":""}]
["",null,null,null,null,null,null,"",null,null,null,{"$f":"IF(J189=\"\",\"\",INDEX(CUST!BC:BC,MATCH(INDEX(PO!AD:AD,MATCH(CONCATENATE('All Bill Data Entry'!J189,'All Bill Data Entry'!K189),PO!AC:AC,0)),CUST!I:I,0)))","v":""},{"$f":"IF(L189=\"\",\"\",INDEX(CUST!G:G,MATCH('All Bill Data Entry'!L189,CUST!B:B,0)))","v":""},"",null,null,null,null,null,null,{"$f":"IF($B189=\"\",\"\",INDEX(Values!H:H,MATCH('All Bill Data Entry'!$B189,Values!F:F,0)))","v":""},{"$f":"IF($D189=\"\",\"\",INDEX(CUST!N:N,MATCH('All Bill Data Entry'!L189&'All Bill Data Entry'!N189,CUST!BD:BD,0)))","v":""},{"$f":"IF($B189=\"\",\"\",INDEX(Values!I:I,MATCH('All Bill Data Entry'!$B189,Values!G:G,0)))","v":""},{"$f":"IF($B189=\"\",\"\",INDEX(Values!J:J,MATCH('All Bill Data Entry'!$B189,Values!G:G,0)))","v":""},{"$f":"IF(D189=\"\",\"\",IF(AND(LEN(J189)=10,LEFT(J189,3)=\"000\"),IF(INDEX(PO!AE:AE,MATCH(CONCATENATE('All Bill Data Entry'!J189,'All Bill Data Entry'!K189),PO!AC:AC,0))<>\"\",\"N\",\"N\"),\"N\"))","v":""}]
["",null,null,null,null,null,null,"",null,null,null,{"$f":"IF(J190=\"\",\"\",INDEX(CUST!BC:BC,MATCH(INDEX(PO!AD:AD,MATCH(CONCATENATE('All Bill Data Entry'!J190,'All Bill Data Entry'!K190),PO!AC:AC,0)),CUST!I:I,0)))","v":""},{"$f":"IF(L190=\"\",\"\",INDEX(CUST!G:G,MATCH('All Bill Data Entry'!L190,CUST!B:B,0)))","v":""},"",null,null,null,null,null,null,{"$f":"IF($B190=\"\",\"\",INDEX(Values!H:H,MATCH('All Bill Data Entry'!$B190,Values!F:F,0)))","v":""},{"$f":"IF($D190=\"\",\"\",INDEX(CUST!N:N,MATCH('All Bill Data Entry'!L190&'All Bill Data Entry'!N190,CUST!BD:BD,0)))","v":""},{"$f":"IF($B190=\"\",\"\",INDEX(Values!I:I,MATCH('All Bill Data Entry'!$B190,Values!G:G,0)))","v":""},{"$f":"IF($B190=\"\",\"\",INDEX(Values!J:J,MATCH('All Bill Data Entry'!$B190,Values!G:G,0)))","v":""},{"$f":"IF(D190=\"\",\"\",IF(AND(LEN(J190)=10,LEFT(J190,3)=\"000\"),IF(INDEX(PO!AE:AE,MATCH(CONCATENATE('All Bill Data Entry'!J190,'All Bill Data Entry'!K190),PO!AC:AC,0))<>\"\",\"N\",\"N\"),\"N\"))","v":""}]
["",null,null,null,null,null,null,"",null,null,null,{"$f":"IF(J191=\"\",\"\",INDEX(CUST!BC:BC,MATCH(INDEX(PO!AD:AD,MATCH(CONCATENATE('All Bill Data Entry'!J191,'All Bill Data Entry'!K191),PO!AC:AC,0)),CUST!I:I,0)))","v":""},{"$f":"IF(L191=\"\",\"\",INDEX(CUST!G:G,MATCH('All Bill Data Entry'!L191,CUST!B:B,0)))","v":""},"",null,null,null,null,null,null,{"$f":"IF($B191=\"\",\"\",INDEX(Values!H:H,MATCH('All Bill Data Entry'!$B191,Values!F:F,0)))","v":""},{"$f":"IF($D191=\"\",\"\",INDEX(CUST!N:N,MATCH('All Bill Data Entry'!L191&'All Bill Data Entry'!N191,CUST!BD:BD,0)))","v":""},{"$f":"IF($B191=\"\",\"\",INDEX(Values!I:I,MATCH('All Bill Data Entry'!$B191,Values!G:G,0)))","v":""},{"$f":"IF($B191=\"\",\"\",INDEX(Values!J:J,MATCH('All Bill Data Entry'!$B191,Values!G:G,0)))","v":""},{"$f":"IF(D191=\"\",\"\",IF(AND(LEN(J191)=10,LEFT(J191,3)=\"000\"),IF(INDEX(PO!AE:AE,MATCH(CONCATENATE('All Bill Data Entry'!J191,'All Bill Data Entry'!K191),PO!AC:AC,0))<>\"\",\"N\",\"N\"),\"N\"))","v":""}]
["",null,null,null,null,null,null,"",null,null,null,{"$f":"IF(J192=\"\",\"\",INDEX(CUST!BC:BC,MATCH(INDEX(PO!AD:AD,MATCH(CONCATENATE('All Bill Data Entry'!J192,'All Bill Data Entry'!K192),PO!AC:AC,0)),CUST!I:I,0)))","v":""},{"$f":"IF(L192=\"\",\"\",INDEX(CUST!G:G,MATCH('All Bill Data Entry'!L192,CUST!B:B,0)))","v":""},{"$f":"IF(OR(M192=\"INTERNAL\",M192=\"COMPONENT\"),1,\"\")","v":""},null,null,null,null,null,null,{"$f":"IF($B192=\"\",\"\",INDEX(Values!H:H,MATCH('All Bill Data Entry'!$B192,Values!F:F,0)))","v":""},{"$f":"IF($D192=\"\",\"\",INDEX(CUST!N:N,MATCH('All Bill Data Entry'!L192&'All Bill Data Entry'!N192,CUST!BD:BD,0)))","v":""},{"$f":"IF($B192=\"\",\"\",INDEX(Values!I:I,MATCH('All Bill Data Entry'!$B192,Values!G:G,0)))","v":""},{"$f":"IF($B192=\"\",\"\",INDEX(Values!J:J,MATCH('All Bill Data Entry'!$B192,Values!G:G,0)))","v":""},{"$f":"IF(D192=\"\",\"\",IF(AND(LEN(J192)=10,LEFT(J192,3)=\"000\"),IF(INDEX(PO!AE:AE,MATCH(CONCATENATE('All Bill Data Entry'!J192,'All Bill Data Entry'!K192),PO!AC:AC,0))<>\"\",\"N\",\"N\"),\"N\"))","v":""}]
["",null,null,null,null,null,null,"",null,null,null,{"$f":"IF(J193=\"\",\"\",INDEX(CUST!BC:BC,MATCH(INDEX(PO!AD:AD,MATCH(CONCATENATE('All Bill Data Entry'!J193,'All Bill Data Entry'!K193),PO!AC:AC,0)),CUST!I:I,0)))","v":""},{"$f":"IF(L193=\"\",\"\",INDEX(CUST!G:G,MATCH('All Bill Data Entry'!L193,CUST!B:B,0)))","v":""},"",null,null,null,null,null,null,{"$f":"IF($B193=\"\",\"\",INDEX(Values!H:H,MATCH('All Bill Data Entry'!$B193,Values!F:F,0)))","v":""},{"$f":"IF($D193=\"\",\"\",INDEX(CUST!N:N,MATCH('All Bill Data Entry'!L193&'All Bill Data Entry'!N193,CUST!BD:BD,0)))","v":""},{"$f":"IF($B193=\"\",\"\",INDEX(Values!I:I,MATCH('All Bill Data Entry'!$B193,Values!G:G,0)))","v":""},{"$f":"IF($B193=\"\",\"\",INDEX(Values!J:J,MATCH('All Bill Data Entry'!$B193,Values!G:G,0)))","v":""},{"$f":"IF(D193=\"\",\"\",IF(AND(LEN(J193)=10,LEFT(J193,3)=\"000\"),IF(INDEX(PO!AE:AE,MATCH(CONCATENATE('All Bill Data Entry'!J193,'All Bill Data Entry'!K193),PO!AC:AC,0))<>\"\",\"N\",\"N\"),\"N\"))","v":""}]
["",null,null,null,null,null,null,"",null,null,null,{"$f":"IF(J194=\"\",\"\",INDEX(CUST!BC:BC,MATCH(INDEX(PO!AD:AD,MATCH(CONCATENATE('All Bill Data Entry'!J194,'All Bill Data Entry'!K194),PO!AC:AC,0)),CUST!I:I,0)))","v":""},{"$f":"IF(L194=\"\",\"\",INDEX(CUST!G:G,MATCH('All Bill Data Entry'!L194,CUST!B:B,0)))","v":""},"",null,null,null,null,null,null,{"$f":"IF($B194=\"\",\"\",INDEX(Values!H:H,MATCH('All Bill Data Entry'!$B194,Values!F:F,0)))","v":""},{"$f":"IF($D194=\"\",\"\",INDEX(CUST!N:N,MATCH('All Bill Data Entry'!L194&'All Bill Data Entry'!N194,CUST!BD:BD,0)))","v":""},{"$f":"IF($B194=\"\",\"\",INDEX(Values!I:I,MATCH('All Bill Data Entry'!$B194,Values!G:G,0)))","v":""},{"$f":"IF($B194=\"\",\"\",INDEX(Values!J:J,MATCH('All Bill Data Entry'!$B194,Values!G:G,0)))","v":""},{"$f":"IF(D194=\"\",\"\",IF(AND(LEN(J194)=10,LEFT(J194,3)=\"000\"),IF(INDEX(PO!AE:AE,MATCH(CONCATENATE('All Bill Data Entry'!J194,'All Bill Data Entry'!K194),PO!AC:AC,0))<>\"\",\"N\",\"N\"),\"N\"))","v":""}]
["",null,null,null,null,null,null,"",null,null,null,{"$f":"IF(J195=\"\",\"\",INDEX(CUST!BC:BC,MATCH(INDEX(PO!AD:AD,MATCH(CONCATENATE('All Bill Data Entry'!J195,'All Bill Data Entry'!K195),PO!AC:AC,0)),CUST!I:I,0)))","v":""},{"$f":"IF(L195=\"\",\"\",INDEX(CUST!G:G,MATCH('All Bill Data Entry'!L195,CUST!B:B,0)))","v":""},"",null,null,null,null,null,null,{"$f":"IF($B195=\"\",\"\",INDEX(Values!H:H,MATCH('All Bill Data Entry'!$B195,Values!F:F,0)))","v":""},{"$f":"IF($D195=\"\",\"\",INDEX(CUST!N:N,MATCH('All Bill Data Entry'!L195&'All Bill Data Entry'!N195,CUST!BD:BD,0)))","v":""},{"$f":"IF($B195=\"\",\"\",INDEX(Values!I:I,MATCH('All Bill Data Entry'!$B195,Values!G:G,0)))","v":""},{"$f":"IF($B195=\"\",\"\",INDEX(Values!J:J,MATCH('All Bill Data Entry'!$B195,Values!G:G,0)))","v":""},{"$f":"IF(D195=\"\",\"\",IF(AND(LEN(J195)=10,LEFT(J195,3)=\"000\"),IF(INDEX(PO!AE:AE,MATCH(CONCATENATE('All Bill Data Entry'!J195,'All Bill Data Entry'!K195),PO!AC:AC,0))<>\"\",\"N\",\"N\"),\"N\"))","v":""}]
["",null,null,null,null,null,null,"",null,null,null,{"$f":"IF(J196=\"\",\"\",INDEX(CUST!BC:BC,MATCH(INDEX(PO!AD:AD,MATCH(CONCATENATE('All Bill Data Entry'!J196,'All Bill Data Entry'!K196),PO!AC:AC,0)),CUST!I:I,0)))","v":""},{"$f":"IF(L196=\"\",\"\",INDEX(CUST!G:G,MATCH('All Bill Data Entry'!L196,CUST!B:B,0)))","v":""},"",null,null,null,null,null,null,{"$f":"IF($B196=\"\",\"\",INDEX(Values!H:H,MATCH('All Bill Data Entry'!$B196,Values!F:F,0)))","v":""},{"$f":"IF($D196=\"\",\"\",INDEX(CUST!N:N,MATCH('All Bill Data Entry'!L196&'All Bill Data Entry'!N196,CUST!BD:BD,0)))","v":""},{"$f":"IF($B196=\"\",\"\",INDEX(Values!I:I,MATCH('All Bill Data Entry'!$B196,Values!G:G,0)))","v":""},{"$f":"IF($B196=\"\",\"\",INDEX(Values!J:J,MATCH('All Bill Data Entry'!$B196,Values!G:G,0)))","v":""},{"$f":"IF(D196=\"\",\"\",IF(AND(LEN(J196)=10,LEFT(J196,3)=\"000\"),IF(INDEX(PO!AE:AE,MATCH(CONCATENATE('All Bill Data Entry'!J196,'All Bill Data Entry'!K196),PO!AC:AC,0))<>\"\",\"N\",\"N\"),\"N\"))","v":""}]
["",null,null,null,null,null,null,"",null,null,null,{"$f":"IF(J197=\"\",\"\",INDEX(CUST!BC:BC,MATCH(INDEX(PO!AD:AD,MATCH(CONCATENATE('All Bill Data Entry'!J197,'All Bill Data Entry'!K197),PO!AC:AC,0)),CUST!I:I,0)))","v":""},{"$f":"IF(L197=\"\",\"\",INDEX(CUST!G:G,MATCH('All Bill Data Entry'!L197,CUST!B:B,0)))","v":""},"",null,null,null,null,null,null,{"$f":"IF($B197=\"\",\"\",INDEX(Values!H:H,MATCH('All Bill Data Entry'!$B197,Values!F:F,0)))","v":""},{"$f":"IF($D197=\"\",\"\",INDEX(CUST!N:N,MATCH('All Bill Data Entry'!L197&'All Bill Data Entry'!N197,CUST!BD:BD,0)))","v":""},{"$f":"IF($B197=\"\",\"\",INDEX(Values!I:I,MATCH('All Bill Data Entry'!$B197,Values!G:G,0)))","v":""},{"$f":"IF($B197=\"\",\"\",INDEX(Values!J:J,MATCH('All Bill Data Entry'!$B197,Values!G:G,0)))","v":""},{"$f":"IF(D197=\"\",\"\",IF(AND(LEN(J197)=10,LEFT(J197,3)=\"000\"),IF(INDEX(PO!AE:AE,MATCH(CONCATENATE('All Bill Data Entry'!J197,'All Bill Data Entry'!K197),PO!AC:AC,0))<>\"\",\"N\",\"N\"),\"N\"))","v":""}]
["",null,null,null,null,null,null,"",null,null,null,{"$f":"IF(J198=\"\",\"\",INDEX(CUST!BC:BC,MATCH(INDEX(PO!AD:AD,MATCH(CONCATENATE('All Bill Data Entry'!J198,'All Bill Data Entry'!K198),PO!AC:AC,0)),CUST!I:I,0)))","v":""},{"$f":"IF(L198=\"\",\"\",INDEX(CUST!G:G,MATCH('All Bill Data Entry'!L198,CUST!B:B,0)))","v":""},"",null,null,null,null,null,null,{"$f":"IF($B198=\"\",\"\",INDEX(Values!H:H,MATCH('All Bill Data Entry'!$B198,Values!F:F,0)))","v":""},{"$f":"IF($D198=\"\",\"\",INDEX(CUST!N:N,MATCH('All Bill Data Entry'!L198&'All Bill Data Entry'!N198,CUST!BD:BD,0)))","v":""},{"$f":"IF($B198=\"\",\"\",INDEX(Values!I:I,MATCH('All Bill Data Entry'!$B198,Values!G:G,0)))","v":""},{"$f":"IF($B198=\"\",\"\",INDEX(Values!J:J,MATCH('All Bill Data Entry'!$B198,Values!G:G,0)))","v":""},{"$f":"IF(D198=\"\",\"\",IF(AND(LEN(J198)=10,LEFT(J198,3)=\"000\"),IF(INDEX(PO!AE:AE,MATCH(CONCATENATE('All Bill Data Entry'!J198,'All Bill Data Entry'!K198),PO!AC:AC,0))<>\"\",\"N\",\"N\"),\"N\"))","v":""}]
["",null,null,null,null,null,null,"",null,null,null,{"$f":"IF(J199=\"\",\"\",INDEX(CUST!BC:BC,MATCH(INDEX(PO!AD:AD,MATCH(CONCATENATE('All Bill Data Entry'!J199,'All Bill Data Entry'!K199),PO!AC:AC,0)),CUST!I:I,0)))","v":""},{"$f":"IF(L199=\"\",\"\",INDEX(CUST!G:G,MATCH('All Bill Data Entry'!L199,CUST!B:B,0)))","v":""},"",null,null,null,null,null,null,{"$f":"IF($B199=\"\",\"\",INDEX(Values!H:H,MATCH('All Bill Data Entry'!$B199,Values!F:F,0)))","v":""},{"$f":"IF($D199=\"\",\"\",INDEX(CUST!N:N,MATCH('All Bill Data Entry'!L199&'All Bill Data Entry'!N199,CUST!BD:BD,0)))","v":""},{"$f":"IF($B199=\"\",\"\",INDEX(Values!I:I,MATCH('All Bill Data Entry'!$B199,Values!G:G,0)))","v":""},{"$f":"IF($B199=\"\",\"\",INDEX(Values!J:J,MATCH('All Bill Data Entry'!$B199,Values!G:G,0)))","v":""},{"$f":"IF(D199=\"\",\"\",IF(AND(LEN(J199)=10,LEFT(J199,3)=\"000\"),IF(INDEX(PO!AE:AE,MATCH(CONCATENATE('All Bill Data Entry'!J199,'All Bill Data Entry'!K199),PO!AC:AC,0))<>\"\",\"N\",\"N\"),\"N\"))","v":""}]
["",null,null,null,null,null,null,{"$f":"IF(F200=\"\",\"\",F200*G200)","v":""},null,null,null,{"$f":"IF(J200=\"\",\"\",INDEX(CUST!BC:BC,MATCH(INDEX(PO!AD:AD,MATCH(CONCATENATE('All Bill Data Entry'!J200,'All Bill Data Entry'!K200),PO!AC:AC,0)),CUST!I:I,0)))","v":""},{"$f":"IF(L200=\"\",\"\",INDEX(CUST!G:G,MATCH('All Bill Data Entry'!L200,CUST!B:B,0)))","v":""},{"$f":"IF(OR(M200=\"INTERNAL\",M200=\"COMPONENT\"),1,\"\")","v":""},null,null,null,null,null,null,{"$f":"IF($B200=\"\",\"\",INDEX(Values!H:H,MATCH('All Bill Data Entry'!$B200,Values!F:F,0)))","v":""},{"$f":"IF($D200=\"\",\"\",INDEX(CUST!N:N,MATCH('All Bill Data Entry'!L200&'All Bill Data Entry'!N200,CUST!BD:BD,0)))","v":""},{"$f":"IF($B200=\"\",\"\",INDEX(Values!I:I,MATCH('All Bill Data Entry'!$B200,Values!G:G,0)))","v":""},{"$f":"IF($B200=\"\",\"\",INDEX(Values!J:J,MATCH('All Bill Data Entry'!$B200,Values!G:G,0)))","v":""},{"$f":"IF(D200=\"\",\"\",IF(AND(LEN(J200)=10,LEFT(J200,3)=\"000\"),IF(INDEX(PO!AE:AE,MATCH(CONCATENATE('All Bill Data Entry'!J200,'All Bill Data Entry'!K200),PO!AC:AC,0))<>\"\",\"N\",\"N\"),\"N\"))","v":""}]
[{"$f":"IF(D201=\"\",\"\",A200+1)","v":""},null,null,null,null,null,null,"",null,null,null,{"$f":"IF(J201=\"\",\"\",INDEX(CUST!BC:BC,MATCH(INDEX(PO!AD:AD,MATCH(CONCATENATE('All Bill Data Entry'!J201,'All Bill Data Entry'!K201),PO!AC:AC,0)),CUST!I:I,0)))","v":""},{"$f":"IF(L201=\"\",\"\",INDEX(CUST!G:G,MATCH('All Bill Data Entry'!L201,CUST!B:B,0)))","v":""},"",null,null,null,null,null,null,{"$f":"IF($B201=\"\",\"\",INDEX(Values!H:H,MATCH('All Bill Data Entry'!$B201,Values!F:F,0)))","v":""},{"$f":"IF($D201=\"\",\"\",INDEX(CUST!N:N,MATCH('All Bill Data Entry'!L201&'All Bill Data Entry'!N201,CUST!BD:BD,0)))","v":""},{"$f":"IF($B201=\"\",\"\",INDEX(Values!I:I,MATCH('All Bill Data Entry'!$B201,Values!G:G,0)))","v":""},{"$f":"IF($B201=\"\",\"\",INDEX(Values!J:J,MATCH('All Bill Data Entry'!$B201,Values!G:G,0)))","v":""},{"$f":"IF(D201=\"\",\"\",IF(AND(LEN(J201)=10,LEFT(J201,3)=\"000\"),IF(INDEX(PO!AE:AE,MATCH(CONCATENATE('All Bill Data Entry'!J201,'All Bill Data Entry'!K201),PO!AC:AC,0))<>\"\",\"N\",\"N\"),\"N\"))","v":""}]
["",null,null,null,null,null,null,"",null,null,null,{"$f":"IF(J202=\"\",\"\",INDEX(CUST!BC:BC,MATCH(INDEX(PO!AD:AD,MATCH(CONCATENATE('All Bill Data Entry'!J202,'All Bill Data Entry'!K202),PO!AC:AC,0)),CUST!I:I,0)))","v":""},{"$f":"IF(L202=\"\",\"\",INDEX(CUST!G:G,MATCH('All Bill Data Entry'!L202,CUST!B:B,0)))","v":""},"",null,null,null,null,null,null,{"$f":"IF($B202=\"\",\"\",INDEX(Values!H:H,MATCH('All Bill Data Entry'!$B202,Values!F:F,0)))","v":""},{"$f":"IF($D202=\"\",\"\",INDEX(CUST!N:N,MATCH('All Bill Data Entry'!L202&'All Bill Data Entry'!N202,CUST!BD:BD,0)))","v":""},{"$f":"IF($B202=\"\",\"\",INDEX(Values!I:I,MATCH('All Bill Data Entry'!$B202,Values!G:G,0)))","v":""},{"$f":"IF($B202=\"\",\"\",INDEX(Values!J:J,MATCH('All Bill Data Entry'!$B202,Values!G:G,0)))","v":""},{"$f":"IF(D202=\"\",\"\",IF(AND(LEN(J202)=10,LEFT(J202,3)=\"000\"),IF(INDEX(PO!AE:AE,MATCH(CONCATENATE('All Bill Data Entry'!J202,'All Bill Data Entry'!K202),PO!AC:AC,0))<>\"\",\"N\",\"N\"),\"N\"))","v":""}]
["",null,null,null,null,null,null,"",null,null,null,{"$f":"IF(J203=\"\",\"\",INDEX(CUST!BC:BC,MATCH(INDEX(PO!AD:AD,MATCH(CONCATENATE('All Bill Data Entry'!J203,'All Bill Data Entry'!K203),PO!AC:AC,0)),CUST!I:I,0)))","v":""},{"$f":"IF(L203=\"\",\"\",INDEX(CUST!G:G,MATCH('All Bill Data Entry'!L203,CUST!B:B,0)))","v":""},"",null,null,null,null,null,null,{"$f":"IF($B203=\"\",\"\",INDEX(Values!H:H,MATCH('All Bill Data Entry'!$B203,Values!F:F,0)))","v":""},{"$f":"IF($D203=\"\",\"\",INDEX(CUST!N:N,MATCH('All Bill Data Entry'!L203&'All Bill Data Entry'!N203,CUST!BD:BD,0)))","v":""},{"$f":"IF($B203=\"\",\"\",INDEX(Values!I:I,MATCH('All Bill Data Entry'!$B203,Values!G:G,0)))","v":""},{"$f":"IF($B203=\"\",\"\",INDEX(Values!J:J,MATCH('All Bill Data Entry'!$B203,Values!G:G,0)))","v":""},{"$f":"IF(D203=\"\",\"\",IF(AND(LEN(J203)=10,LEFT(J203,3)=\"000\"),IF(INDEX(PO!AE:AE,MATCH(CONCATENATE('All Bill Data Entry'!J203,'All Bill Data Entry'!K203),PO!AC:AC,0))<>\"\",\"N\",\"N\"),\"N\"))","v":""}]
["",null,null,null,null,null,null,"",null,null,null,{"$f":"IF(J204=\"\",\"\",INDEX(CUST!BC:BC,MATCH(INDEX(PO!AD:AD,MATCH(CONCATENATE('All Bill Data Entry'!J204,'All Bill Data Entry'!K204),PO!AC:AC,0)),CUST!I:I,0)))","v":""},{"$f":"IF(L204=\"\",\"\",INDEX(CUST!G:G,MATCH('All Bill Data Entry'!L204,CUST!B:B,0)))","v":""},"",null,null,null,null,null,null,{"$f":"IF($B204=\"\",\"\",INDEX(Values!H:H,MATCH('All Bill Data Entry'!$B204,Values!F:F,0)))","v":""},{"$f":"IF($D204=\"\",\"\",INDEX(CUST!N:N,MATCH('All Bill Data Entry'!L204&'All Bill Data Entry'!N204,CUST!BD:BD,0)))","v":""},{"$f":"IF($B204=\"\",\"\",INDEX(Values!I:I,MATCH('All Bill Data Entry'!$B204,Values!G:G,0)))","v":""},{"$f":"IF($B204=\"\",\"\",INDEX(Values!J:J,MATCH('All Bill Data Entry'!$B204,Values!G:G,0)))","v":""},{"$f":"IF(D204=\"\",\"\",IF(AND(LEN(J204)=10,LEFT(J204,3)=\"000\"),IF(INDEX(PO!AE:AE,MATCH(CONCATENATE('All Bill Data Entry'!J204,'All Bill Data Entry'!K204),PO!AC:AC,0))<>\"\",\"N\",\"N\"),\"N\"))","v":""}]
["",null,null,null,null,null,null,"",null,null,null,{"$f":"IF(J205=\"\",\"\",INDEX(CUST!BC:BC,MATCH(INDEX(PO!AD:AD,MATCH(CONCATENATE('All Bill Data Entry'!J205,'All Bill Data Entry'!K205),PO!AC:AC,0)),CUST!I:I,0)))","v":""},{"$f":"IF(L205=\"\",\"\",INDEX(CUST!G:G,MATCH('All Bill Data Entry'!L205,CUST!B:B,0)))","v":""},"",null,null,null,null,null,null,{"$f":"IF($B205=\"\",\"\",INDEX(Values!H:H,MATCH('All Bill Data Entry'!$B205,Values!F:F,0)))","v":""},{"$f":"IF($D205=\"\",\"\",INDEX(CUST!N:N,MATCH('All Bill Data Entry'!L205&'All Bill Data Entry'!N205,CUST!BD:BD,0)))","v":""},{"$f":"IF($B205=\"\",\"\",INDEX(Values!I:I,MATCH('All Bill Data Entry'!$B205,Values!G:G,0)))","v":""},{"$f":"IF($B205=\"\",\"\",INDEX(Values!J:J,MATCH('All Bill Data Entry'!$B205,Values!G:G,0)))","v":""},{"$f":"IF(D205=\"\",\"\",IF(AND(LEN(J205)=10,LEFT(J205,3)=\"000\"),IF(INDEX(PO!AE:AE,MATCH(CONCATENATE('All Bill Data Entry'!J205,'All Bill Data Entry'!K205),PO!AC:AC,0))<>\"\",\"N\",\"N\"),\"N\"))","v":""}]
["",null,null,null,null,null,null,"",null,null,null,{"$f":"IF(J206=\"\",\"\",INDEX(CUST!BC:BC,MATCH(INDEX(PO!AD:AD,MATCH(CONCATENATE('All Bill Data Entry'!J206,'All Bill Data Entry'!K206),PO!AC:AC,0)),CUST!I:I,0)))","v":""},{"$f":"IF(L206=\"\",\"\",INDEX(CUST!G:G,MATCH('All Bill Data Entry'!L206,CUST!B:B,0)))","v":""},"",null,null,null,null,null,null,{"$f":"IF($B206=\"\",\"\",INDEX(Values!H:H,MATCH('All Bill Data Entry'!$B206,Values!F:F,0)))","v":""},{"$f":"IF($D206=\"\",\"\",INDEX(CUST!N:N,MATCH('All Bill Data Entry'!L206&'All Bill Data Entry'!N206,CUST!BD:BD,0)))","v":""},{"$f":"IF($B206=\"\",\"\",INDEX(Values!I:I,MATCH('All Bill Data Entry'!$B206,Values!G:G,0)))","v":""},{"$f":"IF($B206=\"\",\"\",INDEX(Values!J:J,MATCH('All Bill Data Entry'!$B206,Values!G:G,0)))","v":""},{"$f":"IF(D206=\"\",\"\",IF(AND(LEN(J206)=10,LEFT(J206,3)=\"000\"),IF(INDEX(PO!AE:AE,MATCH(CONCATENATE('All Bill Data Entry'!J206,'All Bill Data Entry'!K206),PO!AC:AC,0))<>\"\",\"N\",\"N\"),\"N\"))","v":""}]
["",null,null,null,null,null,null,"",null,null,null,{"$f":"IF(J207=\"\",\"\",INDEX(CUST!BC:BC,MATCH(INDEX(PO!AD:AD,MATCH(CONCATENATE('All Bill Data Entry'!J207,'All Bill Data Entry'!K207),PO!AC:AC,0)),CUST!I:I,0)))","v":""},{"$f":"IF(L207=\"\",\"\",INDEX(CUST!G:G,MATCH('All Bill Data Entry'!L207,CUST!B:B,0)))","v":""},"",null,null,null,null,null,null,{"$f":"IF($B207=\"\",\"\",INDEX(Values!H:H,MATCH('All Bill Data Entry'!$B207,Values!F:F,0)))","v":""},{"$f":"IF($D207=\"\",\"\",INDEX(CUST!N:N,MATCH('All Bill Data Entry'!L207&'All Bill Data Entry'!N207,CUST!BD:BD,0)))","v":""},{"$f":"IF($B207=\"\",\"\",INDEX(Values!I:I,MATCH('All Bill Data Entry'!$B207,Values!G:G,0)))","v":""},{"$f":"IF($B207=\"\",\"\",INDEX(Values!J:J,MATCH('All Bill Data Entry'!$B207,Values!G:G,0)))","v":""},{"$f":"IF(D207=\"\",\"\",IF(AND(LEN(J207)=10,LEFT(J207,3)=\"000\"),IF(INDEX(PO!AE:AE,MATCH(CONCATENATE('All Bill Data Entry'!J207,'All Bill Data Entry'!K207),PO!AC:AC,0))<>\"\",\"N\",\"N\"),\"N\"))","v":""}]
["",null,null,null,null,null,null,"",null,null,null,{"$f":"IF(J208=\"\",\"\",INDEX(CUST!BC:BC,MATCH(INDEX(PO!AD:AD,MATCH(CONCATENATE('All Bill Data Entry'!J208,'All Bill Data Entry'!K208),PO!AC:AC,0)),CUST!I:I,0)))","v":""},{"$f":"IF(L208=\"\",\"\",INDEX(CUST!G:G,MATCH('All Bill Data Entry'!L208,CUST!B:B,0)))","v":""},"",null,null,null,null,null,null,{"$f":"IF($B208=\"\",\"\",INDEX(Values!H:H,MATCH('All Bill Data Entry'!$B208,Values!F:F,0)))","v":""},{"$f":"IF($D208=\"\",\"\",INDEX(CUST!N:N,MATCH('All Bill Data Entry'!L208&'All Bill Data Entry'!N208,CUST!BD:BD,0)))","v":""},{"$f":"IF($B208=\"\",\"\",INDEX(Values!I:I,MATCH('All Bill Data Entry'!$B208,Values!G:G,0)))","v":""},{"$f":"IF($B208=\"\",\"\",INDEX(Values!J:J,MATCH('All Bill Data Entry'!$B208,Values!G:G,0)))","v":""},{"$f":"IF(D208=\"\",\"\",IF(AND(LEN(J208)=10,LEFT(J208,3)=\"000\"),IF(INDEX(PO!AE:AE,MATCH(CONCATENATE('All Bill Data Entry'!J208,'All Bill Data Entry'!K208),PO!AC:AC,0))<>\"\",\"N\",\"N\"),\"N\"))","v":""}]
["",null,null,null,null,null,null,"",null,null,null,{"$f":"IF(J209=\"\",\"\",INDEX(CUST!BC:BC,MATCH(INDEX(PO!AD:AD,MATCH(CONCATENATE('All Bill Data Entry'!J209,'All Bill Data Entry'!K209),PO!AC:AC,0)),CUST!I:I,0)))","v":""},{"$f":"IF(L209=\"\",\"\",INDEX(CUST!G:G,MATCH('All Bill Data Entry'!L209,CUST!B:B,0)))","v":""},"",null,null,null,null,null,null,{"$f":"IF($B209=\"\",\"\",INDEX(Values!H:H,MATCH('All Bill Data Entry'!$B209,Values!F:F,0)))","v":""},{"$f":"IF($D209=\"\",\"\",INDEX(CUST!N:N,MATCH('All Bill Data Entry'!L209&'All Bill Data Entry'!N209,CUST!BD:BD,0)))","v":""},{"$f":"IF($B209=\"\",\"\",INDEX(Values!I:I,MATCH('All Bill Data Entry'!$B209,Values!G:G,0)))","v":""},{"$f":"IF($B209=\"\",\"\",INDEX(Values!J:J,MATCH('All Bill Data Entry'!$B209,Values!G:G,0)))","v":""},{"$f":"IF(D209=\"\",\"\",IF(AND(LEN(J209)=10,LEFT(J209,3)=\"000\"),IF(INDEX(PO!AE:AE,MATCH(CONCATENATE('All Bill Data Entry'!J209,'All Bill Data Entry'!K209),PO!AC:AC,0))<>\"\",\"N\",\"N\"),\"N\"))","v":""}]
["",null,null,null,null,null,null,"",null,null,null,{"$f":"IF(J210=\"\",\"\",INDEX(CUST!BC:BC,MATCH(INDEX(PO!AD:AD,MATCH(CONCATENATE('All Bill Data Entry'!J210,'All Bill Data Entry'!K210),PO!AC:AC,0)),CUST!I:I,0)))","v":""},{"$f":"IF(L210=\"\",\"\",INDEX(CUST!G:G,MATCH('All Bill Data Entry'!L210,CUST!B:B,0)))","v":""},"",null,null,null,null,null,null,{"$f":"IF($B210=\"\",\"\",INDEX(Values!H:H,MATCH('All Bill Data Entry'!$B210,Values!F:F,0)))","v":""},{"$f":"IF($D210=\"\",\"\",INDEX(CUST!N:N,MATCH('All Bill Data Entry'!L210&'All Bill Data Entry'!N210,CUST!BD:BD,0)))","v":""},{"$f":"IF($B210=\"\",\"\",INDEX(Values!I:I,MATCH('All Bill Data Entry'!$B210,Values!G:G,0)))","v":""},{"$f":"IF($B210=\"\",\"\",INDEX(Values!J:J,MATCH('All Bill Data Entry'!$B210,Values!G:G,0)))","v":""},{"$f":"IF(D210=\"\",\"\",IF(AND(LEN(J210)=10,LEFT(J210,3)=\"000\"),IF(INDEX(PO!AE:AE,MATCH(CONCATENATE('All Bill Data Entry'!J210,'All Bill Data Entry'!K210),PO!AC:AC,0))<>\"\",\"N\",\"N\"),\"N\"))","v":""}]
["",null,null,null,null,null,null,"",null,null,null,{"$f":"IF(J211=\"\",\"\",INDEX(CUST!BC:BC,MATCH(INDEX(PO!AD:AD,MATCH(CONCATENATE('All Bill Data Entry'!J211,'All Bill Data Entry'!K211),PO!AC:AC,0)),CUST!I:I,0)))","v":""},{"$f":"IF(L211=\"\",\"\",INDEX(CUST!G:G,MATCH('All Bill Data Entry'!L211,CUST!B:B,0)))","v":""},"",null,null,null,null,null,null,{"$f":"IF($B211=\"\",\"\",INDEX(Values!H:H,MATCH('All Bill Data Entry'!$B211,Values!F:F,0)))","v":""},{"$f":"IF($D211=\"\",\"\",INDEX(CUST!N:N,MATCH('All Bill Data Entry'!L211&'All Bill Data Entry'!N211,CUST!BD:BD,0)))","v":""},{"$f":"IF($B211=\"\",\"\",INDEX(Values!I:I,MATCH('All Bill Data Entry'!$B211,Values!G:G,0)))","v":""},{"$f":"IF($B211=\"\",\"\",INDEX(Values!J:J,MATCH('All Bill Data Entry'!$B211,Values!G:G,0)))","v":""},{"$f":"IF(D211=\"\",\"\",IF(AND(LEN(J211)=10,LEFT(J211,3)=\"000\"),IF(INDEX(PO!AE:AE,MATCH(CONCATENATE('All Bill Data Entry'!J211,'All Bill Data Entry'!K211),PO!AC:AC,0))<>\"\",\"N\",\"N\"),\"N\"))","v":""}]
["",null,null,null,null,null,null,"",null,null,null,{"$f":"IF(J212=\"\",\"\",INDEX(CUST!BC:BC,MATCH(INDEX(PO!AD:AD,MATCH(CONCATENATE('All Bill Data Entry'!J212,'All Bill Data Entry'!K212),PO!AC:AC,0)),CUST!I:I,0)))","v":""},{"$f":"IF(L212=\"\",\"\",INDEX(CUST!G:G,MATCH('All Bill Data Entry'!L212,CUST!B:B,0)))","v":""},"",null,null,null,null,null,null,{"$f":"IF($B212=\"\",\"\",INDEX(Values!H:H,MATCH('All Bill Data Entry'!$B212,Values!F:F,0)))","v":""},{"$f":"IF($D212=\"\",\"\",INDEX(CUST!N:N,MATCH('All Bill Data Entry'!L212&'All Bill Data Entry'!N212,CUST!BD:BD,0)))","v":""},{"$f":"IF($B212=\"\",\"\",INDEX(Values!I:I,MATCH('All Bill Data Entry'!$B212,Values!G:G,0)))","v":""},{"$f":"IF($B212=\"\",\"\",INDEX(Values!J:J,MATCH('All Bill Data Entry'!$B212,Values!G:G,0)))","v":""},{"$f":"IF(D212=\"\",\"\",IF(AND(LEN(J212)=10,LEFT(J212,3)=\"000\"),IF(INDEX(PO!AE:AE,MATCH(CONCATENATE('All Bill Data Entry'!J212,'All Bill Data Entry'!K212),PO!AC:AC,0))<>\"\",\"N\",\"N\"),\"N\"))","v":""}]
["",null,null,null,null,null,null,"",null,null,null,{"$f":"IF(J213=\"\",\"\",INDEX(CUST!BC:BC,MATCH(INDEX(PO!AD:AD,MATCH(CONCATENATE('All Bill Data Entry'!J213,'All Bill Data Entry'!K213),PO!AC:AC,0)),CUST!I:I,0)))","v":""},{"$f":"IF(L213=\"\",\"\",INDEX(CUST!G:G,MATCH('All Bill Data Entry'!L213,CUST!B:B,0)))","v":""},"",null,null,null,null,null,null,{"$f":"IF($B213=\"\",\"\",INDEX(Values!H:H,MATCH('All Bill Data Entry'!$B213,Values!F:F,0)))","v":""},{"$f":"IF($D213=\"\",\"\",INDEX(CUST!N:N,MATCH('All Bill Data Entry'!L213&'All Bill Data Entry'!N213,CUST!BD:BD,0)))","v":""},{"$f":"IF($B213=\"\",\"\",INDEX(Values!I:I,MATCH('All Bill Data Entry'!$B213,Values!G:G,0)))","v":""},{"$f":"IF($B213=\"\",\"\",INDEX(Values!J:J,MATCH('All Bill Data Entry'!$B213,Values!G:G,0)))","v":""},{"$f":"IF(D213=\"\",\"\",IF(AND(LEN(J213)=10,LEFT(J213,3)=\"000\"),IF(INDEX(PO!AE:AE,MATCH(CONCATENATE('All Bill Data Entry'!J213,'All Bill Data Entry'!K213),PO!AC:AC,0))<>\"\",\"N\",\"N\"),\"N\"))","v":""}]
["",null,null,null,null,null,null,"",null,null,null,{"$f":"IF(J214=\"\",\"\",INDEX(CUST!BC:BC,MATCH(INDEX(PO!AD:AD,MATCH(CONCATENATE('All Bill Data Entry'!J214,'All Bill Data Entry'!K214),PO!AC:AC,0)),CUST!I:I,0)))","v":""},{"$f":"IF(L214=\"\",\"\",INDEX(CUST!G:G,MATCH('All Bill Data Entry'!L214,CUST!B:B,0)))","v":""},"",null,null,null,null,null,null,{"$f":"IF($B214=\"\",\"\",INDEX(Values!H:H,MATCH('All Bill Data Entry'!$B214,Values!F:F,0)))","v":""},{"$f":"IF($D214=\"\",\"\",INDEX(CUST!N:N,MATCH('All Bill Data Entry'!L214&'All Bill Data Entry'!N214,CUST!BD:BD,0)))","v":""},{"$f":"IF($B214=\"\",\"\",INDEX(Values!I:I,MATCH('All Bill Data Entry'!$B214,Values!G:G,0)))","v":""},{"$f":"IF($B214=\"\",\"\",INDEX(Values!J:J,MATCH('All Bill Data Entry'!$B214,Values!G:G,0)))","v":""},{"$f":"IF(D214=\"\",\"\",IF(AND(LEN(J214)=10,LEFT(J214,3)=\"000\"),IF(INDEX(PO!AE:AE,MATCH(CONCATENATE('All Bill Data Entry'!J214,'All Bill Data Entry'!K214),PO!AC:AC,0))<>\"\",\"N\",\"N\"),\"N\"))","v":""}]
["",null,null,null,null,null,null,"",null,null,null,{"$f":"IF(J215=\"\",\"\",INDEX(CUST!BC:BC,MATCH(INDEX(PO!AD:AD,MATCH(CONCATENATE('All Bill Data Entry'!J215,'All Bill Data Entry'!K215),PO!AC:AC,0)),CUST!I:I,0)))","v":""},{"$f":"IF(L215=\"\",\"\",INDEX(CUST!G:G,MATCH('All Bill Data Entry'!L215,CUST!B:B,0)))","v":""},"",null,null,null,null,null,null,{"$f":"IF($B215=\"\",\"\",INDEX(Values!H:H,MATCH('All Bill Data Entry'!$B215,Values!F:F,0)))","v":""},{"$f":"IF($D215=\"\",\"\",INDEX(CUST!N:N,MATCH('All Bill Data Entry'!L215&'All Bill Data Entry'!N215,CUST!BD:BD,0)))","v":""},{"$f":"IF($B215=\"\",\"\",INDEX(Values!I:I,MATCH('All Bill Data Entry'!$B215,Values!G:G,0)))","v":""},{"$f":"IF($B215=\"\",\"\",INDEX(Values!J:J,MATCH('All Bill Data Entry'!$B215,Values!G:G,0)))","v":""},{"$f":"IF(D215=\"\",\"\",IF(AND(LEN(J215)=10,LEFT(J215,3)=\"000\"),IF(INDEX(PO!AE:AE,MATCH(CONCATENATE('All Bill Data Entry'!J215,'All Bill Data Entry'!K215),PO!AC:AC,0))<>\"\",\"N\",\"N\"),\"N\"))","v":""}]
["",null,null,null,null,null,null,"",null,null,null,{"$f":"IF(J216=\"\",\"\",INDEX(CUST!BC:BC,MATCH(INDEX(PO!AD:AD,MATCH(CONCATENATE('All Bill Data Entry'!J216,'All Bill Data Entry'!K216),PO!AC:AC,0)),CUST!I:I,0)))","v":""},{"$f":"IF(L216=\"\",\"\",INDEX(CUST!G:G,MATCH('All Bill Data Entry'!L216,CUST!B:B,0)))","v":""},"",null,null,null,null,null,null,{"$f":"IF($B216=\"\",\"\",INDEX(Values!H:H,MATCH('All Bill Data Entry'!$B216,Values!F:F,0)))","v":""},{"$f":"IF($D216=\"\",\"\",INDEX(CUST!N:N,MATCH('All Bill Data Entry'!L216&'All Bill Data Entry'!N216,CUST!BD:BD,0)))","v":""},{"$f":"IF($B216=\"\",\"\",INDEX(Values!I:I,MATCH('All Bill Data Entry'!$B216,Values!G:G,0)))","v":""},{"$f":"IF($B216=\"\",\"\",INDEX(Values!J:J,MATCH('All Bill Data Entry'!$B216,Values!G:G,0)))","v":""},{"$f":"IF(D216=\"\",\"\",IF(AND(LEN(J216)=10,LEFT(J216,3)=\"000\"),IF(INDEX(PO!AE:AE,MATCH(CONCATENATE('All Bill Data Entry'!J216,'All Bill Data Entry'!K216),PO!AC:AC,0))<>\"\",\"N\",\"N\"),\"N\"))","v":""}]
["",null,null,null,null,null,null,"",null,null,null,{"$f":"IF(J217=\"\",\"\",INDEX(CUST!BC:BC,MATCH(INDEX(PO!AD:AD,MATCH(CONCATENATE('All Bill Data Entry'!J217,'All Bill Data Entry'!K217),PO!AC:AC,0)),CUST!I:I,0)))","v":""},{"$f":"IF(L217=\"\",\"\",INDEX(CUST!G:G,MATCH('All Bill Data Entry'!L217,CUST!B:B,0)))","v":""},"",null,null,null,null,null,null,{"$f":"IF($B217=\"\",\"\",INDEX(Values!H:H,MATCH('All Bill Data Entry'!$B217,Values!F:F,0)))","v":""},{"$f":"IF($D217=\"\",\"\",INDEX(CUST!N:N,MATCH('All Bill Data Entry'!L217&'All Bill Data Entry'!N217,CUST!BD:BD,0)))","v":""},{"$f":"IF($B217=\"\",\"\",INDEX(Values!I:I,MATCH('All Bill Data Entry'!$B217,Values!G:G,0)))","v":""},{"$f":"IF($B217=\"\",\"\",INDEX(Values!J:J,MATCH('All Bill Data Entry'!$B217,Values!G:G,0)))","v":""},{"$f":"IF(D217=\"\",\"\",IF(AND(LEN(J217)=10,LEFT(J217,3)=\"000\"),IF(INDEX(PO!AE:AE,MATCH(CONCATENATE('All Bill Data Entry'!J217,'All Bill Data Entry'!K217),PO!AC:AC,0))<>\"\",\"N\",\"N\"),\"N\"))","v":""}]
["",null,null,null,null,null,null,"",null,null,null,{"$f":"IF(J218=\"\",\"\",INDEX(CUST!BC:BC,MATCH(INDEX(PO!AD:AD,MATCH(CONCATENATE('All Bill Data Entry'!J218,'All Bill Data Entry'!K218),PO!AC:AC,0)),CUST!I:I,0)))","v":""},{"$f":"IF(L218=\"\",\"\",INDEX(CUST!G:G,MATCH('All Bill Data Entry'!L218,CUST!B:B,0)))","v":""},"",null,null,null,null,null,null,{"$f":"IF($B218=\"\",\"\",INDEX(Values!H:H,MATCH('All Bill Data Entry'!$B218,Values!F:F,0)))","v":""},{"$f":"IF($D218=\"\",\"\",INDEX(CUST!N:N,MATCH('All Bill Data Entry'!L218&'All Bill Data Entry'!N218,CUST!BD:BD,0)))","v":""},{"$f":"IF($B218=\"\",\"\",INDEX(Values!I:I,MATCH('All Bill Data Entry'!$B218,Values!G:G,0)))","v":""},{"$f":"IF($B218=\"\",\"\",INDEX(Values!J:J,MATCH('All Bill Data Entry'!$B218,Values!G:G,0)))","v":""},{"$f":"IF(D218=\"\",\"\",IF(AND(LEN(J218)=10,LEFT(J218,3)=\"000\"),IF(INDEX(PO!AE:AE,MATCH(CONCATENATE('All Bill Data Entry'!J218,'All Bill Data Entry'!K218),PO!AC:AC,0))<>\"\",\"N\",\"N\"),\"N\"))","v":""}]
["",null,null,null,null,null,null,"",null,null,null,{"$f":"IF(J219=\"\",\"\",INDEX(CUST!BC:BC,MATCH(INDEX(PO!AD:AD,MATCH(CONCATENATE('All Bill Data Entry'!J219,'All Bill Data Entry'!K219),PO!AC:AC,0)),CUST!I:I,0)))","v":""},{"$f":"IF(L219=\"\",\"\",INDEX(CUST!G:G,MATCH('All Bill Data Entry'!L219,CUST!B:B,0)))","v":""},"",null,null,null,null,null,null,{"$f":"IF($B219=\"\",\"\",INDEX(Values!H:H,MATCH('All Bill Data Entry'!$B219,Values!F:F,0)))","v":""},{"$f":"IF($D219=\"\",\"\",INDEX(CUST!N:N,MATCH('All Bill Data Entry'!L219&'All Bill Data Entry'!N219,CUST!BD:BD,0)))","v":""},{"$f":"IF($B219=\"\",\"\",INDEX(Values!I:I,MATCH('All Bill Data Entry'!$B219,Values!G:G,0)))","v":""},{"$f":"IF($B219=\"\",\"\",INDEX(Values!J:J,MATCH('All Bill Data Entry'!$B219,Values!G:G,0)))","v":""},{"$f":"IF(D219=\"\",\"\",IF(AND(LEN(J219)=10,LEFT(J219,3)=\"000\"),IF(INDEX(PO!AE:AE,MATCH(CONCATENATE('All Bill Data Entry'!J219,'All Bill Data Entry'!K219),PO!AC:AC,0))<>\"\",\"N\",\"N\"),\"N\"))","v":""}]
["",null,null,null,null,null,null,"",null,null,null,{"$f":"IF(J220=\"\",\"\",INDEX(CUST!BC:BC,MATCH(INDEX(PO!AD:AD,MATCH(CONCATENATE('All Bill Data Entry'!J220,'All Bill Data Entry'!K220),PO!AC:AC,0)),CUST!I:I,0)))","v":""},{"$f":"IF(L220=\"\",\"\",INDEX(CUST!G:G,MATCH('All Bill Data Entry'!L220,CUST!B:B,0)))","v":""},"",null,null,null,null,null,null,{"$f":"IF($B220=\"\",\"\",INDEX(Values!H:H,MATCH('All Bill Data Entry'!$B220,Values!F:F,0)))","v":""},{"$f":"IF($D220=\"\",\"\",INDEX(CUST!N:N,MATCH('All Bill Data Entry'!L220&'All Bill Data Entry'!N220,CUST!BD:BD,0)))","v":""},{"$f":"IF($B220=\"\",\"\",INDEX(Values!I:I,MATCH('All Bill Data Entry'!$B220,Values!G:G,0)))","v":""},{"$f":"IF($B220=\"\",\"\",INDEX(Values!J:J,MATCH('All Bill Data Entry'!$B220,Values!G:G,0)))","v":""},{"$f":"IF(D220=\"\",\"\",IF(AND(LEN(J220)=10,LEFT(J220,3)=\"000\"),IF(INDEX(PO!AE:AE,MATCH(CONCATENATE('All Bill Data Entry'!J220,'All Bill Data Entry'!K220),PO!AC:AC,0))<>\"\",\"N\",\"N\"),\"N\"))","v":""}]
["",null,null,null,null,null,null,"",null,null,null,{"$f":"IF(J221=\"\",\"\",INDEX(CUST!BC:BC,MATCH(INDEX(PO!AD:AD,MATCH(CONCATENATE('All Bill Data Entry'!J221,'All Bill Data Entry'!K221),PO!AC:AC,0)),CUST!I:I,0)))","v":""},{"$f":"IF(L221=\"\",\"\",INDEX(CUST!G:G,MATCH('All Bill Data Entry'!L221,CUST!B:B,0)))","v":""},"",null,null,null,null,null,null,{"$f":"IF($B221=\"\",\"\",INDEX(Values!H:H,MATCH('All Bill Data Entry'!$B221,Values!F:F,0)))","v":""},{"$f":"IF($D221=\"\",\"\",INDEX(CUST!N:N,MATCH('All Bill Data Entry'!L221&'All Bill Data Entry'!N221,CUST!BD:BD,0)))","v":""},{"$f":"IF($B221=\"\",\"\",INDEX(Values!I:I,MATCH('All Bill Data Entry'!$B221,Values!G:G,0)))","v":""},{"$f":"IF($B221=\"\",\"\",INDEX(Values!J:J,MATCH('All Bill Data Entry'!$B221,Values!G:G,0)))","v":""},{"$f":"IF(D221=\"\",\"\",IF(AND(LEN(J221)=10,LEFT(J221,3)=\"000\"),IF(INDEX(PO!AE:AE,MATCH(CONCATENATE('All Bill Data Entry'!J221,'All Bill Data Entry'!K221),PO!AC:AC,0))<>\"\",\"N\",\"N\"),\"N\"))","v":""}]
["",null,null,null,null,null,null,"",null,null,null,{"$f":"IF(J222=\"\",\"\",INDEX(CUST!BC:BC,MATCH(INDEX(PO!AD:AD,MATCH(CONCATENATE('All Bill Data Entry'!J222,'All Bill Data Entry'!K222),PO!AC:AC,0)),CUST!I:I,0)))","v":""},{"$f":"IF(L222=\"\",\"\",INDEX(CUST!G:G,MATCH('All Bill Data Entry'!L222,CUST!B:B,0)))","v":""},"",null,null,null,null,null,null,{"$f":"IF($B222=\"\",\"\",INDEX(Values!H:H,MATCH('All Bill Data Entry'!$B222,Values!F:F,0)))","v":""},{"$f":"IF($D222=\"\",\"\",INDEX(CUST!N:N,MATCH('All Bill Data Entry'!L222&'All Bill Data Entry'!N222,CUST!BD:BD,0)))","v":""},{"$f":"IF($B222=\"\",\"\",INDEX(Values!I:I,MATCH('All Bill Data Entry'!$B222,Values!G:G,0)))","v":""},{"$f":"IF($B222=\"\",\"\",INDEX(Values!J:J,MATCH('All Bill Data Entry'!$B222,Values!G:G,0)))","v":""},{"$f":"IF(D222=\"\",\"\",IF(AND(LEN(J222)=10,LEFT(J222,3)=\"000\"),IF(INDEX(PO!AE:AE,MATCH(CONCATENATE('All Bill Data Entry'!J222,'All Bill Data Entry'!K222),PO!AC:AC,0))<>\"\",\"N\",\"N\"),\"N\"))","v":""}]
["",null,null,null,null,null,null,"",null,null,null,{"$f":"IF(J223=\"\",\"\",INDEX(CUST!BC:BC,MATCH(INDEX(PO!AD:AD,MATCH(CONCATENATE('All Bill Data Entry'!J223,'All Bill Data Entry'!K223),PO!AC:AC,0)),CUST!I:I,0)))","v":""},{"$f":"IF(L223=\"\",\"\",INDEX(CUST!G:G,MATCH('All Bill Data Entry'!L223,CUST!B:B,0)))","v":""},"",null,null,null,null,null,null,{"$f":"IF($B223=\"\",\"\",INDEX(Values!H:H,MATCH('All Bill Data Entry'!$B223,Values!F:F,0)))","v":""},{"$f":"IF($D223=\"\",\"\",INDEX(CUST!N:N,MATCH('All Bill Data Entry'!L223&'All Bill Data Entry'!N223,CUST!BD:BD,0)))","v":""},{"$f":"IF($B223=\"\",\"\",INDEX(Values!I:I,MATCH('All Bill Data Entry'!$B223,Values!G:G,0)))","v":""},{"$f":"IF($B223=\"\",\"\",INDEX(Values!J:J,MATCH('All Bill Data Entry'!$B223,Values!G:G,0)))","v":""},{"$f":"IF(D223=\"\",\"\",IF(AND(LEN(J223)=10,LEFT(J223,3)=\"000\"),IF(INDEX(PO!AE:AE,MATCH(CONCATENATE('All Bill Data Entry'!J223,'All Bill Data Entry'!K223),PO!AC:AC,0))<>\"\",\"N\",\"N\"),\"N\"))","v":""}]
["",null,null,null,null,null,null,"",null,null,null,{"$f":"IF(J224=\"\",\"\",INDEX(CUST!BC:BC,MATCH(INDEX(PO!AD:AD,MATCH(CONCATENATE('All Bill Data Entry'!J224,'All Bill Data Entry'!K224),PO!AC:AC,0)),CUST!I:I,0)))","v":""},{"$f":"IF(L224=\"\",\"\",INDEX(CUST!G:G,MATCH('All Bill Data Entry'!L224,CUST!B:B,0)))","v":""},"",null,null,null,null,null,null,{"$f":"IF($B224=\"\",\"\",INDEX(Values!H:H,MATCH('All Bill Data Entry'!$B224,Values!F:F,0)))","v":""},{"$f":"IF($D224=\"\",\"\",INDEX(CUST!N:N,MATCH('All Bill Data Entry'!L224&'All Bill Data Entry'!N224,CUST!BD:BD,0)))","v":""},{"$f":"IF($B224=\"\",\"\",INDEX(Values!I:I,MATCH('All Bill Data Entry'!$B224,Values!G:G,0)))","v":""},{"$f":"IF($B224=\"\",\"\",INDEX(Values!J:J,MATCH('All Bill Data Entry'!$B224,Values!G:G,0)))","v":""},{"$f":"IF(D224=\"\",\"\",IF(AND(LEN(J224)=10,LEFT(J224,3)=\"000\"),IF(INDEX(PO!AE:AE,MATCH(CONCATENATE('All Bill Data Entry'!J224,'All Bill Data Entry'!K224),PO!AC:AC,0))<>\"\",\"N\",\"N\"),\"N\"))","v":""}]
["",null,null,null,null,null,null,"",null,null,null,{"$f":"IF(J225=\"\",\"\",INDEX(CUST!BC:BC,MATCH(INDEX(PO!AD:AD,MATCH(CONCATENATE('All Bill Data Entry'!J225,'All Bill Data Entry'!K225),PO!AC:AC,0)),CUST!I:I,0)))","v":""},{"$f":"IF(L225=\"\",\"\",INDEX(CUST!G:G,MATCH('All Bill Data Entry'!L225,CUST!B:B,0)))","v":""},"",null,null,null,null,null,null,{"$f":"IF($B225=\"\",\"\",INDEX(Values!H:H,MATCH('All Bill Data Entry'!$B225,Values!F:F,0)))","v":""},{"$f":"IF($D225=\"\",\"\",INDEX(CUST!N:N,MATCH('All Bill Data Entry'!L225&'All Bill Data Entry'!N225,CUST!BD:BD,0)))","v":""},{"$f":"IF($B225=\"\",\"\",INDEX(Values!I:I,MATCH('All Bill Data Entry'!$B225,Values!G:G,0)))","v":""},{"$f":"IF($B225=\"\",\"\",INDEX(Values!J:J,MATCH('All Bill Data Entry'!$B225,Values!G:G,0)))","v":""},{"$f":"IF(D225=\"\",\"\",IF(AND(LEN(J225)=10,LEFT(J225,3)=\"000\"),IF(INDEX(PO!AE:AE,MATCH(CONCATENATE('All Bill Data Entry'!J225,'All Bill Data Entry'!K225),PO!AC:AC,0))<>\"\",\"N\",\"N\"),\"N\"))","v":""}]
["",null,null,null,null,null,null,"",null,null,null,{"$f":"IF(J226=\"\",\"\",INDEX(CUST!BC:BC,MATCH(INDEX(PO!AD:AD,MATCH(CONCATENATE('All Bill Data Entry'!J226,'All Bill Data Entry'!K226),PO!AC:AC,0)),CUST!I:I,0)))","v":""},{"$f":"IF(L226=\"\",\"\",INDEX(CUST!G:G,MATCH('All Bill Data Entry'!L226,CUST!B:B,0)))","v":""},"",null,null,null,null,null,null,{"$f":"IF($B226=\"\",\"\",INDEX(Values!H:H,MATCH('All Bill Data Entry'!$B226,Values!F:F,0)))","v":""},{"$f":"IF($D226=\"\",\"\",INDEX(CUST!N:N,MATCH('All Bill Data Entry'!L226&'All Bill Data Entry'!N226,CUST!BD:BD,0)))","v":""},{"$f":"IF($B226=\"\",\"\",INDEX(Values!I:I,MATCH('All Bill Data Entry'!$B226,Values!G:G,0)))","v":""},{"$f":"IF($B226=\"\",\"\",INDEX(Values!J:J,MATCH('All Bill Data Entry'!$B226,Values!G:G,0)))","v":""},{"$f":"IF(D226=\"\",\"\",IF(AND(LEN(J226)=10,LEFT(J226,3)=\"000\"),IF(INDEX(PO!AE:AE,MATCH(CONCATENATE('All Bill Data Entry'!J226,'All Bill Data Entry'!K226),PO!AC:AC,0))<>\"\",\"N\",\"N\"),\"N\"))","v":""}]
["",null,null,null,null,null,null,"",null,null,null,{"$f":"IF(J227=\"\",\"\",INDEX(CUST!BC:BC,MATCH(INDEX(PO!AD:AD,MATCH(CONCATENATE('All Bill Data Entry'!J227,'All Bill Data Entry'!K227),PO!AC:AC,0)),CUST!I:I,0)))","v":""},{"$f":"IF(L227=\"\",\"\",INDEX(CUST!G:G,MATCH('All Bill Data Entry'!L227,CUST!B:B,0)))","v":""},"",null,null,null,null,null,null,{"$f":"IF($B227=\"\",\"\",INDEX(Values!H:H,MATCH('All Bill Data Entry'!$B227,Values!F:F,0)))","v":""},{"$f":"IF($D227=\"\",\"\",INDEX(CUST!N:N,MATCH('All Bill Data Entry'!L227&'All Bill Data Entry'!N227,CUST!BD:BD,0)))","v":""},{"$f":"IF($B227=\"\",\"\",INDEX(Values!I:I,MATCH('All Bill Data Entry'!$B227,Values!G:G,0)))","v":""},{"$f":"IF($B227=\"\",\"\",INDEX(Values!J:J,MATCH('All Bill Data Entry'!$B227,Values!G:G,0)))","v":""},{"$f":"IF(D227=\"\",\"\",IF(AND(LEN(J227)=10,LEFT(J227,3)=\"000\"),IF(INDEX(PO!AE:AE,MATCH(CONCATENATE('All Bill Data Entry'!J227,'All Bill Data Entry'!K227),PO!AC:AC,0))<>\"\",\"N\",\"N\"),\"N\"))","v":""}]
["",null,null,null,null,null,null,"",null,null,null,{"$f":"IF(J228=\"\",\"\",INDEX(CUST!BC:BC,MATCH(INDEX(PO!AD:AD,MATCH(CONCATENATE('All Bill Data Entry'!J228,'All Bill Data Entry'!K228),PO!AC:AC,0)),CUST!I:I,0)))","v":""},{"$f":"IF(L228=\"\",\"\",INDEX(CUST!G:G,MATCH('All Bill Data Entry'!L228,CUST!B:B,0)))","v":""},"",null,null,null,null,null,null,{"$f":"IF($B228=\"\",\"\",INDEX(Values!H:H,MATCH('All Bill Data Entry'!$B228,Values!F:F,0)))","v":""},{"$f":"IF($D228=\"\",\"\",INDEX(CUST!N:N,MATCH('All Bill Data Entry'!L228&'All Bill Data Entry'!N228,CUST!BD:BD,0)))","v":""},{"$f":"IF($B228=\"\",\"\",INDEX(Values!I:I,MATCH('All Bill Data Entry'!$B228,Values!G:G,0)))","v":""},{"$f":"IF($B228=\"\",\"\",INDEX(Values!J:J,MATCH('All Bill Data Entry'!$B228,Values!G:G,0)))","v":""},{"$f":"IF(D228=\"\",\"\",IF(AND(LEN(J228)=10,LEFT(J228,3)=\"000\"),IF(INDEX(PO!AE:AE,MATCH(CONCATENATE('All Bill Data Entry'!J228,'All Bill Data Entry'!K228),PO!AC:AC,0))<>\"\",\"N\",\"N\"),\"N\"))","v":""}]
["",null,null,null,null,null,null,"",null,null,null,{"$f":"IF(J229=\"\",\"\",INDEX(CUST!BC:BC,MATCH(INDEX(PO!AD:AD,MATCH(CONCATENATE('All Bill Data Entry'!J229,'All Bill Data Entry'!K229),PO!AC:AC,0)),CUST!I:I,0)))","v":""},{"$f":"IF(L229=\"\",\"\",INDEX(CUST!G:G,MATCH('All Bill Data Entry'!L229,CUST!B:B,0)))","v":""},"",null,null,null,null,null,null,{"$f":"IF($B229=\"\",\"\",INDEX(Values!H:H,MATCH('All Bill Data Entry'!$B229,Values!F:F,0)))","v":""},{"$f":"IF($D229=\"\",\"\",INDEX(CUST!N:N,MATCH('All Bill Data Entry'!L229&'All Bill Data Entry'!N229,CUST!BD:BD,0)))","v":""},{"$f":"IF($B229=\"\",\"\",INDEX(Values!I:I,MATCH('All Bill Data Entry'!$B229,Values!G:G,0)))","v":""},{"$f":"IF($B229=\"\",\"\",INDEX(Values!J:J,MATCH('All Bill Data Entry'!$B229,Values!G:G,0)))","v":""},{"$f":"IF(D229=\"\",\"\",IF(AND(LEN(J229)=10,LEFT(J229,3)=\"000\"),IF(INDEX(PO!AE:AE,MATCH(CONCATENATE('All Bill Data Entry'!J229,'All Bill Data Entry'!K229),PO!AC:AC,0))<>\"\",\"N\",\"N\"),\"N\"))","v":""}]
["",null,null,null,null,null,null,"",null,null,null,{"$f":"IF(J230=\"\",\"\",INDEX(CUST!BC:BC,MATCH(INDEX(PO!AD:AD,MATCH(CONCATENATE('All Bill Data Entry'!J230,'All Bill Data Entry'!K230),PO!AC:AC,0)),CUST!I:I,0)))","v":""},{"$f":"IF(L230=\"\",\"\",INDEX(CUST!G:G,MATCH('All Bill Data Entry'!L230,CUST!B:B,0)))","v":""},"",null,null,null,null,null,null,{"$f":"IF($B230=\"\",\"\",INDEX(Values!H:H,MATCH('All Bill Data Entry'!$B230,Values!F:F,0)))","v":""},{"$f":"IF($D230=\"\",\"\",INDEX(CUST!N:N,MATCH('All Bill Data Entry'!L230&'All Bill Data Entry'!N230,CUST!BD:BD,0)))","v":""},{"$f":"IF($B230=\"\",\"\",INDEX(Values!I:I,MATCH('All Bill Data Entry'!$B230,Values!G:G,0)))","v":""},{"$f":"IF($B230=\"\",\"\",INDEX(Values!J:J,MATCH('All Bill Data Entry'!$B230,Values!G:G,0)))","v":""},{"$f":"IF(D230=\"\",\"\",IF(AND(LEN(J230)=10,LEFT(J230,3)=\"000\"),IF(INDEX(PO!AE:AE,MATCH(CONCATENATE('All Bill Data Entry'!J230,'All Bill Data Entry'!K230),PO!AC:AC,0))<>\"\",\"N\",\"N\"),\"N\"))","v":""}]
["",null,null,null,null,null,null,"",null,null,null,{"$f":"IF(J231=\"\",\"\",INDEX(CUST!BC:BC,MATCH(INDEX(PO!AD:AD,MATCH(CONCATENATE('All Bill Data Entry'!J231,'All Bill Data Entry'!K231),PO!AC:AC,0)),CUST!I:I,0)))","v":""},{"$f":"IF(L231=\"\",\"\",INDEX(CUST!G:G,MATCH('All Bill Data Entry'!L231,CUST!B:B,0)))","v":""},"",null,null,null,null,null,null,{"$f":"IF($B231=\"\",\"\",INDEX(Values!H:H,MATCH('All Bill Data Entry'!$B231,Values!F:F,0)))","v":""},{"$f":"IF($D231=\"\",\"\",INDEX(CUST!N:N,MATCH('All Bill Data Entry'!L231&'All Bill Data Entry'!N231,CUST!BD:BD,0)))","v":""},{"$f":"IF($B231=\"\",\"\",INDEX(Values!I:I,MATCH('All Bill Data Entry'!$B231,Values!G:G,0)))","v":""},{"$f":"IF($B231=\"\",\"\",INDEX(Values!J:J,MATCH('All Bill Data Entry'!$B231,Values!G:G,0)))","v":""},{"$f":"IF(D231=\"\",\"\",IF(AND(LEN(J231)=10,LEFT(J231,3)=\"000\"),IF(INDEX(PO!AE:AE,MATCH(CONCATENATE('All Bill Data Entry'!J231,'All Bill Data Entry'!K231),PO!AC:AC,0))<>\"\",\"N\",\"N\"),\"N\"))","v":""}]
["",null,null,null,null,null,null,"",null,null,null,{"$f":"IF(J232=\"\",\"\",INDEX(CUST!BC:BC,MATCH(INDEX(PO!AD:AD,MATCH(CONCATENATE('All Bill Data Entry'!J232,'All Bill Data Entry'!K232),PO!AC:AC,0)),CUST!I:I,0)))","v":""},{"$f":"IF(L232=\"\",\"\",INDEX(CUST!G:G,MATCH('All Bill Data Entry'!L232,CUST!B:B,0)))","v":""},"",null,null,null,null,null,null,{"$f":"IF($B232=\"\",\"\",INDEX(Values!H:H,MATCH('All Bill Data Entry'!$B232,Values!F:F,0)))","v":""},{"$f":"IF($D232=\"\",\"\",INDEX(CUST!N:N,MATCH('All Bill Data Entry'!L232&'All Bill Data Entry'!N232,CUST!BD:BD,0)))","v":""},{"$f":"IF($B232=\"\",\"\",INDEX(Values!I:I,MATCH('All Bill Data Entry'!$B232,Values!G:G,0)))","v":""},{"$f":"IF($B232=\"\",\"\",INDEX(Values!J:J,MATCH('All Bill Data Entry'!$B232,Values!G:G,0)))","v":""},{"$f":"IF(D232=\"\",\"\",IF(AND(LEN(J232)=10,LEFT(J232,3)=\"000\"),IF(INDEX(PO!AE:AE,MATCH(CONCATENATE('All Bill Data Entry'!J232,'All Bill Data Entry'!K232),PO!AC:AC,0))<>\"\",\"N\",\"N\"),\"N\"))","v":""}]
["",null,null,null,null,null,null,"",null,null,null,{"$f":"IF(J233=\"\",\"\",INDEX(CUST!BC:BC,MATCH(INDEX(PO!AD:AD,MATCH(CONCATENATE('All Bill Data Entry'!J233,'All Bill Data Entry'!K233),PO!AC:AC,0)),CUST!I:I,0)))","v":""},{"$f":"IF(L233=\"\",\"\",INDEX(CUST!G:G,MATCH('All Bill Data Entry'!L233,CUST!B:B,0)))","v":""},"",null,null,null,null,null,null,{"$f":"IF($B233=\"\",\"\",INDEX(Values!H:H,MATCH('All Bill Data Entry'!$B233,Values!F:F,0)))","v":""},{"$f":"IF($D233=\"\",\"\",INDEX(CUST!N:N,MATCH('All Bill Data Entry'!L233&'All Bill Data Entry'!N233,CUST!BD:BD,0)))","v":""},{"$f":"IF($B233=\"\",\"\",INDEX(Values!I:I,MATCH('All Bill Data Entry'!$B233,Values!G:G,0)))","v":""},{"$f":"IF($B233=\"\",\"\",INDEX(Values!J:J,MATCH('All Bill Data Entry'!$B233,Values!G:G,0)))","v":""},{"$f":"IF(D233=\"\",\"\",IF(AND(LEN(J233)=10,LEFT(J233,3)=\"000\"),IF(INDEX(PO!AE:AE,MATCH(CONCATENATE('All Bill Data Entry'!J233,'All Bill Data Entry'!K233),PO!AC:AC,0))<>\"\",\"N\",\"N\"),\"N\"))","v":""}]
["",null,null,null,null,null,null,"",null,null,null,{"$f":"IF(J234=\"\",\"\",INDEX(CUST!BC:BC,MATCH(INDEX(PO!AD:AD,MATCH(CONCATENATE('All Bill Data Entry'!J234,'All Bill Data Entry'!K234),PO!AC:AC,0)),CUST!I:I,0)))","v":""},{"$f":"IF(L234=\"\",\"\",INDEX(CUST!G:G,MATCH('All Bill Data Entry'!L234,CUST!B:B,0)))","v":""},"",null,null,null,null,null,null,{"$f":"IF($B234=\"\",\"\",INDEX(Values!H:H,MATCH('All Bill Data Entry'!$B234,Values!F:F,0)))","v":""},{"$f":"IF($D234=\"\",\"\",INDEX(CUST!N:N,MATCH('All Bill Data Entry'!L234&'All Bill Data Entry'!N234,CUST!BD:BD,0)))","v":""},{"$f":"IF($B234=\"\",\"\",INDEX(Values!I:I,MATCH('All Bill Data Entry'!$B234,Values!G:G,0)))","v":""},{"$f":"IF($B234=\"\",\"\",INDEX(Values!J:J,MATCH('All Bill Data Entry'!$B234,Values!G:G,0)))","v":""},{"$f":"IF(D234=\"\",\"\",IF(AND(LEN(J234)=10,LEFT(J234,3)=\"000\"),IF(INDEX(PO!AE:AE,MATCH(CONCATENATE('All Bill Data Entry'!J234,'All Bill Data Entry'!K234),PO!AC:AC,0))<>\"\",\"N\",\"N\"),\"N\"))","v":""}]
["",null,null,null,null,null,null,"",null,null,null,{"$f":"IF(J235=\"\",\"\",INDEX(CUST!BC:BC,MATCH(INDEX(PO!AD:AD,MATCH(CONCATENATE('All Bill Data Entry'!J235,'All Bill Data Entry'!K235),PO!AC:AC,0)),CUST!I:I,0)))","v":""},{"$f":"IF(L235=\"\",\"\",INDEX(CUST!G:G,MATCH('All Bill Data Entry'!L235,CUST!B:B,0)))","v":""},"",null,null,null,null,null,null,{"$f":"IF($B235=\"\",\"\",INDEX(Values!H:H,MATCH('All Bill Data Entry'!$B235,Values!F:F,0)))","v":""},{"$f":"IF($D235=\"\",\"\",INDEX(CUST!N:N,MATCH('All Bill Data Entry'!L235&'All Bill Data Entry'!N235,CUST!BD:BD,0)))","v":""},{"$f":"IF($B235=\"\",\"\",INDEX(Values!I:I,MATCH('All Bill Data Entry'!$B235,Values!G:G,0)))","v":""},{"$f":"IF($B235=\"\",\"\",INDEX(Values!J:J,MATCH('All Bill Data Entry'!$B235,Values!G:G,0)))","v":""},{"$f":"IF(D235=\"\",\"\",IF(AND(LEN(J235)=10,LEFT(J235,3)=\"000\"),IF(INDEX(PO!AE:AE,MATCH(CONCATENATE('All Bill Data Entry'!J235,'All Bill Data Entry'!K235),PO!AC:AC,0))<>\"\",\"N\",\"N\"),\"N\"))","v":""}]
["",null,null,null,null,null,null,"",null,null,null,{"$f":"IF(J236=\"\",\"\",INDEX(CUST!BC:BC,MATCH(INDEX(PO!AD:AD,MATCH(CONCATENATE('All Bill Data Entry'!J236,'All Bill Data Entry'!K236),PO!AC:AC,0)),CUST!I:I,0)))","v":""},{"$f":"IF(L236=\"\",\"\",INDEX(CUST!G:G,MATCH('All Bill Data Entry'!L236,CUST!B:B,0)))","v":""},"",null,null,null,null,null,null,{"$f":"IF($B236=\"\",\"\",INDEX(Values!H:H,MATCH('All Bill Data Entry'!$B236,Values!F:F,0)))","v":""},{"$f":"IF($D236=\"\",\"\",INDEX(CUST!N:N,MATCH('All Bill Data Entry'!L236&'All Bill Data Entry'!N236,CUST!BD:BD,0)))","v":""},{"$f":"IF($B236=\"\",\"\",INDEX(Values!I:I,MATCH('All Bill Data Entry'!$B236,Values!G:G,0)))","v":""},{"$f":"IF($B236=\"\",\"\",INDEX(Values!J:J,MATCH('All Bill Data Entry'!$B236,Values!G:G,0)))","v":""},{"$f":"IF(D236=\"\",\"\",IF(AND(LEN(J236)=10,LEFT(J236,3)=\"000\"),IF(INDEX(PO!AE:AE,MATCH(CONCATENATE('All Bill Data Entry'!J236,'All Bill Data Entry'!K236),PO!AC:AC,0))<>\"\",\"N\",\"N\"),\"N\"))","v":""}]
["",null,null,null,null,null,null,"",null,null,null,{"$f":"IF(J237=\"\",\"\",INDEX(CUST!BC:BC,MATCH(INDEX(PO!AD:AD,MATCH(CONCATENATE('All Bill Data Entry'!J237,'All Bill Data Entry'!K237),PO!AC:AC,0)),CUST!I:I,0)))","v":""},{"$f":"IF(L237=\"\",\"\",INDEX(CUST!G:G,MATCH('All Bill Data Entry'!L237,CUST!B:B,0)))","v":""},"",null,null,null,null,null,null,{"$f":"IF($B237=\"\",\"\",INDEX(Values!H:H,MATCH('All Bill Data Entry'!$B237,Values!F:F,0)))","v":""},{"$f":"IF($D237=\"\",\"\",INDEX(CUST!N:N,MATCH('All Bill Data Entry'!L237&'All Bill Data Entry'!N237,CUST!BD:BD,0)))","v":""},{"$f":"IF($B237=\"\",\"\",INDEX(Values!I:I,MATCH('All Bill Data Entry'!$B237,Values!G:G,0)))","v":""},{"$f":"IF($B237=\"\",\"\",INDEX(Values!J:J,MATCH('All Bill Data Entry'!$B237,Values!G:G,0)))","v":""},{"$f":"IF(D237=\"\",\"\",IF(AND(LEN(J237)=10,LEFT(J237,3)=\"000\"),IF(INDEX(PO!AE:AE,MATCH(CONCATENATE('All Bill Data Entry'!J237,'All Bill Data Entry'!K237),PO!AC:AC,0))<>\"\",\"N\",\"N\"),\"N\"))","v":""}]
["",null,null,null,null,null,null,"",null,null,null,{"$f":"IF(J238=\"\",\"\",INDEX(CUST!BC:BC,MATCH(INDEX(PO!AD:AD,MATCH(CONCATENATE('All Bill Data Entry'!J238,'All Bill Data Entry'!K238),PO!AC:AC,0)),CUST!I:I,0)))","v":""},{"$f":"IF(L238=\"\",\"\",INDEX(CUST!G:G,MATCH('All Bill Data Entry'!L238,CUST!B:B,0)))","v":""},"",null,null,null,null,null,null,{"$f":"IF($B238=\"\",\"\",INDEX(Values!H:H,MATCH('All Bill Data Entry'!$B238,Values!F:F,0)))","v":""},{"$f":"IF($D238=\"\",\"\",INDEX(CUST!N:N,MATCH('All Bill Data Entry'!L238&'All Bill Data Entry'!N238,CUST!BD:BD,0)))","v":""},{"$f":"IF($B238=\"\",\"\",INDEX(Values!I:I,MATCH('All Bill Data Entry'!$B238,Values!G:G,0)))","v":""},{"$f":"IF($B238=\"\",\"\",INDEX(Values!J:J,MATCH('All Bill Data Entry'!$B238,Values!G:G,0)))","v":""},{"$f":"IF(D238=\"\",\"\",IF(AND(LEN(J238)=10,LEFT(J238,3)=\"000\"),IF(INDEX(PO!AE:AE,MATCH(CONCATENATE('All Bill Data Entry'!J238,'All Bill Data Entry'!K238),PO!AC:AC,0))<>\"\",\"N\",\"N\"),\"N\"))","v":""}]
["",null,null,null,null,null,null,"",null,null,null,{"$f":"IF(J239=\"\",\"\",INDEX(CUST!BC:BC,MATCH(INDEX(PO!AD:AD,MATCH(CONCATENATE('All Bill Data Entry'!J239,'All Bill Data Entry'!K239),PO!AC:AC,0)),CUST!I:I,0)))","v":""},{"$f":"IF(L239=\"\",\"\",INDEX(CUST!G:G,MATCH('All Bill Data Entry'!L239,CUST!B:B,0)))","v":""},"",null,null,null,null,null,null,{"$f":"IF($B239=\"\",\"\",INDEX(Values!H:H,MATCH('All Bill Data Entry'!$B239,Values!F:F,0)))","v":""},{"$f":"IF($D239=\"\",\"\",INDEX(CUST!N:N,MATCH('All Bill Data Entry'!L239&'All Bill Data Entry'!N239,CUST!BD:BD,0)))","v":""},{"$f":"IF($B239=\"\",\"\",INDEX(Values!I:I,MATCH('All Bill Data Entry'!$B239,Values!G:G,0)))","v":""},{"$f":"IF($B239=\"\",\"\",INDEX(Values!J:J,MATCH('All Bill Data Entry'!$B239,Values!G:G,0)))","v":""},{"$f":"IF(D239=\"\",\"\",IF(AND(LEN(J239)=10,LEFT(J239,3)=\"000\"),IF(INDEX(PO!AE:AE,MATCH(CONCATENATE('All Bill Data Entry'!J239,'All Bill Data Entry'!K239),PO!AC:AC,0))<>\"\",\"N\",\"N\"),\"N\"))","v":""}]
["",null,null,null,null,null,null,"",null,null,null,{"$f":"IF(J240=\"\",\"\",INDEX(CUST!BC:BC,MATCH(INDEX(PO!AD:AD,MATCH(CONCATENATE('All Bill Data Entry'!J240,'All Bill Data Entry'!K240),PO!AC:AC,0)),CUST!I:I,0)))","v":""},{"$f":"IF(L240=\"\",\"\",INDEX(CUST!G:G,MATCH('All Bill Data Entry'!L240,CUST!B:B,0)))","v":""},"",null,null,null,null,null,null,{"$f":"IF($B240=\"\",\"\",INDEX(Values!H:H,MATCH('All Bill Data Entry'!$B240,Values!F:F,0)))","v":""},{"$f":"IF($D240=\"\",\"\",INDEX(CUST!N:N,MATCH('All Bill Data Entry'!L240&'All Bill Data Entry'!N240,CUST!BD:BD,0)))","v":""},{"$f":"IF($B240=\"\",\"\",INDEX(Values!I:I,MATCH('All Bill Data Entry'!$B240,Values!G:G,0)))","v":""},{"$f":"IF($B240=\"\",\"\",INDEX(Values!J:J,MATCH('All Bill Data Entry'!$B240,Values!G:G,0)))","v":""},{"$f":"IF(D240=\"\",\"\",IF(AND(LEN(J240)=10,LEFT(J240,3)=\"000\"),IF(INDEX(PO!AE:AE,MATCH(CONCATENATE('All Bill Data Entry'!J240,'All Bill Data Entry'!K240),PO!AC:AC,0))<>\"\",\"N\",\"N\"),\"N\"))","v":""}]
["",null,null,null,null,null,null,"",null,null,null,{"$f":"IF(J241=\"\",\"\",INDEX(CUST!BC:BC,MATCH(INDEX(PO!AD:AD,MATCH(CONCATENATE('All Bill Data Entry'!J241,'All Bill Data Entry'!K241),PO!AC:AC,0)),CUST!I:I,0)))","v":""},{"$f":"IF(L241=\"\",\"\",INDEX(CUST!G:G,MATCH('All Bill Data Entry'!L241,CUST!B:B,0)))","v":""},"",null,null,null,null,null,null,{"$f":"IF($B241=\"\",\"\",INDEX(Values!H:H,MATCH('All Bill Data Entry'!$B241,Values!F:F,0)))","v":""},{"$f":"IF($D241=\"\",\"\",INDEX(CUST!N:N,MATCH('All Bill Data Entry'!L241&'All Bill Data Entry'!N241,CUST!BD:BD,0)))","v":""},{"$f":"IF($B241=\"\",\"\",INDEX(Values!I:I,MATCH('All Bill Data Entry'!$B241,Values!G:G,0)))","v":""},{"$f":"IF($B241=\"\",\"\",INDEX(Values!J:J,MATCH('All Bill Data Entry'!$B241,Values!G:G,0)))","v":""},{"$f":"IF(D241=\"\",\"\",IF(AND(LEN(J241)=10,LEFT(J241,3)=\"000\"),IF(INDEX(PO!AE:AE,MATCH(CONCATENATE('All Bill Data Entry'!J241,'All Bill Data Entry'!K241),PO!AC:AC,0))<>\"\",\"N\",\"N\"),\"N\"))","v":""}]
["",null,null,null,null,null,null,"",null,null,null,{"$f":"IF(J242=\"\",\"\",INDEX(CUST!BC:BC,MATCH(INDEX(PO!AD:AD,MATCH(CONCATENATE('All Bill Data Entry'!J242,'All Bill Data Entry'!K242),PO!AC:AC,0)),CUST!I:I,0)))","v":""},{"$f":"IF(L242=\"\",\"\",INDEX(CUST!G:G,MATCH('All Bill Data Entry'!L242,CUST!B:B,0)))","v":""},"",null,null,null,null,null,null,{"$f":"IF($B242=\"\",\"\",INDEX(Values!H:H,MATCH('All Bill Data Entry'!$B242,Values!F:F,0)))","v":""},{"$f":"IF($D242=\"\",\"\",INDEX(CUST!N:N,MATCH('All Bill Data Entry'!L242&'All Bill Data Entry'!N242,CUST!BD:BD,0)))","v":""},{"$f":"IF($B242=\"\",\"\",INDEX(Values!I:I,MATCH('All Bill Data Entry'!$B242,Values!G:G,0)))","v":""},{"$f":"IF($B242=\"\",\"\",INDEX(Values!J:J,MATCH('All Bill Data Entry'!$B242,Values!G:G,0)))","v":""},{"$f":"IF(D242=\"\",\"\",IF(AND(LEN(J242)=10,LEFT(J242,3)=\"000\"),IF(INDEX(PO!AE:AE,MATCH(CONCATENATE('All Bill Data Entry'!J242,'All Bill Data Entry'!K242),PO!AC:AC,0))<>\"\",\"N\",\"N\"),\"N\"))","v":""}]
["",null,null,null,null,null,null,"",null,null,null,{"$f":"IF(J243=\"\",\"\",INDEX(CUST!BC:BC,MATCH(INDEX(PO!AD:AD,MATCH(CONCATENATE('All Bill Data Entry'!J243,'All Bill Data Entry'!K243),PO!AC:AC,0)),CUST!I:I,0)))","v":""},{"$f":"IF(L243=\"\",\"\",INDEX(CUST!G:G,MATCH('All Bill Data Entry'!L243,CUST!B:B,0)))","v":""},"",null,null,null,null,null,null,{"$f":"IF($B243=\"\",\"\",INDEX(Values!H:H,MATCH('All Bill Data Entry'!$B243,Values!F:F,0)))","v":""},{"$f":"IF($D243=\"\",\"\",INDEX(CUST!N:N,MATCH('All Bill Data Entry'!L243&'All Bill Data Entry'!N243,CUST!BD:BD,0)))","v":""},{"$f":"IF($B243=\"\",\"\",INDEX(Values!I:I,MATCH('All Bill Data Entry'!$B243,Values!G:G,0)))","v":""},{"$f":"IF($B243=\"\",\"\",INDEX(Values!J:J,MATCH('All Bill Data Entry'!$B243,Values!G:G,0)))","v":""},{"$f":"IF(D243=\"\",\"\",IF(AND(LEN(J243)=10,LEFT(J243,3)=\"000\"),IF(INDEX(PO!AE:AE,MATCH(CONCATENATE('All Bill Data Entry'!J243,'All Bill Data Entry'!K243),PO!AC:AC,0))<>\"\",\"N\",\"N\"),\"N\"))","v":""}]
["",null,null,null,null,null,null,"",null,null,null,{"$f":"IF(J244=\"\",\"\",INDEX(CUST!BC:BC,MATCH(INDEX(PO!AD:AD,MATCH(CONCATENATE('All Bill Data Entry'!J244,'All Bill Data Entry'!K244),PO!AC:AC,0)),CUST!I:I,0)))","v":""},{"$f":"IF(L244=\"\",\"\",INDEX(CUST!G:G,MATCH('All Bill Data Entry'!L244,CUST!B:B,0)))","v":""},"",null,null,null,null,null,null,{"$f":"IF($B244=\"\",\"\",INDEX(Values!H:H,MATCH('All Bill Data Entry'!$B244,Values!F:F,0)))","v":""},{"$f":"IF($D244=\"\",\"\",INDEX(CUST!N:N,MATCH('All Bill Data Entry'!L244&'All Bill Data Entry'!N244,CUST!BD:BD,0)))","v":""},{"$f":"IF($B244=\"\",\"\",INDEX(Values!I:I,MATCH('All Bill Data Entry'!$B244,Values!G:G,0)))","v":""},{"$f":"IF($B244=\"\",\"\",INDEX(Values!J:J,MATCH('All Bill Data Entry'!$B244,Values!G:G,0)))","v":""},{"$f":"IF(D244=\"\",\"\",IF(AND(LEN(J244)=10,LEFT(J244,3)=\"000\"),IF(INDEX(PO!AE:AE,MATCH(CONCATENATE('All Bill Data Entry'!J244,'All Bill Data Entry'!K244),PO!AC:AC,0))<>\"\",\"N\",\"N\"),\"N\"))","v":""}]
["",null,null,null,null,null,null,"",null,null,null,{"$f":"IF(J245=\"\",\"\",INDEX(CUST!BC:BC,MATCH(INDEX(PO!AD:AD,MATCH(CONCATENATE('All Bill Data Entry'!J245,'All Bill Data Entry'!K245),PO!AC:AC,0)),CUST!I:I,0)))","v":""},{"$f":"IF(L245=\"\",\"\",INDEX(CUST!G:G,MATCH('All Bill Data Entry'!L245,CUST!B:B,0)))","v":""},"",null,null,null,null,null,null,{"$f":"IF($B245=\"\",\"\",INDEX(Values!H:H,MATCH('All Bill Data Entry'!$B245,Values!F:F,0)))","v":""},{"$f":"IF($D245=\"\",\"\",INDEX(CUST!N:N,MATCH('All Bill Data Entry'!L245&'All Bill Data Entry'!N245,CUST!BD:BD,0)))","v":""},{"$f":"IF($B245=\"\",\"\",INDEX(Values!I:I,MATCH('All Bill Data Entry'!$B245,Values!G:G,0)))","v":""},{"$f":"IF($B245=\"\",\"\",INDEX(Values!J:J,MATCH('All Bill Data Entry'!$B245,Values!G:G,0)))","v":""},{"$f":"IF(D245=\"\",\"\",IF(AND(LEN(J245)=10,LEFT(J245,3)=\"000\"),IF(INDEX(PO!AE:AE,MATCH(CONCATENATE('All Bill Data Entry'!J245,'All Bill Data Entry'!K245),PO!AC:AC,0))<>\"\",\"N\",\"N\"),\"N\"))","v":""}]
["",null,null,null,null,null,null,"",null,null,null,{"$f":"IF(J246=\"\",\"\",INDEX(CUST!BC:BC,MATCH(INDEX(PO!AD:AD,MATCH(CONCATENATE('All Bill Data Entry'!J246,'All Bill Data Entry'!K246),PO!AC:AC,0)),CUST!I:I,0)))","v":""},{"$f":"IF(L246=\"\",\"\",INDEX(CUST!G:G,MATCH('All Bill Data Entry'!L246,CUST!B:B,0)))","v":""},"",null,null,null,null,null,null,{"$f":"IF($B246=\"\",\"\",INDEX(Values!H:H,MATCH('All Bill Data Entry'!$B246,Values!F:F,0)))","v":""},{"$f":"IF($D246=\"\",\"\",INDEX(CUST!N:N,MATCH('All Bill Data Entry'!L246&'All Bill Data Entry'!N246,CUST!BD:BD,0)))","v":""},{"$f":"IF($B246=\"\",\"\",INDEX(Values!I:I,MATCH('All Bill Data Entry'!$B246,Values!G:G,0)))","v":""},{"$f":"IF($B246=\"\",\"\",INDEX(Values!J:J,MATCH('All Bill Data Entry'!$B246,Values!G:G,0)))","v":""},{"$f":"IF(D246=\"\",\"\",IF(AND(LEN(J246)=10,LEFT(J246,3)=\"000\"),IF(INDEX(PO!AE:AE,MATCH(CONCATENATE('All Bill Data Entry'!J246,'All Bill Data Entry'!K246),PO!AC:AC,0))<>\"\",\"N\",\"N\"),\"N\"))","v":""}]
["",null,null,null,null,null,null,"",null,null,null,{"$f":"IF(J247=\"\",\"\",INDEX(CUST!BC:BC,MATCH(INDEX(PO!AD:AD,MATCH(CONCATENATE('All Bill Data Entry'!J247,'All Bill Data Entry'!K247),PO!AC:AC,0)),CUST!I:I,0)))","v":""},{"$f":"IF(L247=\"\",\"\",INDEX(CUST!G:G,MATCH('All Bill Data Entry'!L247,CUST!B:B,0)))","v":""},"",null,null,null,null,null,null,{"$f":"IF($B247=\"\",\"\",INDEX(Values!H:H,MATCH('All Bill Data Entry'!$B247,Values!F:F,0)))","v":""},{"$f":"IF($D247=\"\",\"\",INDEX(CUST!N:N,MATCH('All Bill Data Entry'!L247&'All Bill Data Entry'!N247,CUST!BD:BD,0)))","v":""},{"$f":"IF($B247=\"\",\"\",INDEX(Values!I:I,MATCH('All Bill Data Entry'!$B247,Values!G:G,0)))","v":""},{"$f":"IF($B247=\"\",\"\",INDEX(Values!J:J,MATCH('All Bill Data Entry'!$B247,Values!G:G,0)))","v":""},{"$f":"IF(D247=\"\",\"\",IF(AND(LEN(J247)=10,LEFT(J247,3)=\"000\"),IF(INDEX(PO!AE:AE,MATCH(CONCATENATE('All Bill Data Entry'!J247,'All Bill Data Entry'!K247),PO!AC:AC,0))<>\"\",\"N\",\"N\"),\"N\"))","v":""}]
["",null,null,null,null,null,null,"",null,null,null,{"$f":"IF(J248=\"\",\"\",INDEX(CUST!BC:BC,MATCH(INDEX(PO!AD:AD,MATCH(CONCATENATE('All Bill Data Entry'!J248,'All Bill Data Entry'!K248),PO!AC:AC,0)),CUST!I:I,0)))","v":""},{"$f":"IF(L248=\"\",\"\",INDEX(CUST!G:G,MATCH('All Bill Data Entry'!L248,CUST!B:B,0)))","v":""},"",null,null,null,null,null,null,{"$f":"IF($B248=\"\",\"\",INDEX(Values!H:H,MATCH('All Bill Data Entry'!$B248,Values!F:F,0)))","v":""},{"$f":"IF($D248=\"\",\"\",INDEX(CUST!N:N,MATCH('All Bill Data Entry'!L248&'All Bill Data Entry'!N248,CUST!BD:BD,0)))","v":""},{"$f":"IF($B248=\"\",\"\",INDEX(Values!I:I,MATCH('All Bill Data Entry'!$B248,Values!G:G,0)))","v":""},{"$f":"IF($B248=\"\",\"\",INDEX(Values!J:J,MATCH('All Bill Data Entry'!$B248,Values!G:G,0)))","v":""},{"$f":"IF(D248=\"\",\"\",IF(AND(LEN(J248)=10,LEFT(J248,3)=\"000\"),IF(INDEX(PO!AE:AE,MATCH(CONCATENATE('All Bill Data Entry'!J248,'All Bill Data Entry'!K248),PO!AC:AC,0))<>\"\",\"N\",\"N\"),\"N\"))","v":""}]
["",null,null,null,null,null,null,"",null,null,null,{"$f":"IF(J249=\"\",\"\",INDEX(CUST!BC:BC,MATCH(INDEX(PO!AD:AD,MATCH(CONCATENATE('All Bill Data Entry'!J249,'All Bill Data Entry'!K249),PO!AC:AC,0)),CUST!I:I,0)))","v":""},{"$f":"IF(L249=\"\",\"\",INDEX(CUST!G:G,MATCH('All Bill Data Entry'!L249,CUST!B:B,0)))","v":""},"",null,null,null,null,null,null,{"$f":"IF($B249=\"\",\"\",INDEX(Values!H:H,MATCH('All Bill Data Entry'!$B249,Values!F:F,0)))","v":""},{"$f":"IF($D249=\"\",\"\",INDEX(CUST!N:N,MATCH('All Bill Data Entry'!L249&'All Bill Data Entry'!N249,CUST!BD:BD,0)))","v":""},{"$f":"IF($B249=\"\",\"\",INDEX(Values!I:I,MATCH('All Bill Data Entry'!$B249,Values!G:G,0)))","v":""},{"$f":"IF($B249=\"\",\"\",INDEX(Values!J:J,MATCH('All Bill Data Entry'!$B249,Values!G:G,0)))","v":""},{"$f":"IF(D249=\"\",\"\",IF(AND(LEN(J249)=10,LEFT(J249,3)=\"000\"),IF(INDEX(PO!AE:AE,MATCH(CONCATENATE('All Bill Data Entry'!J249,'All Bill Data Entry'!K249),PO!AC:AC,0))<>\"\",\"N\",\"N\"),\"N\"))","v":""}]
["",null,null,null,null,null,null,"",null,null,null,{"$f":"IF(J250=\"\",\"\",INDEX(CUST!BC:BC,MATCH(INDEX(PO!AD:AD,MATCH(CONCATENATE('All Bill Data Entry'!J250,'All Bill Data Entry'!K250),PO!AC:AC,0)),CUST!I:I,0)))","v":""},{"$f":"IF(L250=\"\",\"\",INDEX(CUST!G:G,MATCH('All Bill Data Entry'!L250,CUST!B:B,0)))","v":""},"",null,null,null,null,null,null,{"$f":"IF($B250=\"\",\"\",INDEX(Values!H:H,MATCH('All Bill Data Entry'!$B250,Values!F:F,0)))","v":""},{"$f":"IF($D250=\"\",\"\",INDEX(CUST!N:N,MATCH('All Bill Data Entry'!L250&'All Bill Data Entry'!N250,CUST!BD:BD,0)))","v":""},{"$f":"IF($B250=\"\",\"\",INDEX(Values!I:I,MATCH('All Bill Data Entry'!$B250,Values!G:G,0)))","v":""},{"$f":"IF($B250=\"\",\"\",INDEX(Values!J:J,MATCH('All Bill Data Entry'!$B250,Values!G:G,0)))","v":""},{"$f":"IF(D250=\"\",\"\",IF(AND(LEN(J250)=10,LEFT(J250,3)=\"000\"),IF(INDEX(PO!AE:AE,MATCH(CONCATENATE('All Bill Data Entry'!J250,'All Bill Data Entry'!K250),PO!AC:AC,0))<>\"\",\"N\",\"N\"),\"N\"))","v":""}]
["",null,null,null,null,null,null,"",null,null,null,{"$f":"IF(J251=\"\",\"\",INDEX(CUST!BC:BC,MATCH(INDEX(PO!AD:AD,MATCH(CONCATENATE('All Bill Data Entry'!J251,'All Bill Data Entry'!K251),PO!AC:AC,0)),CUST!I:I,0)))","v":""},{"$f":"IF(L251=\"\",\"\",INDEX(CUST!G:G,MATCH('All Bill Data Entry'!L251,CUST!B:B,0)))","v":""},"",null,null,null,null,null,null,{"$f":"IF($B251=\"\",\"\",INDEX(Values!H:H,MATCH('All Bill Data Entry'!$B251,Values!F:F,0)))","v":""},{"$f":"IF($D251=\"\",\"\",INDEX(CUST!N:N,MATCH('All Bill Data Entry'!L251&'All Bill Data Entry'!N251,CUST!BD:BD,0)))","v":""},{"$f":"IF($B251=\"\",\"\",INDEX(Values!I:I,MATCH('All Bill Data Entry'!$B251,Values!G:G,0)))","v":""},{"$f":"IF($B251=\"\",\"\",INDEX(Values!J:J,MATCH('All Bill Data Entry'!$B251,Values!G:G,0)))","v":""},{"$f":"IF(D251=\"\",\"\",IF(AND(LEN(J251)=10,LEFT(J251,3)=\"000\"),IF(INDEX(PO!AE:AE,MATCH(CONCATENATE('All Bill Data Entry'!J251,'All Bill Data Entry'!K251),PO!AC:AC,0))<>\"\",\"N\",\"N\"),\"N\"))","v":""}]
["",null,null,null,null,null,null,"",null,null,null,{"$f":"IF(J252=\"\",\"\",INDEX(CUST!BC:BC,MATCH(INDEX(PO!AD:AD,MATCH(CONCATENATE('All Bill Data Entry'!J252,'All Bill Data Entry'!K252),PO!AC:AC,0)),CUST!I:I,0)))","v":""},{"$f":"IF(L252=\"\",\"\",INDEX(CUST!G:G,MATCH('All Bill Data Entry'!L252,CUST!B:B,0)))","v":""},"",null,null,null,null,null,null,{"$f":"IF($B252=\"\",\"\",INDEX(Values!H:H,MATCH('All Bill Data Entry'!$B252,Values!F:F,0)))","v":""},{"$f":"IF($D252=\"\",\"\",INDEX(CUST!N:N,MATCH('All Bill Data Entry'!L252&'All Bill Data Entry'!N252,CUST!BD:BD,0)))","v":""},{"$f":"IF($B252=\"\",\"\",INDEX(Values!I:I,MATCH('All Bill Data Entry'!$B252,Values!G:G,0)))","v":""},{"$f":"IF($B252=\"\",\"\",INDEX(Values!J:J,MATCH('All Bill Data Entry'!$B252,Values!G:G,0)))","v":""},{"$f":"IF(D252=\"\",\"\",IF(AND(LEN(J252)=10,LEFT(J252,3)=\"000\"),IF(INDEX(PO!AE:AE,MATCH(CONCATENATE('All Bill Data Entry'!J252,'All Bill Data Entry'!K252),PO!AC:AC,0))<>\"\",\"N\",\"N\"),\"N\"))","v":""}]
["",null,null,null,null,null,null,"",null,null,null,{"$f":"IF(J253=\"\",\"\",INDEX(CUST!BC:BC,MATCH(INDEX(PO!AD:AD,MATCH(CONCATENATE('All Bill Data Entry'!J253,'All Bill Data Entry'!K253),PO!AC:AC,0)),CUST!I:I,0)))","v":""},{"$f":"IF(L253=\"\",\"\",INDEX(CUST!G:G,MATCH('All Bill Data Entry'!L253,CUST!B:B,0)))","v":""},"",null,null,null,null,null,null,{"$f":"IF($B253=\"\",\"\",INDEX(Values!H:H,MATCH('All Bill Data Entry'!$B253,Values!F:F,0)))","v":""},{"$f":"IF($D253=\"\",\"\",INDEX(CUST!N:N,MATCH('All Bill Data Entry'!L253&'All Bill Data Entry'!N253,CUST!BD:BD,0)))","v":""},{"$f":"IF($B253=\"\",\"\",INDEX(Values!I:I,MATCH('All Bill Data Entry'!$B253,Values!G:G,0)))","v":""},{"$f":"IF($B253=\"\",\"\",INDEX(Values!J:J,MATCH('All Bill Data Entry'!$B253,Values!G:G,0)))","v":""},{"$f":"IF(D253=\"\",\"\",IF(AND(LEN(J253)=10,LEFT(J253,3)=\"000\"),IF(INDEX(PO!AE:AE,MATCH(CONCATENATE('All Bill Data Entry'!J253,'All Bill Data Entry'!K253),PO!AC:AC,0))<>\"\",\"N\",\"N\"),\"N\"))","v":""}]
["",null,null,null,null,null,null,"",null,null,null,{"$f":"IF(J254=\"\",\"\",INDEX(CUST!BC:BC,MATCH(INDEX(PO!AD:AD,MATCH(CONCATENATE('All Bill Data Entry'!J254,'All Bill Data Entry'!K254),PO!AC:AC,0)),CUST!I:I,0)))","v":""},{"$f":"IF(L254=\"\",\"\",INDEX(CUST!G:G,MATCH('All Bill Data Entry'!L254,CUST!B:B,0)))","v":""},"",null,null,null,null,null,null,{"$f":"IF($B254=\"\",\"\",INDEX(Values!H:H,MATCH('All Bill Data Entry'!$B254,Values!F:F,0)))","v":""},{"$f":"IF($D254=\"\",\"\",INDEX(CUST!N:N,MATCH('All Bill Data Entry'!L254&'All Bill Data Entry'!N254,CUST!BD:BD,0)))","v":""},{"$f":"IF($B254=\"\",\"\",INDEX(Values!I:I,MATCH('All Bill Data Entry'!$B254,Values!G:G,0)))","v":""},{"$f":"IF($B254=\"\",\"\",INDEX(Values!J:J,MATCH('All Bill Data Entry'!$B254,Values!G:G,0)))","v":""},{"$f":"IF(D254=\"\",\"\",IF(AND(LEN(J254)=10,LEFT(J254,3)=\"000\"),IF(INDEX(PO!AE:AE,MATCH(CONCATENATE('All Bill Data Entry'!J254,'All Bill Data Entry'!K254),PO!AC:AC,0))<>\"\",\"N\",\"N\"),\"N\"))","v":""}]
["",null,null,null,null,null,null,"",null,null,null,{"$f":"IF(J255=\"\",\"\",INDEX(CUST!BC:BC,MATCH(INDEX(PO!AD:AD,MATCH(CONCATENATE('All Bill Data Entry'!J255,'All Bill Data Entry'!K255),PO!AC:AC,0)),CUST!I:I,0)))","v":""},{"$f":"IF(L255=\"\",\"\",INDEX(CUST!G:G,MATCH('All Bill Data Entry'!L255,CUST!B:B,0)))","v":""},"",null,null,null,null,null,null,{"$f":"IF($B255=\"\",\"\",INDEX(Values!H:H,MATCH('All Bill Data Entry'!$B255,Values!F:F,0)))","v":""},{"$f":"IF($D255=\"\",\"\",INDEX(CUST!N:N,MATCH('All Bill Data Entry'!L255&'All Bill Data Entry'!N255,CUST!BD:BD,0)))","v":""},{"$f":"IF($B255=\"\",\"\",INDEX(Values!I:I,MATCH('All Bill Data Entry'!$B255,Values!G:G,0)))","v":""},{"$f":"IF($B255=\"\",\"\",INDEX(Values!J:J,MATCH('All Bill Data Entry'!$B255,Values!G:G,0)))","v":""},{"$f":"IF(D255=\"\",\"\",IF(AND(LEN(J255)=10,LEFT(J255,3)=\"000\"),IF(INDEX(PO!AE:AE,MATCH(CONCATENATE('All Bill Data Entry'!J255,'All Bill Data Entry'!K255),PO!AC:AC,0))<>\"\",\"N\",\"N\"),\"N\"))","v":""}]
["",null,null,null,null,null,null,"",null,null,null,{"$f":"IF(J256=\"\",\"\",INDEX(CUST!BC:BC,MATCH(INDEX(PO!AD:AD,MATCH(CONCATENATE('All Bill Data Entry'!J256,'All Bill Data Entry'!K256),PO!AC:AC,0)),CUST!I:I,0)))","v":""},{"$f":"IF(L256=\"\",\"\",INDEX(CUST!G:G,MATCH('All Bill Data Entry'!L256,CUST!B:B,0)))","v":""},"",null,null,null,null,null,null,{"$f":"IF($B256=\"\",\"\",INDEX(Values!H:H,MATCH('All Bill Data Entry'!$B256,Values!F:F,0)))","v":""},{"$f":"IF($D256=\"\",\"\",INDEX(CUST!N:N,MATCH('All Bill Data Entry'!L256&'All Bill Data Entry'!N256,CUST!BD:BD,0)))","v":""},{"$f":"IF($B256=\"\",\"\",INDEX(Values!I:I,MATCH('All Bill Data Entry'!$B256,Values!G:G,0)))","v":""},{"$f":"IF($B256=\"\",\"\",INDEX(Values!J:J,MATCH('All Bill Data Entry'!$B256,Values!G:G,0)))","v":""},{"$f":"IF(D256=\"\",\"\",IF(AND(LEN(J256)=10,LEFT(J256,3)=\"000\"),IF(INDEX(PO!AE:AE,MATCH(CONCATENATE('All Bill Data Entry'!J256,'All Bill Data Entry'!K256),PO!AC:AC,0))<>\"\",\"N\",\"N\"),\"N\"))","v":""}]
["",null,null,null,null,null,null,"",null,null,null,{"$f":"IF(J257=\"\",\"\",INDEX(CUST!BC:BC,MATCH(INDEX(PO!AD:AD,MATCH(CONCATENATE('All Bill Data Entry'!J257,'All Bill Data Entry'!K257),PO!AC:AC,0)),CUST!I:I,0)))","v":""},{"$f":"IF(L257=\"\",\"\",INDEX(CUST!G:G,MATCH('All Bill Data Entry'!L257,CUST!B:B,0)))","v":""},"",null,null,null,null,null,null,{"$f":"IF($B257=\"\",\"\",INDEX(Values!H:H,MATCH('All Bill Data Entry'!$B257,Values!F:F,0)))","v":""},{"$f":"IF($D257=\"\",\"\",INDEX(CUST!N:N,MATCH('All Bill Data Entry'!L257&'All Bill Data Entry'!N257,CUST!BD:BD,0)))","v":""},{"$f":"IF($B257=\"\",\"\",INDEX(Values!I:I,MATCH('All Bill Data Entry'!$B257,Values!G:G,0)))","v":""},{"$f":"IF($B257=\"\",\"\",INDEX(Values!J:J,MATCH('All Bill Data Entry'!$B257,Values!G:G,0)))","v":""},{"$f":"IF(D257=\"\",\"\",IF(AND(LEN(J257)=10,LEFT(J257,3)=\"000\"),IF(INDEX(PO!AE:AE,MATCH(CONCATENATE('All Bill Data Entry'!J257,'All Bill Data Entry'!K257),PO!AC:AC,0))<>\"\",\"N\",\"N\"),\"N\"))","v":""}]
["",null,null,null,null,null,null,"",null,null,null,{"$f":"IF(J258=\"\",\"\",INDEX(CUST!BC:BC,MATCH(INDEX(PO!AD:AD,MATCH(CONCATENATE('All Bill Data Entry'!J258,'All Bill Data Entry'!K258),PO!AC:AC,0)),CUST!I:I,0)))","v":""},{"$f":"IF(L258=\"\",\"\",INDEX(CUST!G:G,MATCH('All Bill Data Entry'!L258,CUST!B:B,0)))","v":""},"",null,null,null,null,null,null,{"$f":"IF($B258=\"\",\"\",INDEX(Values!H:H,MATCH('All Bill Data Entry'!$B258,Values!F:F,0)))","v":""},{"$f":"IF($D258=\"\",\"\",INDEX(CUST!N:N,MATCH('All Bill Data Entry'!L258&'All Bill Data Entry'!N258,CUST!BD:BD,0)))","v":""},{"$f":"IF($B258=\"\",\"\",INDEX(Values!I:I,MATCH('All Bill Data Entry'!$B258,Values!G:G,0)))","v":""},{"$f":"IF($B258=\"\",\"\",INDEX(Values!J:J,MATCH('All Bill Data Entry'!$B258,Values!G:G,0)))","v":""},{"$f":"IF(D258=\"\",\"\",IF(AND(LEN(J258)=10,LEFT(J258,3)=\"000\"),IF(INDEX(PO!AE:AE,MATCH(CONCATENATE('All Bill Data Entry'!J258,'All Bill Data Entry'!K258),PO!AC:AC,0))<>\"\",\"N\",\"N\"),\"N\"))","v":""}]
["",null,null,null,null,null,null,"",null,null,null,{"$f":"IF(J259=\"\",\"\",INDEX(CUST!BC:BC,MATCH(INDEX(PO!AD:AD,MATCH(CONCATENATE('All Bill Data Entry'!J259,'All Bill Data Entry'!K259),PO!AC:AC,0)),CUST!I:I,0)))","v":""},{"$f":"IF(L259=\"\",\"\",INDEX(CUST!G:G,MATCH('All Bill Data Entry'!L259,CUST!B:B,0)))","v":""},"",null,null,null,null,null,null,{"$f":"IF($B259=\"\",\"\",INDEX(Values!H:H,MATCH('All Bill Data Entry'!$B259,Values!F:F,0)))","v":""},{"$f":"IF($D259=\"\",\"\",INDEX(CUST!N:N,MATCH('All Bill Data Entry'!L259&'All Bill Data Entry'!N259,CUST!BD:BD,0)))","v":""},{"$f":"IF($B259=\"\",\"\",INDEX(Values!I:I,MATCH('All Bill Data Entry'!$B259,Values!G:G,0)))","v":""},{"$f":"IF($B259=\"\",\"\",INDEX(Values!J:J,MATCH('All Bill Data Entry'!$B259,Values!G:G,0)))","v":""},{"$f":"IF(D259=\"\",\"\",IF(AND(LEN(J259)=10,LEFT(J259,3)=\"000\"),IF(INDEX(PO!AE:AE,MATCH(CONCATENATE('All Bill Data Entry'!J259,'All Bill Data Entry'!K259),PO!AC:AC,0))<>\"\",\"N\",\"N\"),\"N\"))","v":""}]
["",null,null,null,null,null,null,"",null,null,null,{"$f":"IF(J260=\"\",\"\",INDEX(CUST!BC:BC,MATCH(INDEX(PO!AD:AD,MATCH(CONCATENATE('All Bill Data Entry'!J260,'All Bill Data Entry'!K260),PO!AC:AC,0)),CUST!I:I,0)))","v":""},{"$f":"IF(L260=\"\",\"\",INDEX(CUST!G:G,MATCH('All Bill Data Entry'!L260,CUST!B:B,0)))","v":""},"",null,null,null,null,null,null,{"$f":"IF($B260=\"\",\"\",INDEX(Values!H:H,MATCH('All Bill Data Entry'!$B260,Values!F:F,0)))","v":""},{"$f":"IF($D260=\"\",\"\",INDEX(CUST!N:N,MATCH('All Bill Data Entry'!L260&'All Bill Data Entry'!N260,CUST!BD:BD,0)))","v":""},{"$f":"IF($B260=\"\",\"\",INDEX(Values!I:I,MATCH('All Bill Data Entry'!$B260,Values!G:G,0)))","v":""},{"$f":"IF($B260=\"\",\"\",INDEX(Values!J:J,MATCH('All Bill Data Entry'!$B260,Values!G:G,0)))","v":""},{"$f":"IF(D260=\"\",\"\",IF(AND(LEN(J260)=10,LEFT(J260,3)=\"000\"),IF(INDEX(PO!AE:AE,MATCH(CONCATENATE('All Bill Data Entry'!J260,'All Bill Data Entry'!K260),PO!AC:AC,0))<>\"\",\"N\",\"N\"),\"N\"))","v":""}]
["",null,null,null,null,null,null,"",null,null,null,{"$f":"IF(J261=\"\",\"\",INDEX(CUST!BC:BC,MATCH(INDEX(PO!AD:AD,MATCH(CONCATENATE('All Bill Data Entry'!J261,'All Bill Data Entry'!K261),PO!AC:AC,0)),CUST!I:I,0)))","v":""},{"$f":"IF(L261=\"\",\"\",INDEX(CUST!G:G,MATCH('All Bill Data Entry'!L261,CUST!B:B,0)))","v":""},"",null,null,null,null,null,null,{"$f":"IF($B261=\"\",\"\",INDEX(Values!H:H,MATCH('All Bill Data Entry'!$B261,Values!F:F,0)))","v":""},{"$f":"IF($D261=\"\",\"\",INDEX(CUST!N:N,MATCH('All Bill Data Entry'!L261&'All Bill Data Entry'!N261,CUST!BD:BD,0)))","v":""},{"$f":"IF($B261=\"\",\"\",INDEX(Values!I:I,MATCH('All Bill Data Entry'!$B261,Values!G:G,0)))","v":""},{"$f":"IF($B261=\"\",\"\",INDEX(Values!J:J,MATCH('All Bill Data Entry'!$B261,Values!G:G,0)))","v":""},{"$f":"IF(D261=\"\",\"\",IF(AND(LEN(J261)=10,LEFT(J261,3)=\"000\"),IF(INDEX(PO!AE:AE,MATCH(CONCATENATE('All Bill Data Entry'!J261,'All Bill Data Entry'!K261),PO!AC:AC,0))<>\"\",\"N\",\"N\"),\"N\"))","v":""}]
["",null,null,null,null,null,null,"",null,null,null,{"$f":"IF(J262=\"\",\"\",INDEX(CUST!BC:BC,MATCH(INDEX(PO!AD:AD,MATCH(CONCATENATE('All Bill Data Entry'!J262,'All Bill Data Entry'!K262),PO!AC:AC,0)),CUST!I:I,0)))","v":""},{"$f":"IF(L262=\"\",\"\",INDEX(CUST!G:G,MATCH('All Bill Data Entry'!L262,CUST!B:B,0)))","v":""},"",null,null,null,null,null,null,{"$f":"IF($B262=\"\",\"\",INDEX(Values!H:H,MATCH('All Bill Data Entry'!$B262,Values!F:F,0)))","v":""},{"$f":"IF($D262=\"\",\"\",INDEX(CUST!N:N,MATCH('All Bill Data Entry'!L262&'All Bill Data Entry'!N262,CUST!BD:BD,0)))","v":""},{"$f":"IF($B262=\"\",\"\",INDEX(Values!I:I,MATCH('All Bill Data Entry'!$B262,Values!G:G,0)))","v":""},{"$f":"IF($B262=\"\",\"\",INDEX(Values!J:J,MATCH('All Bill Data Entry'!$B262,Values!G:G,0)))","v":""},{"$f":"IF(D262=\"\",\"\",IF(AND(LEN(J262)=10,LEFT(J262,3)=\"000\"),IF(INDEX(PO!AE:AE,MATCH(CONCATENATE('All Bill Data Entry'!J262,'All Bill Data Entry'!K262),PO!AC:AC,0))<>\"\",\"N\",\"N\"),\"N\"))","v":""}]
["",null,null,null,null,null,null,"",null,null,null,{"$f":"IF(J263=\"\",\"\",INDEX(CUST!BC:BC,MATCH(INDEX(PO!AD:AD,MATCH(CONCATENATE('All Bill Data Entry'!J263,'All Bill Data Entry'!K263),PO!AC:AC,0)),CUST!I:I,0)))","v":""},{"$f":"IF(L263=\"\",\"\",INDEX(CUST!G:G,MATCH('All Bill Data Entry'!L263,CUST!B:B,0)))","v":""},"",null,null,null,null,null,null,{"$f":"IF($B263=\"\",\"\",INDEX(Values!H:H,MATCH('All Bill Data Entry'!$B263,Values!F:F,0)))","v":""},{"$f":"IF($D263=\"\",\"\",INDEX(CUST!N:N,MATCH('All Bill Data Entry'!L263&'All Bill Data Entry'!N263,CUST!BD:BD,0)))","v":""},{"$f":"IF($B263=\"\",\"\",INDEX(Values!I:I,MATCH('All Bill Data Entry'!$B263,Values!G:G,0)))","v":""},{"$f":"IF($B263=\"\",\"\",INDEX(Values!J:J,MATCH('All Bill Data Entry'!$B263,Values!G:G,0)))","v":""},{"$f":"IF(D263=\"\",\"\",IF(AND(LEN(J263)=10,LEFT(J263,3)=\"000\"),IF(INDEX(PO!AE:AE,MATCH(CONCATENATE('All Bill Data Entry'!J263,'All Bill Data Entry'!K263),PO!AC:AC,0))<>\"\",\"N\",\"N\"),\"N\"))","v":""}]
["",null,null,null,null,null,null,{"$f":"IF(F264=\"\",\"\",F264*G264)","v":""},null,null,null,{"$f":"IF(J264=\"\",\"\",INDEX(CUST!BC:BC,MATCH(INDEX(PO!AD:AD,MATCH(CONCATENATE('All Bill Data Entry'!J264,'All Bill Data Entry'!K264),PO!AC:AC,0)),CUST!I:I,0)))","v":""},{"$f":"IF(L264=\"\",\"\",INDEX(CUST!G:G,MATCH('All Bill Data Entry'!L264,CUST!B:B,0)))","v":""},{"$f":"IF(OR(M264=\"INTERNAL\",M264=\"COMPONENT\"),1,\"\")","v":""},null,null,null,null,null,null,{"$f":"IF($B264=\"\",\"\",INDEX(Values!H:H,MATCH('All Bill Data Entry'!$B264,Values!F:F,0)))","v":""},{"$f":"IF($D264=\"\",\"\",INDEX(CUST!N:N,MATCH('All Bill Data Entry'!L264&'All Bill Data Entry'!N264,CUST!BD:BD,0)))","v":""},{"$f":"IF($B264=\"\",\"\",INDEX(Values!I:I,MATCH('All Bill Data Entry'!$B264,Values!G:G,0)))","v":""},{"$f":"IF($B264=\"\",\"\",INDEX(Values!J:J,MATCH('All Bill Data Entry'!$B264,Values!G:G,0)))","v":""},{"$f":"IF(D264=\"\",\"\",IF(AND(LEN(J264)=10,LEFT(J264,3)=\"000\"),IF(INDEX(PO!AE:AE,MATCH(CONCATENATE('All Bill Data Entry'!J264,'All Bill Data Entry'!K264),PO!AC:AC,0))<>\"\",\"N\",\"N\"),\"N\"))","v":""}]
[{"$f":"IF(D265=\"\",\"\",A264+1)","v":""},null,null,null,null,null,null,"",null,null,null,{"$f":"IF(J265=\"\",\"\",INDEX(CUST!BC:BC,MATCH(INDEX(PO!AD:AD,MATCH(CONCATENATE('All Bill Data Entry'!J265,'All Bill Data Entry'!K265),PO!AC:AC,0)),CUST!I:I,0)))","v":""},{"$f":"IF(L265=\"\",\"\",INDEX(CUST!G:G,MATCH('All Bill Data Entry'!L265,CUST!B:B,0)))","v":""},"",null,null,null,null,null,null,{"$f":"IF($B265=\"\",\"\",INDEX(Values!H:H,MATCH('All Bill Data Entry'!$B265,Values!F:F,0)))","v":""},{"$f":"IF($D265=\"\",\"\",INDEX(CUST!N:N,MATCH('All Bill Data Entry'!L265&'All Bill Data Entry'!N265,CUST!BD:BD,0)))","v":""},{"$f":"IF($B265=\"\",\"\",INDEX(Values!I:I,MATCH('All Bill Data Entry'!$B265,Values!G:G,0)))","v":""},{"$f":"IF($B265=\"\",\"\",INDEX(Values!J:J,MATCH('All Bill Data Entry'!$B265,Values!G:G,0)))","v":""},{"$f":"IF(D265=\"\",\"\",IF(AND(LEN(J265)=10,LEFT(J265,3)=\"000\"),IF(INDEX(PO!AE:AE,MATCH(CONCATENATE('All Bill Data Entry'!J265,'All Bill Data Entry'!K265),PO!AC:AC,0))<>\"\",\"N\",\"N\"),\"N\"))","v":""}]
["",null,null,null,null,null,null,"",null,null,null,{"$f":"IF(J266=\"\",\"\",INDEX(CUST!BC:BC,MATCH(INDEX(PO!AD:AD,MATCH(CONCATENATE('All Bill Data Entry'!J266,'All Bill Data Entry'!K266),PO!AC:AC,0)),CUST!I:I,0)))","v":""},{"$f":"IF(L266=\"\",\"\",INDEX(CUST!G:G,MATCH('All Bill Data Entry'!L266,CUST!B:B,0)))","v":""},"",null,null,null,null,null,null,{"$f":"IF($B266=\"\",\"\",INDEX(Values!H:H,MATCH('All Bill Data Entry'!$B266,Values!F:F,0)))","v":""},{"$f":"IF($D266=\"\",\"\",INDEX(CUST!N:N,MATCH('All Bill Data Entry'!L266&'All Bill Data Entry'!N266,CUST!BD:BD,0)))","v":""},{"$f":"IF($B266=\"\",\"\",INDEX(Values!I:I,MATCH('All Bill Data Entry'!$B266,Values!G:G,0)))","v":""},{"$f":"IF($B266=\"\",\"\",INDEX(Values!J:J,MATCH('All Bill Data Entry'!$B266,Values!G:G,0)))","v":""},{"$f":"IF(D266=\"\",\"\",IF(AND(LEN(J266)=10,LEFT(J266,3)=\"000\"),IF(INDEX(PO!AE:AE,MATCH(CONCATENATE('All Bill Data Entry'!J266,'All Bill Data Entry'!K266),PO!AC:AC,0))<>\"\",\"N\",\"N\"),\"N\"))","v":""}]
["",null,null,null,null,null,null,"",null,null,null,{"$f":"IF(J267=\"\",\"\",INDEX(CUST!BC:BC,MATCH(INDEX(PO!AD:AD,MATCH(CONCATENATE('All Bill Data Entry'!J267,'All Bill Data Entry'!K267),PO!AC:AC,0)),CUST!I:I,0)))","v":""},{"$f":"IF(L267=\"\",\"\",INDEX(CUST!G:G,MATCH('All Bill Data Entry'!L267,CUST!B:B,0)))","v":""},"",null,null,null,null,null,null,{"$f":"IF($B267=\"\",\"\",INDEX(Values!H:H,MATCH('All Bill Data Entry'!$B267,Values!F:F,0)))","v":""},{"$f":"IF($D267=\"\",\"\",INDEX(CUST!N:N,MATCH('All Bill Data Entry'!L267&'All Bill Data Entry'!N267,CUST!BD:BD,0)))","v":""},{"$f":"IF($B267=\"\",\"\",INDEX(Values!I:I,MATCH('All Bill Data Entry'!$B267,Values!G:G,0)))","v":""},{"$f":"IF($B267=\"\",\"\",INDEX(Values!J:J,MATCH('All Bill Data Entry'!$B267,Values!G:G,0)))","v":""},{"$f":"IF(D267=\"\",\"\",IF(AND(LEN(J267)=10,LEFT(J267,3)=\"000\"),IF(INDEX(PO!AE:AE,MATCH(CONCATENATE('All Bill Data Entry'!J267,'All Bill Data Entry'!K267),PO!AC:AC,0))<>\"\",\"N\",\"N\"),\"N\"))","v":""}]
["",null,null,null,null,null,null,"",null,null,null,{"$f":"IF(J268=\"\",\"\",INDEX(CUST!BC:BC,MATCH(INDEX(PO!AD:AD,MATCH(CONCATENATE('All Bill Data Entry'!J268,'All Bill Data Entry'!K268),PO!AC:AC,0)),CUST!I:I,0)))","v":""},{"$f":"IF(L268=\"\",\"\",INDEX(CUST!G:G,MATCH('All Bill Data Entry'!L268,CUST!B:B,0)))","v":""},"",null,null,null,null,null,null,{"$f":"IF($B268=\"\",\"\",INDEX(Values!H:H,MATCH('All Bill Data Entry'!$B268,Values!F:F,0)))","v":""},{"$f":"IF($D268=\"\",\"\",INDEX(CUST!N:N,MATCH('All Bill Data Entry'!L268&'All Bill Data Entry'!N268,CUST!BD:BD,0)))","v":""},{"$f":"IF($B268=\"\",\"\",INDEX(Values!I:I,MATCH('All Bill Data Entry'!$B268,Values!G:G,0)))","v":""},{"$f":"IF($B268=\"\",\"\",INDEX(Values!J:J,MATCH('All Bill Data Entry'!$B268,Values!G:G,0)))","v":""},{"$f":"IF(D268=\"\",\"\",IF(AND(LEN(J268)=10,LEFT(J268,3)=\"000\"),IF(INDEX(PO!AE:AE,MATCH(CONCATENATE('All Bill Data Entry'!J268,'All Bill Data Entry'!K268),PO!AC:AC,0))<>\"\",\"N\",\"N\"),\"N\"))","v":""}]
["",null,null,null,null,null,null,"",null,null,null,{"$f":"IF(J269=\"\",\"\",INDEX(CUST!BC:BC,MATCH(INDEX(PO!AD:AD,MATCH(CONCATENATE('All Bill Data Entry'!J269,'All Bill Data Entry'!K269),PO!AC:AC,0)),CUST!I:I,0)))","v":""},{"$f":"IF(L269=\"\",\"\",INDEX(CUST!G:G,MATCH('All Bill Data Entry'!L269,CUST!B:B,0)))","v":""},"",null,null,null,null,null,null,{"$f":"IF($B269=\"\",\"\",INDEX(Values!H:H,MATCH('All Bill Data Entry'!$B269,Values!F:F,0)))","v":""},{"$f":"IF($D269=\"\",\"\",INDEX(CUST!N:N,MATCH('All Bill Data Entry'!L269&'All Bill Data Entry'!N269,CUST!BD:BD,0)))","v":""},{"$f":"IF($B269=\"\",\"\",INDEX(Values!I:I,MATCH('All Bill Data Entry'!$B269,Values!G:G,0)))","v":""},{"$f":"IF($B269=\"\",\"\",INDEX(Values!J:J,MATCH('All Bill Data Entry'!$B269,Values!G:G,0)))","v":""},{"$f":"IF(D269=\"\",\"\",IF(AND(LEN(J269)=10,LEFT(J269,3)=\"000\"),IF(INDEX(PO!AE:AE,MATCH(CONCATENATE('All Bill Data Entry'!J269,'All Bill Data Entry'!K269),PO!AC:AC,0))<>\"\",\"N\",\"N\"),\"N\"))","v":""}]
["",null,null,null,null,null,null,"",null,null,null,{"$f":"IF(J270=\"\",\"\",INDEX(CUST!BC:BC,MATCH(INDEX(PO!AD:AD,MATCH(CONCATENATE('All Bill Data Entry'!J270,'All Bill Data Entry'!K270),PO!AC:AC,0)),CUST!I:I,0)))","v":""},{"$f":"IF(L270=\"\",\"\",INDEX(CUST!G:G,MATCH('All Bill Data Entry'!L270,CUST!B:B,0)))","v":""},"",null,null,null,null,null,null,{"$f":"IF($B270=\"\",\"\",INDEX(Values!H:H,MATCH('All Bill Data Entry'!$B270,Values!F:F,0)))","v":""},{"$f":"IF($D270=\"\",\"\",INDEX(CUST!N:N,MATCH('All Bill Data Entry'!L270&'All Bill Data Entry'!N270,CUST!BD:BD,0)))","v":""},{"$f":"IF($B270=\"\",\"\",INDEX(Values!I:I,MATCH('All Bill Data Entry'!$B270,Values!G:G,0)))","v":""},{"$f":"IF($B270=\"\",\"\",INDEX(Values!J:J,MATCH('All Bill Data Entry'!$B270,Values!G:G,0)))","v":""},{"$f":"IF(D270=\"\",\"\",IF(AND(LEN(J270)=10,LEFT(J270,3)=\"000\"),IF(INDEX(PO!AE:AE,MATCH(CONCATENATE('All Bill Data Entry'!J270,'All Bill Data Entry'!K270),PO!AC:AC,0))<>\"\",\"N\",\"N\"),\"N\"))","v":""}]
["",null,null,null,null,null,null,"",null,null,null,{"$f":"IF(J271=\"\",\"\",INDEX(CUST!BC:BC,MATCH(INDEX(PO!AD:AD,MATCH(CONCATENATE('All Bill Data Entry'!J271,'All Bill Data Entry'!K271),PO!AC:AC,0)),CUST!I:I,0)))","v":""},{"$f":"IF(L271=\"\",\"\",INDEX(CUST!G:G,MATCH('All Bill Data Entry'!L271,CUST!B:B,0)))","v":""},"",null,null,null,null,null,null,{"$f":"IF($B271=\"\",\"\",INDEX(Values!H:H,MATCH('All Bill Data Entry'!$B271,Values!F:F,0)))","v":""},{"$f":"IF($D271=\"\",\"\",INDEX(CUST!N:N,MATCH('All Bill Data Entry'!L271&'All Bill Data Entry'!N271,CUST!BD:BD,0)))","v":""},{"$f":"IF($B271=\"\",\"\",INDEX(Values!I:I,MATCH('All Bill Data Entry'!$B271,Values!G:G,0)))","v":""},{"$f":"IF($B271=\"\",\"\",INDEX(Values!J:J,MATCH('All Bill Data Entry'!$B271,Values!G:G,0)))","v":""},{"$f":"IF(D271=\"\",\"\",IF(AND(LEN(J271)=10,LEFT(J271,3)=\"000\"),IF(INDEX(PO!AE:AE,MATCH(CONCATENATE('All Bill Data Entry'!J271,'All Bill Data Entry'!K271),PO!AC:AC,0))<>\"\",\"N\",\"N\"),\"N\"))","v":""}]
["",null,null,null,null,null,null,"",null,null,null,{"$f":"IF(J272=\"\",\"\",INDEX(CUST!BC:BC,MATCH(INDEX(PO!AD:AD,MATCH(CONCATENATE('All Bill Data Entry'!J272,'All Bill Data Entry'!K272),PO!AC:AC,0)),CUST!I:I,0)))","v":""},{"$f":"IF(L272=\"\",\"\",INDEX(CUST!G:G,MATCH('All Bill Data Entry'!L272,CUST!B:B,0)))","v":""},"",null,null,null,null,null,null,{"$f":"IF($B272=\"\",\"\",INDEX(Values!H:H,MATCH('All Bill Data Entry'!$B272,Values!F:F,0)))","v":""},{"$f":"IF($D272=\"\",\"\",INDEX(CUST!N:N,MATCH('All Bill Data Entry'!L272&'All Bill Data Entry'!N272,CUST!BD:BD,0)))","v":""},{"$f":"IF($B272=\"\",\"\",INDEX(Values!I:I,MATCH('All Bill Data Entry'!$B272,Values!G:G,0)))","v":""},{"$f":"IF($B272=\"\",\"\",INDEX(Values!J:J,MATCH('All Bill Data Entry'!$B272,Values!G:G,0)))","v":""},{"$f":"IF(D272=\"\",\"\",IF(AND(LEN(J272)=10,LEFT(J272,3)=\"000\"),IF(INDEX(PO!AE:AE,MATCH(CONCATENATE('All Bill Data Entry'!J272,'All Bill Data Entry'!K272),PO!AC:AC,0))<>\"\",\"N\",\"N\"),\"N\"))","v":""}]
["",null,null,null,null,null,null,"",null,null,null,{"$f":"IF(J273=\"\",\"\",INDEX(CUST!BC:BC,MATCH(INDEX(PO!AD:AD,MATCH(CONCATENATE('All Bill Data Entry'!J273,'All Bill Data Entry'!K273),PO!AC:AC,0)),CUST!I:I,0)))","v":""},{"$f":"IF(L273=\"\",\"\",INDEX(CUST!G:G,MATCH('All Bill Data Entry'!L273,CUST!B:B,0)))","v":""},"",null,null,null,null,null,null,{"$f":"IF($B273=\"\",\"\",INDEX(Values!H:H,MATCH('All Bill Data Entry'!$B273,Values!F:F,0)))","v":""},{"$f":"IF($D273=\"\",\"\",INDEX(CUST!N:N,MATCH('All Bill Data Entry'!L273&'All Bill Data Entry'!N273,CUST!BD:BD,0)))","v":""},{"$f":"IF($B273=\"\",\"\",INDEX(Values!I:I,MATCH('All Bill Data Entry'!$B273,Values!G:G,0)))","v":""},{"$f":"IF($B273=\"\",\"\",INDEX(Values!J:J,MATCH('All Bill Data Entry'!$B273,Values!G:G,0)))","v":""},{"$f":"IF(D273=\"\",\"\",IF(AND(LEN(J273)=10,LEFT(J273,3)=\"000\"),IF(INDEX(PO!AE:AE,MATCH(CONCATENATE('All Bill Data Entry'!J273,'All Bill Data Entry'!K273),PO!AC:AC,0))<>\"\",\"N\",\"N\"),\"N\"))","v":""}]
["",null,null,null,null,null,null,"",null,null,null,{"$f":"IF(J274=\"\",\"\",INDEX(CUST!BC:BC,MATCH(INDEX(PO!AD:AD,MATCH(CONCATENATE('All Bill Data Entry'!J274,'All Bill Data Entry'!K274),PO!AC:AC,0)),CUST!I:I,0)))","v":""},{"$f":"IF(L274=\"\",\"\",INDEX(CUST!G:G,MATCH('All Bill Data Entry'!L274,CUST!B:B,0)))","v":""},"",null,null,null,null,null,null,{"$f":"IF($B274=\"\",\"\",INDEX(Values!H:H,MATCH('All Bill Data Entry'!$B274,Values!F:F,0)))","v":""},{"$f":"IF($D274=\"\",\"\",INDEX(CUST!N:N,MATCH('All Bill Data Entry'!L274&'All Bill Data Entry'!N274,CUST!BD:BD,0)))","v":""},{"$f":"IF($B274=\"\",\"\",INDEX(Values!I:I,MATCH('All Bill Data Entry'!$B274,Values!G:G,0)))","v":""},{"$f":"IF($B274=\"\",\"\",INDEX(Values!J:J,MATCH('All Bill Data Entry'!$B274,Values!G:G,0)))","v":""},{"$f":"IF(D274=\"\",\"\",IF(AND(LEN(J274)=10,LEFT(J274,3)=\"000\"),IF(INDEX(PO!AE:AE,MATCH(CONCATENATE('All Bill Data Entry'!J274,'All Bill Data Entry'!K274),PO!AC:AC,0))<>\"\",\"N\",\"N\"),\"N\"))","v":""}]
["",null,null,null,null,null,null,"",null,null,null,{"$f":"IF(J275=\"\",\"\",INDEX(CUST!BC:BC,MATCH(INDEX(PO!AD:AD,MATCH(CONCATENATE('All Bill Data Entry'!J275,'All Bill Data Entry'!K275),PO!AC:AC,0)),CUST!I:I,0)))","v":""},{"$f":"IF(L275=\"\",\"\",INDEX(CUST!G:G,MATCH('All Bill Data Entry'!L275,CUST!B:B,0)))","v":""},"",null,null,null,null,null,null,{"$f":"IF($B275=\"\",\"\",INDEX(Values!H:H,MATCH('All Bill Data Entry'!$B275,Values!F:F,0)))","v":""},{"$f":"IF($D275=\"\",\"\",INDEX(CUST!N:N,MATCH('All Bill Data Entry'!L275&'All Bill Data Entry'!N275,CUST!BD:BD,0)))","v":""},{"$f":"IF($B275=\"\",\"\",INDEX(Values!I:I,MATCH('All Bill Data Entry'!$B275,Values!G:G,0)))","v":""},{"$f":"IF($B275=\"\",\"\",INDEX(Values!J:J,MATCH('All Bill Data Entry'!$B275,Values!G:G,0)))","v":""},{"$f":"IF(D275=\"\",\"\",IF(AND(LEN(J275)=10,LEFT(J275,3)=\"000\"),IF(INDEX(PO!AE:AE,MATCH(CONCATENATE('All Bill Data Entry'!J275,'All Bill Data Entry'!K275),PO!AC:AC,0))<>\"\",\"N\",\"N\"),\"N\"))","v":""}]
["",null,null,null,null,null,null,"",null,null,null,{"$f":"IF(J276=\"\",\"\",INDEX(CUST!BC:BC,MATCH(INDEX(PO!AD:AD,MATCH(CONCATENATE('All Bill Data Entry'!J276,'All Bill Data Entry'!K276),PO!AC:AC,0)),CUST!I:I,0)))","v":""},{"$f":"IF(L276=\"\",\"\",INDEX(CUST!G:G,MATCH('All Bill Data Entry'!L276,CUST!B:B,0)))","v":""},"",null,null,null,null,null,null,{"$f":"IF($B276=\"\",\"\",INDEX(Values!H:H,MATCH('All Bill Data Entry'!$B276,Values!F:F,0)))","v":""},{"$f":"IF($D276=\"\",\"\",INDEX(CUST!N:N,MATCH('All Bill Data Entry'!L276&'All Bill Data Entry'!N276,CUST!BD:BD,0)))","v":""},{"$f":"IF($B276=\"\",\"\",INDEX(Values!I:I,MATCH('All Bill Data Entry'!$B276,Values!G:G,0)))","v":""},{"$f":"IF($B276=\"\",\"\",INDEX(Values!J:J,MATCH('All Bill Data Entry'!$B276,Values!G:G,0)))","v":""},{"$f":"IF(D276=\"\",\"\",IF(AND(LEN(J276)=10,LEFT(J276,3)=\"000\"),IF(INDEX(PO!AE:AE,MATCH(CONCATENATE('All Bill Data Entry'!J276,'All Bill Data Entry'!K276),PO!AC:AC,0))<>\"\",\"N\",\"N\"),\"N\"))","v":""}]
["",null,null,null,null,null,null,"",null,null,null,{"$f":"IF(J277=\"\",\"\",INDEX(CUST!BC:BC,MATCH(INDEX(PO!AD:AD,MATCH(CONCATENATE('All Bill Data Entry'!J277,'All Bill Data Entry'!K277),PO!AC:AC,0)),CUST!I:I,0)))","v":""},{"$f":"IF(L277=\"\",\"\",INDEX(CUST!G:G,MATCH('All Bill Data Entry'!L277,CUST!B:B,0)))","v":""},"",null,null,null,null,null,null,{"$f":"IF($B277=\"\",\"\",INDEX(Values!H:H,MATCH('All Bill Data Entry'!$B277,Values!F:F,0)))","v":""},{"$f":"IF($D277=\"\",\"\",INDEX(CUST!N:N,MATCH('All Bill Data Entry'!L277&'All Bill Data Entry'!N277,CUST!BD:BD,0)))","v":""},{"$f":"IF($B277=\"\",\"\",INDEX(Values!I:I,MATCH('All Bill Data Entry'!$B277,Values!G:G,0)))","v":""},{"$f":"IF($B277=\"\",\"\",INDEX(Values!J:J,MATCH('All Bill Data Entry'!$B277,Values!G:G,0)))","v":""},{"$f":"IF(D277=\"\",\"\",IF(AND(LEN(J277)=10,LEFT(J277,3)=\"000\"),IF(INDEX(PO!AE:AE,MATCH(CONCATENATE('All Bill Data Entry'!J277,'All Bill Data Entry'!K277),PO!AC:AC,0))<>\"\",\"N\",\"N\"),\"N\"))","v":""}]
["",null,null,null,null,null,null,"",null,null,null,{"$f":"IF(J278=\"\",\"\",INDEX(CUST!BC:BC,MATCH(INDEX(PO!AD:AD,MATCH(CONCATENATE('All Bill Data Entry'!J278,'All Bill Data Entry'!K278),PO!AC:AC,0)),CUST!I:I,0)))","v":""},{"$f":"IF(L278=\"\",\"\",INDEX(CUST!G:G,MATCH('All Bill Data Entry'!L278,CUST!B:B,0)))","v":""},"",null,null,null,null,null,null,{"$f":"IF($B278=\"\",\"\",INDEX(Values!H:H,MATCH('All Bill Data Entry'!$B278,Values!F:F,0)))","v":""},{"$f":"IF($D278=\"\",\"\",INDEX(CUST!N:N,MATCH('All Bill Data Entry'!L278&'All Bill Data Entry'!N278,CUST!BD:BD,0)))","v":""},{"$f":"IF($B278=\"\",\"\",INDEX(Values!I:I,MATCH('All Bill Data Entry'!$B278,Values!G:G,0)))","v":""},{"$f":"IF($B278=\"\",\"\",INDEX(Values!J:J,MATCH('All Bill Data Entry'!$B278,Values!G:G,0)))","v":""},{"$f":"IF(D278=\"\",\"\",IF(AND(LEN(J278)=10,LEFT(J278,3)=\"000\"),IF(INDEX(PO!AE:AE,MATCH(CONCATENATE('All Bill Data Entry'!J278,'All Bill Data Entry'!K278),PO!AC:AC,0))<>\"\",\"N\",\"N\"),\"N\"))","v":""}]
["",null,null,null,null,null,null,"",null,null,null,{"$f":"IF(J279=\"\",\"\",INDEX(CUST!BC:BC,MATCH(INDEX(PO!AD:AD,MATCH(CONCATENATE('All Bill Data Entry'!J279,'All Bill Data Entry'!K279),PO!AC:AC,0)),CUST!I:I,0)))","v":""},{"$f":"IF(L279=\"\",\"\",INDEX(CUST!G:G,MATCH('All Bill Data Entry'!L279,CUST!B:B,0)))","v":""},"",null,null,null,null,null,null,{"$f":"IF($B279=\"\",\"\",INDEX(Values!H:H,MATCH('All Bill Data Entry'!$B279,Values!F:F,0)))","v":""},{"$f":"IF($D279=\"\",\"\",INDEX(CUST!N:N,MATCH('All Bill Data Entry'!L279&'All Bill Data Entry'!N279,CUST!BD:BD,0)))","v":""},{"$f":"IF($B279=\"\",\"\",INDEX(Values!I:I,MATCH('All Bill Data Entry'!$B279,Values!G:G,0)))","v":""},{"$f":"IF($B279=\"\",\"\",INDEX(Values!J:J,MATCH('All Bill Data Entry'!$B279,Values!G:G,0)))","v":""},{"$f":"IF(D279=\"\",\"\",IF(AND(LEN(J279)=10,LEFT(J279,3)=\"000\"),IF(INDEX(PO!AE:AE,MATCH(CONCATENATE('All Bill Data Entry'!J279,'All Bill Data Entry'!K279),PO!AC:AC,0))<>\"\",\"N\",\"N\"),\"N\"))","v":""}]
["",null,null,null,null,null,null,"",null,null,null,{"$f":"IF(J280=\"\",\"\",INDEX(CUST!BC:BC,MATCH(INDEX(PO!AD:AD,MATCH(CONCATENATE('All Bill Data Entry'!J280,'All Bill Data Entry'!K280),PO!AC:AC,0)),CUST!I:I,0)))","v":""},{"$f":"IF(L280=\"\",\"\",INDEX(CUST!G:G,MATCH('All Bill Data Entry'!L280,CUST!B:B,0)))","v":""},"",null,null,null,null,null,null,{"$f":"IF($B280=\"\",\"\",INDEX(Values!H:H,MATCH('All Bill Data Entry'!$B280,Values!F:F,0)))","v":""},{"$f":"IF($D280=\"\",\"\",INDEX(CUST!N:N,MATCH('All Bill Data Entry'!L280&'All Bill Data Entry'!N280,CUST!BD:BD,0)))","v":""},{"$f":"IF($B280=\"\",\"\",INDEX(Values!I:I,MATCH('All Bill Data Entry'!$B280,Values!G:G,0)))","v":""},{"$f":"IF($B280=\"\",\"\",INDEX(Values!J:J,MATCH('All Bill Data Entry'!$B280,Values!G:G,0)))","v":""},{"$f":"IF(D280=\"\",\"\",IF(AND(LEN(J280)=10,LEFT(J280,3)=\"000\"),IF(INDEX(PO!AE:AE,MATCH(CONCATENATE('All Bill Data Entry'!J280,'All Bill Data Entry'!K280),PO!AC:AC,0))<>\"\",\"N\",\"N\"),\"N\"))","v":""}]
["",null,null,null,null,null,null,"",null,null,null,{"$f":"IF(J281=\"\",\"\",INDEX(CUST!BC:BC,MATCH(INDEX(PO!AD:AD,MATCH(CONCATENATE('All Bill Data Entry'!J281,'All Bill Data Entry'!K281),PO!AC:AC,0)),CUST!I:I,0)))","v":""},{"$f":"IF(L281=\"\",\"\",INDEX(CUST!G:G,MATCH('All Bill Data Entry'!L281,CUST!B:B,0)))","v":""},"",null,null,null,null,null,null,{"$f":"IF($B281=\"\",\"\",INDEX(Values!H:H,MATCH('All Bill Data Entry'!$B281,Values!F:F,0)))","v":""},{"$f":"IF($D281=\"\",\"\",INDEX(CUST!N:N,MATCH('All Bill Data Entry'!L281&'All Bill Data Entry'!N281,CUST!BD:BD,0)))","v":""},{"$f":"IF($B281=\"\",\"\",INDEX(Values!I:I,MATCH('All Bill Data Entry'!$B281,Values!G:G,0)))","v":""},{"$f":"IF($B281=\"\",\"\",INDEX(Values!J:J,MATCH('All Bill Data Entry'!$B281,Values!G:G,0)))","v":""},{"$f":"IF(D281=\"\",\"\",IF(AND(LEN(J281)=10,LEFT(J281,3)=\"000\"),IF(INDEX(PO!AE:AE,MATCH(CONCATENATE('All Bill Data Entry'!J281,'All Bill Data Entry'!K281),PO!AC:AC,0))<>\"\",\"N\",\"N\"),\"N\"))","v":""}]
["",null,null,null,null,null,null,"",null,null,null,{"$f":"IF(J282=\"\",\"\",INDEX(CUST!BC:BC,MATCH(INDEX(PO!AD:AD,MATCH(CONCATENATE('All Bill Data Entry'!J282,'All Bill Data Entry'!K282),PO!AC:AC,0)),CUST!I:I,0)))","v":""},{"$f":"IF(L282=\"\",\"\",INDEX(CUST!G:G,MATCH('All Bill Data Entry'!L282,CUST!B:B,0)))","v":""},"",null,null,null,null,null,null,{"$f":"IF($B282=\"\",\"\",INDEX(Values!H:H,MATCH('All Bill Data Entry'!$B282,Values!F:F,0)))","v":""},{"$f":"IF($D282=\"\",\"\",INDEX(CUST!N:N,MATCH('All Bill Data Entry'!L282&'All Bill Data Entry'!N282,CUST!BD:BD,0)))","v":""},{"$f":"IF($B282=\"\",\"\",INDEX(Values!I:I,MATCH('All Bill Data Entry'!$B282,Values!G:G,0)))","v":""},{"$f":"IF($B282=\"\",\"\",INDEX(Values!J:J,MATCH('All Bill Data Entry'!$B282,Values!G:G,0)))","v":""},{"$f":"IF(D282=\"\",\"\",IF(AND(LEN(J282)=10,LEFT(J282,3)=\"000\"),IF(INDEX(PO!AE:AE,MATCH(CONCATENATE('All Bill Data Entry'!J282,'All Bill Data Entry'!K282),PO!AC:AC,0))<>\"\",\"N\",\"N\"),\"N\"))","v":""}]
["",null,null,null,null,null,null,"",null,null,null,{"$f":"IF(J283=\"\",\"\",INDEX(CUST!BC:BC,MATCH(INDEX(PO!AD:AD,MATCH(CONCATENATE('All Bill Data Entry'!J283,'All Bill Data Entry'!K283),PO!AC:AC,0)),CUST!I:I,0)))","v":""},{"$f":"IF(L283=\"\",\"\",INDEX(CUST!G:G,MATCH('All Bill Data Entry'!L283,CUST!B:B,0)))","v":""},"",null,null,null,null,null,null,{"$f":"IF($B283=\"\",\"\",INDEX(Values!H:H,MATCH('All Bill Data Entry'!$B283,Values!F:F,0)))","v":""},{"$f":"IF($D283=\"\",\"\",INDEX(CUST!N:N,MATCH('All Bill Data Entry'!L283&'All Bill Data Entry'!N283,CUST!BD:BD,0)))","v":""},{"$f":"IF($B283=\"\",\"\",INDEX(Values!I:I,MATCH('All Bill Data Entry'!$B283,Values!G:G,0)))","v":""},{"$f":"IF($B283=\"\",\"\",INDEX(Values!J:J,MATCH('All Bill Data Entry'!$B283,Values!G:G,0)))","v":""},{"$f":"IF(D283=\"\",\"\",IF(AND(LEN(J283)=10,LEFT(J283,3)=\"000\"),IF(INDEX(PO!AE:AE,MATCH(CONCATENATE('All Bill Data Entry'!J283,'All Bill Data Entry'!K283),PO!AC:AC,0))<>\"\",\"N\",\"N\"),\"N\"))","v":""}]
["",null,null,null,null,null,null,"",null,null,null,{"$f":"IF(J284=\"\",\"\",INDEX(CUST!BC:BC,MATCH(INDEX(PO!AD:AD,MATCH(CONCATENATE('All Bill Data Entry'!J284,'All Bill Data Entry'!K284),PO!AC:AC,0)),CUST!I:I,0)))","v":""},{"$f":"IF(L284=\"\",\"\",INDEX(CUST!G:G,MATCH('All Bill Data Entry'!L284,CUST!B:B,0)))","v":""},"",null,null,null,null,null,null,{"$f":"IF($B284=\"\",\"\",INDEX(Values!H:H,MATCH('All Bill Data Entry'!$B284,Values!F:F,0)))","v":""},{"$f":"IF($D284=\"\",\"\",INDEX(CUST!N:N,MATCH('All Bill Data Entry'!L284&'All Bill Data Entry'!N284,CUST!BD:BD,0)))","v":""},{"$f":"IF($B284=\"\",\"\",INDEX(Values!I:I,MATCH('All Bill Data Entry'!$B284,Values!G:G,0)))","v":""},{"$f":"IF($B284=\"\",\"\",INDEX(Values!J:J,MATCH('All Bill Data Entry'!$B284,Values!G:G,0)))","v":""},{"$f":"IF(D284=\"\",\"\",IF(AND(LEN(J284)=10,LEFT(J284,3)=\"000\"),IF(INDEX(PO!AE:AE,MATCH(CONCATENATE('All Bill Data Entry'!J284,'All Bill Data Entry'!K284),PO!AC:AC,0))<>\"\",\"N\",\"N\"),\"N\"))","v":""}]
["",null,null,null,null,null,null,"",null,null,null,{"$f":"IF(J285=\"\",\"\",INDEX(CUST!BC:BC,MATCH(INDEX(PO!AD:AD,MATCH(CONCATENATE('All Bill Data Entry'!J285,'All Bill Data Entry'!K285),PO!AC:AC,0)),CUST!I:I,0)))","v":""},{"$f":"IF(L285=\"\",\"\",INDEX(CUST!G:G,MATCH('All Bill Data Entry'!L285,CUST!B:B,0)))","v":""},"",null,null,null,null,null,null,{"$f":"IF($B285=\"\",\"\",INDEX(Values!H:H,MATCH('All Bill Data Entry'!$B285,Values!F:F,0)))","v":""},{"$f":"IF($D285=\"\",\"\",INDEX(CUST!N:N,MATCH('All Bill Data Entry'!L285&'All Bill Data Entry'!N285,CUST!BD:BD,0)))","v":""},{"$f":"IF($B285=\"\",\"\",INDEX(Values!I:I,MATCH('All Bill Data Entry'!$B285,Values!G:G,0)))","v":""},{"$f":"IF($B285=\"\",\"\",INDEX(Values!J:J,MATCH('All Bill Data Entry'!$B285,Values!G:G,0)))","v":""},{"$f":"IF(D285=\"\",\"\",IF(AND(LEN(J285)=10,LEFT(J285,3)=\"000\"),IF(INDEX(PO!AE:AE,MATCH(CONCATENATE('All Bill Data Entry'!J285,'All Bill Data Entry'!K285),PO!AC:AC,0))<>\"\",\"N\",\"N\"),\"N\"))","v":""}]
["",null,null,null,null,null,null,"",null,null,null,{"$f":"IF(J286=\"\",\"\",INDEX(CUST!BC:BC,MATCH(INDEX(PO!AD:AD,MATCH(CONCATENATE('All Bill Data Entry'!J286,'All Bill Data Entry'!K286),PO!AC:AC,0)),CUST!I:I,0)))","v":""},{"$f":"IF(L286=\"\",\"\",INDEX(CUST!G:G,MATCH('All Bill Data Entry'!L286,CUST!B:B,0)))","v":""},"",null,null,null,null,null,null,{"$f":"IF($B286=\"\",\"\",INDEX(Values!H:H,MATCH('All Bill Data Entry'!$B286,Values!F:F,0)))","v":""},{"$f":"IF($D286=\"\",\"\",INDEX(CUST!N:N,MATCH('All Bill Data Entry'!L286&'All Bill Data Entry'!N286,CUST!BD:BD,0)))","v":""},{"$f":"IF($B286=\"\",\"\",INDEX(Values!I:I,MATCH('All Bill Data Entry'!$B286,Values!G:G,0)))","v":""},{"$f":"IF($B286=\"\",\"\",INDEX(Values!J:J,MATCH('All Bill Data Entry'!$B286,Values!G:G,0)))","v":""},{"$f":"IF(D286=\"\",\"\",IF(AND(LEN(J286)=10,LEFT(J286,3)=\"000\"),IF(INDEX(PO!AE:AE,MATCH(CONCATENATE('All Bill Data Entry'!J286,'All Bill Data Entry'!K286),PO!AC:AC,0))<>\"\",\"N\",\"N\"),\"N\"))","v":""}]
["",null,null,null,null,null,null,"",null,null,null,{"$f":"IF(J287=\"\",\"\",INDEX(CUST!BC:BC,MATCH(INDEX(PO!AD:AD,MATCH(CONCATENATE('All Bill Data Entry'!J287,'All Bill Data Entry'!K287),PO!AC:AC,0)),CUST!I:I,0)))","v":""},{"$f":"IF(L287=\"\",\"\",INDEX(CUST!G:G,MATCH('All Bill Data Entry'!L287,CUST!B:B,0)))","v":""},"",null,null,null,null,null,null,{"$f":"IF($B287=\"\",\"\",INDEX(Values!H:H,MATCH('All Bill Data Entry'!$B287,Values!F:F,0)))","v":""},{"$f":"IF($D287=\"\",\"\",INDEX(CUST!N:N,MATCH('All Bill Data Entry'!L287&'All Bill Data Entry'!N287,CUST!BD:BD,0)))","v":""},{"$f":"IF($B287=\"\",\"\",INDEX(Values!I:I,MATCH('All Bill Data Entry'!$B287,Values!G:G,0)))","v":""},{"$f":"IF($B287=\"\",\"\",INDEX(Values!J:J,MATCH('All Bill Data Entry'!$B287,Values!G:G,0)))","v":""},{"$f":"IF(D287=\"\",\"\",IF(AND(LEN(J287)=10,LEFT(J287,3)=\"000\"),IF(INDEX(PO!AE:AE,MATCH(CONCATENATE('All Bill Data Entry'!J287,'All Bill Data Entry'!K287),PO!AC:AC,0))<>\"\",\"N\",\"N\"),\"N\"))","v":""}]
["",null,null,null,null,null,null,"",null,null,null,{"$f":"IF(J288=\"\",\"\",INDEX(CUST!BC:BC,MATCH(INDEX(PO!AD:AD,MATCH(CONCATENATE('All Bill Data Entry'!J288,'All Bill Data Entry'!K288),PO!AC:AC,0)),CUST!I:I,0)))","v":""},{"$f":"IF(L288=\"\",\"\",INDEX(CUST!G:G,MATCH('All Bill Data Entry'!L288,CUST!B:B,0)))","v":""},"",null,null,null,null,null,null,{"$f":"IF($B288=\"\",\"\",INDEX(Values!H:H,MATCH('All Bill Data Entry'!$B288,Values!F:F,0)))","v":""},{"$f":"IF($D288=\"\",\"\",INDEX(CUST!N:N,MATCH('All Bill Data Entry'!L288&'All Bill Data Entry'!N288,CUST!BD:BD,0)))","v":""},{"$f":"IF($B288=\"\",\"\",INDEX(Values!I:I,MATCH('All Bill Data Entry'!$B288,Values!G:G,0)))","v":""},{"$f":"IF($B288=\"\",\"\",INDEX(Values!J:J,MATCH('All Bill Data Entry'!$B288,Values!G:G,0)))","v":""},{"$f":"IF(D288=\"\",\"\",IF(AND(LEN(J288)=10,LEFT(J288,3)=\"000\"),IF(INDEX(PO!AE:AE,MATCH(CONCATENATE('All Bill Data Entry'!J288,'All Bill Data Entry'!K288),PO!AC:AC,0))<>\"\",\"N\",\"N\"),\"N\"))","v":""}]
["",null,null,null,null,null,null,"",null,null,null,{"$f":"IF(J289=\"\",\"\",INDEX(CUST!BC:BC,MATCH(INDEX(PO!AD:AD,MATCH(CONCATENATE('All Bill Data Entry'!J289,'All Bill Data Entry'!K289),PO!AC:AC,0)),CUST!I:I,0)))","v":""},{"$f":"IF(L289=\"\",\"\",INDEX(CUST!G:G,MATCH('All Bill Data Entry'!L289,CUST!B:B,0)))","v":""},"",null,null,null,null,null,null,{"$f":"IF($B289=\"\",\"\",INDEX(Values!H:H,MATCH('All Bill Data Entry'!$B289,Values!F:F,0)))","v":""},{"$f":"IF($D289=\"\",\"\",INDEX(CUST!N:N,MATCH('All Bill Data Entry'!L289&'All Bill Data Entry'!N289,CUST!BD:BD,0)))","v":""},{"$f":"IF($B289=\"\",\"\",INDEX(Values!I:I,MATCH('All Bill Data Entry'!$B289,Values!G:G,0)))","v":""},{"$f":"IF($B289=\"\",\"\",INDEX(Values!J:J,MATCH('All Bill Data Entry'!$B289,Values!G:G,0)))","v":""},{"$f":"IF(D289=\"\",\"\",IF(AND(LEN(J289)=10,LEFT(J289,3)=\"000\"),IF(INDEX(PO!AE:AE,MATCH(CONCATENATE('All Bill Data Entry'!J289,'All Bill Data Entry'!K289),PO!AC:AC,0))<>\"\",\"N\",\"N\"),\"N\"))","v":""}]
["",null,null,null,null,null,null,"",null,null,null,{"$f":"IF(J290=\"\",\"\",INDEX(CUST!BC:BC,MATCH(INDEX(PO!AD:AD,MATCH(CONCATENATE('All Bill Data Entry'!J290,'All Bill Data Entry'!K290),PO!AC:AC,0)),CUST!I:I,0)))","v":""},{"$f":"IF(L290=\"\",\"\",INDEX(CUST!G:G,MATCH('All Bill Data Entry'!L290,CUST!B:B,0)))","v":""},"",null,null,null,null,null,null,{"$f":"IF($B290=\"\",\"\",INDEX(Values!H:H,MATCH('All Bill Data Entry'!$B290,Values!F:F,0)))","v":""},{"$f":"IF($D290=\"\",\"\",INDEX(CUST!N:N,MATCH('All Bill Data Entry'!L290&'All Bill Data Entry'!N290,CUST!BD:BD,0)))","v":""},{"$f":"IF($B290=\"\",\"\",INDEX(Values!I:I,MATCH('All Bill Data Entry'!$B290,Values!G:G,0)))","v":""},{"$f":"IF($B290=\"\",\"\",INDEX(Values!J:J,MATCH('All Bill Data Entry'!$B290,Values!G:G,0)))","v":""},{"$f":"IF(D290=\"\",\"\",IF(AND(LEN(J290)=10,LEFT(J290,3)=\"000\"),IF(INDEX(PO!AE:AE,MATCH(CONCATENATE('All Bill Data Entry'!J290,'All Bill Data Entry'!K290),PO!AC:AC,0))<>\"\",\"N\",\"N\"),\"N\"))","v":""}]
["",null,null,null,null,null,null,"",null,null,null,{"$f":"IF(J291=\"\",\"\",INDEX(CUST!BC:BC,MATCH(INDEX(PO!AD:AD,MATCH(CONCATENATE('All Bill Data Entry'!J291,'All Bill Data Entry'!K291),PO!AC:AC,0)),CUST!I:I,0)))","v":""},{"$f":"IF(L291=\"\",\"\",INDEX(CUST!G:G,MATCH('All Bill Data Entry'!L291,CUST!B:B,0)))","v":""},"",null,null,null,null,null,null,{"$f":"IF($B291=\"\",\"\",INDEX(Values!H:H,MATCH('All Bill Data Entry'!$B291,Values!F:F,0)))","v":""},{"$f":"IF($D291=\"\",\"\",INDEX(CUST!N:N,MATCH('All Bill Data Entry'!L291&'All Bill Data Entry'!N291,CUST!BD:BD,0)))","v":""},{"$f":"IF($B291=\"\",\"\",INDEX(Values!I:I,MATCH('All Bill Data Entry'!$B291,Values!G:G,0)))","v":""},{"$f":"IF($B291=\"\",\"\",INDEX(Values!J:J,MATCH('All Bill Data Entry'!$B291,Values!G:G,0)))","v":""},{"$f":"IF(D291=\"\",\"\",IF(AND(LEN(J291)=10,LEFT(J291,3)=\"000\"),IF(INDEX(PO!AE:AE,MATCH(CONCATENATE('All Bill Data Entry'!J291,'All Bill Data Entry'!K291),PO!AC:AC,0))<>\"\",\"N\",\"N\"),\"N\"))","v":""}]
["",null,null,null,null,null,null,"",null,null,null,{"$f":"IF(J292=\"\",\"\",INDEX(CUST!BC:BC,MATCH(INDEX(PO!AD:AD,MATCH(CONCATENATE('All Bill Data Entry'!J292,'All Bill Data Entry'!K292),PO!AC:AC,0)),CUST!I:I,0)))","v":""},{"$f":"IF(L292=\"\",\"\",INDEX(CUST!G:G,MATCH('All Bill Data Entry'!L292,CUST!B:B,0)))","v":""},"",null,null,null,null,null,null,{"$f":"IF($B292=\"\",\"\",INDEX(Values!H:H,MATCH('All Bill Data Entry'!$B292,Values!F:F,0)))","v":""},{"$f":"IF($D292=\"\",\"\",INDEX(CUST!N:N,MATCH('All Bill Data Entry'!L292&'All Bill Data Entry'!N292,CUST!BD:BD,0)))","v":""},{"$f":"IF($B292=\"\",\"\",INDEX(Values!I:I,MATCH('All Bill Data Entry'!$B292,Values!G:G,0)))","v":""},{"$f":"IF($B292=\"\",\"\",INDEX(Values!J:J,MATCH('All Bill Data Entry'!$B292,Values!G:G,0)))","v":""},{"$f":"IF(D292=\"\",\"\",IF(AND(LEN(J292)=10,LEFT(J292,3)=\"000\"),IF(INDEX(PO!AE:AE,MATCH(CONCATENATE('All Bill Data Entry'!J292,'All Bill Data Entry'!K292),PO!AC:AC,0))<>\"\",\"N\",\"N\"),\"N\"))","v":""}]
["",null,null,null,null,null,null,"",null,null,null,{"$f":"IF(J293=\"\",\"\",INDEX(CUST!BC:BC,MATCH(INDEX(PO!AD:AD,MATCH(CONCATENATE('All Bill Data Entry'!J293,'All Bill Data Entry'!K293),PO!AC:AC,0)),CUST!I:I,0)))","v":""},{"$f":"IF(L293=\"\",\"\",INDEX(CUST!G:G,MATCH('All Bill Data Entry'!L293,CUST!B:B,0)))","v":""},"",null,null,null,null,null,null,{"$f":"IF($B293=\"\",\"\",INDEX(Values!H:H,MATCH('All Bill Data Entry'!$B293,Values!F:F,0)))","v":""},{"$f":"IF($D293=\"\",\"\",INDEX(CUST!N:N,MATCH('All Bill Data Entry'!L293&'All Bill Data Entry'!N293,CUST!BD:BD,0)))","v":""},{"$f":"IF($B293=\"\",\"\",INDEX(Values!I:I,MATCH('All Bill Data Entry'!$B293,Values!G:G,0)))","v":""},{"$f":"IF($B293=\"\",\"\",INDEX(Values!J:J,MATCH('All Bill Data Entry'!$B293,Values!G:G,0)))","v":""},{"$f":"IF(D293=\"\",\"\",IF(AND(LEN(J293)=10,LEFT(J293,3)=\"000\"),IF(INDEX(PO!AE:AE,MATCH(CONCATENATE('All Bill Data Entry'!J293,'All Bill Data Entry'!K293),PO!AC:AC,0))<>\"\",\"N\",\"N\"),\"N\"))","v":""}]
["",null,null,null,null,null,null,"",null,null,null,{"$f":"IF(J294=\"\",\"\",INDEX(CUST!BC:BC,MATCH(INDEX(PO!AD:AD,MATCH(CONCATENATE('All Bill Data Entry'!J294,'All Bill Data Entry'!K294),PO!AC:AC,0)),CUST!I:I,0)))","v":""},{"$f":"IF(L294=\"\",\"\",INDEX(CUST!G:G,MATCH('All Bill Data Entry'!L294,CUST!B:B,0)))","v":""},"",null,null,null,null,null,null,{"$f":"IF($B294=\"\",\"\",INDEX(Values!H:H,MATCH('All Bill Data Entry'!$B294,Values!F:F,0)))","v":""},{"$f":"IF($D294=\"\",\"\",INDEX(CUST!N:N,MATCH('All Bill Data Entry'!L294&'All Bill Data Entry'!N294,CUST!BD:BD,0)))","v":""},{"$f":"IF($B294=\"\",\"\",INDEX(Values!I:I,MATCH('All Bill Data Entry'!$B294,Values!G:G,0)))","v":""},{"$f":"IF($B294=\"\",\"\",INDEX(Values!J:J,MATCH('All Bill Data Entry'!$B294,Values!G:G,0)))","v":""},{"$f":"IF(D294=\"\",\"\",IF(AND(LEN(J294)=10,LEFT(J294,3)=\"000\"),IF(INDEX(PO!AE:AE,MATCH(CONCATENATE('All Bill Data Entry'!J294,'All Bill Data Entry'!K294),PO!AC:AC,0))<>\"\",\"N\",\"N\"),\"N\"))","v":""}]
["",null,null,null,null,null,null,"",null,null,null,{"$f":"IF(J295=\"\",\"\",INDEX(CUST!BC:BC,MATCH(INDEX(PO!AD:AD,MATCH(CONCATENATE('All Bill Data Entry'!J295,'All Bill Data Entry'!K295),PO!AC:AC,0)),CUST!I:I,0)))","v":""},{"$f":"IF(L295=\"\",\"\",INDEX(CUST!G:G,MATCH('All Bill Data Entry'!L295,CUST!B:B,0)))","v":""},"",null,null,null,null,null,null,{"$f":"IF($B295=\"\",\"\",INDEX(Values!H:H,MATCH('All Bill Data Entry'!$B295,Values!F:F,0)))","v":""},{"$f":"IF($D295=\"\",\"\",INDEX(CUST!N:N,MATCH('All Bill Data Entry'!L295&'All Bill Data Entry'!N295,CUST!BD:BD,0)))","v":""},{"$f":"IF($B295=\"\",\"\",INDEX(Values!I:I,MATCH('All Bill Data Entry'!$B295,Values!G:G,0)))","v":""},{"$f":"IF($B295=\"\",\"\",INDEX(Values!J:J,MATCH('All Bill Data Entry'!$B295,Values!G:G,0)))","v":""},{"$f":"IF(D295=\"\",\"\",IF(AND(LEN(J295)=10,LEFT(J295,3)=\"000\"),IF(INDEX(PO!AE:AE,MATCH(CONCATENATE('All Bill Data Entry'!J295,'All Bill Data Entry'!K295),PO!AC:AC,0))<>\"\",\"N\",\"N\"),\"N\"))","v":""}]
["",null,null,null,null,null,null,"",null,null,null,{"$f":"IF(J296=\"\",\"\",INDEX(CUST!BC:BC,MATCH(INDEX(PO!AD:AD,MATCH(CONCATENATE('All Bill Data Entry'!J296,'All Bill Data Entry'!K296),PO!AC:AC,0)),CUST!I:I,0)))","v":""},{"$f":"IF(L296=\"\",\"\",INDEX(CUST!G:G,MATCH('All Bill Data Entry'!L296,CUST!B:B,0)))","v":""},"",null,null,null,null,null,null,{"$f":"IF($B296=\"\",\"\",INDEX(Values!H:H,MATCH('All Bill Data Entry'!$B296,Values!F:F,0)))","v":""},{"$f":"IF($D296=\"\",\"\",INDEX(CUST!N:N,MATCH('All Bill Data Entry'!L296&'All Bill Data Entry'!N296,CUST!BD:BD,0)))","v":""},{"$f":"IF($B296=\"\",\"\",INDEX(Values!I:I,MATCH('All Bill Data Entry'!$B296,Values!G:G,0)))","v":""},{"$f":"IF($B296=\"\",\"\",INDEX(Values!J:J,MATCH('All Bill Data Entry'!$B296,Values!G:G,0)))","v":""},{"$f":"IF(D296=\"\",\"\",IF(AND(LEN(J296)=10,LEFT(J296,3)=\"000\"),IF(INDEX(PO!AE:AE,MATCH(CONCATENATE('All Bill Data Entry'!J296,'All Bill Data Entry'!K296),PO!AC:AC,0))<>\"\",\"N\",\"N\"),\"N\"))","v":""}]
["",null,null,null,null,null,null,"",null,null,null,{"$f":"IF(J297=\"\",\"\",INDEX(CUST!BC:BC,MATCH(INDEX(PO!AD:AD,MATCH(CONCATENATE('All Bill Data Entry'!J297,'All Bill Data Entry'!K297),PO!AC:AC,0)),CUST!I:I,0)))","v":""},{"$f":"IF(L297=\"\",\"\",INDEX(CUST!G:G,MATCH('All Bill Data Entry'!L297,CUST!B:B,0)))","v":""},"",null,null,null,null,null,null,{"$f":"IF($B297=\"\",\"\",INDEX(Values!H:H,MATCH('All Bill Data Entry'!$B297,Values!F:F,0)))","v":""},{"$f":"IF($D297=\"\",\"\",INDEX(CUST!N:N,MATCH('All Bill Data Entry'!L297&'All Bill Data Entry'!N297,CUST!BD:BD,0)))","v":""},{"$f":"IF($B297=\"\",\"\",INDEX(Values!I:I,MATCH('All Bill Data Entry'!$B297,Values!G:G,0)))","v":""},{"$f":"IF($B297=\"\",\"\",INDEX(Values!J:J,MATCH('All Bill Data Entry'!$B297,Values!G:G,0)))","v":""},{"$f":"IF(D297=\"\",\"\",IF(AND(LEN(J297)=10,LEFT(J297,3)=\"000\"),IF(INDEX(PO!AE:AE,MATCH(CONCATENATE('All Bill Data Entry'!J297,'All Bill Data Entry'!K297),PO!AC:AC,0))<>\"\",\"N\",\"N\"),\"N\"))","v":""}]
["",null,null,null,null,null,null,"",null,null,null,{"$f":"IF(J298=\"\",\"\",INDEX(CUST!BC:BC,MATCH(INDEX(PO!AD:AD,MATCH(CONCATENATE('All Bill Data Entry'!J298,'All Bill Data Entry'!K298),PO!AC:AC,0)),CUST!I:I,0)))","v":""},{"$f":"IF(L298=\"\",\"\",INDEX(CUST!G:G,MATCH('All Bill Data Entry'!L298,CUST!B:B,0)))","v":""},"",null,null,null,null,null,null,{"$f":"IF($B298=\"\",\"\",INDEX(Values!H:H,MATCH('All Bill Data Entry'!$B298,Values!F:F,0)))","v":""},{"$f":"IF($D298=\"\",\"\",INDEX(CUST!N:N,MATCH('All Bill Data Entry'!L298&'All Bill Data Entry'!N298,CUST!BD:BD,0)))","v":""},{"$f":"IF($B298=\"\",\"\",INDEX(Values!I:I,MATCH('All Bill Data Entry'!$B298,Values!G:G,0)))","v":""},{"$f":"IF($B298=\"\",\"\",INDEX(Values!J:J,MATCH('All Bill Data Entry'!$B298,Values!G:G,0)))","v":""},{"$f":"IF(D298=\"\",\"\",IF(AND(LEN(J298)=10,LEFT(J298,3)=\"000\"),IF(INDEX(PO!AE:AE,MATCH(CONCATENATE('All Bill Data Entry'!J298,'All Bill Data Entry'!K298),PO!AC:AC,0))<>\"\",\"N\",\"N\"),\"N\"))","v":""}]
["",null,null,null,null,null,null,"",null,null,null,{"$f":"IF(J299=\"\",\"\",INDEX(CUST!BC:BC,MATCH(INDEX(PO!AD:AD,MATCH(CONCATENATE('All Bill Data Entry'!J299,'All Bill Data Entry'!K299),PO!AC:AC,0)),CUST!I:I,0)))","v":""},{"$f":"IF(L299=\"\",\"\",INDEX(CUST!G:G,MATCH('All Bill Data Entry'!L299,CUST!B:B,0)))","v":""},"",null,null,null,null,null,null,{"$f":"IF($B299=\"\",\"\",INDEX(Values!H:H,MATCH('All Bill Data Entry'!$B299,Values!F:F,0)))","v":""},{"$f":"IF($D299=\"\",\"\",INDEX(CUST!N:N,MATCH('All Bill Data Entry'!L299&'All Bill Data Entry'!N299,CUST!BD:BD,0)))","v":""},{"$f":"IF($B299=\"\",\"\",INDEX(Values!I:I,MATCH('All Bill Data Entry'!$B299,Values!G:G,0)))","v":""},{"$f":"IF($B299=\"\",\"\",INDEX(Values!J:J,MATCH('All Bill Data Entry'!$B299,Values!G:G,0)))","v":""},{"$f":"IF(D299=\"\",\"\",IF(AND(LEN(J299)=10,LEFT(J299,3)=\"000\"),IF(INDEX(PO!AE:AE,MATCH(CONCATENATE('All Bill Data Entry'!J299,'All Bill Data Entry'!K299),PO!AC:AC,0))<>\"\",\"N\",\"N\"),\"N\"))","v":""}]
["",null,null,null,null,null,null,"",null,null,null,{"$f":"IF(J300=\"\",\"\",INDEX(CUST!BC:BC,MATCH(INDEX(PO!AD:AD,MATCH(CONCATENATE('All Bill Data Entry'!J300,'All Bill Data Entry'!K300),PO!AC:AC,0)),CUST!I:I,0)))","v":""},{"$f":"IF(L300=\"\",\"\",INDEX(CUST!G:G,MATCH('All Bill Data Entry'!L300,CUST!B:B,0)))","v":""},"",null,null,null,null,null,null,{"$f":"IF($B300=\"\",\"\",INDEX(Values!H:H,MATCH('All Bill Data Entry'!$B300,Values!F:F,0)))","v":""},{"$f":"IF($D300=\"\",\"\",INDEX(CUST!N:N,MATCH('All Bill Data Entry'!L300&'All Bill Data Entry'!N300,CUST!BD:BD,0)))","v":""},{"$f":"IF($B300=\"\",\"\",INDEX(Values!I:I,MATCH('All Bill Data Entry'!$B300,Values!G:G,0)))","v":""},{"$f":"IF($B300=\"\",\"\",INDEX(Values!J:J,MATCH('All Bill Data Entry'!$B300,Values!G:G,0)))","v":""},{"$f":"IF(D300=\"\",\"\",IF(AND(LEN(J300)=10,LEFT(J300,3)=\"000\"),IF(INDEX(PO!AE:AE,MATCH(CONCATENATE('All Bill Data Entry'!J300,'All Bill Data Entry'!K300),PO!AC:AC,0))<>\"\",\"N\",\"N\"),\"N\"))","v":""}]
["",null,null,null,null,null,null,"",null,null,null,{"$f":"IF(J301=\"\",\"\",INDEX(CUST!BC:BC,MATCH(INDEX(PO!AD:AD,MATCH(CONCATENATE('All Bill Data Entry'!J301,'All Bill Data Entry'!K301),PO!AC:AC,0)),CUST!I:I,0)))","v":""},{"$f":"IF(L301=\"\",\"\",INDEX(CUST!G:G,MATCH('All Bill Data Entry'!L301,CUST!B:B,0)))","v":""},"",null,null,null,null,null,null,{"$f":"IF($B301=\"\",\"\",INDEX(Values!H:H,MATCH('All Bill Data Entry'!$B301,Values!F:F,0)))","v":""},{"$f":"IF($D301=\"\",\"\",INDEX(CUST!N:N,MATCH('All Bill Data Entry'!L301&'All Bill Data Entry'!N301,CUST!BD:BD,0)))","v":""},{"$f":"IF($B301=\"\",\"\",INDEX(Values!I:I,MATCH('All Bill Data Entry'!$B301,Values!G:G,0)))","v":""},{"$f":"IF($B301=\"\",\"\",INDEX(Values!J:J,MATCH('All Bill Data Entry'!$B301,Values!G:G,0)))","v":""},{"$f":"IF(D301=\"\",\"\",IF(AND(LEN(J301)=10,LEFT(J301,3)=\"000\"),IF(INDEX(PO!AE:AE,MATCH(CONCATENATE('All Bill Data Entry'!J301,'All Bill Data Entry'!K301),PO!AC:AC,0))<>\"\",\"N\",\"N\"),\"N\"))","v":""}]
["",null,null,null,null,null,null,"",null,null,null,{"$f":"IF(J302=\"\",\"\",INDEX(CUST!BC:BC,MATCH(INDEX(PO!AD:AD,MATCH(CONCATENATE('All Bill Data Entry'!J302,'All Bill Data Entry'!K302),PO!AC:AC,0)),CUST!I:I,0)))","v":""},{"$f":"IF(L302=\"\",\"\",INDEX(CUST!G:G,MATCH('All Bill Data Entry'!L302,CUST!B:B,0)))","v":""},"",null,null,null,null,null,null,{"$f":"IF($B302=\"\",\"\",INDEX(Values!H:H,MATCH('All Bill Data Entry'!$B302,Values!F:F,0)))","v":""},{"$f":"IF($D302=\"\",\"\",INDEX(CUST!N:N,MATCH('All Bill Data Entry'!L302&'All Bill Data Entry'!N302,CUST!BD:BD,0)))","v":""},{"$f":"IF($B302=\"\",\"\",INDEX(Values!I:I,MATCH('All Bill Data Entry'!$B302,Values!G:G,0)))","v":""},{"$f":"IF($B302=\"\",\"\",INDEX(Values!J:J,MATCH('All Bill Data Entry'!$B302,Values!G:G,0)))","v":""},{"$f":"IF(D302=\"\",\"\",IF(AND(LEN(J302)=10,LEFT(J302,3)=\"000\"),IF(INDEX(PO!AE:AE,MATCH(CONCATENATE('All Bill Data Entry'!J302,'All Bill Data Entry'!K302),PO!AC:AC,0))<>\"\",\"N\",\"N\"),\"N\"))","v":""}]
["",null,null,null,null,null,null,"",null,null,null,{"$f":"IF(J303=\"\",\"\",INDEX(CUST!BC:BC,MATCH(INDEX(PO!AD:AD,MATCH(CONCATENATE('All Bill Data Entry'!J303,'All Bill Data Entry'!K303),PO!AC:AC,0)),CUST!I:I,0)))","v":""},{"$f":"IF(L303=\"\",\"\",INDEX(CUST!G:G,MATCH('All Bill Data Entry'!L303,CUST!B:B,0)))","v":""},"",null,null,null,null,null,null,{"$f":"IF($B303=\"\",\"\",INDEX(Values!H:H,MATCH('All Bill Data Entry'!$B303,Values!F:F,0)))","v":""},{"$f":"IF($D303=\"\",\"\",INDEX(CUST!N:N,MATCH('All Bill Data Entry'!L303&'All Bill Data Entry'!N303,CUST!BD:BD,0)))","v":""},{"$f":"IF($B303=\"\",\"\",INDEX(Values!I:I,MATCH('All Bill Data Entry'!$B303,Values!G:G,0)))","v":""},{"$f":"IF($B303=\"\",\"\",INDEX(Values!J:J,MATCH('All Bill Data Entry'!$B303,Values!G:G,0)))","v":""},{"$f":"IF(D303=\"\",\"\",IF(AND(LEN(J303)=10,LEFT(J303,3)=\"000\"),IF(INDEX(PO!AE:AE,MATCH(CONCATENATE('All Bill Data Entry'!J303,'All Bill Data Entry'!K303),PO!AC:AC,0))<>\"\",\"N\",\"N\"),\"N\"))","v":""}]
["",null,null,null,null,null,null,"",null,null,null,{"$f":"IF(J304=\"\",\"\",INDEX(CUST!BC:BC,MATCH(INDEX(PO!AD:AD,MATCH(CONCATENATE('All Bill Data Entry'!J304,'All Bill Data Entry'!K304),PO!AC:AC,0)),CUST!I:I,0)))","v":""},{"$f":"IF(L304=\"\",\"\",INDEX(CUST!G:G,MATCH('All Bill Data Entry'!L304,CUST!B:B,0)))","v":""},"",null,null,null,null,null,null,{"$f":"IF($B304=\"\",\"\",INDEX(Values!H:H,MATCH('All Bill Data Entry'!$B304,Values!F:F,0)))","v":""},{"$f":"IF($D304=\"\",\"\",INDEX(CUST!N:N,MATCH('All Bill Data Entry'!L304&'All Bill Data Entry'!N304,CUST!BD:BD,0)))","v":""},{"$f":"IF($B304=\"\",\"\",INDEX(Values!I:I,MATCH('All Bill Data Entry'!$B304,Values!G:G,0)))","v":""},{"$f":"IF($B304=\"\",\"\",INDEX(Values!J:J,MATCH('All Bill Data Entry'!$B304,Values!G:G,0)))","v":""},{"$f":"IF(D304=\"\",\"\",IF(AND(LEN(J304)=10,LEFT(J304,3)=\"000\"),IF(INDEX(PO!AE:AE,MATCH(CONCATENATE('All Bill Data Entry'!J304,'All Bill Data Entry'!K304),PO!AC:AC,0))<>\"\",\"N\",\"N\"),\"N\"))","v":""}]
["",null,null,null,null,null,null,"",null,null,null,{"$f":"IF(J305=\"\",\"\",INDEX(CUST!BC:BC,MATCH(INDEX(PO!AD:AD,MATCH(CONCATENATE('All Bill Data Entry'!J305,'All Bill Data Entry'!K305),PO!AC:AC,0)),CUST!I:I,0)))","v":""},{"$f":"IF(L305=\"\",\"\",INDEX(CUST!G:G,MATCH('All Bill Data Entry'!L305,CUST!B:B,0)))","v":""},"",null,null,null,null,null,null,{"$f":"IF($B305=\"\",\"\",INDEX(Values!H:H,MATCH('All Bill Data Entry'!$B305,Values!F:F,0)))","v":""},{"$f":"IF($D305=\"\",\"\",INDEX(CUST!N:N,MATCH('All Bill Data Entry'!L305&'All Bill Data Entry'!N305,CUST!BD:BD,0)))","v":""},{"$f":"IF($B305=\"\",\"\",INDEX(Values!I:I,MATCH('All Bill Data Entry'!$B305,Values!G:G,0)))","v":""},{"$f":"IF($B305=\"\",\"\",INDEX(Values!J:J,MATCH('All Bill Data Entry'!$B305,Values!G:G,0)))","v":""},{"$f":"IF(D305=\"\",\"\",IF(AND(LEN(J305)=10,LEFT(J305,3)=\"000\"),IF(INDEX(PO!AE:AE,MATCH(CONCATENATE('All Bill Data Entry'!J305,'All Bill Data Entry'!K305),PO!AC:AC,0))<>\"\",\"N\",\"N\"),\"N\"))","v":""}]
["",null,null,null,null,null,null,"",null,null,null,{"$f":"IF(J306=\"\",\"\",INDEX(CUST!BC:BC,MATCH(INDEX(PO!AD:AD,MATCH(CONCATENATE('All Bill Data Entry'!J306,'All Bill Data Entry'!K306),PO!AC:AC,0)),CUST!I:I,0)))","v":""},{"$f":"IF(L306=\"\",\"\",INDEX(CUST!G:G,MATCH('All Bill Data Entry'!L306,CUST!B:B,0)))","v":""},"",null,null,null,null,null,null,{"$f":"IF($B306=\"\",\"\",INDEX(Values!H:H,MATCH('All Bill Data Entry'!$B306,Values!F:F,0)))","v":""},{"$f":"IF($D306=\"\",\"\",INDEX(CUST!N:N,MATCH('All Bill Data Entry'!L306&'All Bill Data Entry'!N306,CUST!BD:BD,0)))","v":""},{"$f":"IF($B306=\"\",\"\",INDEX(Values!I:I,MATCH('All Bill Data Entry'!$B306,Values!G:G,0)))","v":""},{"$f":"IF($B306=\"\",\"\",INDEX(Values!J:J,MATCH('All Bill Data Entry'!$B306,Values!G:G,0)))","v":""},{"$f":"IF(D306=\"\",\"\",IF(AND(LEN(J306)=10,LEFT(J306,3)=\"000\"),IF(INDEX(PO!AE:AE,MATCH(CONCATENATE('All Bill Data Entry'!J306,'All Bill Data Entry'!K306),PO!AC:AC,0))<>\"\",\"N\",\"N\"),\"N\"))","v":""}]
["DO NOT ENTER DATA BELOW THIS LINE. If you need additional rows, contact ctl-auxiliaryaccounting@fsu.edu . "]

{"sheet":"AH-Accounting","index":2,"n_rows":301,"n_cols":13,"rows_kept":301,"cut":false,"hidden":true,"merged":[]}
["AH","INTFC_LINE_NUM","TRANS_TYPE_BI","ACCT_ENTRY_TYPE","BUSINESS_UNIT","AMOUNT","PERCENTAGE","DEPTID","FUND_CODE","ACCOUNT","CHARTFIELD1","CHARTFIELD2","CHARTFIELD3"]
[{"$f":"IF(B2=\"\",\"\",\"A\")","v":""},{"$f":"IF('All Bill Data Entry'!A7=\"\",\"\",'All Bill Data Entry'!A7)","v":""},{"$f":"IF($B2=\"\",\"\",\"AE\")","v":""},{"$f":"IF($B2=\"\",\"\",\"RR\")","v":""},{"$f":"IF($B2=\"\",\"\",\"AUX01\")","v":""},{"$f":"IF('LN-Line Data'!R2=\"\",\"\",'LN-Line Data'!R2)","v":""},{"$f":"IF($B2=\"\",\"\",100)","v":""},{"$f":"IF('All Bill Data Entry'!O7=\"\",\"\",'All Bill Data Entry'!O7)","v":""},{"$f":"IF('All Bill Data Entry'!P7=\"\",\"\",'All Bill Data Entry'!P7)","v":""},{"$f":"IF('All Bill Data Entry'!Q7=\"\",\"\",'All Bill Data Entry'!Q7)","v":""},{"$f":"IF('All Bill Data Entry'!R7=\"\",\"\",'All Bill Data Entry'!R7)","v":""},{"$f":"IF('All Bill Data Entry'!S7=\"\",\"\",'All Bill Data Entry'!S7)","v":""},{"$f":"IF('All Bill Data Entry'!T7=\"\",\"\",'All Bill Data Entry'!T7)","v":""}]
[{"$f":"IF(B3=\"\",\"\",\"A\")","v":""},{"$f":"IF('All Bill Data Entry'!A8=\"\",\"\",'All Bill Data Entry'!A8)","v":""},{"$f":"IF($B3=\"\",\"\",\"AE\")","v":""},{"$f":"IF($B3=\"\",\"\",\"RR\")","v":""},{"$f":"IF($B3=\"\",\"\",\"AUX01\")","v":""},{"$f":"IF('LN-Line Data'!R3=\"\",\"\",'LN-Line Data'!R3)","v":""},{"$f":"IF($B3=\"\",\"\",100)","v":""},{"$f":"IF('All Bill Data Entry'!O8=\"\",\"\",'All Bill Data Entry'!O8)","v":""},{"$f":"IF('All Bill Data Entry'!P8=\"\",\"\",'All Bill Data Entry'!P8)","v":""},{"$f":"IF('All Bill Data Entry'!Q8=\"\",\"\",'All Bill Data Entry'!Q8)","v":""},{"$f":"IF('All Bill Data Entry'!R8=\"\",\"\",'All Bill Data Entry'!R8)","v":""},{"$f":"IF('All Bill Data Entry'!S8=\"\",\"\",'All Bill Data Entry'!S8)","v":""},{"$f":"IF('All Bill Data Entry'!T8=\"\",\"\",'All Bill Data Entry'!T8)","v":""}]
["",{"$f":"IF('All Bill Data Entry'!A9=\"\",\"\",'All Bill Data Entry'!A9)","v":""},"","","",{"$f":"IF('LN-Line Data'!R4=\"\",\"\",'LN-Line Data'!R4)","v":""},"",{"$f":"IF('All Bill Data Entry'!O9=\"\",\"\",'All Bill Data Entry'!O9)","v":""},{"$f":"IF('All Bill Data Entry'!P9=\"\",\"\",'All Bill Data Entry'!P9)","v":""},{"$f":"IF('All Bill Data Entry'!Q9=\"\",\"\",'All Bill Data Entry'!Q9)","v":""},{"$f":"IF('All Bill Data Entry'!R9=\"\",\"\",'All Bill Data Entry'!R9)","v":""},{"$f":"IF('All Bill Data Entry'!S9=\"\",\"\",'All Bill Data Entry'!S9)","v":""},{"$f":"IF('All Bill Data Entry'!T9=\"\",\"\",'All Bill Data Entry'!T9)","v":""}]
["",{"$f":"IF('All Bill Data Entry'!A10=\"\",\"\",'All Bill Data Entry'!A10)","v":""},"","","",{"$f":"IF('LN-Line Data'!R5=\"\",\"\",'LN-Line Data'!R5)","v":""},"",{"$f":"IF('All Bill Data Entry'!O10=\"\",\"\",'All Bill Data Entry'!O10)","v":""},{"$f":"IF('All Bill Data Entry'!P10=\"\",\"\",'All Bill Data Entry'!P10)","v":""},{"$f":"IF('All Bill Data Entry'!Q10=\"\",\"\",'All Bill Data Entry'!Q10)","v":""},{"$f":"IF('All Bill Data Entry'!R10=\"\",\"\",'All Bill Data Entry'!R10)","v":""},{"$f":"IF('All Bill Data Entry'!S10=\"\",\"\",'All Bill Data Entry'!S10)","v":""},{"$f":"IF('All Bill Data Entry'!T10=\"\",\"\",'All Bill Data Entry'!T10)","v":""}]
["",{"$f":"IF('All Bill Data Entry'!A11=\"\",\"\",'All Bill Data Entry'!A11)","v":""},"","","",{"$f":"IF('LN-Line Data'!R6=\"\",\"\",'LN-Line Data'!R6)","v":""},"",{"$f":"IF('All Bill Data Entry'!O11=\"\",\"\",'All Bill Data Entry'!O11)","v":""},{"$f":"IF('All Bill Data Entry'!P11=\"\",\"\",'All Bill Data Entry'!P11)","v":""},{"$f":"IF('All Bill Data Entry'!Q11=\"\",\"\",'All Bill Data Entry'!Q11)","v":""},{"$f":"IF('All Bill Data Entry'!R11=\"\",\"\",'All Bill Data Entry'!R11)","v":""},{"$f":"IF('All Bill Data Entry'!S11=\"\",\"\",'All Bill Data Entry'!S11)","v":""},{"$f":"IF('All Bill Data Entry'!T11=\"\",\"\",'All Bill Data Entry'!T11)","v":""}]
["",{"$f":"IF('All Bill Data Entry'!A12=\"\",\"\",'All Bill Data Entry'!A12)","v":""},"","","",{"$f":"IF('LN-Line Data'!R7=\"\",\"\",'LN-Line Data'!R7)","v":""},"",{"$f":"IF('All Bill Data Entry'!O12=\"\",\"\",'All Bill Data Entry'!O12)","v":""},{"$f":"IF('All Bill Data Entry'!P12=\"\",\"\",'All Bill Data Entry'!P12)","v":""},{"$f":"IF('All Bill Data Entry'!Q12=\"\",\"\",'All Bill Data Entry'!Q12)","v":""},{"$f":"IF('All Bill Data Entry'!R12=\"\",\"\",'All Bill Data Entry'!R12)","v":""},{"$f":"IF('All Bill Data Entry'!S12=\"\",\"\",'All Bill Data Entry'!S12)","v":""},{"$f":"IF('All Bill Data Entry'!T12=\"\",\"\",'All Bill Data Entry'!T12)","v":""}]
["",{"$f":"IF('All Bill Data Entry'!A13=\"\",\"\",'All Bill Data Entry'!A13)","v":""},"","","",{"$f":"IF('LN-Line Data'!R8=\"\",\"\",'LN-Line Data'!R8)","v":""},"",{"$f":"IF('All Bill Data Entry'!O13=\"\",\"\",'All Bill Data Entry'!O13)","v":""},{"$f":"IF('All Bill Data Entry'!P13=\"\",\"\",'All Bill Data Entry'!P13)","v":""},{"$f":"IF('All Bill Data Entry'!Q13=\"\",\"\",'All Bill Data Entry'!Q13)","v":""},{"$f":"IF('All Bill Data Entry'!R13=\"\",\"\",'All Bill Data Entry'!R13)","v":""},{"$f":"IF('All Bill Data Entry'!S13=\"\",\"\",'All Bill Data Entry'!S13)","v":""},{"$f":"IF('All Bill Data Entry'!T13=\"\",\"\",'All Bill Data Entry'!T13)","v":""}]
["",{"$f":"IF('All Bill Data Entry'!A14=\"\",\"\",'All Bill Data Entry'!A14)","v":""},"","","",{"$f":"IF('LN-Line Data'!R9=\"\",\"\",'LN-Line Data'!R9)","v":""},"",{"$f":"IF('All Bill Data Entry'!O14=\"\",\"\",'All Bill Data Entry'!O14)","v":""},{"$f":"IF('All Bill Data Entry'!P14=\"\",\"\",'All Bill Data Entry'!P14)","v":""},{"$f":"IF('All Bill Data Entry'!Q14=\"\",\"\",'All Bill Data Entry'!Q14)","v":""},{"$f":"IF('All Bill Data Entry'!R14=\"\",\"\",'All Bill Data Entry'!R14)","v":""},{"$f":"IF('All Bill Data Entry'!S14=\"\",\"\",'All Bill Data Entry'!S14)","v":""},{"$f":"IF('All Bill Data Entry'!T14=\"\",\"\",'All Bill Data Entry'!T14)","v":""}]
[{"$f":"IF(B10=\"\",\"\",\"A\")","v":""},{"$f":"IF('All Bill Data Entry'!A15=\"\",\"\",'All Bill Data Entry'!A15)","v":""},"","","",{"$f":"IF('LN-Line Data'!R10=\"\",\"\",'LN-Line Data'!R10)","v":""},"",{"$f":"IF('All Bill Data Entry'!O15=\"\",\"\",'All Bill Data Entry'!O15)","v":""},{"$f":"IF('All Bill Data Entry'!P15=\"\",\"\",'All Bill Data Entry'!P15)","v":""},{"$f":"IF('All Bill Data Entry'!Q15=\"\",\"\",'All Bill Data Entry'!Q15)","v":""},{"$f":"IF('All Bill Data Entry'!R15=\"\",\"\",'All Bill Data Entry'!R15)","v":""},{"$f":"IF('All Bill Data Entry'!S15=\"\",\"\",'All Bill Data Entry'!S15)","v":""},{"$f":"IF('All Bill Data Entry'!T15=\"\",\"\",'All Bill Data Entry'!T15)","v":""}]
["",{"$f":"IF('All Bill Data Entry'!A16=\"\",\"\",'All Bill Data Entry'!A16)","v":""},"","","",{"$f":"IF('LN-Line Data'!R11=\"\",\"\",'LN-Line Data'!R11)","v":""},"",{"$f":"IF('All Bill Data Entry'!O16=\"\",\"\",'All Bill Data Entry'!O16)","v":""},{"$f":"IF('All Bill Data Entry'!P16=\"\",\"\",'All Bill Data Entry'!P16)","v":""},{"$f":"IF('All Bill Data Entry'!Q16=\"\",\"\",'All Bill Data Entry'!Q16)","v":""},{"$f":"IF('All Bill Data Entry'!R16=\"\",\"\",'All Bill Data Entry'!R16)","v":""},{"$f":"IF('All Bill Data Entry'!S16=\"\",\"\",'All Bill Data Entry'!S16)","v":""},{"$f":"IF('All Bill Data Entry'!T16=\"\",\"\",'All Bill Data Entry'!T16)","v":""}]
["",{"$f":"IF('All Bill Data Entry'!A17=\"\",\"\",'All Bill Data Entry'!A17)","v":""},"","","",{"$f":"IF('LN-Line Data'!R12=\"\",\"\",'LN-Line Data'!R12)","v":""},"",{"$f":"IF('All Bill Data Entry'!O17=\"\",\"\",'All Bill Data Entry'!O17)","v":""},{"$f":"IF('All Bill Data Entry'!P17=\"\",\"\",'All Bill Data Entry'!P17)","v":""},{"$f":"IF('All Bill Data Entry'!Q17=\"\",\"\",'All Bill Data Entry'!Q17)","v":""},{"$f":"IF('All Bill Data Entry'!R17=\"\",\"\",'All Bill Data Entry'!R17)","v":""},{"$f":"IF('All Bill Data Entry'!S17=\"\",\"\",'All Bill Data Entry'!S17)","v":""},{"$f":"IF('All Bill Data Entry'!T17=\"\",\"\",'All Bill Data Entry'!T17)","v":""}]
["",{"$f":"IF('All Bill Data Entry'!A18=\"\",\"\",'All Bill Data Entry'!A18)","v":""},"","","",{"$f":"IF('LN-Line Data'!R13=\"\",\"\",'LN-Line Data'!R13)","v":""},"",{"$f":"IF('All Bill Data Entry'!O18=\"\",\"\",'All Bill Data Entry'!O18)","v":""},{"$f":"IF('All Bill Data Entry'!P18=\"\",\"\",'All Bill Data Entry'!P18)","v":""},{"$f":"IF('All Bill Data Entry'!Q18=\"\",\"\",'All Bill Data Entry'!Q18)","v":""},{"$f":"IF('All Bill Data Entry'!R18=\"\",\"\",'All Bill Data Entry'!R18)","v":""},{"$f":"IF('All Bill Data Entry'!S18=\"\",\"\",'All Bill Data Entry'!S18)","v":""},{"$f":"IF('All Bill Data Entry'!T18=\"\",\"\",'All Bill Data Entry'!T18)","v":""}]
["",{"$f":"IF('All Bill Data Entry'!A19=\"\",\"\",'All Bill Data Entry'!A19)","v":""},"","","",{"$f":"IF('LN-Line Data'!R14=\"\",\"\",'LN-Line Data'!R14)","v":""},"",{"$f":"IF('All Bill Data Entry'!O19=\"\",\"\",'All Bill Data Entry'!O19)","v":""},{"$f":"IF('All Bill Data Entry'!P19=\"\",\"\",'All Bill Data Entry'!P19)","v":""},{"$f":"IF('All Bill Data Entry'!Q19=\"\",\"\",'All Bill Data Entry'!Q19)","v":""},{"$f":"IF('All Bill Data Entry'!R19=\"\",\"\",'All Bill Data Entry'!R19)","v":""},{"$f":"IF('All Bill Data Entry'!S19=\"\",\"\",'All Bill Data Entry'!S19)","v":""},{"$f":"IF('All Bill Data Entry'!T19=\"\",\"\",'All Bill Data Entry'!T19)","v":""}]
["",{"$f":"IF('All Bill Data Entry'!A20=\"\",\"\",'All Bill Data Entry'!A20)","v":""},"","","",{"$f":"IF('LN-Line Data'!R15=\"\",\"\",'LN-Line Data'!R15)","v":""},"",{"$f":"IF('All Bill Data Entry'!O20=\"\",\"\",'All Bill Data Entry'!O20)","v":""},{"$f":"IF('All Bill Data Entry'!P20=\"\",\"\",'All Bill Data Entry'!P20)","v":""},{"$f":"IF('All Bill Data Entry'!Q20=\"\",\"\",'All Bill Data Entry'!Q20)","v":""},{"$f":"IF('All Bill Data Entry'!R20=\"\",\"\",'All Bill Data Entry'!R20)","v":""},{"$f":"IF('All Bill Data Entry'!S20=\"\",\"\",'All Bill Data Entry'!S20)","v":""},{"$f":"IF('All Bill Data Entry'!T20=\"\",\"\",'All Bill Data Entry'!T20)","v":""}]
["",{"$f":"IF('All Bill Data Entry'!A21=\"\",\"\",'All Bill Data Entry'!A21)","v":""},"","","",{"$f":"IF('LN-Line Data'!R16=\"\",\"\",'LN-Line Data'!R16)","v":""},"",{"$f":"IF('All Bill Data Entry'!O21=\"\",\"\",'All Bill Data Entry'!O21)","v":""},{"$f":"IF('All Bill Data Entry'!P21=\"\",\"\",'All Bill Data Entry'!P21)","v":""},{"$f":"IF('All Bill Data Entry'!Q21=\"\",\"\",'All Bill Data Entry'!Q21)","v":""},{"$f":"IF('All Bill Data Entry'!R21=\"\",\"\",'All Bill Data Entry'!R21)","v":""},{"$f":"IF('All Bill Data Entry'!S21=\"\",\"\",'All Bill Data Entry'!S21)","v":""},{"$f":"IF('All Bill Data Entry'!T21=\"\",\"\",'All Bill Data Entry'!T21)","v":""}]
["",{"$f":"IF('All Bill Data Entry'!A22=\"\",\"\",'All Bill Data Entry'!A22)","v":""},"","","",{"$f":"IF('LN-Line Data'!R17=\"\",\"\",'LN-Line Data'!R17)","v":""},"",{"$f":"IF('All Bill Data Entry'!O22=\"\",\"\",'All Bill Data Entry'!O22)","v":""},{"$f":"IF('All Bill Data Entry'!P22=\"\",\"\",'All Bill Data Entry'!P22)","v":""},{"$f":"IF('All Bill Data Entry'!Q22=\"\",\"\",'All Bill Data Entry'!Q22)","v":""},{"$f":"IF('All Bill Data Entry'!R22=\"\",\"\",'All Bill Data Entry'!R22)","v":""},{"$f":"IF('All Bill Data Entry'!S22=\"\",\"\",'All Bill Data Entry'!S22)","v":""},{"$f":"IF('All Bill Data Entry'!T22=\"\",\"\",'All Bill Data Entry'!T22)","v":""}]
["",{"$f":"IF('All Bill Data Entry'!A23=\"\",\"\",'All Bill Data Entry'!A23)","v":""},"","","",{"$f":"IF('LN-Line Data'!R18=\"\",\"\",'LN-Line Data'!R18)","v":""},"",{"$f":"IF('All Bill Data Entry'!O23=\"\",\"\",'All Bill Data Entry'!O23)","v":""},{"$f":"IF('All Bill Data Entry'!P23=\"\",\"\",'All Bill Data Entry'!P23)","v":""},{"$f":"IF('All Bill Data Entry'!Q23=\"\",\"\",'All Bill Data Entry'!Q23)","v":""},{"$f":"IF('All Bill Data Entry'!R23=\"\",\"\",'All Bill Data Entry'!R23)","v":""},{"$f":"IF('All Bill Data Entry'!S23=\"\",\"\",'All Bill Data Entry'!S23)","v":""},{"$f":"IF('All Bill Data Entry'!T23=\"\",\"\",'All Bill Data Entry'!T23)","v":""}]
["",{"$f":"IF('All Bill Data Entry'!A24=\"\",\"\",'All Bill Data Entry'!A24)","v":""},"","","",{"$f":"IF('LN-Line Data'!R19=\"\",\"\",'LN-Line Data'!R19)","v":""},"",{"$f":"IF('All Bill Data Entry'!O24=\"\",\"\",'All Bill Data Entry'!O24)","v":""},{"$f":"IF('All Bill Data Entry'!P24=\"\",\"\",'All Bill Data Entry'!P24)","v":""},{"$f":"IF('All Bill Data Entry'!Q24=\"\",\"\",'All Bill Data Entry'!Q24)","v":""},{"$f":"IF('All Bill Data Entry'!R24=\"\",\"\",'All Bill Data Entry'!R24)","v":""},{"$f":"IF('All Bill Data Entry'!S24=\"\",\"\",'All Bill Data Entry'!S24)","v":""},{"$f":"IF('All Bill Data Entry'!T24=\"\",\"\",'All Bill Data Entry'!T24)","v":""}]
["",{"$f":"IF('All Bill Data Entry'!A25=\"\",\"\",'All Bill Data Entry'!A25)","v":""},"","","",{"$f":"IF('LN-Line Data'!R20=\"\",\"\",'LN-Line Data'!R20)","v":""},"",{"$f":"IF('All Bill Data Entry'!O25=\"\",\"\",'All Bill Data Entry'!O25)","v":""},{"$f":"IF('All Bill Data Entry'!P25=\"\",\"\",'All Bill Data Entry'!P25)","v":""},{"$f":"IF('All Bill Data Entry'!Q25=\"\",\"\",'All Bill Data Entry'!Q25)","v":""},{"$f":"IF('All Bill Data Entry'!R25=\"\",\"\",'All Bill Data Entry'!R25)","v":""},{"$f":"IF('All Bill Data Entry'!S25=\"\",\"\",'All Bill Data Entry'!S25)","v":""},{"$f":"IF('All Bill Data Entry'!T25=\"\",\"\",'All Bill Data Entry'!T25)","v":""}]
["",{"$f":"IF('All Bill Data Entry'!A26=\"\",\"\",'All Bill Data Entry'!A26)","v":""},"","","",{"$f":"IF('LN-Line Data'!R21=\"\",\"\",'LN-Line Data'!R21)","v":""},"",{"$f":"IF('All Bill Data Entry'!O26=\"\",\"\",'All Bill Data Entry'!O26)","v":""},{"$f":"IF('All Bill Data Entry'!P26=\"\",\"\",'All Bill Data Entry'!P26)","v":""},{"$f":"IF('All Bill Data Entry'!Q26=\"\",\"\",'All Bill Data Entry'!Q26)","v":""},{"$f":"IF('All Bill Data Entry'!R26=\"\",\"\",'All Bill Data Entry'!R26)","v":""},{"$f":"IF('All Bill Data Entry'!S26=\"\",\"\",'All Bill Data Entry'!S26)","v":""},{"$f":"IF('All Bill Data Entry'!T26=\"\",\"\",'All Bill Data Entry'!T26)","v":""}]
["",{"$f":"IF('All Bill Data Entry'!A27=\"\",\"\",'All Bill Data Entry'!A27)","v":""},"","","",{"$f":"IF('LN-Line Data'!R22=\"\",\"\",'LN-Line Data'!R22)","v":""},"",{"$f":"IF('All Bill Data Entry'!O27=\"\",\"\",'All Bill Data Entry'!O27)","v":""},{"$f":"IF('All Bill Data Entry'!P27=\"\",\"\",'All Bill Data Entry'!P27)","v":""},{"$f":"IF('All Bill Data Entry'!Q27=\"\",\"\",'All Bill Data Entry'!Q27)","v":""},{"$f":"IF('All Bill Data Entry'!R27=\"\",\"\",'All Bill Data Entry'!R27)","v":""},{"$f":"IF('All Bill Data Entry'!S27=\"\",\"\",'All Bill Data Entry'!S27)","v":""},{"$f":"IF('All Bill Data Entry'!T27=\"\",\"\",'All Bill Data Entry'!T27)","v":""}]
["",{"$f":"IF('All Bill Data Entry'!A28=\"\",\"\",'All Bill Data Entry'!A28)","v":""},"","","",{"$f":"IF('LN-Line Data'!R23=\"\",\"\",'LN-Line Data'!R23)","v":""},"",{"$f":"IF('All Bill Data Entry'!O28=\"\",\"\",'All Bill Data Entry'!O28)","v":""},{"$f":"IF('All Bill Data Entry'!P28=\"\",\"\",'All Bill Data Entry'!P28)","v":""},{"$f":"IF('All Bill Data Entry'!Q28=\"\",\"\",'All Bill Data Entry'!Q28)","v":""},{"$f":"IF('All Bill Data Entry'!R28=\"\",\"\",'All Bill Data Entry'!R28)","v":""},{"$f":"IF('All Bill Data Entry'!S28=\"\",\"\",'All Bill Data Entry'!S28)","v":""},{"$f":"IF('All Bill Data Entry'!T28=\"\",\"\",'All Bill Data Entry'!T28)","v":""}]
["",{"$f":"IF('All Bill Data Entry'!A29=\"\",\"\",'All Bill Data Entry'!A29)","v":""},"","","",{"$f":"IF('LN-Line Data'!R24=\"\",\"\",'LN-Line Data'!R24)","v":""},"",{"$f":"IF('All Bill Data Entry'!O29=\"\",\"\",'All Bill Data Entry'!O29)","v":""},{"$f":"IF('All Bill Data Entry'!P29=\"\",\"\",'All Bill Data Entry'!P29)","v":""},{"$f":"IF('All Bill Data Entry'!Q29=\"\",\"\",'All Bill Data Entry'!Q29)","v":""},{"$f":"IF('All Bill Data Entry'!R29=\"\",\"\",'All Bill Data Entry'!R29)","v":""},{"$f":"IF('All Bill Data Entry'!S29=\"\",\"\",'All Bill Data Entry'!S29)","v":""},{"$f":"IF('All Bill Data Entry'!T29=\"\",\"\",'All Bill Data Entry'!T29)","v":""}]
["",{"$f":"IF('All Bill Data Entry'!A30=\"\",\"\",'All Bill Data Entry'!A30)","v":""},"","","",{"$f":"IF('LN-Line Data'!R25=\"\",\"\",'LN-Line Data'!R25)","v":""},"",{"$f":"IF('All Bill Data Entry'!O30=\"\",\"\",'All Bill Data Entry'!O30)","v":""},{"$f":"IF('All Bill Data Entry'!P30=\"\",\"\",'All Bill Data Entry'!P30)","v":""},{"$f":"IF('All Bill Data Entry'!Q30=\"\",\"\",'All Bill Data Entry'!Q30)","v":""},{"$f":"IF('All Bill Data Entry'!R30=\"\",\"\",'All Bill Data Entry'!R30)","v":""},{"$f":"IF('All Bill Data Entry'!S30=\"\",\"\",'All Bill Data Entry'!S30)","v":""},{"$f":"IF('All Bill Data Entry'!T30=\"\",\"\",'All Bill Data Entry'!T30)","v":""}]
["",{"$f":"IF('All Bill Data Entry'!A31=\"\",\"\",'All Bill Data Entry'!A31)","v":""},"","","",{"$f":"IF('LN-Line Data'!R26=\"\",\"\",'LN-Line Data'!R26)","v":""},"",{"$f":"IF('All Bill Data Entry'!O31=\"\",\"\",'All Bill Data Entry'!O31)","v":""},{"$f":"IF('All Bill Data Entry'!P31=\"\",\"\",'All Bill Data Entry'!P31)","v":""},{"$f":"IF('All Bill Data Entry'!Q31=\"\",\"\",'All Bill Data Entry'!Q31)","v":""},{"$f":"IF('All Bill Data Entry'!R31=\"\",\"\",'All Bill Data Entry'!R31)","v":""},{"$f":"IF('All Bill Data Entry'!S31=\"\",\"\",'All Bill Data Entry'!S31)","v":""},{"$f":"IF('All Bill Data Entry'!T31=\"\",\"\",'All Bill Data Entry'!T31)","v":""}]
["",{"$f":"IF('All Bill Data Entry'!A32=\"\",\"\",'All Bill Data Entry'!A32)","v":""},"","","",{"$f":"IF('LN-Line Data'!R27=\"\",\"\",'LN-Line Data'!R27)","v":""},"",{"$f":"IF('All Bill Data Entry'!O32=\"\",\"\",'All Bill Data Entry'!O32)","v":""},{"$f":"IF('All Bill Data Entry'!P32=\"\",\"\",'All Bill Data Entry'!P32)","v":""},{"$f":"IF('All Bill Data Entry'!Q32=\"\",\"\",'All Bill Data Entry'!Q32)","v":""},{"$f":"IF('All Bill Data Entry'!R32=\"\",\"\",'All Bill Data Entry'!R32)","v":""},{"$f":"IF('All Bill Data Entry'!S32=\"\",\"\",'All Bill Data Entry'!S32)","v":""},{"$f":"IF('All Bill Data Entry'!T32=\"\",\"\",'All Bill Data Entry'!T32)","v":""}]
["",{"$f":"IF('All Bill Data Entry'!A33=\"\",\"\",'All Bill Data Entry'!A33)","v":""},"","","",{"$f":"IF('LN-Line Data'!R28=\"\",\"\",'LN-Line Data'!R28)","v":""},"",{"$f":"IF('All Bill Data Entry'!O33=\"\",\"\",'All Bill Data Entry'!O33)","v":""},{"$f":"IF('All Bill Data Entry'!P33=\"\",\"\",'All Bill Data Entry'!P33)","v":""},{"$f":"IF('All Bill Data Entry'!Q33=\"\",\"\",'All Bill Data Entry'!Q33)","v":""},{"$f":"IF('All Bill Data Entry'!R33=\"\",\"\",'All Bill Data Entry'!R33)","v":""},{"$f":"IF('All Bill Data Entry'!S33=\"\",\"\",'All Bill Data Entry'!S33)","v":""},{"$f":"IF('All Bill Data Entry'!T33=\"\",\"\",'All Bill Data Entry'!T33)","v":""}]
["",{"$f":"IF('All Bill Data Entry'!A34=\"\",\"\",'All Bill Data Entry'!A34)","v":""},"","","",{"$f":"IF('LN-Line Data'!R29=\"\",\"\",'LN-Line Data'!R29)","v":""},"",{"$f":"IF('All Bill Data Entry'!O34=\"\",\"\",'All Bill Data Entry'!O34)","v":""},{"$f":"IF('All Bill Data Entry'!P34=\"\",\"\",'All Bill Data Entry'!P34)","v":""},{"$f":"IF('All Bill Data Entry'!Q34=\"\",\"\",'All Bill Data Entry'!Q34)","v":""},{"$f":"IF('All Bill Data Entry'!R34=\"\",\"\",'All Bill Data Entry'!R34)","v":""},{"$f":"IF('All Bill Data Entry'!S34=\"\",\"\",'All Bill Data Entry'!S34)","v":""},{"$f":"IF('All Bill Data Entry'!T34=\"\",\"\",'All Bill Data Entry'!T34)","v":""}]
["",{"$f":"IF('All Bill Data Entry'!A35=\"\",\"\",'All Bill Data Entry'!A35)","v":""},"","","",{"$f":"IF('LN-Line Data'!R30=\"\",\"\",'LN-Line Data'!R30)","v":""},"",{"$f":"IF('All Bill Data Entry'!O35=\"\",\"\",'All Bill Data Entry'!O35)","v":""},{"$f":"IF('All Bill Data Entry'!P35=\"\",\"\",'All Bill Data Entry'!P35)","v":""},{"$f":"IF('All Bill Data Entry'!Q35=\"\",\"\",'All Bill Data Entry'!Q35)","v":""},{"$f":"IF('All Bill Data Entry'!R35=\"\",\"\",'All Bill Data Entry'!R35)","v":""},{"$f":"IF('All Bill Data Entry'!S35=\"\",\"\",'All Bill Data Entry'!S35)","v":""},{"$f":"IF('All Bill Data Entry'!T35=\"\",\"\",'All Bill Data Entry'!T35)","v":""}]
["",{"$f":"IF('All Bill Data Entry'!A36=\"\",\"\",'All Bill Data Entry'!A36)","v":""},"","","",{"$f":"IF('LN-Line Data'!R31=\"\",\"\",'LN-Line Data'!R31)","v":""},"",{"$f":"IF('All Bill Data Entry'!O36=\"\",\"\",'All Bill Data Entry'!O36)","v":""},{"$f":"IF('All Bill Data Entry'!P36=\"\",\"\",'All Bill Data Entry'!P36)","v":""},{"$f":"IF('All Bill Data Entry'!Q36=\"\",\"\",'All Bill Data Entry'!Q36)","v":""},{"$f":"IF('All Bill Data Entry'!R36=\"\",\"\",'All Bill Data Entry'!R36)","v":""},{"$f":"IF('All Bill Data Entry'!S36=\"\",\"\",'All Bill Data Entry'!S36)","v":""},{"$f":"IF('All Bill Data Entry'!T36=\"\",\"\",'All Bill Data Entry'!T36)","v":""}]
["",{"$f":"IF('All Bill Data Entry'!A37=\"\",\"\",'All Bill Data Entry'!A37)","v":""},"","","",{"$f":"IF('LN-Line Data'!R32=\"\",\"\",'LN-Line Data'!R32)","v":""},"",{"$f":"IF('All Bill Data Entry'!O37=\"\",\"\",'All Bill Data Entry'!O37)","v":""},{"$f":"IF('All Bill Data Entry'!P37=\"\",\"\",'All Bill Data Entry'!P37)","v":""},{"$f":"IF('All Bill Data Entry'!Q37=\"\",\"\",'All Bill Data Entry'!Q37)","v":""},{"$f":"IF('All Bill Data Entry'!R37=\"\",\"\",'All Bill Data Entry'!R37)","v":""},{"$f":"IF('All Bill Data Entry'!S37=\"\",\"\",'All Bill Data Entry'!S37)","v":""},{"$f":"IF('All Bill Data Entry'!T37=\"\",\"\",'All Bill Data Entry'!T37)","v":""}]
["",{"$f":"IF('All Bill Data Entry'!A38=\"\",\"\",'All Bill Data Entry'!A38)","v":""},"","","",{"$f":"IF('LN-Line Data'!R33=\"\",\"\",'LN-Line Data'!R33)","v":""},"",{"$f":"IF('All Bill Data Entry'!O38=\"\",\"\",'All Bill Data Entry'!O38)","v":""},{"$f":"IF('All Bill Data Entry'!P38=\"\",\"\",'All Bill Data Entry'!P38)","v":""},{"$f":"IF('All Bill Data Entry'!Q38=\"\",\"\",'All Bill Data Entry'!Q38)","v":""},{"$f":"IF('All Bill Data Entry'!R38=\"\",\"\",'All Bill Data Entry'!R38)","v":""},{"$f":"IF('All Bill Data Entry'!S38=\"\",\"\",'All Bill Data Entry'!S38)","v":""},{"$f":"IF('All Bill Data Entry'!T38=\"\",\"\",'All Bill Data Entry'!T38)","v":""}]
["",{"$f":"IF('All Bill Data Entry'!A39=\"\",\"\",'All Bill Data Entry'!A39)","v":""},"","","",{"$f":"IF('LN-Line Data'!R34=\"\",\"\",'LN-Line Data'!R34)","v":""},"",{"$f":"IF('All Bill Data Entry'!O39=\"\",\"\",'All Bill Data Entry'!O39)","v":""},{"$f":"IF('All Bill Data Entry'!P39=\"\",\"\",'All Bill Data Entry'!P39)","v":""},{"$f":"IF('All Bill Data Entry'!Q39=\"\",\"\",'All Bill Data Entry'!Q39)","v":""},{"$f":"IF('All Bill Data Entry'!R39=\"\",\"\",'All Bill Data Entry'!R39)","v":""},{"$f":"IF('All Bill Data Entry'!S39=\"\",\"\",'All Bill Data Entry'!S39)","v":""},{"$f":"IF('All Bill Data Entry'!T39=\"\",\"\",'All Bill Data Entry'!T39)","v":""}]
["",{"$f":"IF('All Bill Data Entry'!A40=\"\",\"\",'All Bill Data Entry'!A40)","v":""},"","","",{"$f":"IF('LN-Line Data'!R35=\"\",\"\",'LN-Line Data'!R35)","v":""},"",{"$f":"IF('All Bill Data Entry'!O40=\"\",\"\",'All Bill Data Entry'!O40)","v":""},{"$f":"IF('All Bill Data Entry'!P40=\"\",\"\",'All Bill Data Entry'!P40)","v":""},{"$f":"IF('All Bill Data Entry'!Q40=\"\",\"\",'All Bill Data Entry'!Q40)","v":""},{"$f":"IF('All Bill Data Entry'!R40=\"\",\"\",'All Bill Data Entry'!R40)","v":""},{"$f":"IF('All Bill Data Entry'!S40=\"\",\"\",'All Bill Data Entry'!S40)","v":""},{"$f":"IF('All Bill Data Entry'!T40=\"\",\"\",'All Bill Data Entry'!T40)","v":""}]
["",{"$f":"IF('All Bill Data Entry'!A41=\"\",\"\",'All Bill Data Entry'!A41)","v":""},"","","",{"$f":"IF('LN-Line Data'!R36=\"\",\"\",'LN-Line Data'!R36)","v":""},"",{"$f":"IF('All Bill Data Entry'!O41=\"\",\"\",'All Bill Data Entry'!O41)","v":""},{"$f":"IF('All Bill Data Entry'!P41=\"\",\"\",'All Bill Data Entry'!P41)","v":""},{"$f":"IF('All Bill Data Entry'!Q41=\"\",\"\",'All Bill Data Entry'!Q41)","v":""},{"$f":"IF('All Bill Data Entry'!R41=\"\",\"\",'All Bill Data Entry'!R41)","v":""},{"$f":"IF('All Bill Data Entry'!S41=\"\",\"\",'All Bill Data Entry'!S41)","v":""},{"$f":"IF('All Bill Data Entry'!T41=\"\",\"\",'All Bill Data Entry'!T41)","v":""}]
["",{"$f":"IF('All Bill Data Entry'!A42=\"\",\"\",'All Bill Data Entry'!A42)","v":""},"","","",{"$f":"IF('LN-Line Data'!R37=\"\",\"\",'LN-Line Data'!R37)","v":""},"",{"$f":"IF('All Bill Data Entry'!O42=\"\",\"\",'All Bill Data Entry'!O42)","v":""},{"$f":"IF('All Bill Data Entry'!P42=\"\",\"\",'All Bill Data Entry'!P42)","v":""},{"$f":"IF('All Bill Data Entry'!Q42=\"\",\"\",'All Bill Data Entry'!Q42)","v":""},{"$f":"IF('All Bill Data Entry'!R42=\"\",\"\",'All Bill Data Entry'!R42)","v":""},{"$f":"IF('All Bill Data Entry'!S42=\"\",\"\",'All Bill Data Entry'!S42)","v":""},{"$f":"IF('All Bill Data Entry'!T42=\"\",\"\",'All Bill Data Entry'!T42)","v":""}]
["",{"$f":"IF('All Bill Data Entry'!A43=\"\",\"\",'All Bill Data Entry'!A43)","v":""},"","","",{"$f":"IF('LN-Line Data'!R38=\"\",\"\",'LN-Line Data'!R38)","v":""},"",{"$f":"IF('All Bill Data Entry'!O43=\"\",\"\",'All Bill Data Entry'!O43)","v":""},{"$f":"IF('All Bill Data Entry'!P43=\"\",\"\",'All Bill Data Entry'!P43)","v":""},{"$f":"IF('All Bill Data Entry'!Q43=\"\",\"\",'All Bill Data Entry'!Q43)","v":""},{"$f":"IF('All Bill Data Entry'!R43=\"\",\"\",'All Bill Data Entry'!R43)","v":""},{"$f":"IF('All Bill Data Entry'!S43=\"\",\"\",'All Bill Data Entry'!S43)","v":""},{"$f":"IF('All Bill Data Entry'!T43=\"\",\"\",'All Bill Data Entry'!T43)","v":""}]
["",{"$f":"IF('All Bill Data Entry'!A44=\"\",\"\",'All Bill Data Entry'!A44)","v":""},"","","",{"$f":"IF('LN-Line Data'!R39=\"\",\"\",'LN-Line Data'!R39)","v":""},"",{"$f":"IF('All Bill Data Entry'!O44=\"\",\"\",'All Bill Data Entry'!O44)","v":""},{"$f":"IF('All Bill Data Entry'!P44=\"\",\"\",'All Bill Data Entry'!P44)","v":""},{"$f":"IF('All Bill Data Entry'!Q44=\"\",\"\",'All Bill Data Entry'!Q44)","v":""},{"$f":"IF('All Bill Data Entry'!R44=\"\",\"\",'All Bill Data Entry'!R44)","v":""},{"$f":"IF('All Bill Data Entry'!S44=\"\",\"\",'All Bill Data Entry'!S44)","v":""},{"$f":"IF('All Bill Data Entry'!T44=\"\",\"\",'All Bill Data Entry'!T44)","v":""}]
["",{"$f":"IF('All Bill Data Entry'!A45=\"\",\"\",'All Bill Data Entry'!A45)","v":""},"","","",{"$f":"IF('LN-Line Data'!R40=\"\",\"\",'LN-Line Data'!R40)","v":""},"",{"$f":"IF('All Bill Data Entry'!O45=\"\",\"\",'All Bill Data Entry'!O45)","v":""},{"$f":"IF('All Bill Data Entry'!P45=\"\",\"\",'All Bill Data Entry'!P45)","v":""},{"$f":"IF('All Bill Data Entry'!Q45=\"\",\"\",'All Bill Data Entry'!Q45)","v":""},{"$f":"IF('All Bill Data Entry'!R45=\"\",\"\",'All Bill Data Entry'!R45)","v":""},{"$f":"IF('All Bill Data Entry'!S45=\"\",\"\",'All Bill Data Entry'!S45)","v":""},{"$f":"IF('All Bill Data Entry'!T45=\"\",\"\",'All Bill Data Entry'!T45)","v":""}]
["",{"$f":"IF('All Bill Data Entry'!A46=\"\",\"\",'All Bill Data Entry'!A46)","v":""},"","","",{"$f":"IF('LN-Line Data'!R41=\"\",\"\",'LN-Line Data'!R41)","v":""},"",{"$f":"IF('All Bill Data Entry'!O46=\"\",\"\",'All Bill Data Entry'!O46)","v":""},{"$f":"IF('All Bill Data Entry'!P46=\"\",\"\",'All Bill Data Entry'!P46)","v":""},{"$f":"IF('All Bill Data Entry'!Q46=\"\",\"\",'All Bill Data Entry'!Q46)","v":""},{"$f":"IF('All Bill Data Entry'!R46=\"\",\"\",'All Bill Data Entry'!R46)","v":""},{"$f":"IF('All Bill Data Entry'!S46=\"\",\"\",'All Bill Data Entry'!S46)","v":""},{"$f":"IF('All Bill Data Entry'!T46=\"\",\"\",'All Bill Data Entry'!T46)","v":""}]
["",{"$f":"IF('All Bill Data Entry'!A47=\"\",\"\",'All Bill Data Entry'!A47)","v":""},"","","",{"$f":"IF('LN-Line Data'!R42=\"\",\"\",'LN-Line Data'!R42)","v":""},"",{"$f":"IF('All Bill Data Entry'!O47=\"\",\"\",'All Bill Data Entry'!O47)","v":""},{"$f":"IF('All Bill Data Entry'!P47=\"\",\"\",'All Bill Data Entry'!P47)","v":""},{"$f":"IF('All Bill Data Entry'!Q47=\"\",\"\",'All Bill Data Entry'!Q47)","v":""},{"$f":"IF('All Bill Data Entry'!R47=\"\",\"\",'All Bill Data Entry'!R47)","v":""},{"$f":"IF('All Bill Data Entry'!S47=\"\",\"\",'All Bill Data Entry'!S47)","v":""},{"$f":"IF('All Bill Data Entry'!T47=\"\",\"\",'All Bill Data Entry'!T47)","v":""}]
["",{"$f":"IF('All Bill Data Entry'!A48=\"\",\"\",'All Bill Data Entry'!A48)","v":""},"","","",{"$f":"IF('LN-Line Data'!R43=\"\",\"\",'LN-Line Data'!R43)","v":""},"",{"$f":"IF('All Bill Data Entry'!O48=\"\",\"\",'All Bill Data Entry'!O48)","v":""},{"$f":"IF('All Bill Data Entry'!P48=\"\",\"\",'All Bill Data Entry'!P48)","v":""},{"$f":"IF('All Bill Data Entry'!Q48=\"\",\"\",'All Bill Data Entry'!Q48)","v":""},{"$f":"IF('All Bill Data Entry'!R48=\"\",\"\",'All Bill Data Entry'!R48)","v":""},{"$f":"IF('All Bill Data Entry'!S48=\"\",\"\",'All Bill Data Entry'!S48)","v":""},{"$f":"IF('All Bill Data Entry'!T48=\"\",\"\",'All Bill Data Entry'!T48)","v":""}]
["",{"$f":"IF('All Bill Data Entry'!A49=\"\",\"\",'All Bill Data Entry'!A49)","v":""},"","","",{"$f":"IF('LN-Line Data'!R44=\"\",\"\",'LN-Line Data'!R44)","v":""},"",{"$f":"IF('All Bill Data Entry'!O49=\"\",\"\",'All Bill Data Entry'!O49)","v":""},{"$f":"IF('All Bill Data Entry'!P49=\"\",\"\",'All Bill Data Entry'!P49)","v":""},{"$f":"IF('All Bill Data Entry'!Q49=\"\",\"\",'All Bill Data Entry'!Q49)","v":""},{"$f":"IF('All Bill Data Entry'!R49=\"\",\"\",'All Bill Data Entry'!R49)","v":""},{"$f":"IF('All Bill Data Entry'!S49=\"\",\"\",'All Bill Data Entry'!S49)","v":""},{"$f":"IF('All Bill Data Entry'!T49=\"\",\"\",'All Bill Data Entry'!T49)","v":""}]
["",{"$f":"IF('All Bill Data Entry'!A50=\"\",\"\",'All Bill Data Entry'!A50)","v":""},"","","",{"$f":"IF('LN-Line Data'!R45=\"\",\"\",'LN-Line Data'!R45)","v":""},"",{"$f":"IF('All Bill Data Entry'!O50=\"\",\"\",'All Bill Data Entry'!O50)","v":""},{"$f":"IF('All Bill Data Entry'!P50=\"\",\"\",'All Bill Data Entry'!P50)","v":""},{"$f":"IF('All Bill Data Entry'!Q50=\"\",\"\",'All Bill Data Entry'!Q50)","v":""},{"$f":"IF('All Bill Data Entry'!R50=\"\",\"\",'All Bill Data Entry'!R50)","v":""},{"$f":"IF('All Bill Data Entry'!S50=\"\",\"\",'All Bill Data Entry'!S50)","v":""},{"$f":"IF('All Bill Data Entry'!T50=\"\",\"\",'All Bill Data Entry'!T50)","v":""}]
["",{"$f":"IF('All Bill Data Entry'!A51=\"\",\"\",'All Bill Data Entry'!A51)","v":""},"","","",{"$f":"IF('LN-Line Data'!R46=\"\",\"\",'LN-Line Data'!R46)","v":""},"",{"$f":"IF('All Bill Data Entry'!O51=\"\",\"\",'All Bill Data Entry'!O51)","v":""},{"$f":"IF('All Bill Data Entry'!P51=\"\",\"\",'All Bill Data Entry'!P51)","v":""},{"$f":"IF('All Bill Data Entry'!Q51=\"\",\"\",'All Bill Data Entry'!Q51)","v":""},{"$f":"IF('All Bill Data Entry'!R51=\"\",\"\",'All Bill Data Entry'!R51)","v":""},{"$f":"IF('All Bill Data Entry'!S51=\"\",\"\",'All Bill Data Entry'!S51)","v":""},{"$f":"IF('All Bill Data Entry'!T51=\"\",\"\",'All Bill Data Entry'!T51)","v":""}]
["",{"$f":"IF('All Bill Data Entry'!A52=\"\",\"\",'All Bill Data Entry'!A52)","v":""},"","","",{"$f":"IF('LN-Line Data'!R47=\"\",\"\",'LN-Line Data'!R47)","v":""},"",{"$f":"IF('All Bill Data Entry'!O52=\"\",\"\",'All Bill Data Entry'!O52)","v":""},{"$f":"IF('All Bill Data Entry'!P52=\"\",\"\",'All Bill Data Entry'!P52)","v":""},{"$f":"IF('All Bill Data Entry'!Q52=\"\",\"\",'All Bill Data Entry'!Q52)","v":""},{"$f":"IF('All Bill Data Entry'!R52=\"\",\"\",'All Bill Data Entry'!R52)","v":""},{"$f":"IF('All Bill Data Entry'!S52=\"\",\"\",'All Bill Data Entry'!S52)","v":""},{"$f":"IF('All Bill Data Entry'!T52=\"\",\"\",'All Bill Data Entry'!T52)","v":""}]
["",{"$f":"IF('All Bill Data Entry'!A53=\"\",\"\",'All Bill Data Entry'!A53)","v":""},"","","",{"$f":"IF('LN-Line Data'!R48=\"\",\"\",'LN-Line Data'!R48)","v":""},"",{"$f":"IF('All Bill Data Entry'!O53=\"\",\"\",'All Bill Data Entry'!O53)","v":""},{"$f":"IF('All Bill Data Entry'!P53=\"\",\"\",'All Bill Data Entry'!P53)","v":""},{"$f":"IF('All Bill Data Entry'!Q53=\"\",\"\",'All Bill Data Entry'!Q53)","v":""},{"$f":"IF('All Bill Data Entry'!R53=\"\",\"\",'All Bill Data Entry'!R53)","v":""},{"$f":"IF('All Bill Data Entry'!S53=\"\",\"\",'All Bill Data Entry'!S53)","v":""},{"$f":"IF('All Bill Data Entry'!T53=\"\",\"\",'All Bill Data Entry'!T53)","v":""}]
["",{"$f":"IF('All Bill Data Entry'!A54=\"\",\"\",'All Bill Data Entry'!A54)","v":""},"","","",{"$f":"IF('LN-Line Data'!R49=\"\",\"\",'LN-Line Data'!R49)","v":""},"",{"$f":"IF('All Bill Data Entry'!O54=\"\",\"\",'All Bill Data Entry'!O54)","v":""},{"$f":"IF('All Bill Data Entry'!P54=\"\",\"\",'All Bill Data Entry'!P54)","v":""},{"$f":"IF('All Bill Data Entry'!Q54=\"\",\"\",'All Bill Data Entry'!Q54)","v":""},{"$f":"IF('All Bill Data Entry'!R54=\"\",\"\",'All Bill Data Entry'!R54)","v":""},{"$f":"IF('All Bill Data Entry'!S54=\"\",\"\",'All Bill Data Entry'!S54)","v":""},{"$f":"IF('All Bill Data Entry'!T54=\"\",\"\",'All Bill Data Entry'!T54)","v":""}]
["",{"$f":"IF('All Bill Data Entry'!A55=\"\",\"\",'All Bill Data Entry'!A55)","v":""},"","","",{"$f":"IF('LN-Line Data'!R50=\"\",\"\",'LN-Line Data'!R50)","v":""},"",{"$f":"IF('All Bill Data Entry'!O55=\"\",\"\",'All Bill Data Entry'!O55)","v":""},{"$f":"IF('All Bill Data Entry'!P55=\"\",\"\",'All Bill Data Entry'!P55)","v":""},{"$f":"IF('All Bill Data Entry'!Q55=\"\",\"\",'All Bill Data Entry'!Q55)","v":""},{"$f":"IF('All Bill Data Entry'!R55=\"\",\"\",'All Bill Data Entry'!R55)","v":""},{"$f":"IF('All Bill Data Entry'!S55=\"\",\"\",'All Bill Data Entry'!S55)","v":""},{"$f":"IF('All Bill Data Entry'!T55=\"\",\"\",'All Bill Data Entry'!T55)","v":""}]
["",{"$f":"IF('All Bill Data Entry'!A56=\"\",\"\",'All Bill Data Entry'!A56)","v":""},"","","",{"$f":"IF('LN-Line Data'!R51=\"\",\"\",'LN-Line Data'!R51)","v":""},"",{"$f":"IF('All Bill Data Entry'!O56=\"\",\"\",'All Bill Data Entry'!O56)","v":""},{"$f":"IF('All Bill Data Entry'!P56=\"\",\"\",'All Bill Data Entry'!P56)","v":""},{"$f":"IF('All Bill Data Entry'!Q56=\"\",\"\",'All Bill Data Entry'!Q56)","v":""},{"$f":"IF('All Bill Data Entry'!R56=\"\",\"\",'All Bill Data Entry'!R56)","v":""},{"$f":"IF('All Bill Data Entry'!S56=\"\",\"\",'All Bill Data Entry'!S56)","v":""},{"$f":"IF('All Bill Data Entry'!T56=\"\",\"\",'All Bill Data Entry'!T56)","v":""}]
["",{"$f":"IF('All Bill Data Entry'!A57=\"\",\"\",'All Bill Data Entry'!A57)","v":""},"","","",{"$f":"IF('LN-Line Data'!R52=\"\",\"\",'LN-Line Data'!R52)","v":""},"",{"$f":"IF('All Bill Data Entry'!O57=\"\",\"\",'All Bill Data Entry'!O57)","v":""},{"$f":"IF('All Bill Data Entry'!P57=\"\",\"\",'All Bill Data Entry'!P57)","v":""},{"$f":"IF('All Bill Data Entry'!Q57=\"\",\"\",'All Bill Data Entry'!Q57)","v":""},{"$f":"IF('All Bill Data Entry'!R57=\"\",\"\",'All Bill Data Entry'!R57)","v":""},{"$f":"IF('All Bill Data Entry'!S57=\"\",\"\",'All Bill Data Entry'!S57)","v":""},{"$f":"IF('All Bill Data Entry'!T57=\"\",\"\",'All Bill Data Entry'!T57)","v":""}]
["",{"$f":"IF('All Bill Data Entry'!A58=\"\",\"\",'All Bill Data Entry'!A58)","v":""},"","","",{"$f":"IF('LN-Line Data'!R53=\"\",\"\",'LN-Line Data'!R53)","v":""},"",{"$f":"IF('All Bill Data Entry'!O58=\"\",\"\",'All Bill Data Entry'!O58)","v":""},{"$f":"IF('All Bill Data Entry'!P58=\"\",\"\",'All Bill Data Entry'!P58)","v":""},{"$f":"IF('All Bill Data Entry'!Q58=\"\",\"\",'All Bill Data Entry'!Q58)","v":""},{"$f":"IF('All Bill Data Entry'!R58=\"\",\"\",'All Bill Data Entry'!R58)","v":""},{"$f":"IF('All Bill Data Entry'!S58=\"\",\"\",'All Bill Data Entry'!S58)","v":""},{"$f":"IF('All Bill Data Entry'!T58=\"\",\"\",'All Bill Data Entry'!T58)","v":""}]
["",{"$f":"IF('All Bill Data Entry'!A59=\"\",\"\",'All Bill Data Entry'!A59)","v":""},"","","",{"$f":"IF('LN-Line Data'!R54=\"\",\"\",'LN-Line Data'!R54)","v":""},"",{"$f":"IF('All Bill Data Entry'!O59=\"\",\"\",'All Bill Data Entry'!O59)","v":""},{"$f":"IF('All Bill Data Entry'!P59=\"\",\"\",'All Bill Data Entry'!P59)","v":""},{"$f":"IF('All Bill Data Entry'!Q59=\"\",\"\",'All Bill Data Entry'!Q59)","v":""},{"$f":"IF('All Bill Data Entry'!R59=\"\",\"\",'All Bill Data Entry'!R59)","v":""},{"$f":"IF('All Bill Data Entry'!S59=\"\",\"\",'All Bill Data Entry'!S59)","v":""},{"$f":"IF('All Bill Data Entry'!T59=\"\",\"\",'All Bill Data Entry'!T59)","v":""}]
["",{"$f":"IF('All Bill Data Entry'!A60=\"\",\"\",'All Bill Data Entry'!A60)","v":""},"","","",{"$f":"IF('LN-Line Data'!R55=\"\",\"\",'LN-Line Data'!R55)","v":""},"",{"$f":"IF('All Bill Data Entry'!O60=\"\",\"\",'All Bill Data Entry'!O60)","v":""},{"$f":"IF('All Bill Data Entry'!P60=\"\",\"\",'All Bill Data Entry'!P60)","v":""},{"$f":"IF('All Bill Data Entry'!Q60=\"\",\"\",'All Bill Data Entry'!Q60)","v":""},{"$f":"IF('All Bill Data Entry'!R60=\"\",\"\",'All Bill Data Entry'!R60)","v":""},{"$f":"IF('All Bill Data Entry'!S60=\"\",\"\",'All Bill Data Entry'!S60)","v":""},{"$f":"IF('All Bill Data Entry'!T60=\"\",\"\",'All Bill Data Entry'!T60)","v":""}]
["",{"$f":"IF('All Bill Data Entry'!A61=\"\",\"\",'All Bill Data Entry'!A61)","v":""},"","","",{"$f":"IF('LN-Line Data'!R56=\"\",\"\",'LN-Line Data'!R56)","v":""},"",{"$f":"IF('All Bill Data Entry'!O61=\"\",\"\",'All Bill Data Entry'!O61)","v":""},{"$f":"IF('All Bill Data Entry'!P61=\"\",\"\",'All Bill Data Entry'!P61)","v":""},{"$f":"IF('All Bill Data Entry'!Q61=\"\",\"\",'All Bill Data Entry'!Q61)","v":""},{"$f":"IF('All Bill Data Entry'!R61=\"\",\"\",'All Bill Data Entry'!R61)","v":""},{"$f":"IF('All Bill Data Entry'!S61=\"\",\"\",'All Bill Data Entry'!S61)","v":""},{"$f":"IF('All Bill Data Entry'!T61=\"\",\"\",'All Bill Data Entry'!T61)","v":""}]
["",{"$f":"IF('All Bill Data Entry'!A62=\"\",\"\",'All Bill Data Entry'!A62)","v":""},"","","",{"$f":"IF('LN-Line Data'!R57=\"\",\"\",'LN-Line Data'!R57)","v":""},"",{"$f":"IF('All Bill Data Entry'!O62=\"\",\"\",'All Bill Data Entry'!O62)","v":""},{"$f":"IF('All Bill Data Entry'!P62=\"\",\"\",'All Bill Data Entry'!P62)","v":""},{"$f":"IF('All Bill Data Entry'!Q62=\"\",\"\",'All Bill Data Entry'!Q62)","v":""},{"$f":"IF('All Bill Data Entry'!R62=\"\",\"\",'All Bill Data Entry'!R62)","v":""},{"$f":"IF('All Bill Data Entry'!S62=\"\",\"\",'All Bill Data Entry'!S62)","v":""},{"$f":"IF('All Bill Data Entry'!T62=\"\",\"\",'All Bill Data Entry'!T62)","v":""}]
["",{"$f":"IF('All Bill Data Entry'!A63=\"\",\"\",'All Bill Data Entry'!A63)","v":""},"","","",{"$f":"IF('LN-Line Data'!R58=\"\",\"\",'LN-Line Data'!R58)","v":""},"",{"$f":"IF('All Bill Data Entry'!O63=\"\",\"\",'All Bill Data Entry'!O63)","v":""},{"$f":"IF('All Bill Data Entry'!P63=\"\",\"\",'All Bill Data Entry'!P63)","v":""},{"$f":"IF('All Bill Data Entry'!Q63=\"\",\"\",'All Bill Data Entry'!Q63)","v":""},{"$f":"IF('All Bill Data Entry'!R63=\"\",\"\",'All Bill Data Entry'!R63)","v":""},{"$f":"IF('All Bill Data Entry'!S63=\"\",\"\",'All Bill Data Entry'!S63)","v":""},{"$f":"IF('All Bill Data Entry'!T63=\"\",\"\",'All Bill Data Entry'!T63)","v":""}]
["",{"$f":"IF('All Bill Data Entry'!A64=\"\",\"\",'All Bill Data Entry'!A64)","v":""},"","","",{"$f":"IF('LN-Line Data'!R59=\"\",\"\",'LN-Line Data'!R59)","v":""},"",{"$f":"IF('All Bill Data Entry'!O64=\"\",\"\",'All Bill Data Entry'!O64)","v":""},{"$f":"IF('All Bill Data Entry'!P64=\"\",\"\",'All Bill Data Entry'!P64)","v":""},{"$f":"IF('All Bill Data Entry'!Q64=\"\",\"\",'All Bill Data Entry'!Q64)","v":""},{"$f":"IF('All Bill Data Entry'!R64=\"\",\"\",'All Bill Data Entry'!R64)","v":""},{"$f":"IF('All Bill Data Entry'!S64=\"\",\"\",'All Bill Data Entry'!S64)","v":""},{"$f":"IF('All Bill Data Entry'!T64=\"\",\"\",'All Bill Data Entry'!T64)","v":""}]
["",{"$f":"IF('All Bill Data Entry'!A65=\"\",\"\",'All Bill Data Entry'!A65)","v":""},"","","",{"$f":"IF('LN-Line Data'!R60=\"\",\"\",'LN-Line Data'!R60)","v":""},"",{"$f":"IF('All Bill Data Entry'!O65=\"\",\"\",'All Bill Data Entry'!O65)","v":""},{"$f":"IF('All Bill Data Entry'!P65=\"\",\"\",'All Bill Data Entry'!P65)","v":""},{"$f":"IF('All Bill Data Entry'!Q65=\"\",\"\",'All Bill Data Entry'!Q65)","v":""},{"$f":"IF('All Bill Data Entry'!R65=\"\",\"\",'All Bill Data Entry'!R65)","v":""},{"$f":"IF('All Bill Data Entry'!S65=\"\",\"\",'All Bill Data Entry'!S65)","v":""},{"$f":"IF('All Bill Data Entry'!T65=\"\",\"\",'All Bill Data Entry'!T65)","v":""}]
["",{"$f":"IF('All Bill Data Entry'!A66=\"\",\"\",'All Bill Data Entry'!A66)","v":""},"","","",{"$f":"IF('LN-Line Data'!R61=\"\",\"\",'LN-Line Data'!R61)","v":""},"",{"$f":"IF('All Bill Data Entry'!O66=\"\",\"\",'All Bill Data Entry'!O66)","v":""},{"$f":"IF('All Bill Data Entry'!P66=\"\",\"\",'All Bill Data Entry'!P66)","v":""},{"$f":"IF('All Bill Data Entry'!Q66=\"\",\"\",'All Bill Data Entry'!Q66)","v":""},{"$f":"IF('All Bill Data Entry'!R66=\"\",\"\",'All Bill Data Entry'!R66)","v":""},{"$f":"IF('All Bill Data Entry'!S66=\"\",\"\",'All Bill Data Entry'!S66)","v":""},{"$f":"IF('All Bill Data Entry'!T66=\"\",\"\",'All Bill Data Entry'!T66)","v":""}]
["",{"$f":"IF('All Bill Data Entry'!A67=\"\",\"\",'All Bill Data Entry'!A67)","v":""},"","","",{"$f":"IF('LN-Line Data'!R62=\"\",\"\",'LN-Line Data'!R62)","v":""},"",{"$f":"IF('All Bill Data Entry'!O67=\"\",\"\",'All Bill Data Entry'!O67)","v":""},{"$f":"IF('All Bill Data Entry'!P67=\"\",\"\",'All Bill Data Entry'!P67)","v":""},{"$f":"IF('All Bill Data Entry'!Q67=\"\",\"\",'All Bill Data Entry'!Q67)","v":""},{"$f":"IF('All Bill Data Entry'!R67=\"\",\"\",'All Bill Data Entry'!R67)","v":""},{"$f":"IF('All Bill Data Entry'!S67=\"\",\"\",'All Bill Data Entry'!S67)","v":""},{"$f":"IF('All Bill Data Entry'!T67=\"\",\"\",'All Bill Data Entry'!T67)","v":""}]
["",{"$f":"IF('All Bill Data Entry'!A68=\"\",\"\",'All Bill Data Entry'!A68)","v":""},"","","",{"$f":"IF('LN-Line Data'!R63=\"\",\"\",'LN-Line Data'!R63)","v":""},"",{"$f":"IF('All Bill Data Entry'!O68=\"\",\"\",'All Bill Data Entry'!O68)","v":""},{"$f":"IF('All Bill Data Entry'!P68=\"\",\"\",'All Bill Data Entry'!P68)","v":""},{"$f":"IF('All Bill Data Entry'!Q68=\"\",\"\",'All Bill Data Entry'!Q68)","v":""},{"$f":"IF('All Bill Data Entry'!R68=\"\",\"\",'All Bill Data Entry'!R68)","v":""},{"$f":"IF('All Bill Data Entry'!S68=\"\",\"\",'All Bill Data Entry'!S68)","v":""},{"$f":"IF('All Bill Data Entry'!T68=\"\",\"\",'All Bill Data Entry'!T68)","v":""}]
["",{"$f":"IF('All Bill Data Entry'!A69=\"\",\"\",'All Bill Data Entry'!A69)","v":""},"","","",{"$f":"IF('LN-Line Data'!R64=\"\",\"\",'LN-Line Data'!R64)","v":""},"",{"$f":"IF('All Bill Data Entry'!O69=\"\",\"\",'All Bill Data Entry'!O69)","v":""},{"$f":"IF('All Bill Data Entry'!P69=\"\",\"\",'All Bill Data Entry'!P69)","v":""},{"$f":"IF('All Bill Data Entry'!Q69=\"\",\"\",'All Bill Data Entry'!Q69)","v":""},{"$f":"IF('All Bill Data Entry'!R69=\"\",\"\",'All Bill Data Entry'!R69)","v":""},{"$f":"IF('All Bill Data Entry'!S69=\"\",\"\",'All Bill Data Entry'!S69)","v":""},{"$f":"IF('All Bill Data Entry'!T69=\"\",\"\",'All Bill Data Entry'!T69)","v":""}]
["",{"$f":"IF('All Bill Data Entry'!A70=\"\",\"\",'All Bill Data Entry'!A70)","v":""},"","","",{"$f":"IF('LN-Line Data'!R65=\"\",\"\",'LN-Line Data'!R65)","v":""},"",{"$f":"IF('All Bill Data Entry'!O70=\"\",\"\",'All Bill Data Entry'!O70)","v":""},{"$f":"IF('All Bill Data Entry'!P70=\"\",\"\",'All Bill Data Entry'!P70)","v":""},{"$f":"IF('All Bill Data Entry'!Q70=\"\",\"\",'All Bill Data Entry'!Q70)","v":""},{"$f":"IF('All Bill Data Entry'!R70=\"\",\"\",'All Bill Data Entry'!R70)","v":""},{"$f":"IF('All Bill Data Entry'!S70=\"\",\"\",'All Bill Data Entry'!S70)","v":""},{"$f":"IF('All Bill Data Entry'!T70=\"\",\"\",'All Bill Data Entry'!T70)","v":""}]
["",{"$f":"IF('All Bill Data Entry'!A71=\"\",\"\",'All Bill Data Entry'!A71)","v":""},"","","",{"$f":"IF('LN-Line Data'!R66=\"\",\"\",'LN-Line Data'!R66)","v":""},"",{"$f":"IF('All Bill Data Entry'!O71=\"\",\"\",'All Bill Data Entry'!O71)","v":""},{"$f":"IF('All Bill Data Entry'!P71=\"\",\"\",'All Bill Data Entry'!P71)","v":""},{"$f":"IF('All Bill Data Entry'!Q71=\"\",\"\",'All Bill Data Entry'!Q71)","v":""},{"$f":"IF('All Bill Data Entry'!R71=\"\",\"\",'All Bill Data Entry'!R71)","v":""},{"$f":"IF('All Bill Data Entry'!S71=\"\",\"\",'All Bill Data Entry'!S71)","v":""},{"$f":"IF('All Bill Data Entry'!T71=\"\",\"\",'All Bill Data Entry'!T71)","v":""}]
["",{"$f":"IF('All Bill Data Entry'!A72=\"\",\"\",'All Bill Data Entry'!A72)","v":""},{"$f":"IF($B67=\"\",\"\",\"AE\")","v":""},{"$f":"IF($B67=\"\",\"\",\"RR\")","v":""},{"$f":"IF($B67=\"\",\"\",\"AUX01\")","v":""},{"$f":"IF('LN-Line Data'!R67=\"\",\"\",'LN-Line Data'!R67)","v":""},{"$f":"IF($B67=\"\",\"\",100)","v":""},{"$f":"IF('All Bill Data Entry'!O72=\"\",\"\",'All Bill Data Entry'!O72)","v":""},{"$f":"IF('All Bill Data Entry'!P72=\"\",\"\",'All Bill Data Entry'!P72)","v":""},{"$f":"IF('All Bill Data Entry'!Q72=\"\",\"\",'All Bill Data Entry'!Q72)","v":""},{"$f":"IF('All Bill Data Entry'!R72=\"\",\"\",'All Bill Data Entry'!R72)","v":""},{"$f":"IF('All Bill Data Entry'!S72=\"\",\"\",'All Bill Data Entry'!S72)","v":""},{"$f":"IF('All Bill Data Entry'!T72=\"\",\"\",'All Bill Data Entry'!T72)","v":""}]
["",{"$f":"IF('All Bill Data Entry'!A73=\"\",\"\",'All Bill Data Entry'!A73)","v":""},"","","",{"$f":"IF('LN-Line Data'!R68=\"\",\"\",'LN-Line Data'!R68)","v":""},"",{"$f":"IF('All Bill Data Entry'!O73=\"\",\"\",'All Bill Data Entry'!O73)","v":""},{"$f":"IF('All Bill Data Entry'!P73=\"\",\"\",'All Bill Data Entry'!P73)","v":""},{"$f":"IF('All Bill Data Entry'!Q73=\"\",\"\",'All Bill Data Entry'!Q73)","v":""},{"$f":"IF('All Bill Data Entry'!R73=\"\",\"\",'All Bill Data Entry'!R73)","v":""},{"$f":"IF('All Bill Data Entry'!S73=\"\",\"\",'All Bill Data Entry'!S73)","v":""},{"$f":"IF('All Bill Data Entry'!T73=\"\",\"\",'All Bill Data Entry'!T73)","v":""}]
["",{"$f":"IF('All Bill Data Entry'!A74=\"\",\"\",'All Bill Data Entry'!A74)","v":""},"","","",{"$f":"IF('LN-Line Data'!R69=\"\",\"\",'LN-Line Data'!R69)","v":""},"",{"$f":"IF('All Bill Data Entry'!O74=\"\",\"\",'All Bill Data Entry'!O74)","v":""},{"$f":"IF('All Bill Data Entry'!P74=\"\",\"\",'All Bill Data Entry'!P74)","v":""},{"$f":"IF('All Bill Data Entry'!Q74=\"\",\"\",'All Bill Data Entry'!Q74)","v":""},{"$f":"IF('All Bill Data Entry'!R74=\"\",\"\",'All Bill Data Entry'!R74)","v":""},{"$f":"IF('All Bill Data Entry'!S74=\"\",\"\",'All Bill Data Entry'!S74)","v":""},{"$f":"IF('All Bill Data Entry'!T74=\"\",\"\",'All Bill Data Entry'!T74)","v":""}]
["",{"$f":"IF('All Bill Data Entry'!A75=\"\",\"\",'All Bill Data Entry'!A75)","v":""},"","","",{"$f":"IF('LN-Line Data'!R70=\"\",\"\",'LN-Line Data'!R70)","v":""},"",{"$f":"IF('All Bill Data Entry'!O75=\"\",\"\",'All Bill Data Entry'!O75)","v":""},{"$f":"IF('All Bill Data Entry'!P75=\"\",\"\",'All Bill Data Entry'!P75)","v":""},{"$f":"IF('All Bill Data Entry'!Q75=\"\",\"\",'All Bill Data Entry'!Q75)","v":""},{"$f":"IF('All Bill Data Entry'!R75=\"\",\"\",'All Bill Data Entry'!R75)","v":""},{"$f":"IF('All Bill Data Entry'!S75=\"\",\"\",'All Bill Data Entry'!S75)","v":""},{"$f":"IF('All Bill Data Entry'!T75=\"\",\"\",'All Bill Data Entry'!T75)","v":""}]
["",{"$f":"IF('All Bill Data Entry'!A76=\"\",\"\",'All Bill Data Entry'!A76)","v":""},"","","",{"$f":"IF('LN-Line Data'!R71=\"\",\"\",'LN-Line Data'!R71)","v":""},"",{"$f":"IF('All Bill Data Entry'!O76=\"\",\"\",'All Bill Data Entry'!O76)","v":""},{"$f":"IF('All Bill Data Entry'!P76=\"\",\"\",'All Bill Data Entry'!P76)","v":""},{"$f":"IF('All Bill Data Entry'!Q76=\"\",\"\",'All Bill Data Entry'!Q76)","v":""},{"$f":"IF('All Bill Data Entry'!R76=\"\",\"\",'All Bill Data Entry'!R76)","v":""},{"$f":"IF('All Bill Data Entry'!S76=\"\",\"\",'All Bill Data Entry'!S76)","v":""},{"$f":"IF('All Bill Data Entry'!T76=\"\",\"\",'All Bill Data Entry'!T76)","v":""}]
["",{"$f":"IF('All Bill Data Entry'!A77=\"\",\"\",'All Bill Data Entry'!A77)","v":""},"","","",{"$f":"IF('LN-Line Data'!R72=\"\",\"\",'LN-Line Data'!R72)","v":""},"",{"$f":"IF('All Bill Data Entry'!O77=\"\",\"\",'All Bill Data Entry'!O77)","v":""},{"$f":"IF('All Bill Data Entry'!P77=\"\",\"\",'All Bill Data Entry'!P77)","v":""},{"$f":"IF('All Bill Data Entry'!Q77=\"\",\"\",'All Bill Data Entry'!Q77)","v":""},{"$f":"IF('All Bill Data Entry'!R77=\"\",\"\",'All Bill Data Entry'!R77)","v":""},{"$f":"IF('All Bill Data Entry'!S77=\"\",\"\",'All Bill Data Entry'!S77)","v":""},{"$f":"IF('All Bill Data Entry'!T77=\"\",\"\",'All Bill Data Entry'!T77)","v":""}]
["",{"$f":"IF('All Bill Data Entry'!A78=\"\",\"\",'All Bill Data Entry'!A78)","v":""},"","","",{"$f":"IF('LN-Line Data'!R73=\"\",\"\",'LN-Line Data'!R73)","v":""},"",{"$f":"IF('All Bill Data Entry'!O78=\"\",\"\",'All Bill Data Entry'!O78)","v":""},{"$f":"IF('All Bill Data Entry'!P78=\"\",\"\",'All Bill Data Entry'!P78)","v":""},{"$f":"IF('All Bill Data Entry'!Q78=\"\",\"\",'All Bill Data Entry'!Q78)","v":""},{"$f":"IF('All Bill Data Entry'!R78=\"\",\"\",'All Bill Data Entry'!R78)","v":""},{"$f":"IF('All Bill Data Entry'!S78=\"\",\"\",'All Bill Data Entry'!S78)","v":""},{"$f":"IF('All Bill Data Entry'!T78=\"\",\"\",'All Bill Data Entry'!T78)","v":""}]
[{"$f":"IF(B74=\"\",\"\",\"A\")","v":""},{"$f":"IF('All Bill Data Entry'!A79=\"\",\"\",'All Bill Data Entry'!A79)","v":""},"","","",{"$f":"IF('LN-Line Data'!R74=\"\",\"\",'LN-Line Data'!R74)","v":""},"",{"$f":"IF('All Bill Data Entry'!O79=\"\",\"\",'All Bill Data Entry'!O79)","v":""},{"$f":"IF('All Bill Data Entry'!P79=\"\",\"\",'All Bill Data Entry'!P79)","v":""},{"$f":"IF('All Bill Data Entry'!Q79=\"\",\"\",'All Bill Data Entry'!Q79)","v":""},{"$f":"IF('All Bill Data Entry'!R79=\"\",\"\",'All Bill Data Entry'!R79)","v":""},{"$f":"IF('All Bill Data Entry'!S79=\"\",\"\",'All Bill Data Entry'!S79)","v":""},{"$f":"IF('All Bill Data Entry'!T79=\"\",\"\",'All Bill Data Entry'!T79)","v":""}]
["",{"$f":"IF('All Bill Data Entry'!A80=\"\",\"\",'All Bill Data Entry'!A80)","v":""},"","","",{"$f":"IF('LN-Line Data'!R75=\"\",\"\",'LN-Line Data'!R75)","v":""},"",{"$f":"IF('All Bill Data Entry'!O80=\"\",\"\",'All Bill Data Entry'!O80)","v":""},{"$f":"IF('All Bill Data Entry'!P80=\"\",\"\",'All Bill Data Entry'!P80)","v":""},{"$f":"IF('All Bill Data Entry'!Q80=\"\",\"\",'All Bill Data Entry'!Q80)","v":""},{"$f":"IF('All Bill Data Entry'!R80=\"\",\"\",'All Bill Data Entry'!R80)","v":""},{"$f":"IF('All Bill Data Entry'!S80=\"\",\"\",'All Bill Data Entry'!S80)","v":""},{"$f":"IF('All Bill Data Entry'!T80=\"\",\"\",'All Bill Data Entry'!T80)","v":""}]
["",{"$f":"IF('All Bill Data Entry'!A81=\"\",\"\",'All Bill Data Entry'!A81)","v":""},"","","",{"$f":"IF('LN-Line Data'!R76=\"\",\"\",'LN-Line Data'!R76)","v":""},"",{"$f":"IF('All Bill Data Entry'!O81=\"\",\"\",'All Bill Data Entry'!O81)","v":""},{"$f":"IF('All Bill Data Entry'!P81=\"\",\"\",'All Bill Data Entry'!P81)","v":""},{"$f":"IF('All Bill Data Entry'!Q81=\"\",\"\",'All Bill Data Entry'!Q81)","v":""},{"$f":"IF('All Bill Data Entry'!R81=\"\",\"\",'All Bill Data Entry'!R81)","v":""},{"$f":"IF('All Bill Data Entry'!S81=\"\",\"\",'All Bill Data Entry'!S81)","v":""},{"$f":"IF('All Bill Data Entry'!T81=\"\",\"\",'All Bill Data Entry'!T81)","v":""}]
["",{"$f":"IF('All Bill Data Entry'!A82=\"\",\"\",'All Bill Data Entry'!A82)","v":""},"","","",{"$f":"IF('LN-Line Data'!R77=\"\",\"\",'LN-Line Data'!R77)","v":""},"",{"$f":"IF('All Bill Data Entry'!O82=\"\",\"\",'All Bill Data Entry'!O82)","v":""},{"$f":"IF('All Bill Data Entry'!P82=\"\",\"\",'All Bill Data Entry'!P82)","v":""},{"$f":"IF('All Bill Data Entry'!Q82=\"\",\"\",'All Bill Data Entry'!Q82)","v":""},{"$f":"IF('All Bill Data Entry'!R82=\"\",\"\",'All Bill Data Entry'!R82)","v":""},{"$f":"IF('All Bill Data Entry'!S82=\"\",\"\",'All Bill Data Entry'!S82)","v":""},{"$f":"IF('All Bill Data Entry'!T82=\"\",\"\",'All Bill Data Entry'!T82)","v":""}]
["",{"$f":"IF('All Bill Data Entry'!A83=\"\",\"\",'All Bill Data Entry'!A83)","v":""},"","","",{"$f":"IF('LN-Line Data'!R78=\"\",\"\",'LN-Line Data'!R78)","v":""},"",{"$f":"IF('All Bill Data Entry'!O83=\"\",\"\",'All Bill Data Entry'!O83)","v":""},{"$f":"IF('All Bill Data Entry'!P83=\"\",\"\",'All Bill Data Entry'!P83)","v":""},{"$f":"IF('All Bill Data Entry'!Q83=\"\",\"\",'All Bill Data Entry'!Q83)","v":""},{"$f":"IF('All Bill Data Entry'!R83=\"\",\"\",'All Bill Data Entry'!R83)","v":""},{"$f":"IF('All Bill Data Entry'!S83=\"\",\"\",'All Bill Data Entry'!S83)","v":""},{"$f":"IF('All Bill Data Entry'!T83=\"\",\"\",'All Bill Data Entry'!T83)","v":""}]
["",{"$f":"IF('All Bill Data Entry'!A84=\"\",\"\",'All Bill Data Entry'!A84)","v":""},"","","",{"$f":"IF('LN-Line Data'!R79=\"\",\"\",'LN-Line Data'!R79)","v":""},"",{"$f":"IF('All Bill Data Entry'!O84=\"\",\"\",'All Bill Data Entry'!O84)","v":""},{"$f":"IF('All Bill Data Entry'!P84=\"\",\"\",'All Bill Data Entry'!P84)","v":""},{"$f":"IF('All Bill Data Entry'!Q84=\"\",\"\",'All Bill Data Entry'!Q84)","v":""},{"$f":"IF('All Bill Data Entry'!R84=\"\",\"\",'All Bill Data Entry'!R84)","v":""},{"$f":"IF('All Bill Data Entry'!S84=\"\",\"\",'All Bill Data Entry'!S84)","v":""},{"$f":"IF('All Bill Data Entry'!T84=\"\",\"\",'All Bill Data Entry'!T84)","v":""}]
["",{"$f":"IF('All Bill Data Entry'!A85=\"\",\"\",'All Bill Data Entry'!A85)","v":""},"","","",{"$f":"IF('LN-Line Data'!R80=\"\",\"\",'LN-Line Data'!R80)","v":""},"",{"$f":"IF('All Bill Data Entry'!O85=\"\",\"\",'All Bill Data Entry'!O85)","v":""},{"$f":"IF('All Bill Data Entry'!P85=\"\",\"\",'All Bill Data Entry'!P85)","v":""},{"$f":"IF('All Bill Data Entry'!Q85=\"\",\"\",'All Bill Data Entry'!Q85)","v":""},{"$f":"IF('All Bill Data Entry'!R85=\"\",\"\",'All Bill Data Entry'!R85)","v":""},{"$f":"IF('All Bill Data Entry'!S85=\"\",\"\",'All Bill Data Entry'!S85)","v":""},{"$f":"IF('All Bill Data Entry'!T85=\"\",\"\",'All Bill Data Entry'!T85)","v":""}]
["",{"$f":"IF('All Bill Data Entry'!A86=\"\",\"\",'All Bill Data Entry'!A86)","v":""},"","","",{"$f":"IF('LN-Line Data'!R81=\"\",\"\",'LN-Line Data'!R81)","v":""},"",{"$f":"IF('All Bill Data Entry'!O86=\"\",\"\",'All Bill Data Entry'!O86)","v":""},{"$f":"IF('All Bill Data Entry'!P86=\"\",\"\",'All Bill Data Entry'!P86)","v":""},{"$f":"IF('All Bill Data Entry'!Q86=\"\",\"\",'All Bill Data Entry'!Q86)","v":""},{"$f":"IF('All Bill Data Entry'!R86=\"\",\"\",'All Bill Data Entry'!R86)","v":""},{"$f":"IF('All Bill Data Entry'!S86=\"\",\"\",'All Bill Data Entry'!S86)","v":""},{"$f":"IF('All Bill Data Entry'!T86=\"\",\"\",'All Bill Data Entry'!T86)","v":""}]
["",{"$f":"IF('All Bill Data Entry'!A87=\"\",\"\",'All Bill Data Entry'!A87)","v":""},"","","",{"$f":"IF('LN-Line Data'!R82=\"\",\"\",'LN-Line Data'!R82)","v":""},"",{"$f":"IF('All Bill Data Entry'!O87=\"\",\"\",'All Bill Data Entry'!O87)","v":""},{"$f":"IF('All Bill Data Entry'!P87=\"\",\"\",'All Bill Data Entry'!P87)","v":""},{"$f":"IF('All Bill Data Entry'!Q87=\"\",\"\",'All Bill Data Entry'!Q87)","v":""},{"$f":"IF('All Bill Data Entry'!R87=\"\",\"\",'All Bill Data Entry'!R87)","v":""},{"$f":"IF('All Bill Data Entry'!S87=\"\",\"\",'All Bill Data Entry'!S87)","v":""},{"$f":"IF('All Bill Data Entry'!T87=\"\",\"\",'All Bill Data Entry'!T87)","v":""}]
["",{"$f":"IF('All Bill Data Entry'!A88=\"\",\"\",'All Bill Data Entry'!A88)","v":""},"","","",{"$f":"IF('LN-Line Data'!R83=\"\",\"\",'LN-Line Data'!R83)","v":""},"",{"$f":"IF('All Bill Data Entry'!O88=\"\",\"\",'All Bill Data Entry'!O88)","v":""},{"$f":"IF('All Bill Data Entry'!P88=\"\",\"\",'All Bill Data Entry'!P88)","v":""},{"$f":"IF('All Bill Data Entry'!Q88=\"\",\"\",'All Bill Data Entry'!Q88)","v":""},{"$f":"IF('All Bill Data Entry'!R88=\"\",\"\",'All Bill Data Entry'!R88)","v":""},{"$f":"IF('All Bill Data Entry'!S88=\"\",\"\",'All Bill Data Entry'!S88)","v":""},{"$f":"IF('All Bill Data Entry'!T88=\"\",\"\",'All Bill Data Entry'!T88)","v":""}]
["",{"$f":"IF('All Bill Data Entry'!A89=\"\",\"\",'All Bill Data Entry'!A89)","v":""},"","","",{"$f":"IF('LN-Line Data'!R84=\"\",\"\",'LN-Line Data'!R84)","v":""},"",{"$f":"IF('All Bill Data Entry'!O89=\"\",\"\",'All Bill Data Entry'!O89)","v":""},{"$f":"IF('All Bill Data Entry'!P89=\"\",\"\",'All Bill Data Entry'!P89)","v":""},{"$f":"IF('All Bill Data Entry'!Q89=\"\",\"\",'All Bill Data Entry'!Q89)","v":""},{"$f":"IF('All Bill Data Entry'!R89=\"\",\"\",'All Bill Data Entry'!R89)","v":""},{"$f":"IF('All Bill Data Entry'!S89=\"\",\"\",'All Bill Data Entry'!S89)","v":""},{"$f":"IF('All Bill Data Entry'!T89=\"\",\"\",'All Bill Data Entry'!T89)","v":""}]
["",{"$f":"IF('All Bill Data Entry'!A90=\"\",\"\",'All Bill Data Entry'!A90)","v":""},"","","",{"$f":"IF('LN-Line Data'!R85=\"\",\"\",'LN-Line Data'!R85)","v":""},"",{"$f":"IF('All Bill Data Entry'!O90=\"\",\"\",'All Bill Data Entry'!O90)","v":""},{"$f":"IF('All Bill Data Entry'!P90=\"\",\"\",'All Bill Data Entry'!P90)","v":""},{"$f":"IF('All Bill Data Entry'!Q90=\"\",\"\",'All Bill Data Entry'!Q90)","v":""},{"$f":"IF('All Bill Data Entry'!R90=\"\",\"\",'All Bill Data Entry'!R90)","v":""},{"$f":"IF('All Bill Data Entry'!S90=\"\",\"\",'All Bill Data Entry'!S90)","v":""},{"$f":"IF('All Bill Data Entry'!T90=\"\",\"\",'All Bill Data Entry'!T90)","v":""}]
["",{"$f":"IF('All Bill Data Entry'!A91=\"\",\"\",'All Bill Data Entry'!A91)","v":""},"","","",{"$f":"IF('LN-Line Data'!R86=\"\",\"\",'LN-Line Data'!R86)","v":""},"",{"$f":"IF('All Bill Data Entry'!O91=\"\",\"\",'All Bill Data Entry'!O91)","v":""},{"$f":"IF('All Bill Data Entry'!P91=\"\",\"\",'All Bill Data Entry'!P91)","v":""},{"$f":"IF('All Bill Data Entry'!Q91=\"\",\"\",'All Bill Data Entry'!Q91)","v":""},{"$f":"IF('All Bill Data Entry'!R91=\"\",\"\",'All Bill Data Entry'!R91)","v":""},{"$f":"IF('All Bill Data Entry'!S91=\"\",\"\",'All Bill Data Entry'!S91)","v":""},{"$f":"IF('All Bill Data Entry'!T91=\"\",\"\",'All Bill Data Entry'!T91)","v":""}]
["",{"$f":"IF('All Bill Data Entry'!A92=\"\",\"\",'All Bill Data Entry'!A92)","v":""},"","","",{"$f":"IF('LN-Line Data'!R87=\"\",\"\",'LN-Line Data'!R87)","v":""},"",{"$f":"IF('All Bill Data Entry'!O92=\"\",\"\",'All Bill Data Entry'!O92)","v":""},{"$f":"IF('All Bill Data Entry'!P92=\"\",\"\",'All Bill Data Entry'!P92)","v":""},{"$f":"IF('All Bill Data Entry'!Q92=\"\",\"\",'All Bill Data Entry'!Q92)","v":""},{"$f":"IF('All Bill Data Entry'!R92=\"\",\"\",'All Bill Data Entry'!R92)","v":""},{"$f":"IF('All Bill Data Entry'!S92=\"\",\"\",'All Bill Data Entry'!S92)","v":""},{"$f":"IF('All Bill Data Entry'!T92=\"\",\"\",'All Bill Data Entry'!T92)","v":""}]
["",{"$f":"IF('All Bill Data Entry'!A93=\"\",\"\",'All Bill Data Entry'!A93)","v":""},"","","",{"$f":"IF('LN-Line Data'!R88=\"\",\"\",'LN-Line Data'!R88)","v":""},"",{"$f":"IF('All Bill Data Entry'!O93=\"\",\"\",'All Bill Data Entry'!O93)","v":""},{"$f":"IF('All Bill Data Entry'!P93=\"\",\"\",'All Bill Data Entry'!P93)","v":""},{"$f":"IF('All Bill Data Entry'!Q93=\"\",\"\",'All Bill Data Entry'!Q93)","v":""},{"$f":"IF('All Bill Data Entry'!R93=\"\",\"\",'All Bill Data Entry'!R93)","v":""},{"$f":"IF('All Bill Data Entry'!S93=\"\",\"\",'All Bill Data Entry'!S93)","v":""},{"$f":"IF('All Bill Data Entry'!T93=\"\",\"\",'All Bill Data Entry'!T93)","v":""}]
["",{"$f":"IF('All Bill Data Entry'!A94=\"\",\"\",'All Bill Data Entry'!A94)","v":""},"","","",{"$f":"IF('LN-Line Data'!R89=\"\",\"\",'LN-Line Data'!R89)","v":""},"",{"$f":"IF('All Bill Data Entry'!O94=\"\",\"\",'All Bill Data Entry'!O94)","v":""},{"$f":"IF('All Bill Data Entry'!P94=\"\",\"\",'All Bill Data Entry'!P94)","v":""},{"$f":"IF('All Bill Data Entry'!Q94=\"\",\"\",'All Bill Data Entry'!Q94)","v":""},{"$f":"IF('All Bill Data Entry'!R94=\"\",\"\",'All Bill Data Entry'!R94)","v":""},{"$f":"IF('All Bill Data Entry'!S94=\"\",\"\",'All Bill Data Entry'!S94)","v":""},{"$f":"IF('All Bill Data Entry'!T94=\"\",\"\",'All Bill Data Entry'!T94)","v":""}]
["",{"$f":"IF('All Bill Data Entry'!A95=\"\",\"\",'All Bill Data Entry'!A95)","v":""},"","","",{"$f":"IF('LN-Line Data'!R90=\"\",\"\",'LN-Line Data'!R90)","v":""},"",{"$f":"IF('All Bill Data Entry'!O95=\"\",\"\",'All Bill Data Entry'!O95)","v":""},{"$f":"IF('All Bill Data Entry'!P95=\"\",\"\",'All Bill Data Entry'!P95)","v":""},{"$f":"IF('All Bill Data Entry'!Q95=\"\",\"\",'All Bill Data Entry'!Q95)","v":""},{"$f":"IF('All Bill Data Entry'!R95=\"\",\"\",'All Bill Data Entry'!R95)","v":""},{"$f":"IF('All Bill Data Entry'!S95=\"\",\"\",'All Bill Data Entry'!S95)","v":""},{"$f":"IF('All Bill Data Entry'!T95=\"\",\"\",'All Bill Data Entry'!T95)","v":""}]
["",{"$f":"IF('All Bill Data Entry'!A96=\"\",\"\",'All Bill Data Entry'!A96)","v":""},"","","",{"$f":"IF('LN-Line Data'!R91=\"\",\"\",'LN-Line Data'!R91)","v":""},"",{"$f":"IF('All Bill Data Entry'!O96=\"\",\"\",'All Bill Data Entry'!O96)","v":""},{"$f":"IF('All Bill Data Entry'!P96=\"\",\"\",'All Bill Data Entry'!P96)","v":""},{"$f":"IF('All Bill Data Entry'!Q96=\"\",\"\",'All Bill Data Entry'!Q96)","v":""},{"$f":"IF('All Bill Data Entry'!R96=\"\",\"\",'All Bill Data Entry'!R96)","v":""},{"$f":"IF('All Bill Data Entry'!S96=\"\",\"\",'All Bill Data Entry'!S96)","v":""},{"$f":"IF('All Bill Data Entry'!T96=\"\",\"\",'All Bill Data Entry'!T96)","v":""}]
["",{"$f":"IF('All Bill Data Entry'!A97=\"\",\"\",'All Bill Data Entry'!A97)","v":""},"","","",{"$f":"IF('LN-Line Data'!R92=\"\",\"\",'LN-Line Data'!R92)","v":""},"",{"$f":"IF('All Bill Data Entry'!O97=\"\",\"\",'All Bill Data Entry'!O97)","v":""},{"$f":"IF('All Bill Data Entry'!P97=\"\",\"\",'All Bill Data Entry'!P97)","v":""},{"$f":"IF('All Bill Data Entry'!Q97=\"\",\"\",'All Bill Data Entry'!Q97)","v":""},{"$f":"IF('All Bill Data Entry'!R97=\"\",\"\",'All Bill Data Entry'!R97)","v":""},{"$f":"IF('All Bill Data Entry'!S97=\"\",\"\",'All Bill Data Entry'!S97)","v":""},{"$f":"IF('All Bill Data Entry'!T97=\"\",\"\",'All Bill Data Entry'!T97)","v":""}]
["",{"$f":"IF('All Bill Data Entry'!A98=\"\",\"\",'All Bill Data Entry'!A98)","v":""},"","","",{"$f":"IF('LN-Line Data'!R93=\"\",\"\",'LN-Line Data'!R93)","v":""},"",{"$f":"IF('All Bill Data Entry'!O98=\"\",\"\",'All Bill Data Entry'!O98)","v":""},{"$f":"IF('All Bill Data Entry'!P98=\"\",\"\",'All Bill Data Entry'!P98)","v":""},{"$f":"IF('All Bill Data Entry'!Q98=\"\",\"\",'All Bill Data Entry'!Q98)","v":""},{"$f":"IF('All Bill Data Entry'!R98=\"\",\"\",'All Bill Data Entry'!R98)","v":""},{"$f":"IF('All Bill Data Entry'!S98=\"\",\"\",'All Bill Data Entry'!S98)","v":""},{"$f":"IF('All Bill Data Entry'!T98=\"\",\"\",'All Bill Data Entry'!T98)","v":""}]
["",{"$f":"IF('All Bill Data Entry'!A99=\"\",\"\",'All Bill Data Entry'!A99)","v":""},"","","",{"$f":"IF('LN-Line Data'!R94=\"\",\"\",'LN-Line Data'!R94)","v":""},"",{"$f":"IF('All Bill Data Entry'!O99=\"\",\"\",'All Bill Data Entry'!O99)","v":""},{"$f":"IF('All Bill Data Entry'!P99=\"\",\"\",'All Bill Data Entry'!P99)","v":""},{"$f":"IF('All Bill Data Entry'!Q99=\"\",\"\",'All Bill Data Entry'!Q99)","v":""},{"$f":"IF('All Bill Data Entry'!R99=\"\",\"\",'All Bill Data Entry'!R99)","v":""},{"$f":"IF('All Bill Data Entry'!S99=\"\",\"\",'All Bill Data Entry'!S99)","v":""},{"$f":"IF('All Bill Data Entry'!T99=\"\",\"\",'All Bill Data Entry'!T99)","v":""}]
["",{"$f":"IF('All Bill Data Entry'!A100=\"\",\"\",'All Bill Data Entry'!A100)","v":""},"","","",{"$f":"IF('LN-Line Data'!R95=\"\",\"\",'LN-Line Data'!R95)","v":""},"",{"$f":"IF('All Bill Data Entry'!O100=\"\",\"\",'All Bill Data Entry'!O100)","v":""},{"$f":"IF('All Bill Data Entry'!P100=\"\",\"\",'All Bill Data Entry'!P100)","v":""},{"$f":"IF('All Bill Data Entry'!Q100=\"\",\"\",'All Bill Data Entry'!Q100)","v":""},{"$f":"IF('All Bill Data Entry'!R100=\"\",\"\",'All Bill Data Entry'!R100)","v":""},{"$f":"IF('All Bill Data Entry'!S100=\"\",\"\",'All Bill Data Entry'!S100)","v":""},{"$f":"IF('All Bill Data Entry'!T100=\"\",\"\",'All Bill Data Entry'!T100)","v":""}]
["",{"$f":"IF('All Bill Data Entry'!A101=\"\",\"\",'All Bill Data Entry'!A101)","v":""},"","","",{"$f":"IF('LN-Line Data'!R96=\"\",\"\",'LN-Line Data'!R96)","v":""},"",{"$f":"IF('All Bill Data Entry'!O101=\"\",\"\",'All Bill Data Entry'!O101)","v":""},{"$f":"IF('All Bill Data Entry'!P101=\"\",\"\",'All Bill Data Entry'!P101)","v":""},{"$f":"IF('All Bill Data Entry'!Q101=\"\",\"\",'All Bill Data Entry'!Q101)","v":""},{"$f":"IF('All Bill Data Entry'!R101=\"\",\"\",'All Bill Data Entry'!R101)","v":""},{"$f":"IF('All Bill Data Entry'!S101=\"\",\"\",'All Bill Data Entry'!S101)","v":""},{"$f":"IF('All Bill Data Entry'!T101=\"\",\"\",'All Bill Data Entry'!T101)","v":""}]
["",{"$f":"IF('All Bill Data Entry'!A102=\"\",\"\",'All Bill Data Entry'!A102)","v":""},"","","",{"$f":"IF('LN-Line Data'!R97=\"\",\"\",'LN-Line Data'!R97)","v":""},"",{"$f":"IF('All Bill Data Entry'!O102=\"\",\"\",'All Bill Data Entry'!O102)","v":""},{"$f":"IF('All Bill Data Entry'!P102=\"\",\"\",'All Bill Data Entry'!P102)","v":""},{"$f":"IF('All Bill Data Entry'!Q102=\"\",\"\",'All Bill Data Entry'!Q102)","v":""},{"$f":"IF('All Bill Data Entry'!R102=\"\",\"\",'All Bill Data Entry'!R102)","v":""},{"$f":"IF('All Bill Data Entry'!S102=\"\",\"\",'All Bill Data Entry'!S102)","v":""},{"$f":"IF('All Bill Data Entry'!T102=\"\",\"\",'All Bill Data Entry'!T102)","v":""}]
["",{"$f":"IF('All Bill Data Entry'!A103=\"\",\"\",'All Bill Data Entry'!A103)","v":""},"","","",{"$f":"IF('LN-Line Data'!R98=\"\",\"\",'LN-Line Data'!R98)","v":""},"",{"$f":"IF('All Bill Data Entry'!O103=\"\",\"\",'All Bill Data Entry'!O103)","v":""},{"$f":"IF('All Bill Data Entry'!P103=\"\",\"\",'All Bill Data Entry'!P103)","v":""},{"$f":"IF('All Bill Data Entry'!Q103=\"\",\"\",'All Bill Data Entry'!Q103)","v":""},{"$f":"IF('All Bill Data Entry'!R103=\"\",\"\",'All Bill Data Entry'!R103)","v":""},{"$f":"IF('All Bill Data Entry'!S103=\"\",\"\",'All Bill Data Entry'!S103)","v":""},{"$f":"IF('All Bill Data Entry'!T103=\"\",\"\",'All Bill Data Entry'!T103)","v":""}]
["",{"$f":"IF('All Bill Data Entry'!A104=\"\",\"\",'All Bill Data Entry'!A104)","v":""},"","","",{"$f":"IF('LN-Line Data'!R99=\"\",\"\",'LN-Line Data'!R99)","v":""},"",{"$f":"IF('All Bill Data Entry'!O104=\"\",\"\",'All Bill Data Entry'!O104)","v":""},{"$f":"IF('All Bill Data Entry'!P104=\"\",\"\",'All Bill Data Entry'!P104)","v":""},{"$f":"IF('All Bill Data Entry'!Q104=\"\",\"\",'All Bill Data Entry'!Q104)","v":""},{"$f":"IF('All Bill Data Entry'!R104=\"\",\"\",'All Bill Data Entry'!R104)","v":""},{"$f":"IF('All Bill Data Entry'!S104=\"\",\"\",'All Bill Data Entry'!S104)","v":""},{"$f":"IF('All Bill Data Entry'!T104=\"\",\"\",'All Bill Data Entry'!T104)","v":""}]
["",{"$f":"IF('All Bill Data Entry'!A105=\"\",\"\",'All Bill Data Entry'!A105)","v":""},"","","",{"$f":"IF('LN-Line Data'!R100=\"\",\"\",'LN-Line Data'!R100)","v":""},"",{"$f":"IF('All Bill Data Entry'!O105=\"\",\"\",'All Bill Data Entry'!O105)","v":""},{"$f":"IF('All Bill Data Entry'!P105=\"\",\"\",'All Bill Data Entry'!P105)","v":""},{"$f":"IF('All Bill Data Entry'!Q105=\"\",\"\",'All Bill Data Entry'!Q105)","v":""},{"$f":"IF('All Bill Data Entry'!R105=\"\",\"\",'All Bill Data Entry'!R105)","v":""},{"$f":"IF('All Bill Data Entry'!S105=\"\",\"\",'All Bill Data Entry'!S105)","v":""},{"$f":"IF('All Bill Data Entry'!T105=\"\",\"\",'All Bill Data Entry'!T105)","v":""}]
["",{"$f":"IF('All Bill Data Entry'!A106=\"\",\"\",'All Bill Data Entry'!A106)","v":""},"","","",{"$f":"IF('LN-Line Data'!R101=\"\",\"\",'LN-Line Data'!R101)","v":""},"",{"$f":"IF('All Bill Data Entry'!O106=\"\",\"\",'All Bill Data Entry'!O106)","v":""},{"$f":"IF('All Bill Data Entry'!P106=\"\",\"\",'All Bill Data Entry'!P106)","v":""},{"$f":"IF('All Bill Data Entry'!Q106=\"\",\"\",'All Bill Data Entry'!Q106)","v":""},{"$f":"IF('All Bill Data Entry'!R106=\"\",\"\",'All Bill Data Entry'!R106)","v":""},{"$f":"IF('All Bill Data Entry'!S106=\"\",\"\",'All Bill Data Entry'!S106)","v":""},{"$f":"IF('All Bill Data Entry'!T106=\"\",\"\",'All Bill Data Entry'!T106)","v":""}]
["",{"$f":"IF('All Bill Data Entry'!A107=\"\",\"\",'All Bill Data Entry'!A107)","v":""},"","","",{"$f":"IF('LN-Line Data'!R102=\"\",\"\",'LN-Line Data'!R102)","v":""},"",{"$f":"IF('All Bill Data Entry'!O107=\"\",\"\",'All Bill Data Entry'!O107)","v":""},{"$f":"IF('All Bill Data Entry'!P107=\"\",\"\",'All Bill Data Entry'!P107)","v":""},{"$f":"IF('All Bill Data Entry'!Q107=\"\",\"\",'All Bill Data Entry'!Q107)","v":""},{"$f":"IF('All Bill Data Entry'!R107=\"\",\"\",'All Bill Data Entry'!R107)","v":""},{"$f":"IF('All Bill Data Entry'!S107=\"\",\"\",'All Bill Data Entry'!S107)","v":""},{"$f":"IF('All Bill Data Entry'!T107=\"\",\"\",'All Bill Data Entry'!T107)","v":""}]
["",{"$f":"IF('All Bill Data Entry'!A108=\"\",\"\",'All Bill Data Entry'!A108)","v":""},"","","",{"$f":"IF('LN-Line Data'!R103=\"\",\"\",'LN-Line Data'!R103)","v":""},"",{"$f":"IF('All Bill Data Entry'!O108=\"\",\"\",'All Bill Data Entry'!O108)","v":""},{"$f":"IF('All Bill Data Entry'!P108=\"\",\"\",'All Bill Data Entry'!P108)","v":""},{"$f":"IF('All Bill Data Entry'!Q108=\"\",\"\",'All Bill Data Entry'!Q108)","v":""},{"$f":"IF('All Bill Data Entry'!R108=\"\",\"\",'All Bill Data Entry'!R108)","v":""},{"$f":"IF('All Bill Data Entry'!S108=\"\",\"\",'All Bill Data Entry'!S108)","v":""},{"$f":"IF('All Bill Data Entry'!T108=\"\",\"\",'All Bill Data Entry'!T108)","v":""}]
["",{"$f":"IF('All Bill Data Entry'!A109=\"\",\"\",'All Bill Data Entry'!A109)","v":""},"","","",{"$f":"IF('LN-Line Data'!R104=\"\",\"\",'LN-Line Data'!R104)","v":""},"",{"$f":"IF('All Bill Data Entry'!O109=\"\",\"\",'All Bill Data Entry'!O109)","v":""},{"$f":"IF('All Bill Data Entry'!P109=\"\",\"\",'All Bill Data Entry'!P109)","v":""},{"$f":"IF('All Bill Data Entry'!Q109=\"\",\"\",'All Bill Data Entry'!Q109)","v":""},{"$f":"IF('All Bill Data Entry'!R109=\"\",\"\",'All Bill Data Entry'!R109)","v":""},{"$f":"IF('All Bill Data Entry'!S109=\"\",\"\",'All Bill Data Entry'!S109)","v":""},{"$f":"IF('All Bill Data Entry'!T109=\"\",\"\",'All Bill Data Entry'!T109)","v":""}]
["",{"$f":"IF('All Bill Data Entry'!A110=\"\",\"\",'All Bill Data Entry'!A110)","v":""},"","","",{"$f":"IF('LN-Line Data'!R105=\"\",\"\",'LN-Line Data'!R105)","v":""},"",{"$f":"IF('All Bill Data Entry'!O110=\"\",\"\",'All Bill Data Entry'!O110)","v":""},{"$f":"IF('All Bill Data Entry'!P110=\"\",\"\",'All Bill Data Entry'!P110)","v":""},{"$f":"IF('All Bill Data Entry'!Q110=\"\",\"\",'All Bill Data Entry'!Q110)","v":""},{"$f":"IF('All Bill Data Entry'!R110=\"\",\"\",'All Bill Data Entry'!R110)","v":""},{"$f":"IF('All Bill Data Entry'!S110=\"\",\"\",'All Bill Data Entry'!S110)","v":""},{"$f":"IF('All Bill Data Entry'!T110=\"\",\"\",'All Bill Data Entry'!T110)","v":""}]
["",{"$f":"IF('All Bill Data Entry'!A111=\"\",\"\",'All Bill Data Entry'!A111)","v":""},"","","",{"$f":"IF('LN-Line Data'!R106=\"\",\"\",'LN-Line Data'!R106)","v":""},"",{"$f":"IF('All Bill Data Entry'!O111=\"\",\"\",'All Bill Data Entry'!O111)","v":""},{"$f":"IF('All Bill Data Entry'!P111=\"\",\"\",'All Bill Data Entry'!P111)","v":""},{"$f":"IF('All Bill Data Entry'!Q111=\"\",\"\",'All Bill Data Entry'!Q111)","v":""},{"$f":"IF('All Bill Data Entry'!R111=\"\",\"\",'All Bill Data Entry'!R111)","v":""},{"$f":"IF('All Bill Data Entry'!S111=\"\",\"\",'All Bill Data Entry'!S111)","v":""},{"$f":"IF('All Bill Data Entry'!T111=\"\",\"\",'All Bill Data Entry'!T111)","v":""}]
["",{"$f":"IF('All Bill Data Entry'!A112=\"\",\"\",'All Bill Data Entry'!A112)","v":""},"","","",{"$f":"IF('LN-Line Data'!R107=\"\",\"\",'LN-Line Data'!R107)","v":""},"",{"$f":"IF('All Bill Data Entry'!O112=\"\",\"\",'All Bill Data Entry'!O112)","v":""},{"$f":"IF('All Bill Data Entry'!P112=\"\",\"\",'All Bill Data Entry'!P112)","v":""},{"$f":"IF('All Bill Data Entry'!Q112=\"\",\"\",'All Bill Data Entry'!Q112)","v":""},{"$f":"IF('All Bill Data Entry'!R112=\"\",\"\",'All Bill Data Entry'!R112)","v":""},{"$f":"IF('All Bill Data Entry'!S112=\"\",\"\",'All Bill Data Entry'!S112)","v":""},{"$f":"IF('All Bill Data Entry'!T112=\"\",\"\",'All Bill Data Entry'!T112)","v":""}]
["",{"$f":"IF('All Bill Data Entry'!A113=\"\",\"\",'All Bill Data Entry'!A113)","v":""},"","","",{"$f":"IF('LN-Line Data'!R108=\"\",\"\",'LN-Line Data'!R108)","v":""},"",{"$f":"IF('All Bill Data Entry'!O113=\"\",\"\",'All Bill Data Entry'!O113)","v":""},{"$f":"IF('All Bill Data Entry'!P113=\"\",\"\",'All Bill Data Entry'!P113)","v":""},{"$f":"IF('All Bill Data Entry'!Q113=\"\",\"\",'All Bill Data Entry'!Q113)","v":""},{"$f":"IF('All Bill Data Entry'!R113=\"\",\"\",'All Bill Data Entry'!R113)","v":""},{"$f":"IF('All Bill Data Entry'!S113=\"\",\"\",'All Bill Data Entry'!S113)","v":""},{"$f":"IF('All Bill Data Entry'!T113=\"\",\"\",'All Bill Data Entry'!T113)","v":""}]
["",{"$f":"IF('All Bill Data Entry'!A114=\"\",\"\",'All Bill Data Entry'!A114)","v":""},"","","",{"$f":"IF('LN-Line Data'!R109=\"\",\"\",'LN-Line Data'!R109)","v":""},"",{"$f":"IF('All Bill Data Entry'!O114=\"\",\"\",'All Bill Data Entry'!O114)","v":""},{"$f":"IF('All Bill Data Entry'!P114=\"\",\"\",'All Bill Data Entry'!P114)","v":""},{"$f":"IF('All Bill Data Entry'!Q114=\"\",\"\",'All Bill Data Entry'!Q114)","v":""},{"$f":"IF('All Bill Data Entry'!R114=\"\",\"\",'All Bill Data Entry'!R114)","v":""},{"$f":"IF('All Bill Data Entry'!S114=\"\",\"\",'All Bill Data Entry'!S114)","v":""},{"$f":"IF('All Bill Data Entry'!T114=\"\",\"\",'All Bill Data Entry'!T114)","v":""}]
["",{"$f":"IF('All Bill Data Entry'!A115=\"\",\"\",'All Bill Data Entry'!A115)","v":""},"","","",{"$f":"IF('LN-Line Data'!R110=\"\",\"\",'LN-Line Data'!R110)","v":""},"",{"$f":"IF('All Bill Data Entry'!O115=\"\",\"\",'All Bill Data Entry'!O115)","v":""},{"$f":"IF('All Bill Data Entry'!P115=\"\",\"\",'All Bill Data Entry'!P115)","v":""},{"$f":"IF('All Bill Data Entry'!Q115=\"\",\"\",'All Bill Data Entry'!Q115)","v":""},{"$f":"IF('All Bill Data Entry'!R115=\"\",\"\",'All Bill Data Entry'!R115)","v":""},{"$f":"IF('All Bill Data Entry'!S115=\"\",\"\",'All Bill Data Entry'!S115)","v":""},{"$f":"IF('All Bill Data Entry'!T115=\"\",\"\",'All Bill Data Entry'!T115)","v":""}]
["",{"$f":"IF('All Bill Data Entry'!A116=\"\",\"\",'All Bill Data Entry'!A116)","v":""},"","","",{"$f":"IF('LN-Line Data'!R111=\"\",\"\",'LN-Line Data'!R111)","v":""},"",{"$f":"IF('All Bill Data Entry'!O116=\"\",\"\",'All Bill Data Entry'!O116)","v":""},{"$f":"IF('All Bill Data Entry'!P116=\"\",\"\",'All Bill Data Entry'!P116)","v":""},{"$f":"IF('All Bill Data Entry'!Q116=\"\",\"\",'All Bill Data Entry'!Q116)","v":""},{"$f":"IF('All Bill Data Entry'!R116=\"\",\"\",'All Bill Data Entry'!R116)","v":""},{"$f":"IF('All Bill Data Entry'!S116=\"\",\"\",'All Bill Data Entry'!S116)","v":""},{"$f":"IF('All Bill Data Entry'!T116=\"\",\"\",'All Bill Data Entry'!T116)","v":""}]
["",{"$f":"IF('All Bill Data Entry'!A117=\"\",\"\",'All Bill Data Entry'!A117)","v":""},"","","",{"$f":"IF('LN-Line Data'!R112=\"\",\"\",'LN-Line Data'!R112)","v":""},"",{"$f":"IF('All Bill Data Entry'!O117=\"\",\"\",'All Bill Data Entry'!O117)","v":""},{"$f":"IF('All Bill Data Entry'!P117=\"\",\"\",'All Bill Data Entry'!P117)","v":""},{"$f":"IF('All Bill Data Entry'!Q117=\"\",\"\",'All Bill Data Entry'!Q117)","v":""},{"$f":"IF('All Bill Data Entry'!R117=\"\",\"\",'All Bill Data Entry'!R117)","v":""},{"$f":"IF('All Bill Data Entry'!S117=\"\",\"\",'All Bill Data Entry'!S117)","v":""},{"$f":"IF('All Bill Data Entry'!T117=\"\",\"\",'All Bill Data Entry'!T117)","v":""}]
["",{"$f":"IF('All Bill Data Entry'!A118=\"\",\"\",'All Bill Data Entry'!A118)","v":""},"","","",{"$f":"IF('LN-Line Data'!R113=\"\",\"\",'LN-Line Data'!R113)","v":""},"",{"$f":"IF('All Bill Data Entry'!O118=\"\",\"\",'All Bill Data Entry'!O118)","v":""},{"$f":"IF('All Bill Data Entry'!P118=\"\",\"\",'All Bill Data Entry'!P118)","v":""},{"$f":"IF('All Bill Data Entry'!Q118=\"\",\"\",'All Bill Data Entry'!Q118)","v":""},{"$f":"IF('All Bill Data Entry'!R118=\"\",\"\",'All Bill Data Entry'!R118)","v":""},{"$f":"IF('All Bill Data Entry'!S118=\"\",\"\",'All Bill Data Entry'!S118)","v":""},{"$f":"IF('All Bill Data Entry'!T118=\"\",\"\",'All Bill Data Entry'!T118)","v":""}]
["",{"$f":"IF('All Bill Data Entry'!A119=\"\",\"\",'All Bill Data Entry'!A119)","v":""},"","","",{"$f":"IF('LN-Line Data'!R114=\"\",\"\",'LN-Line Data'!R114)","v":""},"",{"$f":"IF('All Bill Data Entry'!O119=\"\",\"\",'All Bill Data Entry'!O119)","v":""},{"$f":"IF('All Bill Data Entry'!P119=\"\",\"\",'All Bill Data Entry'!P119)","v":""},{"$f":"IF('All Bill Data Entry'!Q119=\"\",\"\",'All Bill Data Entry'!Q119)","v":""},{"$f":"IF('All Bill Data Entry'!R119=\"\",\"\",'All Bill Data Entry'!R119)","v":""},{"$f":"IF('All Bill Data Entry'!S119=\"\",\"\",'All Bill Data Entry'!S119)","v":""},{"$f":"IF('All Bill Data Entry'!T119=\"\",\"\",'All Bill Data Entry'!T119)","v":""}]
["",{"$f":"IF('All Bill Data Entry'!A120=\"\",\"\",'All Bill Data Entry'!A120)","v":""},"","","",{"$f":"IF('LN-Line Data'!R115=\"\",\"\",'LN-Line Data'!R115)","v":""},"",{"$f":"IF('All Bill Data Entry'!O120=\"\",\"\",'All Bill Data Entry'!O120)","v":""},{"$f":"IF('All Bill Data Entry'!P120=\"\",\"\",'All Bill Data Entry'!P120)","v":""},{"$f":"IF('All Bill Data Entry'!Q120=\"\",\"\",'All Bill Data Entry'!Q120)","v":""},{"$f":"IF('All Bill Data Entry'!R120=\"\",\"\",'All Bill Data Entry'!R120)","v":""},{"$f":"IF('All Bill Data Entry'!S120=\"\",\"\",'All Bill Data Entry'!S120)","v":""},{"$f":"IF('All Bill Data Entry'!T120=\"\",\"\",'All Bill Data Entry'!T120)","v":""}]
["",{"$f":"IF('All Bill Data Entry'!A121=\"\",\"\",'All Bill Data Entry'!A121)","v":""},"","","",{"$f":"IF('LN-Line Data'!R116=\"\",\"\",'LN-Line Data'!R116)","v":""},"",{"$f":"IF('All Bill Data Entry'!O121=\"\",\"\",'All Bill Data Entry'!O121)","v":""},{"$f":"IF('All Bill Data Entry'!P121=\"\",\"\",'All Bill Data Entry'!P121)","v":""},{"$f":"IF('All Bill Data Entry'!Q121=\"\",\"\",'All Bill Data Entry'!Q121)","v":""},{"$f":"IF('All Bill Data Entry'!R121=\"\",\"\",'All Bill Data Entry'!R121)","v":""},{"$f":"IF('All Bill Data Entry'!S121=\"\",\"\",'All Bill Data Entry'!S121)","v":""},{"$f":"IF('All Bill Data Entry'!T121=\"\",\"\",'All Bill Data Entry'!T121)","v":""}]
["",{"$f":"IF('All Bill Data Entry'!A122=\"\",\"\",'All Bill Data Entry'!A122)","v":""},"","","",{"$f":"IF('LN-Line Data'!R117=\"\",\"\",'LN-Line Data'!R117)","v":""},"",{"$f":"IF('All Bill Data Entry'!O122=\"\",\"\",'All Bill Data Entry'!O122)","v":""},{"$f":"IF('All Bill Data Entry'!P122=\"\",\"\",'All Bill Data Entry'!P122)","v":""},{"$f":"IF('All Bill Data Entry'!Q122=\"\",\"\",'All Bill Data Entry'!Q122)","v":""},{"$f":"IF('All Bill Data Entry'!R122=\"\",\"\",'All Bill Data Entry'!R122)","v":""},{"$f":"IF('All Bill Data Entry'!S122=\"\",\"\",'All Bill Data Entry'!S122)","v":""},{"$f":"IF('All Bill Data Entry'!T122=\"\",\"\",'All Bill Data Entry'!T122)","v":""}]
["",{"$f":"IF('All Bill Data Entry'!A123=\"\",\"\",'All Bill Data Entry'!A123)","v":""},"","","",{"$f":"IF('LN-Line Data'!R118=\"\",\"\",'LN-Line Data'!R118)","v":""},"",{"$f":"IF('All Bill Data Entry'!O123=\"\",\"\",'All Bill Data Entry'!O123)","v":""},{"$f":"IF('All Bill Data Entry'!P123=\"\",\"\",'All Bill Data Entry'!P123)","v":""},{"$f":"IF('All Bill Data Entry'!Q123=\"\",\"\",'All Bill Data Entry'!Q123)","v":""},{"$f":"IF('All Bill Data Entry'!R123=\"\",\"\",'All Bill Data Entry'!R123)","v":""},{"$f":"IF('All Bill Data Entry'!S123=\"\",\"\",'All Bill Data Entry'!S123)","v":""},{"$f":"IF('All Bill Data Entry'!T123=\"\",\"\",'All Bill Data Entry'!T123)","v":""}]
["",{"$f":"IF('All Bill Data Entry'!A124=\"\",\"\",'All Bill Data Entry'!A124)","v":""},"","","",{"$f":"IF('LN-Line Data'!R119=\"\",\"\",'LN-Line Data'!R119)","v":""},"",{"$f":"IF('All Bill Data Entry'!O124=\"\",\"\",'All Bill Data Entry'!O124)","v":""},{"$f":"IF('All Bill Data Entry'!P124=\"\",\"\",'All Bill Data Entry'!P124)","v":""},{"$f":"IF('All Bill Data Entry'!Q124=\"\",\"\",'All Bill Data Entry'!Q124)","v":""},{"$f":"IF('All Bill Data Entry'!R124=\"\",\"\",'All Bill Data Entry'!R124)","v":""},{"$f":"IF('All Bill Data Entry'!S124=\"\",\"\",'All Bill Data Entry'!S124)","v":""},{"$f":"IF('All Bill Data Entry'!T124=\"\",\"\",'All Bill Data Entry'!T124)","v":""}]
["",{"$f":"IF('All Bill Data Entry'!A125=\"\",\"\",'All Bill Data Entry'!A125)","v":""},"","","",{"$f":"IF('LN-Line Data'!R120=\"\",\"\",'LN-Line Data'!R120)","v":""},"",{"$f":"IF('All Bill Data Entry'!O125=\"\",\"\",'All Bill Data Entry'!O125)","v":""},{"$f":"IF('All Bill Data Entry'!P125=\"\",\"\",'All Bill Data Entry'!P125)","v":""},{"$f":"IF('All Bill Data Entry'!Q125=\"\",\"\",'All Bill Data Entry'!Q125)","v":""},{"$f":"IF('All Bill Data Entry'!R125=\"\",\"\",'All Bill Data Entry'!R125)","v":""},{"$f":"IF('All Bill Data Entry'!S125=\"\",\"\",'All Bill Data Entry'!S125)","v":""},{"$f":"IF('All Bill Data Entry'!T125=\"\",\"\",'All Bill Data Entry'!T125)","v":""}]
["",{"$f":"IF('All Bill Data Entry'!A126=\"\",\"\",'All Bill Data Entry'!A126)","v":""},"","","",{"$f":"IF('LN-Line Data'!R121=\"\",\"\",'LN-Line Data'!R121)","v":""},"",{"$f":"IF('All Bill Data Entry'!O126=\"\",\"\",'All Bill Data Entry'!O126)","v":""},{"$f":"IF('All Bill Data Entry'!P126=\"\",\"\",'All Bill Data Entry'!P126)","v":""},{"$f":"IF('All Bill Data Entry'!Q126=\"\",\"\",'All Bill Data Entry'!Q126)","v":""},{"$f":"IF('All Bill Data Entry'!R126=\"\",\"\",'All Bill Data Entry'!R126)","v":""},{"$f":"IF('All Bill Data Entry'!S126=\"\",\"\",'All Bill Data Entry'!S126)","v":""},{"$f":"IF('All Bill Data Entry'!T126=\"\",\"\",'All Bill Data Entry'!T126)","v":""}]
["",{"$f":"IF('All Bill Data Entry'!A127=\"\",\"\",'All Bill Data Entry'!A127)","v":""},"","","",{"$f":"IF('LN-Line Data'!R122=\"\",\"\",'LN-Line Data'!R122)","v":""},"",{"$f":"IF('All Bill Data Entry'!O127=\"\",\"\",'All Bill Data Entry'!O127)","v":""},{"$f":"IF('All Bill Data Entry'!P127=\"\",\"\",'All Bill Data Entry'!P127)","v":""},{"$f":"IF('All Bill Data Entry'!Q127=\"\",\"\",'All Bill Data Entry'!Q127)","v":""},{"$f":"IF('All Bill Data Entry'!R127=\"\",\"\",'All Bill Data Entry'!R127)","v":""},{"$f":"IF('All Bill Data Entry'!S127=\"\",\"\",'All Bill Data Entry'!S127)","v":""},{"$f":"IF('All Bill Data Entry'!T127=\"\",\"\",'All Bill Data Entry'!T127)","v":""}]
["",{"$f":"IF('All Bill Data Entry'!A128=\"\",\"\",'All Bill Data Entry'!A128)","v":""},"","","",{"$f":"IF('LN-Line Data'!R123=\"\",\"\",'LN-Line Data'!R123)","v":""},"",{"$f":"IF('All Bill Data Entry'!O128=\"\",\"\",'All Bill Data Entry'!O128)","v":""},{"$f":"IF('All Bill Data Entry'!P128=\"\",\"\",'All Bill Data Entry'!P128)","v":""},{"$f":"IF('All Bill Data Entry'!Q128=\"\",\"\",'All Bill Data Entry'!Q128)","v":""},{"$f":"IF('All Bill Data Entry'!R128=\"\",\"\",'All Bill Data Entry'!R128)","v":""},{"$f":"IF('All Bill Data Entry'!S128=\"\",\"\",'All Bill Data Entry'!S128)","v":""},{"$f":"IF('All Bill Data Entry'!T128=\"\",\"\",'All Bill Data Entry'!T128)","v":""}]
["",{"$f":"IF('All Bill Data Entry'!A129=\"\",\"\",'All Bill Data Entry'!A129)","v":""},"","","",{"$f":"IF('LN-Line Data'!R124=\"\",\"\",'LN-Line Data'!R124)","v":""},"",{"$f":"IF('All Bill Data Entry'!O129=\"\",\"\",'All Bill Data Entry'!O129)","v":""},{"$f":"IF('All Bill Data Entry'!P129=\"\",\"\",'All Bill Data Entry'!P129)","v":""},{"$f":"IF('All Bill Data Entry'!Q129=\"\",\"\",'All Bill Data Entry'!Q129)","v":""},{"$f":"IF('All Bill Data Entry'!R129=\"\",\"\",'All Bill Data Entry'!R129)","v":""},{"$f":"IF('All Bill Data Entry'!S129=\"\",\"\",'All Bill Data Entry'!S129)","v":""},{"$f":"IF('All Bill Data Entry'!T129=\"\",\"\",'All Bill Data Entry'!T129)","v":""}]
["",{"$f":"IF('All Bill Data Entry'!A130=\"\",\"\",'All Bill Data Entry'!A130)","v":""},"","","",{"$f":"IF('LN-Line Data'!R125=\"\",\"\",'LN-Line Data'!R125)","v":""},"",{"$f":"IF('All Bill Data Entry'!O130=\"\",\"\",'All Bill Data Entry'!O130)","v":""},{"$f":"IF('All Bill Data Entry'!P130=\"\",\"\",'All Bill Data Entry'!P130)","v":""},{"$f":"IF('All Bill Data Entry'!Q130=\"\",\"\",'All Bill Data Entry'!Q130)","v":""},{"$f":"IF('All Bill Data Entry'!R130=\"\",\"\",'All Bill Data Entry'!R130)","v":""},{"$f":"IF('All Bill Data Entry'!S130=\"\",\"\",'All Bill Data Entry'!S130)","v":""},{"$f":"IF('All Bill Data Entry'!T130=\"\",\"\",'All Bill Data Entry'!T130)","v":""}]
["",{"$f":"IF('All Bill Data Entry'!A131=\"\",\"\",'All Bill Data Entry'!A131)","v":""},"","","",{"$f":"IF('LN-Line Data'!R126=\"\",\"\",'LN-Line Data'!R126)","v":""},"",{"$f":"IF('All Bill Data Entry'!O131=\"\",\"\",'All Bill Data Entry'!O131)","v":""},{"$f":"IF('All Bill Data Entry'!P131=\"\",\"\",'All Bill Data Entry'!P131)","v":""},{"$f":"IF('All Bill Data Entry'!Q131=\"\",\"\",'All Bill Data Entry'!Q131)","v":""},{"$f":"IF('All Bill Data Entry'!R131=\"\",\"\",'All Bill Data Entry'!R131)","v":""},{"$f":"IF('All Bill Data Entry'!S131=\"\",\"\",'All Bill Data Entry'!S131)","v":""},{"$f":"IF('All Bill Data Entry'!T131=\"\",\"\",'All Bill Data Entry'!T131)","v":""}]
["",{"$f":"IF('All Bill Data Entry'!A132=\"\",\"\",'All Bill Data Entry'!A132)","v":""},"","","",{"$f":"IF('LN-Line Data'!R127=\"\",\"\",'LN-Line Data'!R127)","v":""},"",{"$f":"IF('All Bill Data Entry'!O132=\"\",\"\",'All Bill Data Entry'!O132)","v":""},{"$f":"IF('All Bill Data Entry'!P132=\"\",\"\",'All Bill Data Entry'!P132)","v":""},{"$f":"IF('All Bill Data Entry'!Q132=\"\",\"\",'All Bill Data Entry'!Q132)","v":""},{"$f":"IF('All Bill Data Entry'!R132=\"\",\"\",'All Bill Data Entry'!R132)","v":""},{"$f":"IF('All Bill Data Entry'!S132=\"\",\"\",'All Bill Data Entry'!S132)","v":""},{"$f":"IF('All Bill Data Entry'!T132=\"\",\"\",'All Bill Data Entry'!T132)","v":""}]
["",{"$f":"IF('All Bill Data Entry'!A133=\"\",\"\",'All Bill Data Entry'!A133)","v":""},"","","",{"$f":"IF('LN-Line Data'!R128=\"\",\"\",'LN-Line Data'!R128)","v":""},"",{"$f":"IF('All Bill Data Entry'!O133=\"\",\"\",'All Bill Data Entry'!O133)","v":""},{"$f":"IF('All Bill Data Entry'!P133=\"\",\"\",'All Bill Data Entry'!P133)","v":""},{"$f":"IF('All Bill Data Entry'!Q133=\"\",\"\",'All Bill Data Entry'!Q133)","v":""},{"$f":"IF('All Bill Data Entry'!R133=\"\",\"\",'All Bill Data Entry'!R133)","v":""},{"$f":"IF('All Bill Data Entry'!S133=\"\",\"\",'All Bill Data Entry'!S133)","v":""},{"$f":"IF('All Bill Data Entry'!T133=\"\",\"\",'All Bill Data Entry'!T133)","v":""}]
["",{"$f":"IF('All Bill Data Entry'!A134=\"\",\"\",'All Bill Data Entry'!A134)","v":""},"","","",{"$f":"IF('LN-Line Data'!R129=\"\",\"\",'LN-Line Data'!R129)","v":""},"",{"$f":"IF('All Bill Data Entry'!O134=\"\",\"\",'All Bill Data Entry'!O134)","v":""},{"$f":"IF('All Bill Data Entry'!P134=\"\",\"\",'All Bill Data Entry'!P134)","v":""},{"$f":"IF('All Bill Data Entry'!Q134=\"\",\"\",'All Bill Data Entry'!Q134)","v":""},{"$f":"IF('All Bill Data Entry'!R134=\"\",\"\",'All Bill Data Entry'!R134)","v":""},{"$f":"IF('All Bill Data Entry'!S134=\"\",\"\",'All Bill Data Entry'!S134)","v":""},{"$f":"IF('All Bill Data Entry'!T134=\"\",\"\",'All Bill Data Entry'!T134)","v":""}]
["",{"$f":"IF('All Bill Data Entry'!A135=\"\",\"\",'All Bill Data Entry'!A135)","v":""},"","","",{"$f":"IF('LN-Line Data'!R130=\"\",\"\",'LN-Line Data'!R130)","v":""},"",{"$f":"IF('All Bill Data Entry'!O135=\"\",\"\",'All Bill Data Entry'!O135)","v":""},{"$f":"IF('All Bill Data Entry'!P135=\"\",\"\",'All Bill Data Entry'!P135)","v":""},{"$f":"IF('All Bill Data Entry'!Q135=\"\",\"\",'All Bill Data Entry'!Q135)","v":""},{"$f":"IF('All Bill Data Entry'!R135=\"\",\"\",'All Bill Data Entry'!R135)","v":""},{"$f":"IF('All Bill Data Entry'!S135=\"\",\"\",'All Bill Data Entry'!S135)","v":""},{"$f":"IF('All Bill Data Entry'!T135=\"\",\"\",'All Bill Data Entry'!T135)","v":""}]
["",{"$f":"IF('All Bill Data Entry'!A136=\"\",\"\",'All Bill Data Entry'!A136)","v":""},{"$f":"IF($B131=\"\",\"\",\"AE\")","v":""},{"$f":"IF($B131=\"\",\"\",\"RR\")","v":""},{"$f":"IF($B131=\"\",\"\",\"AUX01\")","v":""},{"$f":"IF('LN-Line Data'!R131=\"\",\"\",'LN-Line Data'!R131)","v":""},{"$f":"IF($B131=\"\",\"\",100)","v":""},{"$f":"IF('All Bill Data Entry'!O136=\"\",\"\",'All Bill Data Entry'!O136)","v":""},{"$f":"IF('All Bill Data Entry'!P136=\"\",\"\",'All Bill Data Entry'!P136)","v":""},{"$f":"IF('All Bill Data Entry'!Q136=\"\",\"\",'All Bill Data Entry'!Q136)","v":""},{"$f":"IF('All Bill Data Entry'!R136=\"\",\"\",'All Bill Data Entry'!R136)","v":""},{"$f":"IF('All Bill Data Entry'!S136=\"\",\"\",'All Bill Data Entry'!S136)","v":""},{"$f":"IF('All Bill Data Entry'!T136=\"\",\"\",'All Bill Data Entry'!T136)","v":""}]
["",{"$f":"IF('All Bill Data Entry'!A137=\"\",\"\",'All Bill Data Entry'!A137)","v":""},"","","",{"$f":"IF('LN-Line Data'!R132=\"\",\"\",'LN-Line Data'!R132)","v":""},"",{"$f":"IF('All Bill Data Entry'!O137=\"\",\"\",'All Bill Data Entry'!O137)","v":""},{"$f":"IF('All Bill Data Entry'!P137=\"\",\"\",'All Bill Data Entry'!P137)","v":""},{"$f":"IF('All Bill Data Entry'!Q137=\"\",\"\",'All Bill Data Entry'!Q137)","v":""},{"$f":"IF('All Bill Data Entry'!R137=\"\",\"\",'All Bill Data Entry'!R137)","v":""},{"$f":"IF('All Bill Data Entry'!S137=\"\",\"\",'All Bill Data Entry'!S137)","v":""},{"$f":"IF('All Bill Data Entry'!T137=\"\",\"\",'All Bill Data Entry'!T137)","v":""}]
["",{"$f":"IF('All Bill Data Entry'!A138=\"\",\"\",'All Bill Data Entry'!A138)","v":""},"","","",{"$f":"IF('LN-Line Data'!R133=\"\",\"\",'LN-Line Data'!R133)","v":""},"",{"$f":"IF('All Bill Data Entry'!O138=\"\",\"\",'All Bill Data Entry'!O138)","v":""},{"$f":"IF('All Bill Data Entry'!P138=\"\",\"\",'All Bill Data Entry'!P138)","v":""},{"$f":"IF('All Bill Data Entry'!Q138=\"\",\"\",'All Bill Data Entry'!Q138)","v":""},{"$f":"IF('All Bill Data Entry'!R138=\"\",\"\",'All Bill Data Entry'!R138)","v":""},{"$f":"IF('All Bill Data Entry'!S138=\"\",\"\",'All Bill Data Entry'!S138)","v":""},{"$f":"IF('All Bill Data Entry'!T138=\"\",\"\",'All Bill Data Entry'!T138)","v":""}]
["",{"$f":"IF('All Bill Data Entry'!A139=\"\",\"\",'All Bill Data Entry'!A139)","v":""},"","","",{"$f":"IF('LN-Line Data'!R134=\"\",\"\",'LN-Line Data'!R134)","v":""},"",{"$f":"IF('All Bill Data Entry'!O139=\"\",\"\",'All Bill Data Entry'!O139)","v":""},{"$f":"IF('All Bill Data Entry'!P139=\"\",\"\",'All Bill Data Entry'!P139)","v":""},{"$f":"IF('All Bill Data Entry'!Q139=\"\",\"\",'All Bill Data Entry'!Q139)","v":""},{"$f":"IF('All Bill Data Entry'!R139=\"\",\"\",'All Bill Data Entry'!R139)","v":""},{"$f":"IF('All Bill Data Entry'!S139=\"\",\"\",'All Bill Data Entry'!S139)","v":""},{"$f":"IF('All Bill Data Entry'!T139=\"\",\"\",'All Bill Data Entry'!T139)","v":""}]
["",{"$f":"IF('All Bill Data Entry'!A140=\"\",\"\",'All Bill Data Entry'!A140)","v":""},"","","",{"$f":"IF('LN-Line Data'!R135=\"\",\"\",'LN-Line Data'!R135)","v":""},"",{"$f":"IF('All Bill Data Entry'!O140=\"\",\"\",'All Bill Data Entry'!O140)","v":""},{"$f":"IF('All Bill Data Entry'!P140=\"\",\"\",'All Bill Data Entry'!P140)","v":""},{"$f":"IF('All Bill Data Entry'!Q140=\"\",\"\",'All Bill Data Entry'!Q140)","v":""},{"$f":"IF('All Bill Data Entry'!R140=\"\",\"\",'All Bill Data Entry'!R140)","v":""},{"$f":"IF('All Bill Data Entry'!S140=\"\",\"\",'All Bill Data Entry'!S140)","v":""},{"$f":"IF('All Bill Data Entry'!T140=\"\",\"\",'All Bill Data Entry'!T140)","v":""}]
["",{"$f":"IF('All Bill Data Entry'!A141=\"\",\"\",'All Bill Data Entry'!A141)","v":""},"","","",{"$f":"IF('LN-Line Data'!R136=\"\",\"\",'LN-Line Data'!R136)","v":""},"",{"$f":"IF('All Bill Data Entry'!O141=\"\",\"\",'All Bill Data Entry'!O141)","v":""},{"$f":"IF('All Bill Data Entry'!P141=\"\",\"\",'All Bill Data Entry'!P141)","v":""},{"$f":"IF('All Bill Data Entry'!Q141=\"\",\"\",'All Bill Data Entry'!Q141)","v":""},{"$f":"IF('All Bill Data Entry'!R141=\"\",\"\",'All Bill Data Entry'!R141)","v":""},{"$f":"IF('All Bill Data Entry'!S141=\"\",\"\",'All Bill Data Entry'!S141)","v":""},{"$f":"IF('All Bill Data Entry'!T141=\"\",\"\",'All Bill Data Entry'!T141)","v":""}]
["",{"$f":"IF('All Bill Data Entry'!A142=\"\",\"\",'All Bill Data Entry'!A142)","v":""},"","","",{"$f":"IF('LN-Line Data'!R137=\"\",\"\",'LN-Line Data'!R137)","v":""},"",{"$f":"IF('All Bill Data Entry'!O142=\"\",\"\",'All Bill Data Entry'!O142)","v":""},{"$f":"IF('All Bill Data Entry'!P142=\"\",\"\",'All Bill Data Entry'!P142)","v":""},{"$f":"IF('All Bill Data Entry'!Q142=\"\",\"\",'All Bill Data Entry'!Q142)","v":""},{"$f":"IF('All Bill Data Entry'!R142=\"\",\"\",'All Bill Data Entry'!R142)","v":""},{"$f":"IF('All Bill Data Entry'!S142=\"\",\"\",'All Bill Data Entry'!S142)","v":""},{"$f":"IF('All Bill Data Entry'!T142=\"\",\"\",'All Bill Data Entry'!T142)","v":""}]
[{"$f":"IF(B138=\"\",\"\",\"A\")","v":""},{"$f":"IF('All Bill Data Entry'!A143=\"\",\"\",'All Bill Data Entry'!A143)","v":""},"","","",{"$f":"IF('LN-Line Data'!R138=\"\",\"\",'LN-Line Data'!R138)","v":""},"",{"$f":"IF('All Bill Data Entry'!O143=\"\",\"\",'All Bill Data Entry'!O143)","v":""},{"$f":"IF('All Bill Data Entry'!P143=\"\",\"\",'All Bill Data Entry'!P143)","v":""},{"$f":"IF('All Bill Data Entry'!Q143=\"\",\"\",'All Bill Data Entry'!Q143)","v":""},{"$f":"IF('All Bill Data Entry'!R143=\"\",\"\",'All Bill Data Entry'!R143)","v":""},{"$f":"IF('All Bill Data Entry'!S143=\"\",\"\",'All Bill Data Entry'!S143)","v":""},{"$f":"IF('All Bill Data Entry'!T143=\"\",\"\",'All Bill Data Entry'!T143)","v":""}]
["",{"$f":"IF('All Bill Data Entry'!A144=\"\",\"\",'All Bill Data Entry'!A144)","v":""},"","","",{"$f":"IF('LN-Line Data'!R139=\"\",\"\",'LN-Line Data'!R139)","v":""},"",{"$f":"IF('All Bill Data Entry'!O144=\"\",\"\",'All Bill Data Entry'!O144)","v":""},{"$f":"IF('All Bill Data Entry'!P144=\"\",\"\",'All Bill Data Entry'!P144)","v":""},{"$f":"IF('All Bill Data Entry'!Q144=\"\",\"\",'All Bill Data Entry'!Q144)","v":""},{"$f":"IF('All Bill Data Entry'!R144=\"\",\"\",'All Bill Data Entry'!R144)","v":""},{"$f":"IF('All Bill Data Entry'!S144=\"\",\"\",'All Bill Data Entry'!S144)","v":""},{"$f":"IF('All Bill Data Entry'!T144=\"\",\"\",'All Bill Data Entry'!T144)","v":""}]
["",{"$f":"IF('All Bill Data Entry'!A145=\"\",\"\",'All Bill Data Entry'!A145)","v":""},"","","",{"$f":"IF('LN-Line Data'!R140=\"\",\"\",'LN-Line Data'!R140)","v":""},"",{"$f":"IF('All Bill Data Entry'!O145=\"\",\"\",'All Bill Data Entry'!O145)","v":""},{"$f":"IF('All Bill Data Entry'!P145=\"\",\"\",'All Bill Data Entry'!P145)","v":""},{"$f":"IF('All Bill Data Entry'!Q145=\"\",\"\",'All Bill Data Entry'!Q145)","v":""},{"$f":"IF('All Bill Data Entry'!R145=\"\",\"\",'All Bill Data Entry'!R145)","v":""},{"$f":"IF('All Bill Data Entry'!S145=\"\",\"\",'All Bill Data Entry'!S145)","v":""},{"$f":"IF('All Bill Data Entry'!T145=\"\",\"\",'All Bill Data Entry'!T145)","v":""}]
["",{"$f":"IF('All Bill Data Entry'!A146=\"\",\"\",'All Bill Data Entry'!A146)","v":""},"","","",{"$f":"IF('LN-Line Data'!R141=\"\",\"\",'LN-Line Data'!R141)","v":""},"",{"$f":"IF('All Bill Data Entry'!O146=\"\",\"\",'All Bill Data Entry'!O146)","v":""},{"$f":"IF('All Bill Data Entry'!P146=\"\",\"\",'All Bill Data Entry'!P146)","v":""},{"$f":"IF('All Bill Data Entry'!Q146=\"\",\"\",'All Bill Data Entry'!Q146)","v":""},{"$f":"IF('All Bill Data Entry'!R146=\"\",\"\",'All Bill Data Entry'!R146)","v":""},{"$f":"IF('All Bill Data Entry'!S146=\"\",\"\",'All Bill Data Entry'!S146)","v":""},{"$f":"IF('All Bill Data Entry'!T146=\"\",\"\",'All Bill Data Entry'!T146)","v":""}]
["",{"$f":"IF('All Bill Data Entry'!A147=\"\",\"\",'All Bill Data Entry'!A147)","v":""},"","","",{"$f":"IF('LN-Line Data'!R142=\"\",\"\",'LN-Line Data'!R142)","v":""},"",{"$f":"IF('All Bill Data Entry'!O147=\"\",\"\",'All Bill Data Entry'!O147)","v":""},{"$f":"IF('All Bill Data Entry'!P147=\"\",\"\",'All Bill Data Entry'!P147)","v":""},{"$f":"IF('All Bill Data Entry'!Q147=\"\",\"\",'All Bill Data Entry'!Q147)","v":""},{"$f":"IF('All Bill Data Entry'!R147=\"\",\"\",'All Bill Data Entry'!R147)","v":""},{"$f":"IF('All Bill Data Entry'!S147=\"\",\"\",'All Bill Data Entry'!S147)","v":""},{"$f":"IF('All Bill Data Entry'!T147=\"\",\"\",'All Bill Data Entry'!T147)","v":""}]
["",{"$f":"IF('All Bill Data Entry'!A148=\"\",\"\",'All Bill Data Entry'!A148)","v":""},"","","",{"$f":"IF('LN-Line Data'!R143=\"\",\"\",'LN-Line Data'!R143)","v":""},"",{"$f":"IF('All Bill Data Entry'!O148=\"\",\"\",'All Bill Data Entry'!O148)","v":""},{"$f":"IF('All Bill Data Entry'!P148=\"\",\"\",'All Bill Data Entry'!P148)","v":""},{"$f":"IF('All Bill Data Entry'!Q148=\"\",\"\",'All Bill Data Entry'!Q148)","v":""},{"$f":"IF('All Bill Data Entry'!R148=\"\",\"\",'All Bill Data Entry'!R148)","v":""},{"$f":"IF('All Bill Data Entry'!S148=\"\",\"\",'All Bill Data Entry'!S148)","v":""},{"$f":"IF('All Bill Data Entry'!T148=\"\",\"\",'All Bill Data Entry'!T148)","v":""}]
["",{"$f":"IF('All Bill Data Entry'!A149=\"\",\"\",'All Bill Data Entry'!A149)","v":""},"","","",{"$f":"IF('LN-Line Data'!R144=\"\",\"\",'LN-Line Data'!R144)","v":""},"",{"$f":"IF('All Bill Data Entry'!O149=\"\",\"\",'All Bill Data Entry'!O149)","v":""},{"$f":"IF('All Bill Data Entry'!P149=\"\",\"\",'All Bill Data Entry'!P149)","v":""},{"$f":"IF('All Bill Data Entry'!Q149=\"\",\"\",'All Bill Data Entry'!Q149)","v":""},{"$f":"IF('All Bill Data Entry'!R149=\"\",\"\",'All Bill Data Entry'!R149)","v":""},{"$f":"IF('All Bill Data Entry'!S149=\"\",\"\",'All Bill Data Entry'!S149)","v":""},{"$f":"IF('All Bill Data Entry'!T149=\"\",\"\",'All Bill Data Entry'!T149)","v":""}]
["",{"$f":"IF('All Bill Data Entry'!A150=\"\",\"\",'All Bill Data Entry'!A150)","v":""},"","","",{"$f":"IF('LN-Line Data'!R145=\"\",\"\",'LN-Line Data'!R145)","v":""},"",{"$f":"IF('All Bill Data Entry'!O150=\"\",\"\",'All Bill Data Entry'!O150)","v":""},{"$f":"IF('All Bill Data Entry'!P150=\"\",\"\",'All Bill Data Entry'!P150)","v":""},{"$f":"IF('All Bill Data Entry'!Q150=\"\",\"\",'All Bill Data Entry'!Q150)","v":""},{"$f":"IF('All Bill Data Entry'!R150=\"\",\"\",'All Bill Data Entry'!R150)","v":""},{"$f":"IF('All Bill Data Entry'!S150=\"\",\"\",'All Bill Data Entry'!S150)","v":""},{"$f":"IF('All Bill Data Entry'!T150=\"\",\"\",'All Bill Data Entry'!T150)","v":""}]
["",{"$f":"IF('All Bill Data Entry'!A151=\"\",\"\",'All Bill Data Entry'!A151)","v":""},"","","",{"$f":"IF('LN-Line Data'!R146=\"\",\"\",'LN-Line Data'!R146)","v":""},"",{"$f":"IF('All Bill Data Entry'!O151=\"\",\"\",'All Bill Data Entry'!O151)","v":""},{"$f":"IF('All Bill Data Entry'!P151=\"\",\"\",'All Bill Data Entry'!P151)","v":""},{"$f":"IF('All Bill Data Entry'!Q151=\"\",\"\",'All Bill Data Entry'!Q151)","v":""},{"$f":"IF('All Bill Data Entry'!R151=\"\",\"\",'All Bill Data Entry'!R151)","v":""},{"$f":"IF('All Bill Data Entry'!S151=\"\",\"\",'All Bill Data Entry'!S151)","v":""},{"$f":"IF('All Bill Data Entry'!T151=\"\",\"\",'All Bill Data Entry'!T151)","v":""}]
["",{"$f":"IF('All Bill Data Entry'!A152=\"\",\"\",'All Bill Data Entry'!A152)","v":""},"","","",{"$f":"IF('LN-Line Data'!R147=\"\",\"\",'LN-Line Data'!R147)","v":""},"",{"$f":"IF('All Bill Data Entry'!O152=\"\",\"\",'All Bill Data Entry'!O152)","v":""},{"$f":"IF('All Bill Data Entry'!P152=\"\",\"\",'All Bill Data Entry'!P152)","v":""},{"$f":"IF('All Bill Data Entry'!Q152=\"\",\"\",'All Bill Data Entry'!Q152)","v":""},{"$f":"IF('All Bill Data Entry'!R152=\"\",\"\",'All Bill Data Entry'!R152)","v":""},{"$f":"IF('All Bill Data Entry'!S152=\"\",\"\",'All Bill Data Entry'!S152)","v":""},{"$f":"IF('All Bill Data Entry'!T152=\"\",\"\",'All Bill Data Entry'!T152)","v":""}]
["",{"$f":"IF('All Bill Data Entry'!A153=\"\",\"\",'All Bill Data Entry'!A153)","v":""},"","","",{"$f":"IF('LN-Line Data'!R148=\"\",\"\",'LN-Line Data'!R148)","v":""},"",{"$f":"IF('All Bill Data Entry'!O153=\"\",\"\",'All Bill Data Entry'!O153)","v":""},{"$f":"IF('All Bill Data Entry'!P153=\"\",\"\",'All Bill Data Entry'!P153)","v":""},{"$f":"IF('All Bill Data Entry'!Q153=\"\",\"\",'All Bill Data Entry'!Q153)","v":""},{"$f":"IF('All Bill Data Entry'!R153=\"\",\"\",'All Bill Data Entry'!R153)","v":""},{"$f":"IF('All Bill Data Entry'!S153=\"\",\"\",'All Bill Data Entry'!S153)","v":""},{"$f":"IF('All Bill Data Entry'!T153=\"\",\"\",'All Bill Data Entry'!T153)","v":""}]
["",{"$f":"IF('All Bill Data Entry'!A154=\"\",\"\",'All Bill Data Entry'!A154)","v":""},"","","",{"$f":"IF('LN-Line Data'!R149=\"\",\"\",'LN-Line Data'!R149)","v":""},"",{"$f":"IF('All Bill Data Entry'!O154=\"\",\"\",'All Bill Data Entry'!O154)","v":""},{"$f":"IF('All Bill Data Entry'!P154=\"\",\"\",'All Bill Data Entry'!P154)","v":""},{"$f":"IF('All Bill Data Entry'!Q154=\"\",\"\",'All Bill Data Entry'!Q154)","v":""},{"$f":"IF('All Bill Data Entry'!R154=\"\",\"\",'All Bill Data Entry'!R154)","v":""},{"$f":"IF('All Bill Data Entry'!S154=\"\",\"\",'All Bill Data Entry'!S154)","v":""},{"$f":"IF('All Bill Data Entry'!T154=\"\",\"\",'All Bill Data Entry'!T154)","v":""}]
["",{"$f":"IF('All Bill Data Entry'!A155=\"\",\"\",'All Bill Data Entry'!A155)","v":""},"","","",{"$f":"IF('LN-Line Data'!R150=\"\",\"\",'LN-Line Data'!R150)","v":""},"",{"$f":"IF('All Bill Data Entry'!O155=\"\",\"\",'All Bill Data Entry'!O155)","v":""},{"$f":"IF('All Bill Data Entry'!P155=\"\",\"\",'All Bill Data Entry'!P155)","v":""},{"$f":"IF('All Bill Data Entry'!Q155=\"\",\"\",'All Bill Data Entry'!Q155)","v":""},{"$f":"IF('All Bill Data Entry'!R155=\"\",\"\",'All Bill Data Entry'!R155)","v":""},{"$f":"IF('All Bill Data Entry'!S155=\"\",\"\",'All Bill Data Entry'!S155)","v":""},{"$f":"IF('All Bill Data Entry'!T155=\"\",\"\",'All Bill Data Entry'!T155)","v":""}]
["",{"$f":"IF('All Bill Data Entry'!A156=\"\",\"\",'All Bill Data Entry'!A156)","v":""},"","","",{"$f":"IF('LN-Line Data'!R151=\"\",\"\",'LN-Line Data'!R151)","v":""},"",{"$f":"IF('All Bill Data Entry'!O156=\"\",\"\",'All Bill Data Entry'!O156)","v":""},{"$f":"IF('All Bill Data Entry'!P156=\"\",\"\",'All Bill Data Entry'!P156)","v":""},{"$f":"IF('All Bill Data Entry'!Q156=\"\",\"\",'All Bill Data Entry'!Q156)","v":""},{"$f":"IF('All Bill Data Entry'!R156=\"\",\"\",'All Bill Data Entry'!R156)","v":""},{"$f":"IF('All Bill Data Entry'!S156=\"\",\"\",'All Bill Data Entry'!S156)","v":""},{"$f":"IF('All Bill Data Entry'!T156=\"\",\"\",'All Bill Data Entry'!T156)","v":""}]
["",{"$f":"IF('All Bill Data Entry'!A157=\"\",\"\",'All Bill Data Entry'!A157)","v":""},"","","",{"$f":"IF('LN-Line Data'!R152=\"\",\"\",'LN-Line Data'!R152)","v":""},"",{"$f":"IF('All Bill Data Entry'!O157=\"\",\"\",'All Bill Data Entry'!O157)","v":""},{"$f":"IF('All Bill Data Entry'!P157=\"\",\"\",'All Bill Data Entry'!P157)","v":""},{"$f":"IF('All Bill Data Entry'!Q157=\"\",\"\",'All Bill Data Entry'!Q157)","v":""},{"$f":"IF('All Bill Data Entry'!R157=\"\",\"\",'All Bill Data Entry'!R157)","v":""},{"$f":"IF('All Bill Data Entry'!S157=\"\",\"\",'All Bill Data Entry'!S157)","v":""},{"$f":"IF('All Bill Data Entry'!T157=\"\",\"\",'All Bill Data Entry'!T157)","v":""}]
["",{"$f":"IF('All Bill Data Entry'!A158=\"\",\"\",'All Bill Data Entry'!A158)","v":""},"","","",{"$f":"IF('LN-Line Data'!R153=\"\",\"\",'LN-Line Data'!R153)","v":""},"",{"$f":"IF('All Bill Data Entry'!O158=\"\",\"\",'All Bill Data Entry'!O158)","v":""},{"$f":"IF('All Bill Data Entry'!P158=\"\",\"\",'All Bill Data Entry'!P158)","v":""},{"$f":"IF('All Bill Data Entry'!Q158=\"\",\"\",'All Bill Data Entry'!Q158)","v":""},{"$f":"IF('All Bill Data Entry'!R158=\"\",\"\",'All Bill Data Entry'!R158)","v":""},{"$f":"IF('All Bill Data Entry'!S158=\"\",\"\",'All Bill Data Entry'!S158)","v":""},{"$f":"IF('All Bill Data Entry'!T158=\"\",\"\",'All Bill Data Entry'!T158)","v":""}]
["",{"$f":"IF('All Bill Data Entry'!A159=\"\",\"\",'All Bill Data Entry'!A159)","v":""},"","","",{"$f":"IF('LN-Line Data'!R154=\"\",\"\",'LN-Line Data'!R154)","v":""},"",{"$f":"IF('All Bill Data Entry'!O159=\"\",\"\",'All Bill Data Entry'!O159)","v":""},{"$f":"IF('All Bill Data Entry'!P159=\"\",\"\",'All Bill Data Entry'!P159)","v":""},{"$f":"IF('All Bill Data Entry'!Q159=\"\",\"\",'All Bill Data Entry'!Q159)","v":""},{"$f":"IF('All Bill Data Entry'!R159=\"\",\"\",'All Bill Data Entry'!R159)","v":""},{"$f":"IF('All Bill Data Entry'!S159=\"\",\"\",'All Bill Data Entry'!S159)","v":""},{"$f":"IF('All Bill Data Entry'!T159=\"\",\"\",'All Bill Data Entry'!T159)","v":""}]
["",{"$f":"IF('All Bill Data Entry'!A160=\"\",\"\",'All Bill Data Entry'!A160)","v":""},"","","",{"$f":"IF('LN-Line Data'!R155=\"\",\"\",'LN-Line Data'!R155)","v":""},"",{"$f":"IF('All Bill Data Entry'!O160=\"\",\"\",'All Bill Data Entry'!O160)","v":""},{"$f":"IF('All Bill Data Entry'!P160=\"\",\"\",'All Bill Data Entry'!P160)","v":""},{"$f":"IF('All Bill Data Entry'!Q160=\"\",\"\",'All Bill Data Entry'!Q160)","v":""},{"$f":"IF('All Bill Data Entry'!R160=\"\",\"\",'All Bill Data Entry'!R160)","v":""},{"$f":"IF('All Bill Data Entry'!S160=\"\",\"\",'All Bill Data Entry'!S160)","v":""},{"$f":"IF('All Bill Data Entry'!T160=\"\",\"\",'All Bill Data Entry'!T160)","v":""}]
["",{"$f":"IF('All Bill Data Entry'!A161=\"\",\"\",'All Bill Data Entry'!A161)","v":""},"","","",{"$f":"IF('LN-Line Data'!R156=\"\",\"\",'LN-Line Data'!R156)","v":""},"",{"$f":"IF('All Bill Data Entry'!O161=\"\",\"\",'All Bill Data Entry'!O161)","v":""},{"$f":"IF('All Bill Data Entry'!P161=\"\",\"\",'All Bill Data Entry'!P161)","v":""},{"$f":"IF('All Bill Data Entry'!Q161=\"\",\"\",'All Bill Data Entry'!Q161)","v":""},{"$f":"IF('All Bill Data Entry'!R161=\"\",\"\",'All Bill Data Entry'!R161)","v":""},{"$f":"IF('All Bill Data Entry'!S161=\"\",\"\",'All Bill Data Entry'!S161)","v":""},{"$f":"IF('All Bill Data Entry'!T161=\"\",\"\",'All Bill Data Entry'!T161)","v":""}]
["",{"$f":"IF('All Bill Data Entry'!A162=\"\",\"\",'All Bill Data Entry'!A162)","v":""},"","","",{"$f":"IF('LN-Line Data'!R157=\"\",\"\",'LN-Line Data'!R157)","v":""},"",{"$f":"IF('All Bill Data Entry'!O162=\"\",\"\",'All Bill Data Entry'!O162)","v":""},{"$f":"IF('All Bill Data Entry'!P162=\"\",\"\",'All Bill Data Entry'!P162)","v":""},{"$f":"IF('All Bill Data Entry'!Q162=\"\",\"\",'All Bill Data Entry'!Q162)","v":""},{"$f":"IF('All Bill Data Entry'!R162=\"\",\"\",'All Bill Data Entry'!R162)","v":""},{"$f":"IF('All Bill Data Entry'!S162=\"\",\"\",'All Bill Data Entry'!S162)","v":""},{"$f":"IF('All Bill Data Entry'!T162=\"\",\"\",'All Bill Data Entry'!T162)","v":""}]
["",{"$f":"IF('All Bill Data Entry'!A163=\"\",\"\",'All Bill Data Entry'!A163)","v":""},"","","",{"$f":"IF('LN-Line Data'!R158=\"\",\"\",'LN-Line Data'!R158)","v":""},"",{"$f":"IF('All Bill Data Entry'!O163=\"\",\"\",'All Bill Data Entry'!O163)","v":""},{"$f":"IF('All Bill Data Entry'!P163=\"\",\"\",'All Bill Data Entry'!P163)","v":""},{"$f":"IF('All Bill Data Entry'!Q163=\"\",\"\",'All Bill Data Entry'!Q163)","v":""},{"$f":"IF('All Bill Data Entry'!R163=\"\",\"\",'All Bill Data Entry'!R163)","v":""},{"$f":"IF('All Bill Data Entry'!S163=\"\",\"\",'All Bill Data Entry'!S163)","v":""},{"$f":"IF('All Bill Data Entry'!T163=\"\",\"\",'All Bill Data Entry'!T163)","v":""}]
["",{"$f":"IF('All Bill Data Entry'!A164=\"\",\"\",'All Bill Data Entry'!A164)","v":""},"","","",{"$f":"IF('LN-Line Data'!R159=\"\",\"\",'LN-Line Data'!R159)","v":""},"",{"$f":"IF('All Bill Data Entry'!O164=\"\",\"\",'All Bill Data Entry'!O164)","v":""},{"$f":"IF('All Bill Data Entry'!P164=\"\",\"\",'All Bill Data Entry'!P164)","v":""},{"$f":"IF('All Bill Data Entry'!Q164=\"\",\"\",'All Bill Data Entry'!Q164)","v":""},{"$f":"IF('All Bill Data Entry'!R164=\"\",\"\",'All Bill Data Entry'!R164)","v":""},{"$f":"IF('All Bill Data Entry'!S164=\"\",\"\",'All Bill Data Entry'!S164)","v":""},{"$f":"IF('All Bill Data Entry'!T164=\"\",\"\",'All Bill Data Entry'!T164)","v":""}]
["",{"$f":"IF('All Bill Data Entry'!A165=\"\",\"\",'All Bill Data Entry'!A165)","v":""},"","","",{"$f":"IF('LN-Line Data'!R160=\"\",\"\",'LN-Line Data'!R160)","v":""},"",{"$f":"IF('All Bill Data Entry'!O165=\"\",\"\",'All Bill Data Entry'!O165)","v":""},{"$f":"IF('All Bill Data Entry'!P165=\"\",\"\",'All Bill Data Entry'!P165)","v":""},{"$f":"IF('All Bill Data Entry'!Q165=\"\",\"\",'All Bill Data Entry'!Q165)","v":""},{"$f":"IF('All Bill Data Entry'!R165=\"\",\"\",'All Bill Data Entry'!R165)","v":""},{"$f":"IF('All Bill Data Entry'!S165=\"\",\"\",'All Bill Data Entry'!S165)","v":""},{"$f":"IF('All Bill Data Entry'!T165=\"\",\"\",'All Bill Data Entry'!T165)","v":""}]
["",{"$f":"IF('All Bill Data Entry'!A166=\"\",\"\",'All Bill Data Entry'!A166)","v":""},"","","",{"$f":"IF('LN-Line Data'!R161=\"\",\"\",'LN-Line Data'!R161)","v":""},"",{"$f":"IF('All Bill Data Entry'!O166=\"\",\"\",'All Bill Data Entry'!O166)","v":""},{"$f":"IF('All Bill Data Entry'!P166=\"\",\"\",'All Bill Data Entry'!P166)","v":""},{"$f":"IF('All Bill Data Entry'!Q166=\"\",\"\",'All Bill Data Entry'!Q166)","v":""},{"$f":"IF('All Bill Data Entry'!R166=\"\",\"\",'All Bill Data Entry'!R166)","v":""},{"$f":"IF('All Bill Data Entry'!S166=\"\",\"\",'All Bill Data Entry'!S166)","v":""},{"$f":"IF('All Bill Data Entry'!T166=\"\",\"\",'All Bill Data Entry'!T166)","v":""}]
["",{"$f":"IF('All Bill Data Entry'!A167=\"\",\"\",'All Bill Data Entry'!A167)","v":""},"","","",{"$f":"IF('LN-Line Data'!R162=\"\",\"\",'LN-Line Data'!R162)","v":""},"",{"$f":"IF('All Bill Data Entry'!O167=\"\",\"\",'All Bill Data Entry'!O167)","v":""},{"$f":"IF('All Bill Data Entry'!P167=\"\",\"\",'All Bill Data Entry'!P167)","v":""},{"$f":"IF('All Bill Data Entry'!Q167=\"\",\"\",'All Bill Data Entry'!Q167)","v":""},{"$f":"IF('All Bill Data Entry'!R167=\"\",\"\",'All Bill Data Entry'!R167)","v":""},{"$f":"IF('All Bill Data Entry'!S167=\"\",\"\",'All Bill Data Entry'!S167)","v":""},{"$f":"IF('All Bill Data Entry'!T167=\"\",\"\",'All Bill Data Entry'!T167)","v":""}]
["",{"$f":"IF('All Bill Data Entry'!A168=\"\",\"\",'All Bill Data Entry'!A168)","v":""},"","","",{"$f":"IF('LN-Line Data'!R163=\"\",\"\",'LN-Line Data'!R163)","v":""},"",{"$f":"IF('All Bill Data Entry'!O168=\"\",\"\",'All Bill Data Entry'!O168)","v":""},{"$f":"IF('All Bill Data Entry'!P168=\"\",\"\",'All Bill Data Entry'!P168)","v":""},{"$f":"IF('All Bill Data Entry'!Q168=\"\",\"\",'All Bill Data Entry'!Q168)","v":""},{"$f":"IF('All Bill Data Entry'!R168=\"\",\"\",'All Bill Data Entry'!R168)","v":""},{"$f":"IF('All Bill Data Entry'!S168=\"\",\"\",'All Bill Data Entry'!S168)","v":""},{"$f":"IF('All Bill Data Entry'!T168=\"\",\"\",'All Bill Data Entry'!T168)","v":""}]
["",{"$f":"IF('All Bill Data Entry'!A169=\"\",\"\",'All Bill Data Entry'!A169)","v":""},"","","",{"$f":"IF('LN-Line Data'!R164=\"\",\"\",'LN-Line Data'!R164)","v":""},"",{"$f":"IF('All Bill Data Entry'!O169=\"\",\"\",'All Bill Data Entry'!O169)","v":""},{"$f":"IF('All Bill Data Entry'!P169=\"\",\"\",'All Bill Data Entry'!P169)","v":""},{"$f":"IF('All Bill Data Entry'!Q169=\"\",\"\",'All Bill Data Entry'!Q169)","v":""},{"$f":"IF('All Bill Data Entry'!R169=\"\",\"\",'All Bill Data Entry'!R169)","v":""},{"$f":"IF('All Bill Data Entry'!S169=\"\",\"\",'All Bill Data Entry'!S169)","v":""},{"$f":"IF('All Bill Data Entry'!T169=\"\",\"\",'All Bill Data Entry'!T169)","v":""}]
["",{"$f":"IF('All Bill Data Entry'!A170=\"\",\"\",'All Bill Data Entry'!A170)","v":""},"","","",{"$f":"IF('LN-Line Data'!R165=\"\",\"\",'LN-Line Data'!R165)","v":""},"",{"$f":"IF('All Bill Data Entry'!O170=\"\",\"\",'All Bill Data Entry'!O170)","v":""},{"$f":"IF('All Bill Data Entry'!P170=\"\",\"\",'All Bill Data Entry'!P170)","v":""},{"$f":"IF('All Bill Data Entry'!Q170=\"\",\"\",'All Bill Data Entry'!Q170)","v":""},{"$f":"IF('All Bill Data Entry'!R170=\"\",\"\",'All Bill Data Entry'!R170)","v":""},{"$f":"IF('All Bill Data Entry'!S170=\"\",\"\",'All Bill Data Entry'!S170)","v":""},{"$f":"IF('All Bill Data Entry'!T170=\"\",\"\",'All Bill Data Entry'!T170)","v":""}]
["",{"$f":"IF('All Bill Data Entry'!A171=\"\",\"\",'All Bill Data Entry'!A171)","v":""},"","","",{"$f":"IF('LN-Line Data'!R166=\"\",\"\",'LN-Line Data'!R166)","v":""},"",{"$f":"IF('All Bill Data Entry'!O171=\"\",\"\",'All Bill Data Entry'!O171)","v":""},{"$f":"IF('All Bill Data Entry'!P171=\"\",\"\",'All Bill Data Entry'!P171)","v":""},{"$f":"IF('All Bill Data Entry'!Q171=\"\",\"\",'All Bill Data Entry'!Q171)","v":""},{"$f":"IF('All Bill Data Entry'!R171=\"\",\"\",'All Bill Data Entry'!R171)","v":""},{"$f":"IF('All Bill Data Entry'!S171=\"\",\"\",'All Bill Data Entry'!S171)","v":""},{"$f":"IF('All Bill Data Entry'!T171=\"\",\"\",'All Bill Data Entry'!T171)","v":""}]
["",{"$f":"IF('All Bill Data Entry'!A172=\"\",\"\",'All Bill Data Entry'!A172)","v":""},"","","",{"$f":"IF('LN-Line Data'!R167=\"\",\"\",'LN-Line Data'!R167)","v":""},"",{"$f":"IF('All Bill Data Entry'!O172=\"\",\"\",'All Bill Data Entry'!O172)","v":""},{"$f":"IF('All Bill Data Entry'!P172=\"\",\"\",'All Bill Data Entry'!P172)","v":""},{"$f":"IF('All Bill Data Entry'!Q172=\"\",\"\",'All Bill Data Entry'!Q172)","v":""},{"$f":"IF('All Bill Data Entry'!R172=\"\",\"\",'All Bill Data Entry'!R172)","v":""},{"$f":"IF('All Bill Data Entry'!S172=\"\",\"\",'All Bill Data Entry'!S172)","v":""},{"$f":"IF('All Bill Data Entry'!T172=\"\",\"\",'All Bill Data Entry'!T172)","v":""}]
["",{"$f":"IF('All Bill Data Entry'!A173=\"\",\"\",'All Bill Data Entry'!A173)","v":""},"","","",{"$f":"IF('LN-Line Data'!R168=\"\",\"\",'LN-Line Data'!R168)","v":""},"",{"$f":"IF('All Bill Data Entry'!O173=\"\",\"\",'All Bill Data Entry'!O173)","v":""},{"$f":"IF('All Bill Data Entry'!P173=\"\",\"\",'All Bill Data Entry'!P173)","v":""},{"$f":"IF('All Bill Data Entry'!Q173=\"\",\"\",'All Bill Data Entry'!Q173)","v":""},{"$f":"IF('All Bill Data Entry'!R173=\"\",\"\",'All Bill Data Entry'!R173)","v":""},{"$f":"IF('All Bill Data Entry'!S173=\"\",\"\",'All Bill Data Entry'!S173)","v":""},{"$f":"IF('All Bill Data Entry'!T173=\"\",\"\",'All Bill Data Entry'!T173)","v":""}]
["",{"$f":"IF('All Bill Data Entry'!A174=\"\",\"\",'All Bill Data Entry'!A174)","v":""},"","","",{"$f":"IF('LN-Line Data'!R169=\"\",\"\",'LN-Line Data'!R169)","v":""},"",{"$f":"IF('All Bill Data Entry'!O174=\"\",\"\",'All Bill Data Entry'!O174)","v":""},{"$f":"IF('All Bill Data Entry'!P174=\"\",\"\",'All Bill Data Entry'!P174)","v":""},{"$f":"IF('All Bill Data Entry'!Q174=\"\",\"\",'All Bill Data Entry'!Q174)","v":""},{"$f":"IF('All Bill Data Entry'!R174=\"\",\"\",'All Bill Data Entry'!R174)","v":""},{"$f":"IF('All Bill Data Entry'!S174=\"\",\"\",'All Bill Data Entry'!S174)","v":""},{"$f":"IF('All Bill Data Entry'!T174=\"\",\"\",'All Bill Data Entry'!T174)","v":""}]
["",{"$f":"IF('All Bill Data Entry'!A175=\"\",\"\",'All Bill Data Entry'!A175)","v":""},"","","",{"$f":"IF('LN-Line Data'!R170=\"\",\"\",'LN-Line Data'!R170)","v":""},"",{"$f":"IF('All Bill Data Entry'!O175=\"\",\"\",'All Bill Data Entry'!O175)","v":""},{"$f":"IF('All Bill Data Entry'!P175=\"\",\"\",'All Bill Data Entry'!P175)","v":""},{"$f":"IF('All Bill Data Entry'!Q175=\"\",\"\",'All Bill Data Entry'!Q175)","v":""},{"$f":"IF('All Bill Data Entry'!R175=\"\",\"\",'All Bill Data Entry'!R175)","v":""},{"$f":"IF('All Bill Data Entry'!S175=\"\",\"\",'All Bill Data Entry'!S175)","v":""},{"$f":"IF('All Bill Data Entry'!T175=\"\",\"\",'All Bill Data Entry'!T175)","v":""}]
["",{"$f":"IF('All Bill Data Entry'!A176=\"\",\"\",'All Bill Data Entry'!A176)","v":""},"","","",{"$f":"IF('LN-Line Data'!R171=\"\",\"\",'LN-Line Data'!R171)","v":""},"",{"$f":"IF('All Bill Data Entry'!O176=\"\",\"\",'All Bill Data Entry'!O176)","v":""},{"$f":"IF('All Bill Data Entry'!P176=\"\",\"\",'All Bill Data Entry'!P176)","v":""},{"$f":"IF('All Bill Data Entry'!Q176=\"\",\"\",'All Bill Data Entry'!Q176)","v":""},{"$f":"IF('All Bill Data Entry'!R176=\"\",\"\",'All Bill Data Entry'!R176)","v":""},{"$f":"IF('All Bill Data Entry'!S176=\"\",\"\",'All Bill Data Entry'!S176)","v":""},{"$f":"IF('All Bill Data Entry'!T176=\"\",\"\",'All Bill Data Entry'!T176)","v":""}]
["",{"$f":"IF('All Bill Data Entry'!A177=\"\",\"\",'All Bill Data Entry'!A177)","v":""},"","","",{"$f":"IF('LN-Line Data'!R172=\"\",\"\",'LN-Line Data'!R172)","v":""},"",{"$f":"IF('All Bill Data Entry'!O177=\"\",\"\",'All Bill Data Entry'!O177)","v":""},{"$f":"IF('All Bill Data Entry'!P177=\"\",\"\",'All Bill Data Entry'!P177)","v":""},{"$f":"IF('All Bill Data Entry'!Q177=\"\",\"\",'All Bill Data Entry'!Q177)","v":""},{"$f":"IF('All Bill Data Entry'!R177=\"\",\"\",'All Bill Data Entry'!R177)","v":""},{"$f":"IF('All Bill Data Entry'!S177=\"\",\"\",'All Bill Data Entry'!S177)","v":""},{"$f":"IF('All Bill Data Entry'!T177=\"\",\"\",'All Bill Data Entry'!T177)","v":""}]
["",{"$f":"IF('All Bill Data Entry'!A178=\"\",\"\",'All Bill Data Entry'!A178)","v":""},"","","",{"$f":"IF('LN-Line Data'!R173=\"\",\"\",'LN-Line Data'!R173)","v":""},"",{"$f":"IF('All Bill Data Entry'!O178=\"\",\"\",'All Bill Data Entry'!O178)","v":""},{"$f":"IF('All Bill Data Entry'!P178=\"\",\"\",'All Bill Data Entry'!P178)","v":""},{"$f":"IF('All Bill Data Entry'!Q178=\"\",\"\",'All Bill Data Entry'!Q178)","v":""},{"$f":"IF('All Bill Data Entry'!R178=\"\",\"\",'All Bill Data Entry'!R178)","v":""},{"$f":"IF('All Bill Data Entry'!S178=\"\",\"\",'All Bill Data Entry'!S178)","v":""},{"$f":"IF('All Bill Data Entry'!T178=\"\",\"\",'All Bill Data Entry'!T178)","v":""}]
["",{"$f":"IF('All Bill Data Entry'!A179=\"\",\"\",'All Bill Data Entry'!A179)","v":""},"","","",{"$f":"IF('LN-Line Data'!R174=\"\",\"\",'LN-Line Data'!R174)","v":""},"",{"$f":"IF('All Bill Data Entry'!O179=\"\",\"\",'All Bill Data Entry'!O179)","v":""},{"$f":"IF('All Bill Data Entry'!P179=\"\",\"\",'All Bill Data Entry'!P179)","v":""},{"$f":"IF('All Bill Data Entry'!Q179=\"\",\"\",'All Bill Data Entry'!Q179)","v":""},{"$f":"IF('All Bill Data Entry'!R179=\"\",\"\",'All Bill Data Entry'!R179)","v":""},{"$f":"IF('All Bill Data Entry'!S179=\"\",\"\",'All Bill Data Entry'!S179)","v":""},{"$f":"IF('All Bill Data Entry'!T179=\"\",\"\",'All Bill Data Entry'!T179)","v":""}]
["",{"$f":"IF('All Bill Data Entry'!A180=\"\",\"\",'All Bill Data Entry'!A180)","v":""},"","","",{"$f":"IF('LN-Line Data'!R175=\"\",\"\",'LN-Line Data'!R175)","v":""},"",{"$f":"IF('All Bill Data Entry'!O180=\"\",\"\",'All Bill Data Entry'!O180)","v":""},{"$f":"IF('All Bill Data Entry'!P180=\"\",\"\",'All Bill Data Entry'!P180)","v":""},{"$f":"IF('All Bill Data Entry'!Q180=\"\",\"\",'All Bill Data Entry'!Q180)","v":""},{"$f":"IF('All Bill Data Entry'!R180=\"\",\"\",'All Bill Data Entry'!R180)","v":""},{"$f":"IF('All Bill Data Entry'!S180=\"\",\"\",'All Bill Data Entry'!S180)","v":""},{"$f":"IF('All Bill Data Entry'!T180=\"\",\"\",'All Bill Data Entry'!T180)","v":""}]
["",{"$f":"IF('All Bill Data Entry'!A181=\"\",\"\",'All Bill Data Entry'!A181)","v":""},"","","",{"$f":"IF('LN-Line Data'!R176=\"\",\"\",'LN-Line Data'!R176)","v":""},"",{"$f":"IF('All Bill Data Entry'!O181=\"\",\"\",'All Bill Data Entry'!O181)","v":""},{"$f":"IF('All Bill Data Entry'!P181=\"\",\"\",'All Bill Data Entry'!P181)","v":""},{"$f":"IF('All Bill Data Entry'!Q181=\"\",\"\",'All Bill Data Entry'!Q181)","v":""},{"$f":"IF('All Bill Data Entry'!R181=\"\",\"\",'All Bill Data Entry'!R181)","v":""},{"$f":"IF('All Bill Data Entry'!S181=\"\",\"\",'All Bill Data Entry'!S181)","v":""},{"$f":"IF('All Bill Data Entry'!T181=\"\",\"\",'All Bill Data Entry'!T181)","v":""}]
["",{"$f":"IF('All Bill Data Entry'!A182=\"\",\"\",'All Bill Data Entry'!A182)","v":""},"","","",{"$f":"IF('LN-Line Data'!R177=\"\",\"\",'LN-Line Data'!R177)","v":""},"",{"$f":"IF('All Bill Data Entry'!O182=\"\",\"\",'All Bill Data Entry'!O182)","v":""},{"$f":"IF('All Bill Data Entry'!P182=\"\",\"\",'All Bill Data Entry'!P182)","v":""},{"$f":"IF('All Bill Data Entry'!Q182=\"\",\"\",'All Bill Data Entry'!Q182)","v":""},{"$f":"IF('All Bill Data Entry'!R182=\"\",\"\",'All Bill Data Entry'!R182)","v":""},{"$f":"IF('All Bill Data Entry'!S182=\"\",\"\",'All Bill Data Entry'!S182)","v":""},{"$f":"IF('All Bill Data Entry'!T182=\"\",\"\",'All Bill Data Entry'!T182)","v":""}]
["",{"$f":"IF('All Bill Data Entry'!A183=\"\",\"\",'All Bill Data Entry'!A183)","v":""},"","","",{"$f":"IF('LN-Line Data'!R178=\"\",\"\",'LN-Line Data'!R178)","v":""},"",{"$f":"IF('All Bill Data Entry'!O183=\"\",\"\",'All Bill Data Entry'!O183)","v":""},{"$f":"IF('All Bill Data Entry'!P183=\"\",\"\",'All Bill Data Entry'!P183)","v":""},{"$f":"IF('All Bill Data Entry'!Q183=\"\",\"\",'All Bill Data Entry'!Q183)","v":""},{"$f":"IF('All Bill Data Entry'!R183=\"\",\"\",'All Bill Data Entry'!R183)","v":""},{"$f":"IF('All Bill Data Entry'!S183=\"\",\"\",'All Bill Data Entry'!S183)","v":""},{"$f":"IF('All Bill Data Entry'!T183=\"\",\"\",'All Bill Data Entry'!T183)","v":""}]
["",{"$f":"IF('All Bill Data Entry'!A184=\"\",\"\",'All Bill Data Entry'!A184)","v":""},"","","",{"$f":"IF('LN-Line Data'!R179=\"\",\"\",'LN-Line Data'!R179)","v":""},"",{"$f":"IF('All Bill Data Entry'!O184=\"\",\"\",'All Bill Data Entry'!O184)","v":""},{"$f":"IF('All Bill Data Entry'!P184=\"\",\"\",'All Bill Data Entry'!P184)","v":""},{"$f":"IF('All Bill Data Entry'!Q184=\"\",\"\",'All Bill Data Entry'!Q184)","v":""},{"$f":"IF('All Bill Data Entry'!R184=\"\",\"\",'All Bill Data Entry'!R184)","v":""},{"$f":"IF('All Bill Data Entry'!S184=\"\",\"\",'All Bill Data Entry'!S184)","v":""},{"$f":"IF('All Bill Data Entry'!T184=\"\",\"\",'All Bill Data Entry'!T184)","v":""}]
["",{"$f":"IF('All Bill Data Entry'!A185=\"\",\"\",'All Bill Data Entry'!A185)","v":""},"","","",{"$f":"IF('LN-Line Data'!R180=\"\",\"\",'LN-Line Data'!R180)","v":""},"",{"$f":"IF('All Bill Data Entry'!O185=\"\",\"\",'All Bill Data Entry'!O185)","v":""},{"$f":"IF('All Bill Data Entry'!P185=\"\",\"\",'All Bill Data Entry'!P185)","v":""},{"$f":"IF('All Bill Data Entry'!Q185=\"\",\"\",'All Bill Data Entry'!Q185)","v":""},{"$f":"IF('All Bill Data Entry'!R185=\"\",\"\",'All Bill Data Entry'!R185)","v":""},{"$f":"IF('All Bill Data Entry'!S185=\"\",\"\",'All Bill Data Entry'!S185)","v":""},{"$f":"IF('All Bill Data Entry'!T185=\"\",\"\",'All Bill Data Entry'!T185)","v":""}]
["",{"$f":"IF('All Bill Data Entry'!A186=\"\",\"\",'All Bill Data Entry'!A186)","v":""},"","","",{"$f":"IF('LN-Line Data'!R181=\"\",\"\",'LN-Line Data'!R181)","v":""},"",{"$f":"IF('All Bill Data Entry'!O186=\"\",\"\",'All Bill Data Entry'!O186)","v":""},{"$f":"IF('All Bill Data Entry'!P186=\"\",\"\",'All Bill Data Entry'!P186)","v":""},{"$f":"IF('All Bill Data Entry'!Q186=\"\",\"\",'All Bill Data Entry'!Q186)","v":""},{"$f":"IF('All Bill Data Entry'!R186=\"\",\"\",'All Bill Data Entry'!R186)","v":""},{"$f":"IF('All Bill Data Entry'!S186=\"\",\"\",'All Bill Data Entry'!S186)","v":""},{"$f":"IF('All Bill Data Entry'!T186=\"\",\"\",'All Bill Data Entry'!T186)","v":""}]
["",{"$f":"IF('All Bill Data Entry'!A187=\"\",\"\",'All Bill Data Entry'!A187)","v":""},"","","",{"$f":"IF('LN-Line Data'!R182=\"\",\"\",'LN-Line Data'!R182)","v":""},"",{"$f":"IF('All Bill Data Entry'!O187=\"\",\"\",'All Bill Data Entry'!O187)","v":""},{"$f":"IF('All Bill Data Entry'!P187=\"\",\"\",'All Bill Data Entry'!P187)","v":""},{"$f":"IF('All Bill Data Entry'!Q187=\"\",\"\",'All Bill Data Entry'!Q187)","v":""},{"$f":"IF('All Bill Data Entry'!R187=\"\",\"\",'All Bill Data Entry'!R187)","v":""},{"$f":"IF('All Bill Data Entry'!S187=\"\",\"\",'All Bill Data Entry'!S187)","v":""},{"$f":"IF('All Bill Data Entry'!T187=\"\",\"\",'All Bill Data Entry'!T187)","v":""}]
["",{"$f":"IF('All Bill Data Entry'!A188=\"\",\"\",'All Bill Data Entry'!A188)","v":""},"","","",{"$f":"IF('LN-Line Data'!R183=\"\",\"\",'LN-Line Data'!R183)","v":""},"",{"$f":"IF('All Bill Data Entry'!O188=\"\",\"\",'All Bill Data Entry'!O188)","v":""},{"$f":"IF('All Bill Data Entry'!P188=\"\",\"\",'All Bill Data Entry'!P188)","v":""},{"$f":"IF('All Bill Data Entry'!Q188=\"\",\"\",'All Bill Data Entry'!Q188)","v":""},{"$f":"IF('All Bill Data Entry'!R188=\"\",\"\",'All Bill Data Entry'!R188)","v":""},{"$f":"IF('All Bill Data Entry'!S188=\"\",\"\",'All Bill Data Entry'!S188)","v":""},{"$f":"IF('All Bill Data Entry'!T188=\"\",\"\",'All Bill Data Entry'!T188)","v":""}]
["",{"$f":"IF('All Bill Data Entry'!A189=\"\",\"\",'All Bill Data Entry'!A189)","v":""},"","","",{"$f":"IF('LN-Line Data'!R184=\"\",\"\",'LN-Line Data'!R184)","v":""},"",{"$f":"IF('All Bill Data Entry'!O189=\"\",\"\",'All Bill Data Entry'!O189)","v":""},{"$f":"IF('All Bill Data Entry'!P189=\"\",\"\",'All Bill Data Entry'!P189)","v":""},{"$f":"IF('All Bill Data Entry'!Q189=\"\",\"\",'All Bill Data Entry'!Q189)","v":""},{"$f":"IF('All Bill Data Entry'!R189=\"\",\"\",'All Bill Data Entry'!R189)","v":""},{"$f":"IF('All Bill Data Entry'!S189=\"\",\"\",'All Bill Data Entry'!S189)","v":""},{"$f":"IF('All Bill Data Entry'!T189=\"\",\"\",'All Bill Data Entry'!T189)","v":""}]
["",{"$f":"IF('All Bill Data Entry'!A190=\"\",\"\",'All Bill Data Entry'!A190)","v":""},"","","",{"$f":"IF('LN-Line Data'!R185=\"\",\"\",'LN-Line Data'!R185)","v":""},"",{"$f":"IF('All Bill Data Entry'!O190=\"\",\"\",'All Bill Data Entry'!O190)","v":""},{"$f":"IF('All Bill Data Entry'!P190=\"\",\"\",'All Bill Data Entry'!P190)","v":""},{"$f":"IF('All Bill Data Entry'!Q190=\"\",\"\",'All Bill Data Entry'!Q190)","v":""},{"$f":"IF('All Bill Data Entry'!R190=\"\",\"\",'All Bill Data Entry'!R190)","v":""},{"$f":"IF('All Bill Data Entry'!S190=\"\",\"\",'All Bill Data Entry'!S190)","v":""},{"$f":"IF('All Bill Data Entry'!T190=\"\",\"\",'All Bill Data Entry'!T190)","v":""}]
["",{"$f":"IF('All Bill Data Entry'!A191=\"\",\"\",'All Bill Data Entry'!A191)","v":""},"","","",{"$f":"IF('LN-Line Data'!R186=\"\",\"\",'LN-Line Data'!R186)","v":""},"",{"$f":"IF('All Bill Data Entry'!O191=\"\",\"\",'All Bill Data Entry'!O191)","v":""},{"$f":"IF('All Bill Data Entry'!P191=\"\",\"\",'All Bill Data Entry'!P191)","v":""},{"$f":"IF('All Bill Data Entry'!Q191=\"\",\"\",'All Bill Data Entry'!Q191)","v":""},{"$f":"IF('All Bill Data Entry'!R191=\"\",\"\",'All Bill Data Entry'!R191)","v":""},{"$f":"IF('All Bill Data Entry'!S191=\"\",\"\",'All Bill Data Entry'!S191)","v":""},{"$f":"IF('All Bill Data Entry'!T191=\"\",\"\",'All Bill Data Entry'!T191)","v":""}]
["",{"$f":"IF('All Bill Data Entry'!A192=\"\",\"\",'All Bill Data Entry'!A192)","v":""},"","","",{"$f":"IF('LN-Line Data'!R187=\"\",\"\",'LN-Line Data'!R187)","v":""},"",{"$f":"IF('All Bill Data Entry'!O192=\"\",\"\",'All Bill Data Entry'!O192)","v":""},{"$f":"IF('All Bill Data Entry'!P192=\"\",\"\",'All Bill Data Entry'!P192)","v":""},{"$f":"IF('All Bill Data Entry'!Q192=\"\",\"\",'All Bill Data Entry'!Q192)","v":""},{"$f":"IF('All Bill Data Entry'!R192=\"\",\"\",'All Bill Data Entry'!R192)","v":""},{"$f":"IF('All Bill Data Entry'!S192=\"\",\"\",'All Bill Data Entry'!S192)","v":""},{"$f":"IF('All Bill Data Entry'!T192=\"\",\"\",'All Bill Data Entry'!T192)","v":""}]
["",{"$f":"IF('All Bill Data Entry'!A193=\"\",\"\",'All Bill Data Entry'!A193)","v":""},"","","",{"$f":"IF('LN-Line Data'!R188=\"\",\"\",'LN-Line Data'!R188)","v":""},"",{"$f":"IF('All Bill Data Entry'!O193=\"\",\"\",'All Bill Data Entry'!O193)","v":""},{"$f":"IF('All Bill Data Entry'!P193=\"\",\"\",'All Bill Data Entry'!P193)","v":""},{"$f":"IF('All Bill Data Entry'!Q193=\"\",\"\",'All Bill Data Entry'!Q193)","v":""},{"$f":"IF('All Bill Data Entry'!R193=\"\",\"\",'All Bill Data Entry'!R193)","v":""},{"$f":"IF('All Bill Data Entry'!S193=\"\",\"\",'All Bill Data Entry'!S193)","v":""},{"$f":"IF('All Bill Data Entry'!T193=\"\",\"\",'All Bill Data Entry'!T193)","v":""}]
["",{"$f":"IF('All Bill Data Entry'!A194=\"\",\"\",'All Bill Data Entry'!A194)","v":""},"","","",{"$f":"IF('LN-Line Data'!R189=\"\",\"\",'LN-Line Data'!R189)","v":""},"",{"$f":"IF('All Bill Data Entry'!O194=\"\",\"\",'All Bill Data Entry'!O194)","v":""},{"$f":"IF('All Bill Data Entry'!P194=\"\",\"\",'All Bill Data Entry'!P194)","v":""},{"$f":"IF('All Bill Data Entry'!Q194=\"\",\"\",'All Bill Data Entry'!Q194)","v":""},{"$f":"IF('All Bill Data Entry'!R194=\"\",\"\",'All Bill Data Entry'!R194)","v":""},{"$f":"IF('All Bill Data Entry'!S194=\"\",\"\",'All Bill Data Entry'!S194)","v":""},{"$f":"IF('All Bill Data Entry'!T194=\"\",\"\",'All Bill Data Entry'!T194)","v":""}]
["",{"$f":"IF('All Bill Data Entry'!A195=\"\",\"\",'All Bill Data Entry'!A195)","v":""},"","","",{"$f":"IF('LN-Line Data'!R190=\"\",\"\",'LN-Line Data'!R190)","v":""},"",{"$f":"IF('All Bill Data Entry'!O195=\"\",\"\",'All Bill Data Entry'!O195)","v":""},{"$f":"IF('All Bill Data Entry'!P195=\"\",\"\",'All Bill Data Entry'!P195)","v":""},{"$f":"IF('All Bill Data Entry'!Q195=\"\",\"\",'All Bill Data Entry'!Q195)","v":""},{"$f":"IF('All Bill Data Entry'!R195=\"\",\"\",'All Bill Data Entry'!R195)","v":""},{"$f":"IF('All Bill Data Entry'!S195=\"\",\"\",'All Bill Data Entry'!S195)","v":""},{"$f":"IF('All Bill Data Entry'!T195=\"\",\"\",'All Bill Data Entry'!T195)","v":""}]
["",{"$f":"IF('All Bill Data Entry'!A196=\"\",\"\",'All Bill Data Entry'!A196)","v":""},"","","",{"$f":"IF('LN-Line Data'!R191=\"\",\"\",'LN-Line Data'!R191)","v":""},"",{"$f":"IF('All Bill Data Entry'!O196=\"\",\"\",'All Bill Data Entry'!O196)","v":""},{"$f":"IF('All Bill Data Entry'!P196=\"\",\"\",'All Bill Data Entry'!P196)","v":""},{"$f":"IF('All Bill Data Entry'!Q196=\"\",\"\",'All Bill Data Entry'!Q196)","v":""},{"$f":"IF('All Bill Data Entry'!R196=\"\",\"\",'All Bill Data Entry'!R196)","v":""},{"$f":"IF('All Bill Data Entry'!S196=\"\",\"\",'All Bill Data Entry'!S196)","v":""},{"$f":"IF('All Bill Data Entry'!T196=\"\",\"\",'All Bill Data Entry'!T196)","v":""}]
["",{"$f":"IF('All Bill Data Entry'!A197=\"\",\"\",'All Bill Data Entry'!A197)","v":""},"","","",{"$f":"IF('LN-Line Data'!R192=\"\",\"\",'LN-Line Data'!R192)","v":""},"",{"$f":"IF('All Bill Data Entry'!O197=\"\",\"\",'All Bill Data Entry'!O197)","v":""},{"$f":"IF('All Bill Data Entry'!P197=\"\",\"\",'All Bill Data Entry'!P197)","v":""},{"$f":"IF('All Bill Data Entry'!Q197=\"\",\"\",'All Bill Data Entry'!Q197)","v":""},{"$f":"IF('All Bill Data Entry'!R197=\"\",\"\",'All Bill Data Entry'!R197)","v":""},{"$f":"IF('All Bill Data Entry'!S197=\"\",\"\",'All Bill Data Entry'!S197)","v":""},{"$f":"IF('All Bill Data Entry'!T197=\"\",\"\",'All Bill Data Entry'!T197)","v":""}]
["",{"$f":"IF('All Bill Data Entry'!A198=\"\",\"\",'All Bill Data Entry'!A198)","v":""},"","","",{"$f":"IF('LN-Line Data'!R193=\"\",\"\",'LN-Line Data'!R193)","v":""},"",{"$f":"IF('All Bill Data Entry'!O198=\"\",\"\",'All Bill Data Entry'!O198)","v":""},{"$f":"IF('All Bill Data Entry'!P198=\"\",\"\",'All Bill Data Entry'!P198)","v":""},{"$f":"IF('All Bill Data Entry'!Q198=\"\",\"\",'All Bill Data Entry'!Q198)","v":""},{"$f":"IF('All Bill Data Entry'!R198=\"\",\"\",'All Bill Data Entry'!R198)","v":""},{"$f":"IF('All Bill Data Entry'!S198=\"\",\"\",'All Bill Data Entry'!S198)","v":""},{"$f":"IF('All Bill Data Entry'!T198=\"\",\"\",'All Bill Data Entry'!T198)","v":""}]
["",{"$f":"IF('All Bill Data Entry'!A199=\"\",\"\",'All Bill Data Entry'!A199)","v":""},"","","",{"$f":"IF('LN-Line Data'!R194=\"\",\"\",'LN-Line Data'!R194)","v":""},"",{"$f":"IF('All Bill Data Entry'!O199=\"\",\"\",'All Bill Data Entry'!O199)","v":""},{"$f":"IF('All Bill Data Entry'!P199=\"\",\"\",'All Bill Data Entry'!P199)","v":""},{"$f":"IF('All Bill Data Entry'!Q199=\"\",\"\",'All Bill Data Entry'!Q199)","v":""},{"$f":"IF('All Bill Data Entry'!R199=\"\",\"\",'All Bill Data Entry'!R199)","v":""},{"$f":"IF('All Bill Data Entry'!S199=\"\",\"\",'All Bill Data Entry'!S199)","v":""},{"$f":"IF('All Bill Data Entry'!T199=\"\",\"\",'All Bill Data Entry'!T199)","v":""}]
["",{"$f":"IF('All Bill Data Entry'!A200=\"\",\"\",'All Bill Data Entry'!A200)","v":""},{"$f":"IF($B195=\"\",\"\",\"AE\")","v":""},{"$f":"IF($B195=\"\",\"\",\"RR\")","v":""},{"$f":"IF($B195=\"\",\"\",\"AUX01\")","v":""},{"$f":"IF('LN-Line Data'!R195=\"\",\"\",'LN-Line Data'!R195)","v":""},{"$f":"IF($B195=\"\",\"\",100)","v":""},{"$f":"IF('All Bill Data Entry'!O200=\"\",\"\",'All Bill Data Entry'!O200)","v":""},{"$f":"IF('All Bill Data Entry'!P200=\"\",\"\",'All Bill Data Entry'!P200)","v":""},{"$f":"IF('All Bill Data Entry'!Q200=\"\",\"\",'All Bill Data Entry'!Q200)","v":""},{"$f":"IF('All Bill Data Entry'!R200=\"\",\"\",'All Bill Data Entry'!R200)","v":""},{"$f":"IF('All Bill Data Entry'!S200=\"\",\"\",'All Bill Data Entry'!S200)","v":""},{"$f":"IF('All Bill Data Entry'!T200=\"\",\"\",'All Bill Data Entry'!T200)","v":""}]
["",{"$f":"IF('All Bill Data Entry'!A201=\"\",\"\",'All Bill Data Entry'!A201)","v":""},"","","",{"$f":"IF('LN-Line Data'!R196=\"\",\"\",'LN-Line Data'!R196)","v":""},"",{"$f":"IF('All Bill Data Entry'!O201=\"\",\"\",'All Bill Data Entry'!O201)","v":""},{"$f":"IF('All Bill Data Entry'!P201=\"\",\"\",'All Bill Data Entry'!P201)","v":""},{"$f":"IF('All Bill Data Entry'!Q201=\"\",\"\",'All Bill Data Entry'!Q201)","v":""},{"$f":"IF('All Bill Data Entry'!R201=\"\",\"\",'All Bill Data Entry'!R201)","v":""},{"$f":"IF('All Bill Data Entry'!S201=\"\",\"\",'All Bill Data Entry'!S201)","v":""},{"$f":"IF('All Bill Data Entry'!T201=\"\",\"\",'All Bill Data Entry'!T201)","v":""}]
["",{"$f":"IF('All Bill Data Entry'!A202=\"\",\"\",'All Bill Data Entry'!A202)","v":""},"","","",{"$f":"IF('LN-Line Data'!R197=\"\",\"\",'LN-Line Data'!R197)","v":""},"",{"$f":"IF('All Bill Data Entry'!O202=\"\",\"\",'All Bill Data Entry'!O202)","v":""},{"$f":"IF('All Bill Data Entry'!P202=\"\",\"\",'All Bill Data Entry'!P202)","v":""},{"$f":"IF('All Bill Data Entry'!Q202=\"\",\"\",'All Bill Data Entry'!Q202)","v":""},{"$f":"IF('All Bill Data Entry'!R202=\"\",\"\",'All Bill Data Entry'!R202)","v":""},{"$f":"IF('All Bill Data Entry'!S202=\"\",\"\",'All Bill Data Entry'!S202)","v":""},{"$f":"IF('All Bill Data Entry'!T202=\"\",\"\",'All Bill Data Entry'!T202)","v":""}]
["",{"$f":"IF('All Bill Data Entry'!A203=\"\",\"\",'All Bill Data Entry'!A203)","v":""},"","","",{"$f":"IF('LN-Line Data'!R198=\"\",\"\",'LN-Line Data'!R198)","v":""},"",{"$f":"IF('All Bill Data Entry'!O203=\"\",\"\",'All Bill Data Entry'!O203)","v":""},{"$f":"IF('All Bill Data Entry'!P203=\"\",\"\",'All Bill Data Entry'!P203)","v":""},{"$f":"IF('All Bill Data Entry'!Q203=\"\",\"\",'All Bill Data Entry'!Q203)","v":""},{"$f":"IF('All Bill Data Entry'!R203=\"\",\"\",'All Bill Data Entry'!R203)","v":""},{"$f":"IF('All Bill Data Entry'!S203=\"\",\"\",'All Bill Data Entry'!S203)","v":""},{"$f":"IF('All Bill Data Entry'!T203=\"\",\"\",'All Bill Data Entry'!T203)","v":""}]
["",{"$f":"IF('All Bill Data Entry'!A204=\"\",\"\",'All Bill Data Entry'!A204)","v":""},"","","",{"$f":"IF('LN-Line Data'!R199=\"\",\"\",'LN-Line Data'!R199)","v":""},"",{"$f":"IF('All Bill Data Entry'!O204=\"\",\"\",'All Bill Data Entry'!O204)","v":""},{"$f":"IF('All Bill Data Entry'!P204=\"\",\"\",'All Bill Data Entry'!P204)","v":""},{"$f":"IF('All Bill Data Entry'!Q204=\"\",\"\",'All Bill Data Entry'!Q204)","v":""},{"$f":"IF('All Bill Data Entry'!R204=\"\",\"\",'All Bill Data Entry'!R204)","v":""},{"$f":"IF('All Bill Data Entry'!S204=\"\",\"\",'All Bill Data Entry'!S204)","v":""},{"$f":"IF('All Bill Data Entry'!T204=\"\",\"\",'All Bill Data Entry'!T204)","v":""}]
["",{"$f":"IF('All Bill Data Entry'!A205=\"\",\"\",'All Bill Data Entry'!A205)","v":""},"","","",{"$f":"IF('LN-Line Data'!R200=\"\",\"\",'LN-Line Data'!R200)","v":""},"",{"$f":"IF('All Bill Data Entry'!O205=\"\",\"\",'All Bill Data Entry'!O205)","v":""},{"$f":"IF('All Bill Data Entry'!P205=\"\",\"\",'All Bill Data Entry'!P205)","v":""},{"$f":"IF('All Bill Data Entry'!Q205=\"\",\"\",'All Bill Data Entry'!Q205)","v":""},{"$f":"IF('All Bill Data Entry'!R205=\"\",\"\",'All Bill Data Entry'!R205)","v":""},{"$f":"IF('All Bill Data Entry'!S205=\"\",\"\",'All Bill Data Entry'!S205)","v":""},{"$f":"IF('All Bill Data Entry'!T205=\"\",\"\",'All Bill Data Entry'!T205)","v":""}]
["",{"$f":"IF('All Bill Data Entry'!A206=\"\",\"\",'All Bill Data Entry'!A206)","v":""},"","","",{"$f":"IF('LN-Line Data'!R201=\"\",\"\",'LN-Line Data'!R201)","v":""},"",{"$f":"IF('All Bill Data Entry'!O206=\"\",\"\",'All Bill Data Entry'!O206)","v":""},{"$f":"IF('All Bill Data Entry'!P206=\"\",\"\",'All Bill Data Entry'!P206)","v":""},{"$f":"IF('All Bill Data Entry'!Q206=\"\",\"\",'All Bill Data Entry'!Q206)","v":""},{"$f":"IF('All Bill Data Entry'!R206=\"\",\"\",'All Bill Data Entry'!R206)","v":""},{"$f":"IF('All Bill Data Entry'!S206=\"\",\"\",'All Bill Data Entry'!S206)","v":""},{"$f":"IF('All Bill Data Entry'!T206=\"\",\"\",'All Bill Data Entry'!T206)","v":""}]
[{"$f":"IF(B202=\"\",\"\",\"A\")","v":""},{"$f":"IF('All Bill Data Entry'!A207=\"\",\"\",'All Bill Data Entry'!A207)","v":""},"","","",{"$f":"IF('LN-Line Data'!R202=\"\",\"\",'LN-Line Data'!R202)","v":""},"",{"$f":"IF('All Bill Data Entry'!O207=\"\",\"\",'All Bill Data Entry'!O207)","v":""},{"$f":"IF('All Bill Data Entry'!P207=\"\",\"\",'All Bill Data Entry'!P207)","v":""},{"$f":"IF('All Bill Data Entry'!Q207=\"\",\"\",'All Bill Data Entry'!Q207)","v":""},{"$f":"IF('All Bill Data Entry'!R207=\"\",\"\",'All Bill Data Entry'!R207)","v":""},{"$f":"IF('All Bill Data Entry'!S207=\"\",\"\",'All Bill Data Entry'!S207)","v":""},{"$f":"IF('All Bill Data Entry'!T207=\"\",\"\",'All Bill Data Entry'!T207)","v":""}]
["",{"$f":"IF('All Bill Data Entry'!A208=\"\",\"\",'All Bill Data Entry'!A208)","v":""},"","","",{"$f":"IF('LN-Line Data'!R203=\"\",\"\",'LN-Line Data'!R203)","v":""},"",{"$f":"IF('All Bill Data Entry'!O208=\"\",\"\",'All Bill Data Entry'!O208)","v":""},{"$f":"IF('All Bill Data Entry'!P208=\"\",\"\",'All Bill Data Entry'!P208)","v":""},{"$f":"IF('All Bill Data Entry'!Q208=\"\",\"\",'All Bill Data Entry'!Q208)","v":""},{"$f":"IF('All Bill Data Entry'!R208=\"\",\"\",'All Bill Data Entry'!R208)","v":""},{"$f":"IF('All Bill Data Entry'!S208=\"\",\"\",'All Bill Data Entry'!S208)","v":""},{"$f":"IF('All Bill Data Entry'!T208=\"\",\"\",'All Bill Data Entry'!T208)","v":""}]
["",{"$f":"IF('All Bill Data Entry'!A209=\"\",\"\",'All Bill Data Entry'!A209)","v":""},"","","",{"$f":"IF('LN-Line Data'!R204=\"\",\"\",'LN-Line Data'!R204)","v":""},"",{"$f":"IF('All Bill Data Entry'!O209=\"\",\"\",'All Bill Data Entry'!O209)","v":""},{"$f":"IF('All Bill Data Entry'!P209=\"\",\"\",'All Bill Data Entry'!P209)","v":""},{"$f":"IF('All Bill Data Entry'!Q209=\"\",\"\",'All Bill Data Entry'!Q209)","v":""},{"$f":"IF('All Bill Data Entry'!R209=\"\",\"\",'All Bill Data Entry'!R209)","v":""},{"$f":"IF('All Bill Data Entry'!S209=\"\",\"\",'All Bill Data Entry'!S209)","v":""},{"$f":"IF('All Bill Data Entry'!T209=\"\",\"\",'All Bill Data Entry'!T209)","v":""}]
["",{"$f":"IF('All Bill Data Entry'!A210=\"\",\"\",'All Bill Data Entry'!A210)","v":""},"","","",{"$f":"IF('LN-Line Data'!R205=\"\",\"\",'LN-Line Data'!R205)","v":""},"",{"$f":"IF('All Bill Data Entry'!O210=\"\",\"\",'All Bill Data Entry'!O210)","v":""},{"$f":"IF('All Bill Data Entry'!P210=\"\",\"\",'All Bill Data Entry'!P210)","v":""},{"$f":"IF('All Bill Data Entry'!Q210=\"\",\"\",'All Bill Data Entry'!Q210)","v":""},{"$f":"IF('All Bill Data Entry'!R210=\"\",\"\",'All Bill Data Entry'!R210)","v":""},{"$f":"IF('All Bill Data Entry'!S210=\"\",\"\",'All Bill Data Entry'!S210)","v":""},{"$f":"IF('All Bill Data Entry'!T210=\"\",\"\",'All Bill Data Entry'!T210)","v":""}]
["",{"$f":"IF('All Bill Data Entry'!A211=\"\",\"\",'All Bill Data Entry'!A211)","v":""},"","","",{"$f":"IF('LN-Line Data'!R206=\"\",\"\",'LN-Line Data'!R206)","v":""},"",{"$f":"IF('All Bill Data Entry'!O211=\"\",\"\",'All Bill Data Entry'!O211)","v":""},{"$f":"IF('All Bill Data Entry'!P211=\"\",\"\",'All Bill Data Entry'!P211)","v":""},{"$f":"IF('All Bill Data Entry'!Q211=\"\",\"\",'All Bill Data Entry'!Q211)","v":""},{"$f":"IF('All Bill Data Entry'!R211=\"\",\"\",'All Bill Data Entry'!R211)","v":""},{"$f":"IF('All Bill Data Entry'!S211=\"\",\"\",'All Bill Data Entry'!S211)","v":""},{"$f":"IF('All Bill Data Entry'!T211=\"\",\"\",'All Bill Data Entry'!T211)","v":""}]
["",{"$f":"IF('All Bill Data Entry'!A212=\"\",\"\",'All Bill Data Entry'!A212)","v":""},"","","",{"$f":"IF('LN-Line Data'!R207=\"\",\"\",'LN-Line Data'!R207)","v":""},"",{"$f":"IF('All Bill Data Entry'!O212=\"\",\"\",'All Bill Data Entry'!O212)","v":""},{"$f":"IF('All Bill Data Entry'!P212=\"\",\"\",'All Bill Data Entry'!P212)","v":""},{"$f":"IF('All Bill Data Entry'!Q212=\"\",\"\",'All Bill Data Entry'!Q212)","v":""},{"$f":"IF('All Bill Data Entry'!R212=\"\",\"\",'All Bill Data Entry'!R212)","v":""},{"$f":"IF('All Bill Data Entry'!S212=\"\",\"\",'All Bill Data Entry'!S212)","v":""},{"$f":"IF('All Bill Data Entry'!T212=\"\",\"\",'All Bill Data Entry'!T212)","v":""}]
["",{"$f":"IF('All Bill Data Entry'!A213=\"\",\"\",'All Bill Data Entry'!A213)","v":""},"","","",{"$f":"IF('LN-Line Data'!R208=\"\",\"\",'LN-Line Data'!R208)","v":""},"",{"$f":"IF('All Bill Data Entry'!O213=\"\",\"\",'All Bill Data Entry'!O213)","v":""},{"$f":"IF('All Bill Data Entry'!P213=\"\",\"\",'All Bill Data Entry'!P213)","v":""},{"$f":"IF('All Bill Data Entry'!Q213=\"\",\"\",'All Bill Data Entry'!Q213)","v":""},{"$f":"IF('All Bill Data Entry'!R213=\"\",\"\",'All Bill Data Entry'!R213)","v":""},{"$f":"IF('All Bill Data Entry'!S213=\"\",\"\",'All Bill Data Entry'!S213)","v":""},{"$f":"IF('All Bill Data Entry'!T213=\"\",\"\",'All Bill Data Entry'!T213)","v":""}]
["",{"$f":"IF('All Bill Data Entry'!A214=\"\",\"\",'All Bill Data Entry'!A214)","v":""},"","","",{"$f":"IF('LN-Line Data'!R209=\"\",\"\",'LN-Line Data'!R209)","v":""},"",{"$f":"IF('All Bill Data Entry'!O214=\"\",\"\",'All Bill Data Entry'!O214)","v":""},{"$f":"IF('All Bill Data Entry'!P214=\"\",\"\",'All Bill Data Entry'!P214)","v":""},{"$f":"IF('All Bill Data Entry'!Q214=\"\",\"\",'All Bill Data Entry'!Q214)","v":""},{"$f":"IF('All Bill Data Entry'!R214=\"\",\"\",'All Bill Data Entry'!R214)","v":""},{"$f":"IF('All Bill Data Entry'!S214=\"\",\"\",'All Bill Data Entry'!S214)","v":""},{"$f":"IF('All Bill Data Entry'!T214=\"\",\"\",'All Bill Data Entry'!T214)","v":""}]
["",{"$f":"IF('All Bill Data Entry'!A215=\"\",\"\",'All Bill Data Entry'!A215)","v":""},"","","",{"$f":"IF('LN-Line Data'!R210=\"\",\"\",'LN-Line Data'!R210)","v":""},"",{"$f":"IF('All Bill Data Entry'!O215=\"\",\"\",'All Bill Data Entry'!O215)","v":""},{"$f":"IF('All Bill Data Entry'!P215=\"\",\"\",'All Bill Data Entry'!P215)","v":""},{"$f":"IF('All Bill Data Entry'!Q215=\"\",\"\",'All Bill Data Entry'!Q215)","v":""},{"$f":"IF('All Bill Data Entry'!R215=\"\",\"\",'All Bill Data Entry'!R215)","v":""},{"$f":"IF('All Bill Data Entry'!S215=\"\",\"\",'All Bill Data Entry'!S215)","v":""},{"$f":"IF('All Bill Data Entry'!T215=\"\",\"\",'All Bill Data Entry'!T215)","v":""}]
["",{"$f":"IF('All Bill Data Entry'!A216=\"\",\"\",'All Bill Data Entry'!A216)","v":""},"","","",{"$f":"IF('LN-Line Data'!R211=\"\",\"\",'LN-Line Data'!R211)","v":""},"",{"$f":"IF('All Bill Data Entry'!O216=\"\",\"\",'All Bill Data Entry'!O216)","v":""},{"$f":"IF('All Bill Data Entry'!P216=\"\",\"\",'All Bill Data Entry'!P216)","v":""},{"$f":"IF('All Bill Data Entry'!Q216=\"\",\"\",'All Bill Data Entry'!Q216)","v":""},{"$f":"IF('All Bill Data Entry'!R216=\"\",\"\",'All Bill Data Entry'!R216)","v":""},{"$f":"IF('All Bill Data Entry'!S216=\"\",\"\",'All Bill Data Entry'!S216)","v":""},{"$f":"IF('All Bill Data Entry'!T216=\"\",\"\",'All Bill Data Entry'!T216)","v":""}]
["",{"$f":"IF('All Bill Data Entry'!A217=\"\",\"\",'All Bill Data Entry'!A217)","v":""},"","","",{"$f":"IF('LN-Line Data'!R212=\"\",\"\",'LN-Line Data'!R212)","v":""},"",{"$f":"IF('All Bill Data Entry'!O217=\"\",\"\",'All Bill Data Entry'!O217)","v":""},{"$f":"IF('All Bill Data Entry'!P217=\"\",\"\",'All Bill Data Entry'!P217)","v":""},{"$f":"IF('All Bill Data Entry'!Q217=\"\",\"\",'All Bill Data Entry'!Q217)","v":""},{"$f":"IF('All Bill Data Entry'!R217=\"\",\"\",'All Bill Data Entry'!R217)","v":""},{"$f":"IF('All Bill Data Entry'!S217=\"\",\"\",'All Bill Data Entry'!S217)","v":""},{"$f":"IF('All Bill Data Entry'!T217=\"\",\"\",'All Bill Data Entry'!T217)","v":""}]
["",{"$f":"IF('All Bill Data Entry'!A218=\"\",\"\",'All Bill Data Entry'!A218)","v":""},"","","",{"$f":"IF('LN-Line Data'!R213=\"\",\"\",'LN-Line Data'!R213)","v":""},"",{"$f":"IF('All Bill Data Entry'!O218=\"\",\"\",'All Bill Data Entry'!O218)","v":""},{"$f":"IF('All Bill Data Entry'!P218=\"\",\"\",'All Bill Data Entry'!P218)","v":""},{"$f":"IF('All Bill Data Entry'!Q218=\"\",\"\",'All Bill Data Entry'!Q218)","v":""},{"$f":"IF('All Bill Data Entry'!R218=\"\",\"\",'All Bill Data Entry'!R218)","v":""},{"$f":"IF('All Bill Data Entry'!S218=\"\",\"\",'All Bill Data Entry'!S218)","v":""},{"$f":"IF('All Bill Data Entry'!T218=\"\",\"\",'All Bill Data Entry'!T218)","v":""}]
["",{"$f":"IF('All Bill Data Entry'!A219=\"\",\"\",'All Bill Data Entry'!A219)","v":""},"","","",{"$f":"IF('LN-Line Data'!R214=\"\",\"\",'LN-Line Data'!R214)","v":""},"",{"$f":"IF('All Bill Data Entry'!O219=\"\",\"\",'All Bill Data Entry'!O219)","v":""},{"$f":"IF('All Bill Data Entry'!P219=\"\",\"\",'All Bill Data Entry'!P219)","v":""},{"$f":"IF('All Bill Data Entry'!Q219=\"\",\"\",'All Bill Data Entry'!Q219)","v":""},{"$f":"IF('All Bill Data Entry'!R219=\"\",\"\",'All Bill Data Entry'!R219)","v":""},{"$f":"IF('All Bill Data Entry'!S219=\"\",\"\",'All Bill Data Entry'!S219)","v":""},{"$f":"IF('All Bill Data Entry'!T219=\"\",\"\",'All Bill Data Entry'!T219)","v":""}]
["",{"$f":"IF('All Bill Data Entry'!A220=\"\",\"\",'All Bill Data Entry'!A220)","v":""},"","","",{"$f":"IF('LN-Line Data'!R215=\"\",\"\",'LN-Line Data'!R215)","v":""},"",{"$f":"IF('All Bill Data Entry'!O220=\"\",\"\",'All Bill Data Entry'!O220)","v":""},{"$f":"IF('All Bill Data Entry'!P220=\"\",\"\",'All Bill Data Entry'!P220)","v":""},{"$f":"IF('All Bill Data Entry'!Q220=\"\",\"\",'All Bill Data Entry'!Q220)","v":""},{"$f":"IF('All Bill Data Entry'!R220=\"\",\"\",'All Bill Data Entry'!R220)","v":""},{"$f":"IF('All Bill Data Entry'!S220=\"\",\"\",'All Bill Data Entry'!S220)","v":""},{"$f":"IF('All Bill Data Entry'!T220=\"\",\"\",'All Bill Data Entry'!T220)","v":""}]
["",{"$f":"IF('All Bill Data Entry'!A221=\"\",\"\",'All Bill Data Entry'!A221)","v":""},"","","",{"$f":"IF('LN-Line Data'!R216=\"\",\"\",'LN-Line Data'!R216)","v":""},"",{"$f":"IF('All Bill Data Entry'!O221=\"\",\"\",'All Bill Data Entry'!O221)","v":""},{"$f":"IF('All Bill Data Entry'!P221=\"\",\"\",'All Bill Data Entry'!P221)","v":""},{"$f":"IF('All Bill Data Entry'!Q221=\"\",\"\",'All Bill Data Entry'!Q221)","v":""},{"$f":"IF('All Bill Data Entry'!R221=\"\",\"\",'All Bill Data Entry'!R221)","v":""},{"$f":"IF('All Bill Data Entry'!S221=\"\",\"\",'All Bill Data Entry'!S221)","v":""},{"$f":"IF('All Bill Data Entry'!T221=\"\",\"\",'All Bill Data Entry'!T221)","v":""}]
["",{"$f":"IF('All Bill Data Entry'!A222=\"\",\"\",'All Bill Data Entry'!A222)","v":""},"","","",{"$f":"IF('LN-Line Data'!R217=\"\",\"\",'LN-Line Data'!R217)","v":""},"",{"$f":"IF('All Bill Data Entry'!O222=\"\",\"\",'All Bill Data Entry'!O222)","v":""},{"$f":"IF('All Bill Data Entry'!P222=\"\",\"\",'All Bill Data Entry'!P222)","v":""},{"$f":"IF('All Bill Data Entry'!Q222=\"\",\"\",'All Bill Data Entry'!Q222)","v":""},{"$f":"IF('All Bill Data Entry'!R222=\"\",\"\",'All Bill Data Entry'!R222)","v":""},{"$f":"IF('All Bill Data Entry'!S222=\"\",\"\",'All Bill Data Entry'!S222)","v":""},{"$f":"IF('All Bill Data Entry'!T222=\"\",\"\",'All Bill Data Entry'!T222)","v":""}]
["",{"$f":"IF('All Bill Data Entry'!A223=\"\",\"\",'All Bill Data Entry'!A223)","v":""},"","","",{"$f":"IF('LN-Line Data'!R218=\"\",\"\",'LN-Line Data'!R218)","v":""},"",{"$f":"IF('All Bill Data Entry'!O223=\"\",\"\",'All Bill Data Entry'!O223)","v":""},{"$f":"IF('All Bill Data Entry'!P223=\"\",\"\",'All Bill Data Entry'!P223)","v":""},{"$f":"IF('All Bill Data Entry'!Q223=\"\",\"\",'All Bill Data Entry'!Q223)","v":""},{"$f":"IF('All Bill Data Entry'!R223=\"\",\"\",'All Bill Data Entry'!R223)","v":""},{"$f":"IF('All Bill Data Entry'!S223=\"\",\"\",'All Bill Data Entry'!S223)","v":""},{"$f":"IF('All Bill Data Entry'!T223=\"\",\"\",'All Bill Data Entry'!T223)","v":""}]
["",{"$f":"IF('All Bill Data Entry'!A224=\"\",\"\",'All Bill Data Entry'!A224)","v":""},"","","",{"$f":"IF('LN-Line Data'!R219=\"\",\"\",'LN-Line Data'!R219)","v":""},"",{"$f":"IF('All Bill Data Entry'!O224=\"\",\"\",'All Bill Data Entry'!O224)","v":""},{"$f":"IF('All Bill Data Entry'!P224=\"\",\"\",'All Bill Data Entry'!P224)","v":""},{"$f":"IF('All Bill Data Entry'!Q224=\"\",\"\",'All Bill Data Entry'!Q224)","v":""},{"$f":"IF('All Bill Data Entry'!R224=\"\",\"\",'All Bill Data Entry'!R224)","v":""},{"$f":"IF('All Bill Data Entry'!S224=\"\",\"\",'All Bill Data Entry'!S224)","v":""},{"$f":"IF('All Bill Data Entry'!T224=\"\",\"\",'All Bill Data Entry'!T224)","v":""}]
["",{"$f":"IF('All Bill Data Entry'!A225=\"\",\"\",'All Bill Data Entry'!A225)","v":""},"","","",{"$f":"IF('LN-Line Data'!R220=\"\",\"\",'LN-Line Data'!R220)","v":""},"",{"$f":"IF('All Bill Data Entry'!O225=\"\",\"\",'All Bill Data Entry'!O225)","v":""},{"$f":"IF('All Bill Data Entry'!P225=\"\",\"\",'All Bill Data Entry'!P225)","v":""},{"$f":"IF('All Bill Data Entry'!Q225=\"\",\"\",'All Bill Data Entry'!Q225)","v":""},{"$f":"IF('All Bill Data Entry'!R225=\"\",\"\",'All Bill Data Entry'!R225)","v":""},{"$f":"IF('All Bill Data Entry'!S225=\"\",\"\",'All Bill Data Entry'!S225)","v":""},{"$f":"IF('All Bill Data Entry'!T225=\"\",\"\",'All Bill Data Entry'!T225)","v":""}]
["",{"$f":"IF('All Bill Data Entry'!A226=\"\",\"\",'All Bill Data Entry'!A226)","v":""},"","","",{"$f":"IF('LN-Line Data'!R221=\"\",\"\",'LN-Line Data'!R221)","v":""},"",{"$f":"IF('All Bill Data Entry'!O226=\"\",\"\",'All Bill Data Entry'!O226)","v":""},{"$f":"IF('All Bill Data Entry'!P226=\"\",\"\",'All Bill Data Entry'!P226)","v":""},{"$f":"IF('All Bill Data Entry'!Q226=\"\",\"\",'All Bill Data Entry'!Q226)","v":""},{"$f":"IF('All Bill Data Entry'!R226=\"\",\"\",'All Bill Data Entry'!R226)","v":""},{"$f":"IF('All Bill Data Entry'!S226=\"\",\"\",'All Bill Data Entry'!S226)","v":""},{"$f":"IF('All Bill Data Entry'!T226=\"\",\"\",'All Bill Data Entry'!T226)","v":""}]
["",{"$f":"IF('All Bill Data Entry'!A227=\"\",\"\",'All Bill Data Entry'!A227)","v":""},"","","",{"$f":"IF('LN-Line Data'!R222=\"\",\"\",'LN-Line Data'!R222)","v":""},"",{"$f":"IF('All Bill Data Entry'!O227=\"\",\"\",'All Bill Data Entry'!O227)","v":""},{"$f":"IF('All Bill Data Entry'!P227=\"\",\"\",'All Bill Data Entry'!P227)","v":""},{"$f":"IF('All Bill Data Entry'!Q227=\"\",\"\",'All Bill Data Entry'!Q227)","v":""},{"$f":"IF('All Bill Data Entry'!R227=\"\",\"\",'All Bill Data Entry'!R227)","v":""},{"$f":"IF('All Bill Data Entry'!S227=\"\",\"\",'All Bill Data Entry'!S227)","v":""},{"$f":"IF('All Bill Data Entry'!T227=\"\",\"\",'All Bill Data Entry'!T227)","v":""}]
["",{"$f":"IF('All Bill Data Entry'!A228=\"\",\"\",'All Bill Data Entry'!A228)","v":""},"","","",{"$f":"IF('LN-Line Data'!R223=\"\",\"\",'LN-Line Data'!R223)","v":""},"",{"$f":"IF('All Bill Data Entry'!O228=\"\",\"\",'All Bill Data Entry'!O228)","v":""},{"$f":"IF('All Bill Data Entry'!P228=\"\",\"\",'All Bill Data Entry'!P228)","v":""},{"$f":"IF('All Bill Data Entry'!Q228=\"\",\"\",'All Bill Data Entry'!Q228)","v":""},{"$f":"IF('All Bill Data Entry'!R228=\"\",\"\",'All Bill Data Entry'!R228)","v":""},{"$f":"IF('All Bill Data Entry'!S228=\"\",\"\",'All Bill Data Entry'!S228)","v":""},{"$f":"IF('All Bill Data Entry'!T228=\"\",\"\",'All Bill Data Entry'!T228)","v":""}]
["",{"$f":"IF('All Bill Data Entry'!A229=\"\",\"\",'All Bill Data Entry'!A229)","v":""},"","","",{"$f":"IF('LN-Line Data'!R224=\"\",\"\",'LN-Line Data'!R224)","v":""},"",{"$f":"IF('All Bill Data Entry'!O229=\"\",\"\",'All Bill Data Entry'!O229)","v":""},{"$f":"IF('All Bill Data Entry'!P229=\"\",\"\",'All Bill Data Entry'!P229)","v":""},{"$f":"IF('All Bill Data Entry'!Q229=\"\",\"\",'All Bill Data Entry'!Q229)","v":""},{"$f":"IF('All Bill Data Entry'!R229=\"\",\"\",'All Bill Data Entry'!R229)","v":""},{"$f":"IF('All Bill Data Entry'!S229=\"\",\"\",'All Bill Data Entry'!S229)","v":""},{"$f":"IF('All Bill Data Entry'!T229=\"\",\"\",'All Bill Data Entry'!T229)","v":""}]
["",{"$f":"IF('All Bill Data Entry'!A230=\"\",\"\",'All Bill Data Entry'!A230)","v":""},"","","",{"$f":"IF('LN-Line Data'!R225=\"\",\"\",'LN-Line Data'!R225)","v":""},"",{"$f":"IF('All Bill Data Entry'!O230=\"\",\"\",'All Bill Data Entry'!O230)","v":""},{"$f":"IF('All Bill Data Entry'!P230=\"\",\"\",'All Bill Data Entry'!P230)","v":""},{"$f":"IF('All Bill Data Entry'!Q230=\"\",\"\",'All Bill Data Entry'!Q230)","v":""},{"$f":"IF('All Bill Data Entry'!R230=\"\",\"\",'All Bill Data Entry'!R230)","v":""},{"$f":"IF('All Bill Data Entry'!S230=\"\",\"\",'All Bill Data Entry'!S230)","v":""},{"$f":"IF('All Bill Data Entry'!T230=\"\",\"\",'All Bill Data Entry'!T230)","v":""}]
["",{"$f":"IF('All Bill Data Entry'!A231=\"\",\"\",'All Bill Data Entry'!A231)","v":""},"","","",{"$f":"IF('LN-Line Data'!R226=\"\",\"\",'LN-Line Data'!R226)","v":""},"",{"$f":"IF('All Bill Data Entry'!O231=\"\",\"\",'All Bill Data Entry'!O231)","v":""},{"$f":"IF('All Bill Data Entry'!P231=\"\",\"\",'All Bill Data Entry'!P231)","v":""},{"$f":"IF('All Bill Data Entry'!Q231=\"\",\"\",'All Bill Data Entry'!Q231)","v":""},{"$f":"IF('All Bill Data Entry'!R231=\"\",\"\",'All Bill Data Entry'!R231)","v":""},{"$f":"IF('All Bill Data Entry'!S231=\"\",\"\",'All Bill Data Entry'!S231)","v":""},{"$f":"IF('All Bill Data Entry'!T231=\"\",\"\",'All Bill Data Entry'!T231)","v":""}]
["",{"$f":"IF('All Bill Data Entry'!A232=\"\",\"\",'All Bill Data Entry'!A232)","v":""},"","","",{"$f":"IF('LN-Line Data'!R227=\"\",\"\",'LN-Line Data'!R227)","v":""},"",{"$f":"IF('All Bill Data Entry'!O232=\"\",\"\",'All Bill Data Entry'!O232)","v":""},{"$f":"IF('All Bill Data Entry'!P232=\"\",\"\",'All Bill Data Entry'!P232)","v":""},{"$f":"IF('All Bill Data Entry'!Q232=\"\",\"\",'All Bill Data Entry'!Q232)","v":""},{"$f":"IF('All Bill Data Entry'!R232=\"\",\"\",'All Bill Data Entry'!R232)","v":""},{"$f":"IF('All Bill Data Entry'!S232=\"\",\"\",'All Bill Data Entry'!S232)","v":""},{"$f":"IF('All Bill Data Entry'!T232=\"\",\"\",'All Bill Data Entry'!T232)","v":""}]
["",{"$f":"IF('All Bill Data Entry'!A233=\"\",\"\",'All Bill Data Entry'!A233)","v":""},"","","",{"$f":"IF('LN-Line Data'!R228=\"\",\"\",'LN-Line Data'!R228)","v":""},"",{"$f":"IF('All Bill Data Entry'!O233=\"\",\"\",'All Bill Data Entry'!O233)","v":""},{"$f":"IF('All Bill Data Entry'!P233=\"\",\"\",'All Bill Data Entry'!P233)","v":""},{"$f":"IF('All Bill Data Entry'!Q233=\"\",\"\",'All Bill Data Entry'!Q233)","v":""},{"$f":"IF('All Bill Data Entry'!R233=\"\",\"\",'All Bill Data Entry'!R233)","v":""},{"$f":"IF('All Bill Data Entry'!S233=\"\",\"\",'All Bill Data Entry'!S233)","v":""},{"$f":"IF('All Bill Data Entry'!T233=\"\",\"\",'All Bill Data Entry'!T233)","v":""}]
["",{"$f":"IF('All Bill Data Entry'!A234=\"\",\"\",'All Bill Data Entry'!A234)","v":""},"","","",{"$f":"IF('LN-Line Data'!R229=\"\",\"\",'LN-Line Data'!R229)","v":""},"",{"$f":"IF('All Bill Data Entry'!O234=\"\",\"\",'All Bill Data Entry'!O234)","v":""},{"$f":"IF('All Bill Data Entry'!P234=\"\",\"\",'All Bill Data Entry'!P234)","v":""},{"$f":"IF('All Bill Data Entry'!Q234=\"\",\"\",'All Bill Data Entry'!Q234)","v":""},{"$f":"IF('All Bill Data Entry'!R234=\"\",\"\",'All Bill Data Entry'!R234)","v":""},{"$f":"IF('All Bill Data Entry'!S234=\"\",\"\",'All Bill Data Entry'!S234)","v":""},{"$f":"IF('All Bill Data Entry'!T234=\"\",\"\",'All Bill Data Entry'!T234)","v":""}]
["",{"$f":"IF('All Bill Data Entry'!A235=\"\",\"\",'All Bill Data Entry'!A235)","v":""},"","","",{"$f":"IF('LN-Line Data'!R230=\"\",\"\",'LN-Line Data'!R230)","v":""},"",{"$f":"IF('All Bill Data Entry'!O235=\"\",\"\",'All Bill Data Entry'!O235)","v":""},{"$f":"IF('All Bill Data Entry'!P235=\"\",\"\",'All Bill Data Entry'!P235)","v":""},{"$f":"IF('All Bill Data Entry'!Q235=\"\",\"\",'All Bill Data Entry'!Q235)","v":""},{"$f":"IF('All Bill Data Entry'!R235=\"\",\"\",'All Bill Data Entry'!R235)","v":""},{"$f":"IF('All Bill Data Entry'!S235=\"\",\"\",'All Bill Data Entry'!S235)","v":""},{"$f":"IF('All Bill Data Entry'!T235=\"\",\"\",'All Bill Data Entry'!T235)","v":""}]
["",{"$f":"IF('All Bill Data Entry'!A236=\"\",\"\",'All Bill Data Entry'!A236)","v":""},"","","",{"$f":"IF('LN-Line Data'!R231=\"\",\"\",'LN-Line Data'!R231)","v":""},"",{"$f":"IF('All Bill Data Entry'!O236=\"\",\"\",'All Bill Data Entry'!O236)","v":""},{"$f":"IF('All Bill Data Entry'!P236=\"\",\"\",'All Bill Data Entry'!P236)","v":""},{"$f":"IF('All Bill Data Entry'!Q236=\"\",\"\",'All Bill Data Entry'!Q236)","v":""},{"$f":"IF('All Bill Data Entry'!R236=\"\",\"\",'All Bill Data Entry'!R236)","v":""},{"$f":"IF('All Bill Data Entry'!S236=\"\",\"\",'All Bill Data Entry'!S236)","v":""},{"$f":"IF('All Bill Data Entry'!T236=\"\",\"\",'All Bill Data Entry'!T236)","v":""}]
["",{"$f":"IF('All Bill Data Entry'!A237=\"\",\"\",'All Bill Data Entry'!A237)","v":""},"","","",{"$f":"IF('LN-Line Data'!R232=\"\",\"\",'LN-Line Data'!R232)","v":""},"",{"$f":"IF('All Bill Data Entry'!O237=\"\",\"\",'All Bill Data Entry'!O237)","v":""},{"$f":"IF('All Bill Data Entry'!P237=\"\",\"\",'All Bill Data Entry'!P237)","v":""},{"$f":"IF('All Bill Data Entry'!Q237=\"\",\"\",'All Bill Data Entry'!Q237)","v":""},{"$f":"IF('All Bill Data Entry'!R237=\"\",\"\",'All Bill Data Entry'!R237)","v":""},{"$f":"IF('All Bill Data Entry'!S237=\"\",\"\",'All Bill Data Entry'!S237)","v":""},{"$f":"IF('All Bill Data Entry'!T237=\"\",\"\",'All Bill Data Entry'!T237)","v":""}]
["",{"$f":"IF('All Bill Data Entry'!A238=\"\",\"\",'All Bill Data Entry'!A238)","v":""},"","","",{"$f":"IF('LN-Line Data'!R233=\"\",\"\",'LN-Line Data'!R233)","v":""},"",{"$f":"IF('All Bill Data Entry'!O238=\"\",\"\",'All Bill Data Entry'!O238)","v":""},{"$f":"IF('All Bill Data Entry'!P238=\"\",\"\",'All Bill Data Entry'!P238)","v":""},{"$f":"IF('All Bill Data Entry'!Q238=\"\",\"\",'All Bill Data Entry'!Q238)","v":""},{"$f":"IF('All Bill Data Entry'!R238=\"\",\"\",'All Bill Data Entry'!R238)","v":""},{"$f":"IF('All Bill Data Entry'!S238=\"\",\"\",'All Bill Data Entry'!S238)","v":""},{"$f":"IF('All Bill Data Entry'!T238=\"\",\"\",'All Bill Data Entry'!T238)","v":""}]
["",{"$f":"IF('All Bill Data Entry'!A239=\"\",\"\",'All Bill Data Entry'!A239)","v":""},"","","",{"$f":"IF('LN-Line Data'!R234=\"\",\"\",'LN-Line Data'!R234)","v":""},"",{"$f":"IF('All Bill Data Entry'!O239=\"\",\"\",'All Bill Data Entry'!O239)","v":""},{"$f":"IF('All Bill Data Entry'!P239=\"\",\"\",'All Bill Data Entry'!P239)","v":""},{"$f":"IF('All Bill Data Entry'!Q239=\"\",\"\",'All Bill Data Entry'!Q239)","v":""},{"$f":"IF('All Bill Data Entry'!R239=\"\",\"\",'All Bill Data Entry'!R239)","v":""},{"$f":"IF('All Bill Data Entry'!S239=\"\",\"\",'All Bill Data Entry'!S239)","v":""},{"$f":"IF('All Bill Data Entry'!T239=\"\",\"\",'All Bill Data Entry'!T239)","v":""}]
["",{"$f":"IF('All Bill Data Entry'!A240=\"\",\"\",'All Bill Data Entry'!A240)","v":""},"","","",{"$f":"IF('LN-Line Data'!R235=\"\",\"\",'LN-Line Data'!R235)","v":""},"",{"$f":"IF('All Bill Data Entry'!O240=\"\",\"\",'All Bill Data Entry'!O240)","v":""},{"$f":"IF('All Bill Data Entry'!P240=\"\",\"\",'All Bill Data Entry'!P240)","v":""},{"$f":"IF('All Bill Data Entry'!Q240=\"\",\"\",'All Bill Data Entry'!Q240)","v":""},{"$f":"IF('All Bill Data Entry'!R240=\"\",\"\",'All Bill Data Entry'!R240)","v":""},{"$f":"IF('All Bill Data Entry'!S240=\"\",\"\",'All Bill Data Entry'!S240)","v":""},{"$f":"IF('All Bill Data Entry'!T240=\"\",\"\",'All Bill Data Entry'!T240)","v":""}]
["",{"$f":"IF('All Bill Data Entry'!A241=\"\",\"\",'All Bill Data Entry'!A241)","v":""},"","","",{"$f":"IF('LN-Line Data'!R236=\"\",\"\",'LN-Line Data'!R236)","v":""},"",{"$f":"IF('All Bill Data Entry'!O241=\"\",\"\",'All Bill Data Entry'!O241)","v":""},{"$f":"IF('All Bill Data Entry'!P241=\"\",\"\",'All Bill Data Entry'!P241)","v":""},{"$f":"IF('All Bill Data Entry'!Q241=\"\",\"\",'All Bill Data Entry'!Q241)","v":""},{"$f":"IF('All Bill Data Entry'!R241=\"\",\"\",'All Bill Data Entry'!R241)","v":""},{"$f":"IF('All Bill Data Entry'!S241=\"\",\"\",'All Bill Data Entry'!S241)","v":""},{"$f":"IF('All Bill Data Entry'!T241=\"\",\"\",'All Bill Data Entry'!T241)","v":""}]
["",{"$f":"IF('All Bill Data Entry'!A242=\"\",\"\",'All Bill Data Entry'!A242)","v":""},"","","",{"$f":"IF('LN-Line Data'!R237=\"\",\"\",'LN-Line Data'!R237)","v":""},"",{"$f":"IF('All Bill Data Entry'!O242=\"\",\"\",'All Bill Data Entry'!O242)","v":""},{"$f":"IF('All Bill Data Entry'!P242=\"\",\"\",'All Bill Data Entry'!P242)","v":""},{"$f":"IF('All Bill Data Entry'!Q242=\"\",\"\",'All Bill Data Entry'!Q242)","v":""},{"$f":"IF('All Bill Data Entry'!R242=\"\",\"\",'All Bill Data Entry'!R242)","v":""},{"$f":"IF('All Bill Data Entry'!S242=\"\",\"\",'All Bill Data Entry'!S242)","v":""},{"$f":"IF('All Bill Data Entry'!T242=\"\",\"\",'All Bill Data Entry'!T242)","v":""}]
["",{"$f":"IF('All Bill Data Entry'!A243=\"\",\"\",'All Bill Data Entry'!A243)","v":""},"","","",{"$f":"IF('LN-Line Data'!R238=\"\",\"\",'LN-Line Data'!R238)","v":""},"",{"$f":"IF('All Bill Data Entry'!O243=\"\",\"\",'All Bill Data Entry'!O243)","v":""},{"$f":"IF('All Bill Data Entry'!P243=\"\",\"\",'All Bill Data Entry'!P243)","v":""},{"$f":"IF('All Bill Data Entry'!Q243=\"\",\"\",'All Bill Data Entry'!Q243)","v":""},{"$f":"IF('All Bill Data Entry'!R243=\"\",\"\",'All Bill Data Entry'!R243)","v":""},{"$f":"IF('All Bill Data Entry'!S243=\"\",\"\",'All Bill Data Entry'!S243)","v":""},{"$f":"IF('All Bill Data Entry'!T243=\"\",\"\",'All Bill Data Entry'!T243)","v":""}]
["",{"$f":"IF('All Bill Data Entry'!A244=\"\",\"\",'All Bill Data Entry'!A244)","v":""},"","","",{"$f":"IF('LN-Line Data'!R239=\"\",\"\",'LN-Line Data'!R239)","v":""},"",{"$f":"IF('All Bill Data Entry'!O244=\"\",\"\",'All Bill Data Entry'!O244)","v":""},{"$f":"IF('All Bill Data Entry'!P244=\"\",\"\",'All Bill Data Entry'!P244)","v":""},{"$f":"IF('All Bill Data Entry'!Q244=\"\",\"\",'All Bill Data Entry'!Q244)","v":""},{"$f":"IF('All Bill Data Entry'!R244=\"\",\"\",'All Bill Data Entry'!R244)","v":""},{"$f":"IF('All Bill Data Entry'!S244=\"\",\"\",'All Bill Data Entry'!S244)","v":""},{"$f":"IF('All Bill Data Entry'!T244=\"\",\"\",'All Bill Data Entry'!T244)","v":""}]
["",{"$f":"IF('All Bill Data Entry'!A245=\"\",\"\",'All Bill Data Entry'!A245)","v":""},"","","",{"$f":"IF('LN-Line Data'!R240=\"\",\"\",'LN-Line Data'!R240)","v":""},"",{"$f":"IF('All Bill Data Entry'!O245=\"\",\"\",'All Bill Data Entry'!O245)","v":""},{"$f":"IF('All Bill Data Entry'!P245=\"\",\"\",'All Bill Data Entry'!P245)","v":""},{"$f":"IF('All Bill Data Entry'!Q245=\"\",\"\",'All Bill Data Entry'!Q245)","v":""},{"$f":"IF('All Bill Data Entry'!R245=\"\",\"\",'All Bill Data Entry'!R245)","v":""},{"$f":"IF('All Bill Data Entry'!S245=\"\",\"\",'All Bill Data Entry'!S245)","v":""},{"$f":"IF('All Bill Data Entry'!T245=\"\",\"\",'All Bill Data Entry'!T245)","v":""}]
["",{"$f":"IF('All Bill Data Entry'!A246=\"\",\"\",'All Bill Data Entry'!A246)","v":""},"","","",{"$f":"IF('LN-Line Data'!R241=\"\",\"\",'LN-Line Data'!R241)","v":""},"",{"$f":"IF('All Bill Data Entry'!O246=\"\",\"\",'All Bill Data Entry'!O246)","v":""},{"$f":"IF('All Bill Data Entry'!P246=\"\",\"\",'All Bill Data Entry'!P246)","v":""},{"$f":"IF('All Bill Data Entry'!Q246=\"\",\"\",'All Bill Data Entry'!Q246)","v":""},{"$f":"IF('All Bill Data Entry'!R246=\"\",\"\",'All Bill Data Entry'!R246)","v":""},{"$f":"IF('All Bill Data Entry'!S246=\"\",\"\",'All Bill Data Entry'!S246)","v":""},{"$f":"IF('All Bill Data Entry'!T246=\"\",\"\",'All Bill Data Entry'!T246)","v":""}]
["",{"$f":"IF('All Bill Data Entry'!A247=\"\",\"\",'All Bill Data Entry'!A247)","v":""},"","","",{"$f":"IF('LN-Line Data'!R242=\"\",\"\",'LN-Line Data'!R242)","v":""},"",{"$f":"IF('All Bill Data Entry'!O247=\"\",\"\",'All Bill Data Entry'!O247)","v":""},{"$f":"IF('All Bill Data Entry'!P247=\"\",\"\",'All Bill Data Entry'!P247)","v":""},{"$f":"IF('All Bill Data Entry'!Q247=\"\",\"\",'All Bill Data Entry'!Q247)","v":""},{"$f":"IF('All Bill Data Entry'!R247=\"\",\"\",'All Bill Data Entry'!R247)","v":""},{"$f":"IF('All Bill Data Entry'!S247=\"\",\"\",'All Bill Data Entry'!S247)","v":""},{"$f":"IF('All Bill Data Entry'!T247=\"\",\"\",'All Bill Data Entry'!T247)","v":""}]
["",{"$f":"IF('All Bill Data Entry'!A248=\"\",\"\",'All Bill Data Entry'!A248)","v":""},"","","",{"$f":"IF('LN-Line Data'!R243=\"\",\"\",'LN-Line Data'!R243)","v":""},"",{"$f":"IF('All Bill Data Entry'!O248=\"\",\"\",'All Bill Data Entry'!O248)","v":""},{"$f":"IF('All Bill Data Entry'!P248=\"\",\"\",'All Bill Data Entry'!P248)","v":""},{"$f":"IF('All Bill Data Entry'!Q248=\"\",\"\",'All Bill Data Entry'!Q248)","v":""},{"$f":"IF('All Bill Data Entry'!R248=\"\",\"\",'All Bill Data Entry'!R248)","v":""},{"$f":"IF('All Bill Data Entry'!S248=\"\",\"\",'All Bill Data Entry'!S248)","v":""},{"$f":"IF('All Bill Data Entry'!T248=\"\",\"\",'All Bill Data Entry'!T248)","v":""}]
["",{"$f":"IF('All Bill Data Entry'!A249=\"\",\"\",'All Bill Data Entry'!A249)","v":""},"","","",{"$f":"IF('LN-Line Data'!R244=\"\",\"\",'LN-Line Data'!R244)","v":""},"",{"$f":"IF('All Bill Data Entry'!O249=\"\",\"\",'All Bill Data Entry'!O249)","v":""},{"$f":"IF('All Bill Data Entry'!P249=\"\",\"\",'All Bill Data Entry'!P249)","v":""},{"$f":"IF('All Bill Data Entry'!Q249=\"\",\"\",'All Bill Data Entry'!Q249)","v":""},{"$f":"IF('All Bill Data Entry'!R249=\"\",\"\",'All Bill Data Entry'!R249)","v":""},{"$f":"IF('All Bill Data Entry'!S249=\"\",\"\",'All Bill Data Entry'!S249)","v":""},{"$f":"IF('All Bill Data Entry'!T249=\"\",\"\",'All Bill Data Entry'!T249)","v":""}]
["",{"$f":"IF('All Bill Data Entry'!A250=\"\",\"\",'All Bill Data Entry'!A250)","v":""},"","","",{"$f":"IF('LN-Line Data'!R245=\"\",\"\",'LN-Line Data'!R245)","v":""},"",{"$f":"IF('All Bill Data Entry'!O250=\"\",\"\",'All Bill Data Entry'!O250)","v":""},{"$f":"IF('All Bill Data Entry'!P250=\"\",\"\",'All Bill Data Entry'!P250)","v":""},{"$f":"IF('All Bill Data Entry'!Q250=\"\",\"\",'All Bill Data Entry'!Q250)","v":""},{"$f":"IF('All Bill Data Entry'!R250=\"\",\"\",'All Bill Data Entry'!R250)","v":""},{"$f":"IF('All Bill Data Entry'!S250=\"\",\"\",'All Bill Data Entry'!S250)","v":""},{"$f":"IF('All Bill Data Entry'!T250=\"\",\"\",'All Bill Data Entry'!T250)","v":""}]
["",{"$f":"IF('All Bill Data Entry'!A251=\"\",\"\",'All Bill Data Entry'!A251)","v":""},"","","",{"$f":"IF('LN-Line Data'!R246=\"\",\"\",'LN-Line Data'!R246)","v":""},"",{"$f":"IF('All Bill Data Entry'!O251=\"\",\"\",'All Bill Data Entry'!O251)","v":""},{"$f":"IF('All Bill Data Entry'!P251=\"\",\"\",'All Bill Data Entry'!P251)","v":""},{"$f":"IF('All Bill Data Entry'!Q251=\"\",\"\",'All Bill Data Entry'!Q251)","v":""},{"$f":"IF('All Bill Data Entry'!R251=\"\",\"\",'All Bill Data Entry'!R251)","v":""},{"$f":"IF('All Bill Data Entry'!S251=\"\",\"\",'All Bill Data Entry'!S251)","v":""},{"$f":"IF('All Bill Data Entry'!T251=\"\",\"\",'All Bill Data Entry'!T251)","v":""}]
["",{"$f":"IF('All Bill Data Entry'!A252=\"\",\"\",'All Bill Data Entry'!A252)","v":""},"","","",{"$f":"IF('LN-Line Data'!R247=\"\",\"\",'LN-Line Data'!R247)","v":""},"",{"$f":"IF('All Bill Data Entry'!O252=\"\",\"\",'All Bill Data Entry'!O252)","v":""},{"$f":"IF('All Bill Data Entry'!P252=\"\",\"\",'All Bill Data Entry'!P252)","v":""},{"$f":"IF('All Bill Data Entry'!Q252=\"\",\"\",'All Bill Data Entry'!Q252)","v":""},{"$f":"IF('All Bill Data Entry'!R252=\"\",\"\",'All Bill Data Entry'!R252)","v":""},{"$f":"IF('All Bill Data Entry'!S252=\"\",\"\",'All Bill Data Entry'!S252)","v":""},{"$f":"IF('All Bill Data Entry'!T252=\"\",\"\",'All Bill Data Entry'!T252)","v":""}]
["",{"$f":"IF('All Bill Data Entry'!A253=\"\",\"\",'All Bill Data Entry'!A253)","v":""},"","","",{"$f":"IF('LN-Line Data'!R248=\"\",\"\",'LN-Line Data'!R248)","v":""},"",{"$f":"IF('All Bill Data Entry'!O253=\"\",\"\",'All Bill Data Entry'!O253)","v":""},{"$f":"IF('All Bill Data Entry'!P253=\"\",\"\",'All Bill Data Entry'!P253)","v":""},{"$f":"IF('All Bill Data Entry'!Q253=\"\",\"\",'All Bill Data Entry'!Q253)","v":""},{"$f":"IF('All Bill Data Entry'!R253=\"\",\"\",'All Bill Data Entry'!R253)","v":""},{"$f":"IF('All Bill Data Entry'!S253=\"\",\"\",'All Bill Data Entry'!S253)","v":""},{"$f":"IF('All Bill Data Entry'!T253=\"\",\"\",'All Bill Data Entry'!T253)","v":""}]
["",{"$f":"IF('All Bill Data Entry'!A254=\"\",\"\",'All Bill Data Entry'!A254)","v":""},"","","",{"$f":"IF('LN-Line Data'!R249=\"\",\"\",'LN-Line Data'!R249)","v":""},"",{"$f":"IF('All Bill Data Entry'!O254=\"\",\"\",'All Bill Data Entry'!O254)","v":""},{"$f":"IF('All Bill Data Entry'!P254=\"\",\"\",'All Bill Data Entry'!P254)","v":""},{"$f":"IF('All Bill Data Entry'!Q254=\"\",\"\",'All Bill Data Entry'!Q254)","v":""},{"$f":"IF('All Bill Data Entry'!R254=\"\",\"\",'All Bill Data Entry'!R254)","v":""},{"$f":"IF('All Bill Data Entry'!S254=\"\",\"\",'All Bill Data Entry'!S254)","v":""},{"$f":"IF('All Bill Data Entry'!T254=\"\",\"\",'All Bill Data Entry'!T254)","v":""}]
["",{"$f":"IF('All Bill Data Entry'!A255=\"\",\"\",'All Bill Data Entry'!A255)","v":""},"","","",{"$f":"IF('LN-Line Data'!R250=\"\",\"\",'LN-Line Data'!R250)","v":""},"",{"$f":"IF('All Bill Data Entry'!O255=\"\",\"\",'All Bill Data Entry'!O255)","v":""},{"$f":"IF('All Bill Data Entry'!P255=\"\",\"\",'All Bill Data Entry'!P255)","v":""},{"$f":"IF('All Bill Data Entry'!Q255=\"\",\"\",'All Bill Data Entry'!Q255)","v":""},{"$f":"IF('All Bill Data Entry'!R255=\"\",\"\",'All Bill Data Entry'!R255)","v":""},{"$f":"IF('All Bill Data Entry'!S255=\"\",\"\",'All Bill Data Entry'!S255)","v":""},{"$f":"IF('All Bill Data Entry'!T255=\"\",\"\",'All Bill Data Entry'!T255)","v":""}]
["",{"$f":"IF('All Bill Data Entry'!A256=\"\",\"\",'All Bill Data Entry'!A256)","v":""},"","","",{"$f":"IF('LN-Line Data'!R251=\"\",\"\",'LN-Line Data'!R251)","v":""},"",{"$f":"IF('All Bill Data Entry'!O256=\"\",\"\",'All Bill Data Entry'!O256)","v":""},{"$f":"IF('All Bill Data Entry'!P256=\"\",\"\",'All Bill Data Entry'!P256)","v":""},{"$f":"IF('All Bill Data Entry'!Q256=\"\",\"\",'All Bill Data Entry'!Q256)","v":""},{"$f":"IF('All Bill Data Entry'!R256=\"\",\"\",'All Bill Data Entry'!R256)","v":""},{"$f":"IF('All Bill Data Entry'!S256=\"\",\"\",'All Bill Data Entry'!S256)","v":""},{"$f":"IF('All Bill Data Entry'!T256=\"\",\"\",'All Bill Data Entry'!T256)","v":""}]
["",{"$f":"IF('All Bill Data Entry'!A257=\"\",\"\",'All Bill Data Entry'!A257)","v":""},"","","",{"$f":"IF('LN-Line Data'!R252=\"\",\"\",'LN-Line Data'!R252)","v":""},"",{"$f":"IF('All Bill Data Entry'!O257=\"\",\"\",'All Bill Data Entry'!O257)","v":""},{"$f":"IF('All Bill Data Entry'!P257=\"\",\"\",'All Bill Data Entry'!P257)","v":""},{"$f":"IF('All Bill Data Entry'!Q257=\"\",\"\",'All Bill Data Entry'!Q257)","v":""},{"$f":"IF('All Bill Data Entry'!R257=\"\",\"\",'All Bill Data Entry'!R257)","v":""},{"$f":"IF('All Bill Data Entry'!S257=\"\",\"\",'All Bill Data Entry'!S257)","v":""},{"$f":"IF('All Bill Data Entry'!T257=\"\",\"\",'All Bill Data Entry'!T257)","v":""}]
["",{"$f":"IF('All Bill Data Entry'!A258=\"\",\"\",'All Bill Data Entry'!A258)","v":""},"","","",{"$f":"IF('LN-Line Data'!R253=\"\",\"\",'LN-Line Data'!R253)","v":""},"",{"$f":"IF('All Bill Data Entry'!O258=\"\",\"\",'All Bill Data Entry'!O258)","v":""},{"$f":"IF('All Bill Data Entry'!P258=\"\",\"\",'All Bill Data Entry'!P258)","v":""},{"$f":"IF('All Bill Data Entry'!Q258=\"\",\"\",'All Bill Data Entry'!Q258)","v":""},{"$f":"IF('All Bill Data Entry'!R258=\"\",\"\",'All Bill Data Entry'!R258)","v":""},{"$f":"IF('All Bill Data Entry'!S258=\"\",\"\",'All Bill Data Entry'!S258)","v":""},{"$f":"IF('All Bill Data Entry'!T258=\"\",\"\",'All Bill Data Entry'!T258)","v":""}]
["",{"$f":"IF('All Bill Data Entry'!A259=\"\",\"\",'All Bill Data Entry'!A259)","v":""},"","","",{"$f":"IF('LN-Line Data'!R254=\"\",\"\",'LN-Line Data'!R254)","v":""},"",{"$f":"IF('All Bill Data Entry'!O259=\"\",\"\",'All Bill Data Entry'!O259)","v":""},{"$f":"IF('All Bill Data Entry'!P259=\"\",\"\",'All Bill Data Entry'!P259)","v":""},{"$f":"IF('All Bill Data Entry'!Q259=\"\",\"\",'All Bill Data Entry'!Q259)","v":""},{"$f":"IF('All Bill Data Entry'!R259=\"\",\"\",'All Bill Data Entry'!R259)","v":""},{"$f":"IF('All Bill Data Entry'!S259=\"\",\"\",'All Bill Data Entry'!S259)","v":""},{"$f":"IF('All Bill Data Entry'!T259=\"\",\"\",'All Bill Data Entry'!T259)","v":""}]
["",{"$f":"IF('All Bill Data Entry'!A260=\"\",\"\",'All Bill Data Entry'!A260)","v":""},"","","",{"$f":"IF('LN-Line Data'!R255=\"\",\"\",'LN-Line Data'!R255)","v":""},"",{"$f":"IF('All Bill Data Entry'!O260=\"\",\"\",'All Bill Data Entry'!O260)","v":""},{"$f":"IF('All Bill Data Entry'!P260=\"\",\"\",'All Bill Data Entry'!P260)","v":""},{"$f":"IF('All Bill Data Entry'!Q260=\"\",\"\",'All Bill Data Entry'!Q260)","v":""},{"$f":"IF('All Bill Data Entry'!R260=\"\",\"\",'All Bill Data Entry'!R260)","v":""},{"$f":"IF('All Bill Data Entry'!S260=\"\",\"\",'All Bill Data Entry'!S260)","v":""},{"$f":"IF('All Bill Data Entry'!T260=\"\",\"\",'All Bill Data Entry'!T260)","v":""}]
["",{"$f":"IF('All Bill Data Entry'!A261=\"\",\"\",'All Bill Data Entry'!A261)","v":""},"","","",{"$f":"IF('LN-Line Data'!R256=\"\",\"\",'LN-Line Data'!R256)","v":""},"",{"$f":"IF('All Bill Data Entry'!O261=\"\",\"\",'All Bill Data Entry'!O261)","v":""},{"$f":"IF('All Bill Data Entry'!P261=\"\",\"\",'All Bill Data Entry'!P261)","v":""},{"$f":"IF('All Bill Data Entry'!Q261=\"\",\"\",'All Bill Data Entry'!Q261)","v":""},{"$f":"IF('All Bill Data Entry'!R261=\"\",\"\",'All Bill Data Entry'!R261)","v":""},{"$f":"IF('All Bill Data Entry'!S261=\"\",\"\",'All Bill Data Entry'!S261)","v":""},{"$f":"IF('All Bill Data Entry'!T261=\"\",\"\",'All Bill Data Entry'!T261)","v":""}]
["",{"$f":"IF('All Bill Data Entry'!A262=\"\",\"\",'All Bill Data Entry'!A262)","v":""},"","","",{"$f":"IF('LN-Line Data'!R257=\"\",\"\",'LN-Line Data'!R257)","v":""},"",{"$f":"IF('All Bill Data Entry'!O262=\"\",\"\",'All Bill Data Entry'!O262)","v":""},{"$f":"IF('All Bill Data Entry'!P262=\"\",\"\",'All Bill Data Entry'!P262)","v":""},{"$f":"IF('All Bill Data Entry'!Q262=\"\",\"\",'All Bill Data Entry'!Q262)","v":""},{"$f":"IF('All Bill Data Entry'!R262=\"\",\"\",'All Bill Data Entry'!R262)","v":""},{"$f":"IF('All Bill Data Entry'!S262=\"\",\"\",'All Bill Data Entry'!S262)","v":""},{"$f":"IF('All Bill Data Entry'!T262=\"\",\"\",'All Bill Data Entry'!T262)","v":""}]
["",{"$f":"IF('All Bill Data Entry'!A263=\"\",\"\",'All Bill Data Entry'!A263)","v":""},"","","",{"$f":"IF('LN-Line Data'!R258=\"\",\"\",'LN-Line Data'!R258)","v":""},"",{"$f":"IF('All Bill Data Entry'!O263=\"\",\"\",'All Bill Data Entry'!O263)","v":""},{"$f":"IF('All Bill Data Entry'!P263=\"\",\"\",'All Bill Data Entry'!P263)","v":""},{"$f":"IF('All Bill Data Entry'!Q263=\"\",\"\",'All Bill Data Entry'!Q263)","v":""},{"$f":"IF('All Bill Data Entry'!R263=\"\",\"\",'All Bill Data Entry'!R263)","v":""},{"$f":"IF('All Bill Data Entry'!S263=\"\",\"\",'All Bill Data Entry'!S263)","v":""},{"$f":"IF('All Bill Data Entry'!T263=\"\",\"\",'All Bill Data Entry'!T263)","v":""}]
["",{"$f":"IF('All Bill Data Entry'!A264=\"\",\"\",'All Bill Data Entry'!A264)","v":""},{"$f":"IF($B259=\"\",\"\",\"AE\")","v":""},{"$f":"IF($B259=\"\",\"\",\"RR\")","v":""},{"$f":"IF($B259=\"\",\"\",\"AUX01\")","v":""},{"$f":"IF('LN-Line Data'!R259=\"\",\"\",'LN-Line Data'!R259)","v":""},{"$f":"IF($B259=\"\",\"\",100)","v":""},{"$f":"IF('All Bill Data Entry'!O264=\"\",\"\",'All Bill Data Entry'!O264)","v":""},{"$f":"IF('All Bill Data Entry'!P264=\"\",\"\",'All Bill Data Entry'!P264)","v":""},{"$f":"IF('All Bill Data Entry'!Q264=\"\",\"\",'All Bill Data Entry'!Q264)","v":""},{"$f":"IF('All Bill Data Entry'!R264=\"\",\"\",'All Bill Data Entry'!R264)","v":""},{"$f":"IF('All Bill Data Entry'!S264=\"\",\"\",'All Bill Data Entry'!S264)","v":""},{"$f":"IF('All Bill Data Entry'!T264=\"\",\"\",'All Bill Data Entry'!T264)","v":""}]
["",{"$f":"IF('All Bill Data Entry'!A265=\"\",\"\",'All Bill Data Entry'!A265)","v":""},"","","",{"$f":"IF('LN-Line Data'!R260=\"\",\"\",'LN-Line Data'!R260)","v":""},"",{"$f":"IF('All Bill Data Entry'!O265=\"\",\"\",'All Bill Data Entry'!O265)","v":""},{"$f":"IF('All Bill Data Entry'!P265=\"\",\"\",'All Bill Data Entry'!P265)","v":""},{"$f":"IF('All Bill Data Entry'!Q265=\"\",\"\",'All Bill Data Entry'!Q265)","v":""},{"$f":"IF('All Bill Data Entry'!R265=\"\",\"\",'All Bill Data Entry'!R265)","v":""},{"$f":"IF('All Bill Data Entry'!S265=\"\",\"\",'All Bill Data Entry'!S265)","v":""},{"$f":"IF('All Bill Data Entry'!T265=\"\",\"\",'All Bill Data Entry'!T265)","v":""}]
["",{"$f":"IF('All Bill Data Entry'!A266=\"\",\"\",'All Bill Data Entry'!A266)","v":""},"","","",{"$f":"IF('LN-Line Data'!R261=\"\",\"\",'LN-Line Data'!R261)","v":""},"",{"$f":"IF('All Bill Data Entry'!O266=\"\",\"\",'All Bill Data Entry'!O266)","v":""},{"$f":"IF('All Bill Data Entry'!P266=\"\",\"\",'All Bill Data Entry'!P266)","v":""},{"$f":"IF('All Bill Data Entry'!Q266=\"\",\"\",'All Bill Data Entry'!Q266)","v":""},{"$f":"IF('All Bill Data Entry'!R266=\"\",\"\",'All Bill Data Entry'!R266)","v":""},{"$f":"IF('All Bill Data Entry'!S266=\"\",\"\",'All Bill Data Entry'!S266)","v":""},{"$f":"IF('All Bill Data Entry'!T266=\"\",\"\",'All Bill Data Entry'!T266)","v":""}]
["",{"$f":"IF('All Bill Data Entry'!A267=\"\",\"\",'All Bill Data Entry'!A267)","v":""},"","","",{"$f":"IF('LN-Line Data'!R262=\"\",\"\",'LN-Line Data'!R262)","v":""},"",{"$f":"IF('All Bill Data Entry'!O267=\"\",\"\",'All Bill Data Entry'!O267)","v":""},{"$f":"IF('All Bill Data Entry'!P267=\"\",\"\",'All Bill Data Entry'!P267)","v":""},{"$f":"IF('All Bill Data Entry'!Q267=\"\",\"\",'All Bill Data Entry'!Q267)","v":""},{"$f":"IF('All Bill Data Entry'!R267=\"\",\"\",'All Bill Data Entry'!R267)","v":""},{"$f":"IF('All Bill Data Entry'!S267=\"\",\"\",'All Bill Data Entry'!S267)","v":""},{"$f":"IF('All Bill Data Entry'!T267=\"\",\"\",'All Bill Data Entry'!T267)","v":""}]
["",{"$f":"IF('All Bill Data Entry'!A268=\"\",\"\",'All Bill Data Entry'!A268)","v":""},"","","",{"$f":"IF('LN-Line Data'!R263=\"\",\"\",'LN-Line Data'!R263)","v":""},"",{"$f":"IF('All Bill Data Entry'!O268=\"\",\"\",'All Bill Data Entry'!O268)","v":""},{"$f":"IF('All Bill Data Entry'!P268=\"\",\"\",'All Bill Data Entry'!P268)","v":""},{"$f":"IF('All Bill Data Entry'!Q268=\"\",\"\",'All Bill Data Entry'!Q268)","v":""},{"$f":"IF('All Bill Data Entry'!R268=\"\",\"\",'All Bill Data Entry'!R268)","v":""},{"$f":"IF('All Bill Data Entry'!S268=\"\",\"\",'All Bill Data Entry'!S268)","v":""},{"$f":"IF('All Bill Data Entry'!T268=\"\",\"\",'All Bill Data Entry'!T268)","v":""}]
["",{"$f":"IF('All Bill Data Entry'!A269=\"\",\"\",'All Bill Data Entry'!A269)","v":""},"","","",{"$f":"IF('LN-Line Data'!R264=\"\",\"\",'LN-Line Data'!R264)","v":""},"",{"$f":"IF('All Bill Data Entry'!O269=\"\",\"\",'All Bill Data Entry'!O269)","v":""},{"$f":"IF('All Bill Data Entry'!P269=\"\",\"\",'All Bill Data Entry'!P269)","v":""},{"$f":"IF('All Bill Data Entry'!Q269=\"\",\"\",'All Bill Data Entry'!Q269)","v":""},{"$f":"IF('All Bill Data Entry'!R269=\"\",\"\",'All Bill Data Entry'!R269)","v":""},{"$f":"IF('All Bill Data Entry'!S269=\"\",\"\",'All Bill Data Entry'!S269)","v":""},{"$f":"IF('All Bill Data Entry'!T269=\"\",\"\",'All Bill Data Entry'!T269)","v":""}]
["",{"$f":"IF('All Bill Data Entry'!A270=\"\",\"\",'All Bill Data Entry'!A270)","v":""},"","","",{"$f":"IF('LN-Line Data'!R265=\"\",\"\",'LN-Line Data'!R265)","v":""},"",{"$f":"IF('All Bill Data Entry'!O270=\"\",\"\",'All Bill Data Entry'!O270)","v":""},{"$f":"IF('All Bill Data Entry'!P270=\"\",\"\",'All Bill Data Entry'!P270)","v":""},{"$f":"IF('All Bill Data Entry'!Q270=\"\",\"\",'All Bill Data Entry'!Q270)","v":""},{"$f":"IF('All Bill Data Entry'!R270=\"\",\"\",'All Bill Data Entry'!R270)","v":""},{"$f":"IF('All Bill Data Entry'!S270=\"\",\"\",'All Bill Data Entry'!S270)","v":""},{"$f":"IF('All Bill Data Entry'!T270=\"\",\"\",'All Bill Data Entry'!T270)","v":""}]
[{"$f":"IF(B266=\"\",\"\",\"A\")","v":""},{"$f":"IF('All Bill Data Entry'!A271=\"\",\"\",'All Bill Data Entry'!A271)","v":""},"","","",{"$f":"IF('LN-Line Data'!R266=\"\",\"\",'LN-Line Data'!R266)","v":""},"",{"$f":"IF('All Bill Data Entry'!O271=\"\",\"\",'All Bill Data Entry'!O271)","v":""},{"$f":"IF('All Bill Data Entry'!P271=\"\",\"\",'All Bill Data Entry'!P271)","v":""},{"$f":"IF('All Bill Data Entry'!Q271=\"\",\"\",'All Bill Data Entry'!Q271)","v":""},{"$f":"IF('All Bill Data Entry'!R271=\"\",\"\",'All Bill Data Entry'!R271)","v":""},{"$f":"IF('All Bill Data Entry'!S271=\"\",\"\",'All Bill Data Entry'!S271)","v":""},{"$f":"IF('All Bill Data Entry'!T271=\"\",\"\",'All Bill Data Entry'!T271)","v":""}]
["",{"$f":"IF('All Bill Data Entry'!A272=\"\",\"\",'All Bill Data Entry'!A272)","v":""},"","","",{"$f":"IF('LN-Line Data'!R267=\"\",\"\",'LN-Line Data'!R267)","v":""},"",{"$f":"IF('All Bill Data Entry'!O272=\"\",\"\",'All Bill Data Entry'!O272)","v":""},{"$f":"IF('All Bill Data Entry'!P272=\"\",\"\",'All Bill Data Entry'!P272)","v":""},{"$f":"IF('All Bill Data Entry'!Q272=\"\",\"\",'All Bill Data Entry'!Q272)","v":""},{"$f":"IF('All Bill Data Entry'!R272=\"\",\"\",'All Bill Data Entry'!R272)","v":""},{"$f":"IF('All Bill Data Entry'!S272=\"\",\"\",'All Bill Data Entry'!S272)","v":""},{"$f":"IF('All Bill Data Entry'!T272=\"\",\"\",'All Bill Data Entry'!T272)","v":""}]
["",{"$f":"IF('All Bill Data Entry'!A273=\"\",\"\",'All Bill Data Entry'!A273)","v":""},"","","",{"$f":"IF('LN-Line Data'!R268=\"\",\"\",'LN-Line Data'!R268)","v":""},"",{"$f":"IF('All Bill Data Entry'!O273=\"\",\"\",'All Bill Data Entry'!O273)","v":""},{"$f":"IF('All Bill Data Entry'!P273=\"\",\"\",'All Bill Data Entry'!P273)","v":""},{"$f":"IF('All Bill Data Entry'!Q273=\"\",\"\",'All Bill Data Entry'!Q273)","v":""},{"$f":"IF('All Bill Data Entry'!R273=\"\",\"\",'All Bill Data Entry'!R273)","v":""},{"$f":"IF('All Bill Data Entry'!S273=\"\",\"\",'All Bill Data Entry'!S273)","v":""},{"$f":"IF('All Bill Data Entry'!T273=\"\",\"\",'All Bill Data Entry'!T273)","v":""}]
["",{"$f":"IF('All Bill Data Entry'!A274=\"\",\"\",'All Bill Data Entry'!A274)","v":""},"","","",{"$f":"IF('LN-Line Data'!R269=\"\",\"\",'LN-Line Data'!R269)","v":""},"",{"$f":"IF('All Bill Data Entry'!O274=\"\",\"\",'All Bill Data Entry'!O274)","v":""},{"$f":"IF('All Bill Data Entry'!P274=\"\",\"\",'All Bill Data Entry'!P274)","v":""},{"$f":"IF('All Bill Data Entry'!Q274=\"\",\"\",'All Bill Data Entry'!Q274)","v":""},{"$f":"IF('All Bill Data Entry'!R274=\"\",\"\",'All Bill Data Entry'!R274)","v":""},{"$f":"IF('All Bill Data Entry'!S274=\"\",\"\",'All Bill Data Entry'!S274)","v":""},{"$f":"IF('All Bill Data Entry'!T274=\"\",\"\",'All Bill Data Entry'!T274)","v":""}]
["",{"$f":"IF('All Bill Data Entry'!A275=\"\",\"\",'All Bill Data Entry'!A275)","v":""},"","","",{"$f":"IF('LN-Line Data'!R270=\"\",\"\",'LN-Line Data'!R270)","v":""},"",{"$f":"IF('All Bill Data Entry'!O275=\"\",\"\",'All Bill Data Entry'!O275)","v":""},{"$f":"IF('All Bill Data Entry'!P275=\"\",\"\",'All Bill Data Entry'!P275)","v":""},{"$f":"IF('All Bill Data Entry'!Q275=\"\",\"\",'All Bill Data Entry'!Q275)","v":""},{"$f":"IF('All Bill Data Entry'!R275=\"\",\"\",'All Bill Data Entry'!R275)","v":""},{"$f":"IF('All Bill Data Entry'!S275=\"\",\"\",'All Bill Data Entry'!S275)","v":""},{"$f":"IF('All Bill Data Entry'!T275=\"\",\"\",'All Bill Data Entry'!T275)","v":""}]
["",{"$f":"IF('All Bill Data Entry'!A276=\"\",\"\",'All Bill Data Entry'!A276)","v":""},"","","",{"$f":"IF('LN-Line Data'!R271=\"\",\"\",'LN-Line Data'!R271)","v":""},"",{"$f":"IF('All Bill Data Entry'!O276=\"\",\"\",'All Bill Data Entry'!O276)","v":""},{"$f":"IF('All Bill Data Entry'!P276=\"\",\"\",'All Bill Data Entry'!P276)","v":""},{"$f":"IF('All Bill Data Entry'!Q276=\"\",\"\",'All Bill Data Entry'!Q276)","v":""},{"$f":"IF('All Bill Data Entry'!R276=\"\",\"\",'All Bill Data Entry'!R276)","v":""},{"$f":"IF('All Bill Data Entry'!S276=\"\",\"\",'All Bill Data Entry'!S276)","v":""},{"$f":"IF('All Bill Data Entry'!T276=\"\",\"\",'All Bill Data Entry'!T276)","v":""}]
["",{"$f":"IF('All Bill Data Entry'!A277=\"\",\"\",'All Bill Data Entry'!A277)","v":""},"","","",{"$f":"IF('LN-Line Data'!R272=\"\",\"\",'LN-Line Data'!R272)","v":""},"",{"$f":"IF('All Bill Data Entry'!O277=\"\",\"\",'All Bill Data Entry'!O277)","v":""},{"$f":"IF('All Bill Data Entry'!P277=\"\",\"\",'All Bill Data Entry'!P277)","v":""},{"$f":"IF('All Bill Data Entry'!Q277=\"\",\"\",'All Bill Data Entry'!Q277)","v":""},{"$f":"IF('All Bill Data Entry'!R277=\"\",\"\",'All Bill Data Entry'!R277)","v":""},{"$f":"IF('All Bill Data Entry'!S277=\"\",\"\",'All Bill Data Entry'!S277)","v":""},{"$f":"IF('All Bill Data Entry'!T277=\"\",\"\",'All Bill Data Entry'!T277)","v":""}]
["",{"$f":"IF('All Bill Data Entry'!A278=\"\",\"\",'All Bill Data Entry'!A278)","v":""},"","","",{"$f":"IF('LN-Line Data'!R273=\"\",\"\",'LN-Line Data'!R273)","v":""},"",{"$f":"IF('All Bill Data Entry'!O278=\"\",\"\",'All Bill Data Entry'!O278)","v":""},{"$f":"IF('All Bill Data Entry'!P278=\"\",\"\",'All Bill Data Entry'!P278)","v":""},{"$f":"IF('All Bill Data Entry'!Q278=\"\",\"\",'All Bill Data Entry'!Q278)","v":""},{"$f":"IF('All Bill Data Entry'!R278=\"\",\"\",'All Bill Data Entry'!R278)","v":""},{"$f":"IF('All Bill Data Entry'!S278=\"\",\"\",'All Bill Data Entry'!S278)","v":""},{"$f":"IF('All Bill Data Entry'!T278=\"\",\"\",'All Bill Data Entry'!T278)","v":""}]
["",{"$f":"IF('All Bill Data Entry'!A279=\"\",\"\",'All Bill Data Entry'!A279)","v":""},"","","",{"$f":"IF('LN-Line Data'!R274=\"\",\"\",'LN-Line Data'!R274)","v":""},"",{"$f":"IF('All Bill Data Entry'!O279=\"\",\"\",'All Bill Data Entry'!O279)","v":""},{"$f":"IF('All Bill Data Entry'!P279=\"\",\"\",'All Bill Data Entry'!P279)","v":""},{"$f":"IF('All Bill Data Entry'!Q279=\"\",\"\",'All Bill Data Entry'!Q279)","v":""},{"$f":"IF('All Bill Data Entry'!R279=\"\",\"\",'All Bill Data Entry'!R279)","v":""},{"$f":"IF('All Bill Data Entry'!S279=\"\",\"\",'All Bill Data Entry'!S279)","v":""},{"$f":"IF('All Bill Data Entry'!T279=\"\",\"\",'All Bill Data Entry'!T279)","v":""}]
["",{"$f":"IF('All Bill Data Entry'!A280=\"\",\"\",'All Bill Data Entry'!A280)","v":""},"","","",{"$f":"IF('LN-Line Data'!R275=\"\",\"\",'LN-Line Data'!R275)","v":""},"",{"$f":"IF('All Bill Data Entry'!O280=\"\",\"\",'All Bill Data Entry'!O280)","v":""},{"$f":"IF('All Bill Data Entry'!P280=\"\",\"\",'All Bill Data Entry'!P280)","v":""},{"$f":"IF('All Bill Data Entry'!Q280=\"\",\"\",'All Bill Data Entry'!Q280)","v":""},{"$f":"IF('All Bill Data Entry'!R280=\"\",\"\",'All Bill Data Entry'!R280)","v":""},{"$f":"IF('All Bill Data Entry'!S280=\"\",\"\",'All Bill Data Entry'!S280)","v":""},{"$f":"IF('All Bill Data Entry'!T280=\"\",\"\",'All Bill Data Entry'!T280)","v":""}]
["",{"$f":"IF('All Bill Data Entry'!A281=\"\",\"\",'All Bill Data Entry'!A281)","v":""},"","","",{"$f":"IF('LN-Line Data'!R276=\"\",\"\",'LN-Line Data'!R276)","v":""},"",{"$f":"IF('All Bill Data Entry'!O281=\"\",\"\",'All Bill Data Entry'!O281)","v":""},{"$f":"IF('All Bill Data Entry'!P281=\"\",\"\",'All Bill Data Entry'!P281)","v":""},{"$f":"IF('All Bill Data Entry'!Q281=\"\",\"\",'All Bill Data Entry'!Q281)","v":""},{"$f":"IF('All Bill Data Entry'!R281=\"\",\"\",'All Bill Data Entry'!R281)","v":""},{"$f":"IF('All Bill Data Entry'!S281=\"\",\"\",'All Bill Data Entry'!S281)","v":""},{"$f":"IF('All Bill Data Entry'!T281=\"\",\"\",'All Bill Data Entry'!T281)","v":""}]
["",{"$f":"IF('All Bill Data Entry'!A282=\"\",\"\",'All Bill Data Entry'!A282)","v":""},"","","",{"$f":"IF('LN-Line Data'!R277=\"\",\"\",'LN-Line Data'!R277)","v":""},"",{"$f":"IF('All Bill Data Entry'!O282=\"\",\"\",'All Bill Data Entry'!O282)","v":""},{"$f":"IF('All Bill Data Entry'!P282=\"\",\"\",'All Bill Data Entry'!P282)","v":""},{"$f":"IF('All Bill Data Entry'!Q282=\"\",\"\",'All Bill Data Entry'!Q282)","v":""},{"$f":"IF('All Bill Data Entry'!R282=\"\",\"\",'All Bill Data Entry'!R282)","v":""},{"$f":"IF('All Bill Data Entry'!S282=\"\",\"\",'All Bill Data Entry'!S282)","v":""},{"$f":"IF('All Bill Data Entry'!T282=\"\",\"\",'All Bill Data Entry'!T282)","v":""}]
["",{"$f":"IF('All Bill Data Entry'!A283=\"\",\"\",'All Bill Data Entry'!A283)","v":""},"","","",{"$f":"IF('LN-Line Data'!R278=\"\",\"\",'LN-Line Data'!R278)","v":""},"",{"$f":"IF('All Bill Data Entry'!O283=\"\",\"\",'All Bill Data Entry'!O283)","v":""},{"$f":"IF('All Bill Data Entry'!P283=\"\",\"\",'All Bill Data Entry'!P283)","v":""},{"$f":"IF('All Bill Data Entry'!Q283=\"\",\"\",'All Bill Data Entry'!Q283)","v":""},{"$f":"IF('All Bill Data Entry'!R283=\"\",\"\",'All Bill Data Entry'!R283)","v":""},{"$f":"IF('All Bill Data Entry'!S283=\"\",\"\",'All Bill Data Entry'!S283)","v":""},{"$f":"IF('All Bill Data Entry'!T283=\"\",\"\",'All Bill Data Entry'!T283)","v":""}]
["",{"$f":"IF('All Bill Data Entry'!A284=\"\",\"\",'All Bill Data Entry'!A284)","v":""},"","","",{"$f":"IF('LN-Line Data'!R279=\"\",\"\",'LN-Line Data'!R279)","v":""},"",{"$f":"IF('All Bill Data Entry'!O284=\"\",\"\",'All Bill Data Entry'!O284)","v":""},{"$f":"IF('All Bill Data Entry'!P284=\"\",\"\",'All Bill Data Entry'!P284)","v":""},{"$f":"IF('All Bill Data Entry'!Q284=\"\",\"\",'All Bill Data Entry'!Q284)","v":""},{"$f":"IF('All Bill Data Entry'!R284=\"\",\"\",'All Bill Data Entry'!R284)","v":""},{"$f":"IF('All Bill Data Entry'!S284=\"\",\"\",'All Bill Data Entry'!S284)","v":""},{"$f":"IF('All Bill Data Entry'!T284=\"\",\"\",'All Bill Data Entry'!T284)","v":""}]
["",{"$f":"IF('All Bill Data Entry'!A285=\"\",\"\",'All Bill Data Entry'!A285)","v":""},"","","",{"$f":"IF('LN-Line Data'!R280=\"\",\"\",'LN-Line Data'!R280)","v":""},"",{"$f":"IF('All Bill Data Entry'!O285=\"\",\"\",'All Bill Data Entry'!O285)","v":""},{"$f":"IF('All Bill Data Entry'!P285=\"\",\"\",'All Bill Data Entry'!P285)","v":""},{"$f":"IF('All Bill Data Entry'!Q285=\"\",\"\",'All Bill Data Entry'!Q285)","v":""},{"$f":"IF('All Bill Data Entry'!R285=\"\",\"\",'All Bill Data Entry'!R285)","v":""},{"$f":"IF('All Bill Data Entry'!S285=\"\",\"\",'All Bill Data Entry'!S285)","v":""},{"$f":"IF('All Bill Data Entry'!T285=\"\",\"\",'All Bill Data Entry'!T285)","v":""}]
["",{"$f":"IF('All Bill Data Entry'!A286=\"\",\"\",'All Bill Data Entry'!A286)","v":""},"","","",{"$f":"IF('LN-Line Data'!R281=\"\",\"\",'LN-Line Data'!R281)","v":""},"",{"$f":"IF('All Bill Data Entry'!O286=\"\",\"\",'All Bill Data Entry'!O286)","v":""},{"$f":"IF('All Bill Data Entry'!P286=\"\",\"\",'All Bill Data Entry'!P286)","v":""},{"$f":"IF('All Bill Data Entry'!Q286=\"\",\"\",'All Bill Data Entry'!Q286)","v":""},{"$f":"IF('All Bill Data Entry'!R286=\"\",\"\",'All Bill Data Entry'!R286)","v":""},{"$f":"IF('All Bill Data Entry'!S286=\"\",\"\",'All Bill Data Entry'!S286)","v":""},{"$f":"IF('All Bill Data Entry'!T286=\"\",\"\",'All Bill Data Entry'!T286)","v":""}]
["",{"$f":"IF('All Bill Data Entry'!A287=\"\",\"\",'All Bill Data Entry'!A287)","v":""},"","","",{"$f":"IF('LN-Line Data'!R282=\"\",\"\",'LN-Line Data'!R282)","v":""},"",{"$f":"IF('All Bill Data Entry'!O287=\"\",\"\",'All Bill Data Entry'!O287)","v":""},{"$f":"IF('All Bill Data Entry'!P287=\"\",\"\",'All Bill Data Entry'!P287)","v":""},{"$f":"IF('All Bill Data Entry'!Q287=\"\",\"\",'All Bill Data Entry'!Q287)","v":""},{"$f":"IF('All Bill Data Entry'!R287=\"\",\"\",'All Bill Data Entry'!R287)","v":""},{"$f":"IF('All Bill Data Entry'!S287=\"\",\"\",'All Bill Data Entry'!S287)","v":""},{"$f":"IF('All Bill Data Entry'!T287=\"\",\"\",'All Bill Data Entry'!T287)","v":""}]
["",{"$f":"IF('All Bill Data Entry'!A288=\"\",\"\",'All Bill Data Entry'!A288)","v":""},"","","",{"$f":"IF('LN-Line Data'!R283=\"\",\"\",'LN-Line Data'!R283)","v":""},"",{"$f":"IF('All Bill Data Entry'!O288=\"\",\"\",'All Bill Data Entry'!O288)","v":""},{"$f":"IF('All Bill Data Entry'!P288=\"\",\"\",'All Bill Data Entry'!P288)","v":""},{"$f":"IF('All Bill Data Entry'!Q288=\"\",\"\",'All Bill Data Entry'!Q288)","v":""},{"$f":"IF('All Bill Data Entry'!R288=\"\",\"\",'All Bill Data Entry'!R288)","v":""},{"$f":"IF('All Bill Data Entry'!S288=\"\",\"\",'All Bill Data Entry'!S288)","v":""},{"$f":"IF('All Bill Data Entry'!T288=\"\",\"\",'All Bill Data Entry'!T288)","v":""}]
["",{"$f":"IF('All Bill Data Entry'!A289=\"\",\"\",'All Bill Data Entry'!A289)","v":""},"","","",{"$f":"IF('LN-Line Data'!R284=\"\",\"\",'LN-Line Data'!R284)","v":""},"",{"$f":"IF('All Bill Data Entry'!O289=\"\",\"\",'All Bill Data Entry'!O289)","v":""},{"$f":"IF('All Bill Data Entry'!P289=\"\",\"\",'All Bill Data Entry'!P289)","v":""},{"$f":"IF('All Bill Data Entry'!Q289=\"\",\"\",'All Bill Data Entry'!Q289)","v":""},{"$f":"IF('All Bill Data Entry'!R289=\"\",\"\",'All Bill Data Entry'!R289)","v":""},{"$f":"IF('All Bill Data Entry'!S289=\"\",\"\",'All Bill Data Entry'!S289)","v":""},{"$f":"IF('All Bill Data Entry'!T289=\"\",\"\",'All Bill Data Entry'!T289)","v":""}]
["",{"$f":"IF('All Bill Data Entry'!A290=\"\",\"\",'All Bill Data Entry'!A290)","v":""},"","","",{"$f":"IF('LN-Line Data'!R285=\"\",\"\",'LN-Line Data'!R285)","v":""},"",{"$f":"IF('All Bill Data Entry'!O290=\"\",\"\",'All Bill Data Entry'!O290)","v":""},{"$f":"IF('All Bill Data Entry'!P290=\"\",\"\",'All Bill Data Entry'!P290)","v":""},{"$f":"IF('All Bill Data Entry'!Q290=\"\",\"\",'All Bill Data Entry'!Q290)","v":""},{"$f":"IF('All Bill Data Entry'!R290=\"\",\"\",'All Bill Data Entry'!R290)","v":""},{"$f":"IF('All Bill Data Entry'!S290=\"\",\"\",'All Bill Data Entry'!S290)","v":""},{"$f":"IF('All Bill Data Entry'!T290=\"\",\"\",'All Bill Data Entry'!T290)","v":""}]
["",{"$f":"IF('All Bill Data Entry'!A291=\"\",\"\",'All Bill Data Entry'!A291)","v":""},"","","",{"$f":"IF('LN-Line Data'!R286=\"\",\"\",'LN-Line Data'!R286)","v":""},"",{"$f":"IF('All Bill Data Entry'!O291=\"\",\"\",'All Bill Data Entry'!O291)","v":""},{"$f":"IF('All Bill Data Entry'!P291=\"\",\"\",'All Bill Data Entry'!P291)","v":""},{"$f":"IF('All Bill Data Entry'!Q291=\"\",\"\",'All Bill Data Entry'!Q291)","v":""},{"$f":"IF('All Bill Data Entry'!R291=\"\",\"\",'All Bill Data Entry'!R291)","v":""},{"$f":"IF('All Bill Data Entry'!S291=\"\",\"\",'All Bill Data Entry'!S291)","v":""},{"$f":"IF('All Bill Data Entry'!T291=\"\",\"\",'All Bill Data Entry'!T291)","v":""}]
["",{"$f":"IF('All Bill Data Entry'!A292=\"\",\"\",'All Bill Data Entry'!A292)","v":""},"","","",{"$f":"IF('LN-Line Data'!R287=\"\",\"\",'LN-Line Data'!R287)","v":""},"",{"$f":"IF('All Bill Data Entry'!O292=\"\",\"\",'All Bill Data Entry'!O292)","v":""},{"$f":"IF('All Bill Data Entry'!P292=\"\",\"\",'All Bill Data Entry'!P292)","v":""},{"$f":"IF('All Bill Data Entry'!Q292=\"\",\"\",'All Bill Data Entry'!Q292)","v":""},{"$f":"IF('All Bill Data Entry'!R292=\"\",\"\",'All Bill Data Entry'!R292)","v":""},{"$f":"IF('All Bill Data Entry'!S292=\"\",\"\",'All Bill Data Entry'!S292)","v":""},{"$f":"IF('All Bill Data Entry'!T292=\"\",\"\",'All Bill Data Entry'!T292)","v":""}]
["",{"$f":"IF('All Bill Data Entry'!A293=\"\",\"\",'All Bill Data Entry'!A293)","v":""},"","","",{"$f":"IF('LN-Line Data'!R288=\"\",\"\",'LN-Line Data'!R288)","v":""},"",{"$f":"IF('All Bill Data Entry'!O293=\"\",\"\",'All Bill Data Entry'!O293)","v":""},{"$f":"IF('All Bill Data Entry'!P293=\"\",\"\",'All Bill Data Entry'!P293)","v":""},{"$f":"IF('All Bill Data Entry'!Q293=\"\",\"\",'All Bill Data Entry'!Q293)","v":""},{"$f":"IF('All Bill Data Entry'!R293=\"\",\"\",'All Bill Data Entry'!R293)","v":""},{"$f":"IF('All Bill Data Entry'!S293=\"\",\"\",'All Bill Data Entry'!S293)","v":""},{"$f":"IF('All Bill Data Entry'!T293=\"\",\"\",'All Bill Data Entry'!T293)","v":""}]
["",{"$f":"IF('All Bill Data Entry'!A294=\"\",\"\",'All Bill Data Entry'!A294)","v":""},"","","",{"$f":"IF('LN-Line Data'!R289=\"\",\"\",'LN-Line Data'!R289)","v":""},"",{"$f":"IF('All Bill Data Entry'!O294=\"\",\"\",'All Bill Data Entry'!O294)","v":""},{"$f":"IF('All Bill Data Entry'!P294=\"\",\"\",'All Bill Data Entry'!P294)","v":""},{"$f":"IF('All Bill Data Entry'!Q294=\"\",\"\",'All Bill Data Entry'!Q294)","v":""},{"$f":"IF('All Bill Data Entry'!R294=\"\",\"\",'All Bill Data Entry'!R294)","v":""},{"$f":"IF('All Bill Data Entry'!S294=\"\",\"\",'All Bill Data Entry'!S294)","v":""},{"$f":"IF('All Bill Data Entry'!T294=\"\",\"\",'All Bill Data Entry'!T294)","v":""}]
["",{"$f":"IF('All Bill Data Entry'!A295=\"\",\"\",'All Bill Data Entry'!A295)","v":""},"","","",{"$f":"IF('LN-Line Data'!R290=\"\",\"\",'LN-Line Data'!R290)","v":""},"",{"$f":"IF('All Bill Data Entry'!O295=\"\",\"\",'All Bill Data Entry'!O295)","v":""},{"$f":"IF('All Bill Data Entry'!P295=\"\",\"\",'All Bill Data Entry'!P295)","v":""},{"$f":"IF('All Bill Data Entry'!Q295=\"\",\"\",'All Bill Data Entry'!Q295)","v":""},{"$f":"IF('All Bill Data Entry'!R295=\"\",\"\",'All Bill Data Entry'!R295)","v":""},{"$f":"IF('All Bill Data Entry'!S295=\"\",\"\",'All Bill Data Entry'!S295)","v":""},{"$f":"IF('All Bill Data Entry'!T295=\"\",\"\",'All Bill Data Entry'!T295)","v":""}]
["",{"$f":"IF('All Bill Data Entry'!A296=\"\",\"\",'All Bill Data Entry'!A296)","v":""},"","","",{"$f":"IF('LN-Line Data'!R291=\"\",\"\",'LN-Line Data'!R291)","v":""},"",{"$f":"IF('All Bill Data Entry'!O296=\"\",\"\",'All Bill Data Entry'!O296)","v":""},{"$f":"IF('All Bill Data Entry'!P296=\"\",\"\",'All Bill Data Entry'!P296)","v":""},{"$f":"IF('All Bill Data Entry'!Q296=\"\",\"\",'All Bill Data Entry'!Q296)","v":""},{"$f":"IF('All Bill Data Entry'!R296=\"\",\"\",'All Bill Data Entry'!R296)","v":""},{"$f":"IF('All Bill Data Entry'!S296=\"\",\"\",'All Bill Data Entry'!S296)","v":""},{"$f":"IF('All Bill Data Entry'!T296=\"\",\"\",'All Bill Data Entry'!T296)","v":""}]
["",{"$f":"IF('All Bill Data Entry'!A297=\"\",\"\",'All Bill Data Entry'!A297)","v":""},"","","",{"$f":"IF('LN-Line Data'!R292=\"\",\"\",'LN-Line Data'!R292)","v":""},"",{"$f":"IF('All Bill Data Entry'!O297=\"\",\"\",'All Bill Data Entry'!O297)","v":""},{"$f":"IF('All Bill Data Entry'!P297=\"\",\"\",'All Bill Data Entry'!P297)","v":""},{"$f":"IF('All Bill Data Entry'!Q297=\"\",\"\",'All Bill Data Entry'!Q297)","v":""},{"$f":"IF('All Bill Data Entry'!R297=\"\",\"\",'All Bill Data Entry'!R297)","v":""},{"$f":"IF('All Bill Data Entry'!S297=\"\",\"\",'All Bill Data Entry'!S297)","v":""},{"$f":"IF('All Bill Data Entry'!T297=\"\",\"\",'All Bill Data Entry'!T297)","v":""}]
["",{"$f":"IF('All Bill Data Entry'!A298=\"\",\"\",'All Bill Data Entry'!A298)","v":""},"","","",{"$f":"IF('LN-Line Data'!R293=\"\",\"\",'LN-Line Data'!R293)","v":""},"",{"$f":"IF('All Bill Data Entry'!O298=\"\",\"\",'All Bill Data Entry'!O298)","v":""},{"$f":"IF('All Bill Data Entry'!P298=\"\",\"\",'All Bill Data Entry'!P298)","v":""},{"$f":"IF('All Bill Data Entry'!Q298=\"\",\"\",'All Bill Data Entry'!Q298)","v":""},{"$f":"IF('All Bill Data Entry'!R298=\"\",\"\",'All Bill Data Entry'!R298)","v":""},{"$f":"IF('All Bill Data Entry'!S298=\"\",\"\",'All Bill Data Entry'!S298)","v":""},{"$f":"IF('All Bill Data Entry'!T298=\"\",\"\",'All Bill Data Entry'!T298)","v":""}]
["",{"$f":"IF('All Bill Data Entry'!A299=\"\",\"\",'All Bill Data Entry'!A299)","v":""},"","","",{"$f":"IF('LN-Line Data'!R294=\"\",\"\",'LN-Line Data'!R294)","v":""},"",{"$f":"IF('All Bill Data Entry'!O299=\"\",\"\",'All Bill Data Entry'!O299)","v":""},{"$f":"IF('All Bill Data Entry'!P299=\"\",\"\",'All Bill Data Entry'!P299)","v":""},{"$f":"IF('All Bill Data Entry'!Q299=\"\",\"\",'All Bill Data Entry'!Q299)","v":""},{"$f":"IF('All Bill Data Entry'!R299=\"\",\"\",'All Bill Data Entry'!R299)","v":""},{"$f":"IF('All Bill Data Entry'!S299=\"\",\"\",'All Bill Data Entry'!S299)","v":""},{"$f":"IF('All Bill Data Entry'!T299=\"\",\"\",'All Bill Data Entry'!T299)","v":""}]
["",{"$f":"IF('All Bill Data Entry'!A300=\"\",\"\",'All Bill Data Entry'!A300)","v":""},"","","",{"$f":"IF('LN-Line Data'!R295=\"\",\"\",'LN-Line Data'!R295)","v":""},"",{"$f":"IF('All Bill Data Entry'!O300=\"\",\"\",'All Bill Data Entry'!O300)","v":""},{"$f":"IF('All Bill Data Entry'!P300=\"\",\"\",'All Bill Data Entry'!P300)","v":""},{"$f":"IF('All Bill Data Entry'!Q300=\"\",\"\",'All Bill Data Entry'!Q300)","v":""},{"$f":"IF('All Bill Data Entry'!R300=\"\",\"\",'All Bill Data Entry'!R300)","v":""},{"$f":"IF('All Bill Data Entry'!S300=\"\",\"\",'All Bill Data Entry'!S300)","v":""},{"$f":"IF('All Bill Data Entry'!T300=\"\",\"\",'All Bill Data Entry'!T300)","v":""}]
["",{"$f":"IF('All Bill Data Entry'!A301=\"\",\"\",'All Bill Data Entry'!A301)","v":""},"","","",{"$f":"IF('LN-Line Data'!R296=\"\",\"\",'LN-Line Data'!R296)","v":""},"",{"$f":"IF('All Bill Data Entry'!O301=\"\",\"\",'All Bill Data Entry'!O301)","v":""},{"$f":"IF('All Bill Data Entry'!P301=\"\",\"\",'All Bill Data Entry'!P301)","v":""},{"$f":"IF('All Bill Data Entry'!Q301=\"\",\"\",'All Bill Data Entry'!Q301)","v":""},{"$f":"IF('All Bill Data Entry'!R301=\"\",\"\",'All Bill Data Entry'!R301)","v":""},{"$f":"IF('All Bill Data Entry'!S301=\"\",\"\",'All Bill Data Entry'!S301)","v":""},{"$f":"IF('All Bill Data Entry'!T301=\"\",\"\",'All Bill Data Entry'!T301)","v":""}]
["",{"$f":"IF('All Bill Data Entry'!A302=\"\",\"\",'All Bill Data Entry'!A302)","v":""},"","","",{"$f":"IF('LN-Line Data'!R297=\"\",\"\",'LN-Line Data'!R297)","v":""},"",{"$f":"IF('All Bill Data Entry'!O302=\"\",\"\",'All Bill Data Entry'!O302)","v":""},{"$f":"IF('All Bill Data Entry'!P302=\"\",\"\",'All Bill Data Entry'!P302)","v":""},{"$f":"IF('All Bill Data Entry'!Q302=\"\",\"\",'All Bill Data Entry'!Q302)","v":""},{"$f":"IF('All Bill Data Entry'!R302=\"\",\"\",'All Bill Data Entry'!R302)","v":""},{"$f":"IF('All Bill Data Entry'!S302=\"\",\"\",'All Bill Data Entry'!S302)","v":""},{"$f":"IF('All Bill Data Entry'!T302=\"\",\"\",'All Bill Data Entry'!T302)","v":""}]
["",{"$f":"IF('All Bill Data Entry'!A303=\"\",\"\",'All Bill Data Entry'!A303)","v":""},"","","",{"$f":"IF('LN-Line Data'!R298=\"\",\"\",'LN-Line Data'!R298)","v":""},"",{"$f":"IF('All Bill Data Entry'!O303=\"\",\"\",'All Bill Data Entry'!O303)","v":""},{"$f":"IF('All Bill Data Entry'!P303=\"\",\"\",'All Bill Data Entry'!P303)","v":""},{"$f":"IF('All Bill Data Entry'!Q303=\"\",\"\",'All Bill Data Entry'!Q303)","v":""},{"$f":"IF('All Bill Data Entry'!R303=\"\",\"\",'All Bill Data Entry'!R303)","v":""},{"$f":"IF('All Bill Data Entry'!S303=\"\",\"\",'All Bill Data Entry'!S303)","v":""},{"$f":"IF('All Bill Data Entry'!T303=\"\",\"\",'All Bill Data Entry'!T303)","v":""}]
["",{"$f":"IF('All Bill Data Entry'!A304=\"\",\"\",'All Bill Data Entry'!A304)","v":""},"","","",{"$f":"IF('LN-Line Data'!R299=\"\",\"\",'LN-Line Data'!R299)","v":""},"",{"$f":"IF('All Bill Data Entry'!O304=\"\",\"\",'All Bill Data Entry'!O304)","v":""},{"$f":"IF('All Bill Data Entry'!P304=\"\",\"\",'All Bill Data Entry'!P304)","v":""},{"$f":"IF('All Bill Data Entry'!Q304=\"\",\"\",'All Bill Data Entry'!Q304)","v":""},{"$f":"IF('All Bill Data Entry'!R304=\"\",\"\",'All Bill Data Entry'!R304)","v":""},{"$f":"IF('All Bill Data Entry'!S304=\"\",\"\",'All Bill Data Entry'!S304)","v":""},{"$f":"IF('All Bill Data Entry'!T304=\"\",\"\",'All Bill Data Entry'!T304)","v":""}]
["",{"$f":"IF('All Bill Data Entry'!A305=\"\",\"\",'All Bill Data Entry'!A305)","v":""},"","","",{"$f":"IF('LN-Line Data'!R300=\"\",\"\",'LN-Line Data'!R300)","v":""},"",{"$f":"IF('All Bill Data Entry'!O305=\"\",\"\",'All Bill Data Entry'!O305)","v":""},{"$f":"IF('All Bill Data Entry'!P305=\"\",\"\",'All Bill Data Entry'!P305)","v":""},{"$f":"IF('All Bill Data Entry'!Q305=\"\",\"\",'All Bill Data Entry'!Q305)","v":""},{"$f":"IF('All Bill Data Entry'!R305=\"\",\"\",'All Bill Data Entry'!R305)","v":""},{"$f":"IF('All Bill Data Entry'!S305=\"\",\"\",'All Bill Data Entry'!S305)","v":""},{"$f":"IF('All Bill Data Entry'!T305=\"\",\"\",'All Bill Data Entry'!T305)","v":""}]
["",{"$f":"IF('All Bill Data Entry'!A306=\"\",\"\",'All Bill Data Entry'!A306)","v":""},"","","",{"$f":"IF('LN-Line Data'!R301=\"\",\"\",'LN-Line Data'!R301)","v":""},"",{"$f":"IF('All Bill Data Entry'!O306=\"\",\"\",'All Bill Data Entry'!O306)","v":""},{"$f":"IF('All Bill Data Entry'!P306=\"\",\"\",'All Bill Data Entry'!P306)","v":""},{"$f":"IF('All Bill Data Entry'!Q306=\"\",\"\",'All Bill Data Entry'!Q306)","v":""},{"$f":"IF('All Bill Data Entry'!R306=\"\",\"\",'All Bill Data Entry'!R306)","v":""},{"$f":"IF('All Bill Data Entry'!S306=\"\",\"\",'All Bill Data Entry'!S306)","v":""},{"$f":"IF('All Bill Data Entry'!T306=\"\",\"\",'All Bill Data Entry'!T306)","v":""}]

{"sheet":"LN-Line Data","index":3,"n_rows":301,"n_cols":31,"rows_kept":301,"cut":false,"hidden":true,"merged":[]}
["LH","INTFC_LINE_NUM","TRANS_TYPE_BI","BUSINESS_UNIT","BILL_TO_CUST_ID","ADDRESS_SEQ_NUM","CNTCT_SEQ_NUM","BILL_BY_ID","BILL_SOURCE_ID","BILLING_SPECIALIST","BILLING_AUTHORITY","BILL_INQUIRY_PHONE","LINE_TYPE","DESCR","UNIT_OF_MEASURE","QTY","UNIT_AMT","GROSS_EXTENDED_AMT","PO_REF","PO_LINE","CHARGE_TO_DT","IDENTIFIER","TMP_BILL_FLG","INTERNAL_FLAG","SYSTEM_SOURCE","CONTRACT_NUM","CONTRACT_LINE_NUM","BUSINESS_UNIT_CA","BILL_PLAN_ID","PC_DISTRIB_STATUS","BPLAN_LN_NBR"]
[{"$f":"IF($B2=\"\",\"\",\"L\")","v":""},{"$f":"IF('All Bill Data Entry'!A7=\"\",\"\",'All Bill Data Entry'!A7)","v":""},{"$f":"IF($B2=\"\",\"\",\"LINE\")","v":""},{"$f":"IF($B2=\"\",\"\",\"AUX01\")","v":""},{"$f":"IF('All Bill Data Entry'!L7=\"\",\"\",'All Bill Data Entry'!L7)","v":""},{"$f":"IF('All Bill Data Entry'!V7=\"\",\"\",'All Bill Data Entry'!V7)","v":""},{"$f":"IF('All Bill Data Entry'!N7=\"\",\"\",'All Bill Data Entry'!N7)","v":""},{"$f":"IF(B2=\"\",\"\",\"AUXILIARY2\")","v":""},{"$f":"IF('All Bill Data Entry'!U7=\"\",\"\",'All Bill Data Entry'!U7)","v":""},{"$f":"IF('All Bill Data Entry'!B7=\"\",\"\",'All Bill Data Entry'!B7)","v":""},{"$f":"J2","v":""},{"$f":"IF('All Bill Data Entry'!X7=\"\",\"\",'All Bill Data Entry'!X7)","v":""},{"$f":"IF($B2=\"\",\"\",\"REV\")","v":""},{"$f":"IF('All Bill Data Entry'!D7=\"\",\"\",'All Bill Data Entry'!D7)","v":""},{"$f":"IF($B2=\"\",\"\",\"EA\")","v":""},{"$f":"IF('All Bill Data Entry'!F7=\"\",\"\",'All Bill Data Entry'!F7)","v":""},{"$f":"IF('All Bill Data Entry'!G7=\"\",\"\",'All Bill Data Entry'!G7)","v":""},{"$f":"IF('All Bill Data Entry'!H7=\"\",\"\",'All Bill Data Entry'!H7)","v":""},{"$f":"IF('All Bill Data Entry'!J7=\"\",\"\",'All Bill Data Entry'!J7)","v":""},{"$f":"IF('All Bill Data Entry'!K7=\"\",\"\",'All Bill Data Entry'!K7)","v":""},{"$f":"IF('All Bill Data Entry'!I7=\"\",\"\",'All Bill Data Entry'!I7)","v":""},{"$f":"IF('All Bill Data Entry'!C7=\"\",\"\",'All Bill Data Entry'!C7)","v":""},{"$f":"IF($B2=\"\",\"\",'All Bill Data Entry'!Y7)","v":""},{"$f":"IF($B2=\"\",\"\",\"N\")","v":""},{"$f":"IF($B2=\"\",\"\",\"BBI\")","v":""},null,null,{"$f":"IF($B2=\"\",\"\",\"AUX01\")","v":""},{"$f":"IF($B2=\"\",\"\",\"B101\")","v":""},{"$f":"IF($B2=\"\",\"\",\"N\")","v":""},{"$f":"IF($B2=\"\",\"\",1)","v":""}]
[{"$f":"IF($B3=\"\",\"\",\"L\")","v":""},{"$f":"IF('All Bill Data Entry'!A8=\"\",\"\",'All Bill Data Entry'!A8)","v":""},{"$f":"IF($B3=\"\",\"\",\"LINE\")","v":""},{"$f":"IF($B3=\"\",\"\",\"AUX01\")","v":""},{"$f":"IF('All Bill Data Entry'!L8=\"\",\"\",'All Bill Data Entry'!L8)","v":""},{"$f":"IF('All Bill Data Entry'!V8=\"\",\"\",'All Bill Data Entry'!V8)","v":""},{"$f":"IF('All Bill Data Entry'!N8=\"\",\"\",'All Bill Data Entry'!N8)","v":""},{"$f":"IF(B3=\"\",\"\",\"AUXILIARY2\")","v":""},{"$f":"IF('All Bill Data Entry'!U8=\"\",\"\",'All Bill Data Entry'!U8)","v":""},{"$f":"IF('All Bill Data Entry'!B8=\"\",\"\",'All Bill Data Entry'!B8)","v":""},{"$f":"J3","v":""},{"$f":"IF('All Bill Data Entry'!X8=\"\",\"\",'All Bill Data Entry'!X8)","v":""},{"$f":"IF($B3=\"\",\"\",\"REV\")","v":""},{"$f":"IF('All Bill Data Entry'!D8=\"\",\"\",'All Bill Data Entry'!D8)","v":""},{"$f":"IF($B3=\"\",\"\",\"EA\")","v":""},{"$f":"IF('All Bill Data Entry'!F8=\"\",\"\",'All Bill Data Entry'!F8)","v":""},{"$f":"IF('All Bill Data Entry'!G8=\"\",\"\",'All Bill Data Entry'!G8)","v":""},{"$f":"IF('All Bill Data Entry'!H8=\"\",\"\",'All Bill Data Entry'!H8)","v":""},{"$f":"IF('All Bill Data Entry'!J8=\"\",\"\",'All Bill Data Entry'!J8)","v":""},{"$f":"IF('All Bill Data Entry'!K8=\"\",\"\",'All Bill Data Entry'!K8)","v":""},{"$f":"IF('All Bill Data Entry'!I8=\"\",\"\",'All Bill Data Entry'!I8)","v":""},{"$f":"IF('All Bill Data Entry'!C8=\"\",\"\",'All Bill Data Entry'!C8)","v":""},{"$f":"IF($B3=\"\",\"\",'All Bill Data Entry'!Y8)","v":""},{"$f":"IF($B3=\"\",\"\",\"N\")","v":""},{"$f":"IF($B3=\"\",\"\",\"BBI\")","v":""},null,null,{"$f":"IF($B3=\"\",\"\",\"AUX01\")","v":""},{"$f":"IF($B3=\"\",\"\",\"B101\")","v":""},{"$f":"IF($B3=\"\",\"\",\"N\")","v":""},{"$f":"IF($B3=\"\",\"\",1)","v":""}]
["",{"$f":"IF('All Bill Data Entry'!A9=\"\",\"\",'All Bill Data Entry'!A9)","v":""},"","",{"$f":"IF('All Bill Data Entry'!L9=\"\",\"\",'All Bill Data Entry'!L9)","v":""},{"$f":"IF('All Bill Data Entry'!V9=\"\",\"\",'All Bill Data Entry'!V9)","v":""},{"$f":"IF('All Bill Data Entry'!N9=\"\",\"\",'All Bill Data Entry'!N9)","v":""},"",{"$f":"IF('All Bill Data Entry'!U9=\"\",\"\",'All Bill Data Entry'!U9)","v":""},{"$f":"IF('All Bill Data Entry'!B9=\"\",\"\",'All Bill Data Entry'!B9)","v":""},"",{"$f":"IF('All Bill Data Entry'!X9=\"\",\"\",'All Bill Data Entry'!X9)","v":""},"",{"$f":"IF('All Bill Data Entry'!D9=\"\",\"\",'All Bill Data Entry'!D9)","v":""},"",{"$f":"IF('All Bill Data Entry'!F9=\"\",\"\",'All Bill Data Entry'!F9)","v":""},{"$f":"IF('All Bill Data Entry'!G9=\"\",\"\",'All Bill Data Entry'!G9)","v":""},{"$f":"IF('All Bill Data Entry'!H9=\"\",\"\",'All Bill Data Entry'!H9)","v":""},{"$f":"IF('All Bill Data Entry'!J9=\"\",\"\",'All Bill Data Entry'!J9)","v":""},{"$f":"IF('All Bill Data Entry'!K9=\"\",\"\",'All Bill Data Entry'!K9)","v":""},{"$f":"IF('All Bill Data Entry'!I9=\"\",\"\",'All Bill Data Entry'!I9)","v":""},{"$f":"IF('All Bill Data Entry'!C9=\"\",\"\",'All Bill Data Entry'!C9)","v":""},{"$f":"IF($B4=\"\",\"\",'All Bill Data Entry'!Y9)","v":""},"","",null,null,"","","",""]
["",{"$f":"IF('All Bill Data Entry'!A10=\"\",\"\",'All Bill Data Entry'!A10)","v":""},"","",{"$f":"IF('All Bill Data Entry'!L10=\"\",\"\",'All Bill Data Entry'!L10)","v":""},{"$f":"IF('All Bill Data Entry'!V10=\"\",\"\",'All Bill Data Entry'!V10)","v":""},{"$f":"IF('All Bill Data Entry'!N10=\"\",\"\",'All Bill Data Entry'!N10)","v":""},{"$f":"IF(B5=\"\",\"\",\"AUXILIARY2\")","v":""},{"$f":"IF('All Bill Data Entry'!U10=\"\",\"\",'All Bill Data Entry'!U10)","v":""},{"$f":"IF('All Bill Data Entry'!B10=\"\",\"\",'All Bill Data Entry'!B10)","v":""},{"$f":"J5","v":""},{"$f":"IF('All Bill Data Entry'!X10=\"\",\"\",'All Bill Data Entry'!X10)","v":""},"",{"$f":"IF('All Bill Data Entry'!D10=\"\",\"\",'All Bill Data Entry'!D10)","v":""},"",{"$f":"IF('All Bill Data Entry'!F10=\"\",\"\",'All Bill Data Entry'!F10)","v":""},{"$f":"IF('All Bill Data Entry'!G10=\"\",\"\",'All Bill Data Entry'!G10)","v":""},{"$f":"IF('All Bill Data Entry'!H10=\"\",\"\",'All Bill Data Entry'!H10)","v":""},{"$f":"IF('All Bill Data Entry'!J10=\"\",\"\",'All Bill Data Entry'!J10)","v":""},{"$f":"IF('All Bill Data Entry'!K10=\"\",\"\",'All Bill Data Entry'!K10)","v":""},{"$f":"IF('All Bill Data Entry'!I10=\"\",\"\",'All Bill Data Entry'!I10)","v":""},{"$f":"IF('All Bill Data Entry'!C10=\"\",\"\",'All Bill Data Entry'!C10)","v":""},{"$f":"IF($B5=\"\",\"\",'All Bill Data Entry'!Y10)","v":""},"","",null,null,"","","",""]
["",{"$f":"IF('All Bill Data Entry'!A11=\"\",\"\",'All Bill Data Entry'!A11)","v":""},"","",{"$f":"IF('All Bill Data Entry'!L11=\"\",\"\",'All Bill Data Entry'!L11)","v":""},{"$f":"IF('All Bill Data Entry'!V11=\"\",\"\",'All Bill Data Entry'!V11)","v":""},{"$f":"IF('All Bill Data Entry'!N11=\"\",\"\",'All Bill Data Entry'!N11)","v":""},"",{"$f":"IF('All Bill Data Entry'!U11=\"\",\"\",'All Bill Data Entry'!U11)","v":""},{"$f":"IF('All Bill Data Entry'!B11=\"\",\"\",'All Bill Data Entry'!B11)","v":""},"",{"$f":"IF('All Bill Data Entry'!X11=\"\",\"\",'All Bill Data Entry'!X11)","v":""},"",{"$f":"IF('All Bill Data Entry'!D11=\"\",\"\",'All Bill Data Entry'!D11)","v":""},"",{"$f":"IF('All Bill Data Entry'!F11=\"\",\"\",'All Bill Data Entry'!F11)","v":""},{"$f":"IF('All Bill Data Entry'!G11=\"\",\"\",'All Bill Data Entry'!G11)","v":""},{"$f":"IF('All Bill Data Entry'!H11=\"\",\"\",'All Bill Data Entry'!H11)","v":""},{"$f":"IF('All Bill Data Entry'!J11=\"\",\"\",'All Bill Data Entry'!J11)","v":""},{"$f":"IF('All Bill Data Entry'!K11=\"\",\"\",'All Bill Data Entry'!K11)","v":""},{"$f":"IF('All Bill Data Entry'!I11=\"\",\"\",'All Bill Data Entry'!I11)","v":""},{"$f":"IF('All Bill Data Entry'!C11=\"\",\"\",'All Bill Data Entry'!C11)","v":""},{"$f":"IF($B6=\"\",\"\",'All Bill Data Entry'!Y11)","v":""},"","",null,null,"","","",""]
["",{"$f":"IF('All Bill Data Entry'!A12=\"\",\"\",'All Bill Data Entry'!A12)","v":""},"","",{"$f":"IF('All Bill Data Entry'!L12=\"\",\"\",'All Bill Data Entry'!L12)","v":""},{"$f":"IF('All Bill Data Entry'!V12=\"\",\"\",'All Bill Data Entry'!V12)","v":""},{"$f":"IF('All Bill Data Entry'!N12=\"\",\"\",'All Bill Data Entry'!N12)","v":""},"",{"$f":"IF('All Bill Data Entry'!U12=\"\",\"\",'All Bill Data Entry'!U12)","v":""},{"$f":"IF('All Bill Data Entry'!B12=\"\",\"\",'All Bill Data Entry'!B12)","v":""},"",{"$f":"IF('All Bill Data Entry'!X12=\"\",\"\",'All Bill Data Entry'!X12)","v":""},"",{"$f":"IF('All Bill Data Entry'!D12=\"\",\"\",'All Bill Data Entry'!D12)","v":""},"",{"$f":"IF('All Bill Data Entry'!F12=\"\",\"\",'All Bill Data Entry'!F12)","v":""},{"$f":"IF('All Bill Data Entry'!G12=\"\",\"\",'All Bill Data Entry'!G12)","v":""},{"$f":"IF('All Bill Data Entry'!H12=\"\",\"\",'All Bill Data Entry'!H12)","v":""},{"$f":"IF('All Bill Data Entry'!J12=\"\",\"\",'All Bill Data Entry'!J12)","v":""},{"$f":"IF('All Bill Data Entry'!K12=\"\",\"\",'All Bill Data Entry'!K12)","v":""},{"$f":"IF('All Bill Data Entry'!I12=\"\",\"\",'All Bill Data Entry'!I12)","v":""},{"$f":"IF('All Bill Data Entry'!C12=\"\",\"\",'All Bill Data Entry'!C12)","v":""},{"$f":"IF($B7=\"\",\"\",'All Bill Data Entry'!Y12)","v":""},"","",null,null,"","","",""]
["",{"$f":"IF('All Bill Data Entry'!A13=\"\",\"\",'All Bill Data Entry'!A13)","v":""},"","",{"$f":"IF('All Bill Data Entry'!L13=\"\",\"\",'All Bill Data Entry'!L13)","v":""},{"$f":"IF('All Bill Data Entry'!V13=\"\",\"\",'All Bill Data Entry'!V13)","v":""},{"$f":"IF('All Bill Data Entry'!N13=\"\",\"\",'All Bill Data Entry'!N13)","v":""},"",{"$f":"IF('All Bill Data Entry'!U13=\"\",\"\",'All Bill Data Entry'!U13)","v":""},{"$f":"IF('All Bill Data Entry'!B13=\"\",\"\",'All Bill Data Entry'!B13)","v":""},"",{"$f":"IF('All Bill Data Entry'!X13=\"\",\"\",'All Bill Data Entry'!X13)","v":""},"",{"$f":"IF('All Bill Data Entry'!D13=\"\",\"\",'All Bill Data Entry'!D13)","v":""},"",{"$f":"IF('All Bill Data Entry'!F13=\"\",\"\",'All Bill Data Entry'!F13)","v":""},{"$f":"IF('All Bill Data Entry'!G13=\"\",\"\",'All Bill Data Entry'!G13)","v":""},{"$f":"IF('All Bill Data Entry'!H13=\"\",\"\",'All Bill Data Entry'!H13)","v":""},{"$f":"IF('All Bill Data Entry'!J13=\"\",\"\",'All Bill Data Entry'!J13)","v":""},{"$f":"IF('All Bill Data Entry'!K13=\"\",\"\",'All Bill Data Entry'!K13)","v":""},{"$f":"IF('All Bill Data Entry'!I13=\"\",\"\",'All Bill Data Entry'!I13)","v":""},{"$f":"IF('All Bill Data Entry'!C13=\"\",\"\",'All Bill Data Entry'!C13)","v":""},{"$f":"IF($B8=\"\",\"\",'All Bill Data Entry'!Y13)","v":""},"","",null,null,"","","",""]
["",{"$f":"IF('All Bill Data Entry'!A14=\"\",\"\",'All Bill Data Entry'!A14)","v":""},"","",{"$f":"IF('All Bill Data Entry'!L14=\"\",\"\",'All Bill Data Entry'!L14)","v":""},{"$f":"IF('All Bill Data Entry'!V14=\"\",\"\",'All Bill Data Entry'!V14)","v":""},{"$f":"IF('All Bill Data Entry'!N14=\"\",\"\",'All Bill Data Entry'!N14)","v":""},"",{"$f":"IF('All Bill Data Entry'!U14=\"\",\"\",'All Bill Data Entry'!U14)","v":""},{"$f":"IF('All Bill Data Entry'!B14=\"\",\"\",'All Bill Data Entry'!B14)","v":""},"",{"$f":"IF('All Bill Data Entry'!X14=\"\",\"\",'All Bill Data Entry'!X14)","v":""},"",{"$f":"IF('All Bill Data Entry'!D14=\"\",\"\",'All Bill Data Entry'!D14)","v":""},"",{"$f":"IF('All Bill Data Entry'!F14=\"\",\"\",'All Bill Data Entry'!F14)","v":""},{"$f":"IF('All Bill Data Entry'!G14=\"\",\"\",'All Bill Data Entry'!G14)","v":""},{"$f":"IF('All Bill Data Entry'!H14=\"\",\"\",'All Bill Data Entry'!H14)","v":""},{"$f":"IF('All Bill Data Entry'!J14=\"\",\"\",'All Bill Data Entry'!J14)","v":""},{"$f":"IF('All Bill Data Entry'!K14=\"\",\"\",'All Bill Data Entry'!K14)","v":""},{"$f":"IF('All Bill Data Entry'!I14=\"\",\"\",'All Bill Data Entry'!I14)","v":""},{"$f":"IF('All Bill Data Entry'!C14=\"\",\"\",'All Bill Data Entry'!C14)","v":""},{"$f":"IF($B9=\"\",\"\",'All Bill Data Entry'!Y14)","v":""},"","",null,null,"","","",""]
["",{"$f":"IF('All Bill Data Entry'!A15=\"\",\"\",'All Bill Data Entry'!A15)","v":""},"","",{"$f":"IF('All Bill Data Entry'!L15=\"\",\"\",'All Bill Data Entry'!L15)","v":""},{"$f":"IF('All Bill Data Entry'!V15=\"\",\"\",'All Bill Data Entry'!V15)","v":""},{"$f":"IF('All Bill Data Entry'!N15=\"\",\"\",'All Bill Data Entry'!N15)","v":""},"",{"$f":"IF('All Bill Data Entry'!U15=\"\",\"\",'All Bill Data Entry'!U15)","v":""},{"$f":"IF('All Bill Data Entry'!B15=\"\",\"\",'All Bill Data Entry'!B15)","v":""},"",{"$f":"IF('All Bill Data Entry'!X15=\"\",\"\",'All Bill Data Entry'!X15)","v":""},"",{"$f":"IF('All Bill Data Entry'!D15=\"\",\"\",'All Bill Data Entry'!D15)","v":""},"",{"$f":"IF('All Bill Data Entry'!F15=\"\",\"\",'All Bill Data Entry'!F15)","v":""},{"$f":"IF('All Bill Data Entry'!G15=\"\",\"\",'All Bill Data Entry'!G15)","v":""},{"$f":"IF('All Bill Data Entry'!H15=\"\",\"\",'All Bill Data Entry'!H15)","v":""},{"$f":"IF('All Bill Data Entry'!J15=\"\",\"\",'All Bill Data Entry'!J15)","v":""},{"$f":"IF('All Bill Data Entry'!K15=\"\",\"\",'All Bill Data Entry'!K15)","v":""},{"$f":"IF('All Bill Data Entry'!I15=\"\",\"\",'All Bill Data Entry'!I15)","v":""},{"$f":"IF('All Bill Data Entry'!C15=\"\",\"\",'All Bill Data Entry'!C15)","v":""},{"$f":"IF($B10=\"\",\"\",'All Bill Data Entry'!Y15)","v":""},"","",null,null,"","","",""]
["",{"$f":"IF('All Bill Data Entry'!A16=\"\",\"\",'All Bill Data Entry'!A16)","v":""},"","",{"$f":"IF('All Bill Data Entry'!L16=\"\",\"\",'All Bill Data Entry'!L16)","v":""},{"$f":"IF('All Bill Data Entry'!V16=\"\",\"\",'All Bill Data Entry'!V16)","v":""},{"$f":"IF('All Bill Data Entry'!N16=\"\",\"\",'All Bill Data Entry'!N16)","v":""},"",{"$f":"IF('All Bill Data Entry'!U16=\"\",\"\",'All Bill Data Entry'!U16)","v":""},{"$f":"IF('All Bill Data Entry'!B16=\"\",\"\",'All Bill Data Entry'!B16)","v":""},"",{"$f":"IF('All Bill Data Entry'!X16=\"\",\"\",'All Bill Data Entry'!X16)","v":""},"",{"$f":"IF('All Bill Data Entry'!D16=\"\",\"\",'All Bill Data Entry'!D16)","v":""},"",{"$f":"IF('All Bill Data Entry'!F16=\"\",\"\",'All Bill Data Entry'!F16)","v":""},{"$f":"IF('All Bill Data Entry'!G16=\"\",\"\",'All Bill Data Entry'!G16)","v":""},{"$f":"IF('All Bill Data Entry'!H16=\"\",\"\",'All Bill Data Entry'!H16)","v":""},{"$f":"IF('All Bill Data Entry'!J16=\"\",\"\",'All Bill Data Entry'!J16)","v":""},{"$f":"IF('All Bill Data Entry'!K16=\"\",\"\",'All Bill Data Entry'!K16)","v":""},{"$f":"IF('All Bill Data Entry'!I16=\"\",\"\",'All Bill Data Entry'!I16)","v":""},{"$f":"IF('All Bill Data Entry'!C16=\"\",\"\",'All Bill Data Entry'!C16)","v":""},{"$f":"IF($B11=\"\",\"\",'All Bill Data Entry'!Y16)","v":""},"","",null,null,"","","",""]
["",{"$f":"IF('All Bill Data Entry'!A17=\"\",\"\",'All Bill Data Entry'!A17)","v":""},"","",{"$f":"IF('All Bill Data Entry'!L17=\"\",\"\",'All Bill Data Entry'!L17)","v":""},{"$f":"IF('All Bill Data Entry'!V17=\"\",\"\",'All Bill Data Entry'!V17)","v":""},{"$f":"IF('All Bill Data Entry'!N17=\"\",\"\",'All Bill Data Entry'!N17)","v":""},"",{"$f":"IF('All Bill Data Entry'!U17=\"\",\"\",'All Bill Data Entry'!U17)","v":""},{"$f":"IF('All Bill Data Entry'!B17=\"\",\"\",'All Bill Data Entry'!B17)","v":""},"",{"$f":"IF('All Bill Data Entry'!X17=\"\",\"\",'All Bill Data Entry'!X17)","v":""},"",{"$f":"IF('All Bill Data Entry'!D17=\"\",\"\",'All Bill Data Entry'!D17)","v":""},"",{"$f":"IF('All Bill Data Entry'!F17=\"\",\"\",'All Bill Data Entry'!F17)","v":""},{"$f":"IF('All Bill Data Entry'!G17=\"\",\"\",'All Bill Data Entry'!G17)","v":""},{"$f":"IF('All Bill Data Entry'!H17=\"\",\"\",'All Bill Data Entry'!H17)","v":""},{"$f":"IF('All Bill Data Entry'!J17=\"\",\"\",'All Bill Data Entry'!J17)","v":""},{"$f":"IF('All Bill Data Entry'!K17=\"\",\"\",'All Bill Data Entry'!K17)","v":""},{"$f":"IF('All Bill Data Entry'!I17=\"\",\"\",'All Bill Data Entry'!I17)","v":""},{"$f":"IF('All Bill Data Entry'!C17=\"\",\"\",'All Bill Data Entry'!C17)","v":""},{"$f":"IF($B12=\"\",\"\",'All Bill Data Entry'!Y17)","v":""},"","",null,null,"","","",""]
["",{"$f":"IF('All Bill Data Entry'!A18=\"\",\"\",'All Bill Data Entry'!A18)","v":""},"","",{"$f":"IF('All Bill Data Entry'!L18=\"\",\"\",'All Bill Data Entry'!L18)","v":""},{"$f":"IF('All Bill Data Entry'!V18=\"\",\"\",'All Bill Data Entry'!V18)","v":""},{"$f":"IF('All Bill Data Entry'!N18=\"\",\"\",'All Bill Data Entry'!N18)","v":""},"",{"$f":"IF('All Bill Data Entry'!U18=\"\",\"\",'All Bill Data Entry'!U18)","v":""},{"$f":"IF('All Bill Data Entry'!B18=\"\",\"\",'All Bill Data Entry'!B18)","v":""},"",{"$f":"IF('All Bill Data Entry'!X18=\"\",\"\",'All Bill Data Entry'!X18)","v":""},"",{"$f":"IF('All Bill Data Entry'!D18=\"\",\"\",'All Bill Data Entry'!D18)","v":""},"",{"$f":"IF('All Bill Data Entry'!F18=\"\",\"\",'All Bill Data Entry'!F18)","v":""},{"$f":"IF('All Bill Data Entry'!G18=\"\",\"\",'All Bill Data Entry'!G18)","v":""},{"$f":"IF('All Bill Data Entry'!H18=\"\",\"\",'All Bill Data Entry'!H18)","v":""},{"$f":"IF('All Bill Data Entry'!J18=\"\",\"\",'All Bill Data Entry'!J18)","v":""},{"$f":"IF('All Bill Data Entry'!K18=\"\",\"\",'All Bill Data Entry'!K18)","v":""},{"$f":"IF('All Bill Data Entry'!I18=\"\",\"\",'All Bill Data Entry'!I18)","v":""},{"$f":"IF('All Bill Data Entry'!C18=\"\",\"\",'All Bill Data Entry'!C18)","v":""},{"$f":"IF($B13=\"\",\"\",'All Bill Data Entry'!Y18)","v":""},"","",null,null,"","","",""]
["",{"$f":"IF('All Bill Data Entry'!A19=\"\",\"\",'All Bill Data Entry'!A19)","v":""},"","",{"$f":"IF('All Bill Data Entry'!L19=\"\",\"\",'All Bill Data Entry'!L19)","v":""},{"$f":"IF('All Bill Data Entry'!V19=\"\",\"\",'All Bill Data Entry'!V19)","v":""},{"$f":"IF('All Bill Data Entry'!N19=\"\",\"\",'All Bill Data Entry'!N19)","v":""},"",{"$f":"IF('All Bill Data Entry'!U19=\"\",\"\",'All Bill Data Entry'!U19)","v":""},{"$f":"IF('All Bill Data Entry'!B19=\"\",\"\",'All Bill Data Entry'!B19)","v":""},"",{"$f":"IF('All Bill Data Entry'!X19=\"\",\"\",'All Bill Data Entry'!X19)","v":""},"",{"$f":"IF('All Bill Data Entry'!D19=\"\",\"\",'All Bill Data Entry'!D19)","v":""},"",{"$f":"IF('All Bill Data Entry'!F19=\"\",\"\",'All Bill Data Entry'!F19)","v":""},{"$f":"IF('All Bill Data Entry'!G19=\"\",\"\",'All Bill Data Entry'!G19)","v":""},{"$f":"IF('All Bill Data Entry'!H19=\"\",\"\",'All Bill Data Entry'!H19)","v":""},{"$f":"IF('All Bill Data Entry'!J19=\"\",\"\",'All Bill Data Entry'!J19)","v":""},{"$f":"IF('All Bill Data Entry'!K19=\"\",\"\",'All Bill Data Entry'!K19)","v":""},{"$f":"IF('All Bill Data Entry'!I19=\"\",\"\",'All Bill Data Entry'!I19)","v":""},{"$f":"IF('All Bill Data Entry'!C19=\"\",\"\",'All Bill Data Entry'!C19)","v":""},{"$f":"IF($B14=\"\",\"\",'All Bill Data Entry'!Y19)","v":""},"","",null,null,"","","",""]
["",{"$f":"IF('All Bill Data Entry'!A20=\"\",\"\",'All Bill Data Entry'!A20)","v":""},"","",{"$f":"IF('All Bill Data Entry'!L20=\"\",\"\",'All Bill Data Entry'!L20)","v":""},{"$f":"IF('All Bill Data Entry'!V20=\"\",\"\",'All Bill Data Entry'!V20)","v":""},{"$f":"IF('All Bill Data Entry'!N20=\"\",\"\",'All Bill Data Entry'!N20)","v":""},"",{"$f":"IF('All Bill Data Entry'!U20=\"\",\"\",'All Bill Data Entry'!U20)","v":""},{"$f":"IF('All Bill Data Entry'!B20=\"\",\"\",'All Bill Data Entry'!B20)","v":""},"",{"$f":"IF('All Bill Data Entry'!X20=\"\",\"\",'All Bill Data Entry'!X20)","v":""},"",{"$f":"IF('All Bill Data Entry'!D20=\"\",\"\",'All Bill Data Entry'!D20)","v":""},"",{"$f":"IF('All Bill Data Entry'!F20=\"\",\"\",'All Bill Data Entry'!F20)","v":""},{"$f":"IF('All Bill Data Entry'!G20=\"\",\"\",'All Bill Data Entry'!G20)","v":""},{"$f":"IF('All Bill Data Entry'!H20=\"\",\"\",'All Bill Data Entry'!H20)","v":""},{"$f":"IF('All Bill Data Entry'!J20=\"\",\"\",'All Bill Data Entry'!J20)","v":""},{"$f":"IF('All Bill Data Entry'!K20=\"\",\"\",'All Bill Data Entry'!K20)","v":""},{"$f":"IF('All Bill Data Entry'!I20=\"\",\"\",'All Bill Data Entry'!I20)","v":""},{"$f":"IF('All Bill Data Entry'!C20=\"\",\"\",'All Bill Data Entry'!C20)","v":""},{"$f":"IF($B15=\"\",\"\",'All Bill Data Entry'!Y20)","v":""},"","",null,null,"","","",""]
["",{"$f":"IF('All Bill Data Entry'!A21=\"\",\"\",'All Bill Data Entry'!A21)","v":""},"","",{"$f":"IF('All Bill Data Entry'!L21=\"\",\"\",'All Bill Data Entry'!L21)","v":""},{"$f":"IF('All Bill Data Entry'!V21=\"\",\"\",'All Bill Data Entry'!V21)","v":""},{"$f":"IF('All Bill Data Entry'!N21=\"\",\"\",'All Bill Data Entry'!N21)","v":""},"",{"$f":"IF('All Bill Data Entry'!U21=\"\",\"\",'All Bill Data Entry'!U21)","v":""},{"$f":"IF('All Bill Data Entry'!B21=\"\",\"\",'All Bill Data Entry'!B21)","v":""},"",{"$f":"IF('All Bill Data Entry'!X21=\"\",\"\",'All Bill Data Entry'!X21)","v":""},"",{"$f":"IF('All Bill Data Entry'!D21=\"\",\"\",'All Bill Data Entry'!D21)","v":""},"",{"$f":"IF('All Bill Data Entry'!F21=\"\",\"\",'All Bill Data Entry'!F21)","v":""},{"$f":"IF('All Bill Data Entry'!G21=\"\",\"\",'All Bill Data Entry'!G21)","v":""},{"$f":"IF('All Bill Data Entry'!H21=\"\",\"\",'All Bill Data Entry'!H21)","v":""},{"$f":"IF('All Bill Data Entry'!J21=\"\",\"\",'All Bill Data Entry'!J21)","v":""},{"$f":"IF('All Bill Data Entry'!K21=\"\",\"\",'All Bill Data Entry'!K21)","v":""},{"$f":"IF('All Bill Data Entry'!I21=\"\",\"\",'All Bill Data Entry'!I21)","v":""},{"$f":"IF('All Bill Data Entry'!C21=\"\",\"\",'All Bill Data Entry'!C21)","v":""},{"$f":"IF($B16=\"\",\"\",'All Bill Data Entry'!Y21)","v":""},"","",null,null,"","","",""]
["",{"$f":"IF('All Bill Data Entry'!A22=\"\",\"\",'All Bill Data Entry'!A22)","v":""},"","",{"$f":"IF('All Bill Data Entry'!L22=\"\",\"\",'All Bill Data Entry'!L22)","v":""},{"$f":"IF('All Bill Data Entry'!V22=\"\",\"\",'All Bill Data Entry'!V22)","v":""},{"$f":"IF('All Bill Data Entry'!N22=\"\",\"\",'All Bill Data Entry'!N22)","v":""},"",{"$f":"IF('All Bill Data Entry'!U22=\"\",\"\",'All Bill Data Entry'!U22)","v":""},{"$f":"IF('All Bill Data Entry'!B22=\"\",\"\",'All Bill Data Entry'!B22)","v":""},"",{"$f":"IF('All Bill Data Entry'!X22=\"\",\"\",'All Bill Data Entry'!X22)","v":""},"",{"$f":"IF('All Bill Data Entry'!D22=\"\",\"\",'All Bill Data Entry'!D22)","v":""},"",{"$f":"IF('All Bill Data Entry'!F22=\"\",\"\",'All Bill Data Entry'!F22)","v":""},{"$f":"IF('All Bill Data Entry'!G22=\"\",\"\",'All Bill Data Entry'!G22)","v":""},{"$f":"IF('All Bill Data Entry'!H22=\"\",\"\",'All Bill Data Entry'!H22)","v":""},{"$f":"IF('All Bill Data Entry'!J22=\"\",\"\",'All Bill Data Entry'!J22)","v":""},{"$f":"IF('All Bill Data Entry'!K22=\"\",\"\",'All Bill Data Entry'!K22)","v":""},{"$f":"IF('All Bill Data Entry'!I22=\"\",\"\",'All Bill Data Entry'!I22)","v":""},{"$f":"IF('All Bill Data Entry'!C22=\"\",\"\",'All Bill Data Entry'!C22)","v":""},{"$f":"IF($B17=\"\",\"\",'All Bill Data Entry'!Y22)","v":""},"","",null,null,"","","",""]
["",{"$f":"IF('All Bill Data Entry'!A23=\"\",\"\",'All Bill Data Entry'!A23)","v":""},"","",{"$f":"IF('All Bill Data Entry'!L23=\"\",\"\",'All Bill Data Entry'!L23)","v":""},{"$f":"IF('All Bill Data Entry'!V23=\"\",\"\",'All Bill Data Entry'!V23)","v":""},{"$f":"IF('All Bill Data Entry'!N23=\"\",\"\",'All Bill Data Entry'!N23)","v":""},"",{"$f":"IF('All Bill Data Entry'!U23=\"\",\"\",'All Bill Data Entry'!U23)","v":""},{"$f":"IF('All Bill Data Entry'!B23=\"\",\"\",'All Bill Data Entry'!B23)","v":""},"",{"$f":"IF('All Bill Data Entry'!X23=\"\",\"\",'All Bill Data Entry'!X23)","v":""},"",{"$f":"IF('All Bill Data Entry'!D23=\"\",\"\",'All Bill Data Entry'!D23)","v":""},"",{"$f":"IF('All Bill Data Entry'!F23=\"\",\"\",'All Bill Data Entry'!F23)","v":""},{"$f":"IF('All Bill Data Entry'!G23=\"\",\"\",'All Bill Data Entry'!G23)","v":""},{"$f":"IF('All Bill Data Entry'!H23=\"\",\"\",'All Bill Data Entry'!H23)","v":""},{"$f":"IF('All Bill Data Entry'!J23=\"\",\"\",'All Bill Data Entry'!J23)","v":""},{"$f":"IF('All Bill Data Entry'!K23=\"\",\"\",'All Bill Data Entry'!K23)","v":""},{"$f":"IF('All Bill Data Entry'!I23=\"\",\"\",'All Bill Data Entry'!I23)","v":""},{"$f":"IF('All Bill Data Entry'!C23=\"\",\"\",'All Bill Data Entry'!C23)","v":""},{"$f":"IF($B18=\"\",\"\",'All Bill Data Entry'!Y23)","v":""},"","",null,null,"","","",""]
["",{"$f":"IF('All Bill Data Entry'!A24=\"\",\"\",'All Bill Data Entry'!A24)","v":""},"","",{"$f":"IF('All Bill Data Entry'!L24=\"\",\"\",'All Bill Data Entry'!L24)","v":""},{"$f":"IF('All Bill Data Entry'!V24=\"\",\"\",'All Bill Data Entry'!V24)","v":""},{"$f":"IF('All Bill Data Entry'!N24=\"\",\"\",'All Bill Data Entry'!N24)","v":""},"",{"$f":"IF('All Bill Data Entry'!U24=\"\",\"\",'All Bill Data Entry'!U24)","v":""},{"$f":"IF('All Bill Data Entry'!B24=\"\",\"\",'All Bill Data Entry'!B24)","v":""},"",{"$f":"IF('All Bill Data Entry'!X24=\"\",\"\",'All Bill Data Entry'!X24)","v":""},"",{"$f":"IF('All Bill Data Entry'!D24=\"\",\"\",'All Bill Data Entry'!D24)","v":""},"",{"$f":"IF('All Bill Data Entry'!F24=\"\",\"\",'All Bill Data Entry'!F24)","v":""},{"$f":"IF('All Bill Data Entry'!G24=\"\",\"\",'All Bill Data Entry'!G24)","v":""},{"$f":"IF('All Bill Data Entry'!H24=\"\",\"\",'All Bill Data Entry'!H24)","v":""},{"$f":"IF('All Bill Data Entry'!J24=\"\",\"\",'All Bill Data Entry'!J24)","v":""},{"$f":"IF('All Bill Data Entry'!K24=\"\",\"\",'All Bill Data Entry'!K24)","v":""},{"$f":"IF('All Bill Data Entry'!I24=\"\",\"\",'All Bill Data Entry'!I24)","v":""},{"$f":"IF('All Bill Data Entry'!C24=\"\",\"\",'All Bill Data Entry'!C24)","v":""},{"$f":"IF($B19=\"\",\"\",'All Bill Data Entry'!Y24)","v":""},"","",null,null,"","","",""]
["",{"$f":"IF('All Bill Data Entry'!A25=\"\",\"\",'All Bill Data Entry'!A25)","v":""},"","",{"$f":"IF('All Bill Data Entry'!L25=\"\",\"\",'All Bill Data Entry'!L25)","v":""},{"$f":"IF('All Bill Data Entry'!V25=\"\",\"\",'All Bill Data Entry'!V25)","v":""},{"$f":"IF('All Bill Data Entry'!N25=\"\",\"\",'All Bill Data Entry'!N25)","v":""},"",{"$f":"IF('All Bill Data Entry'!U25=\"\",\"\",'All Bill Data Entry'!U25)","v":""},{"$f":"IF('All Bill Data Entry'!B25=\"\",\"\",'All Bill Data Entry'!B25)","v":""},"",{"$f":"IF('All Bill Data Entry'!X25=\"\",\"\",'All Bill Data Entry'!X25)","v":""},"",{"$f":"IF('All Bill Data Entry'!D25=\"\",\"\",'All Bill Data Entry'!D25)","v":""},"",{"$f":"IF('All Bill Data Entry'!F25=\"\",\"\",'All Bill Data Entry'!F25)","v":""},{"$f":"IF('All Bill Data Entry'!G25=\"\",\"\",'All Bill Data Entry'!G25)","v":""},{"$f":"IF('All Bill Data Entry'!H25=\"\",\"\",'All Bill Data Entry'!H25)","v":""},{"$f":"IF('All Bill Data Entry'!J25=\"\",\"\",'All Bill Data Entry'!J25)","v":""},{"$f":"IF('All Bill Data Entry'!K25=\"\",\"\",'All Bill Data Entry'!K25)","v":""},{"$f":"IF('All Bill Data Entry'!I25=\"\",\"\",'All Bill Data Entry'!I25)","v":""},{"$f":"IF('All Bill Data Entry'!C25=\"\",\"\",'All Bill Data Entry'!C25)","v":""},{"$f":"IF($B20=\"\",\"\",'All Bill Data Entry'!Y25)","v":""},"","",null,null,"","","",""]
["",{"$f":"IF('All Bill Data Entry'!A26=\"\",\"\",'All Bill Data Entry'!A26)","v":""},"","",{"$f":"IF('All Bill Data Entry'!L26=\"\",\"\",'All Bill Data Entry'!L26)","v":""},{"$f":"IF('All Bill Data Entry'!V26=\"\",\"\",'All Bill Data Entry'!V26)","v":""},{"$f":"IF('All Bill Data Entry'!N26=\"\",\"\",'All Bill Data Entry'!N26)","v":""},"",{"$f":"IF('All Bill Data Entry'!U26=\"\",\"\",'All Bill Data Entry'!U26)","v":""},{"$f":"IF('All Bill Data Entry'!B26=\"\",\"\",'All Bill Data Entry'!B26)","v":""},"",{"$f":"IF('All Bill Data Entry'!X26=\"\",\"\",'All Bill Data Entry'!X26)","v":""},"",{"$f":"IF('All Bill Data Entry'!D26=\"\",\"\",'All Bill Data Entry'!D26)","v":""},"",{"$f":"IF('All Bill Data Entry'!F26=\"\",\"\",'All Bill Data Entry'!F26)","v":""},{"$f":"IF('All Bill Data Entry'!G26=\"\",\"\",'All Bill Data Entry'!G26)","v":""},{"$f":"IF('All Bill Data Entry'!H26=\"\",\"\",'All Bill Data Entry'!H26)","v":""},{"$f":"IF('All Bill Data Entry'!J26=\"\",\"\",'All Bill Data Entry'!J26)","v":""},{"$f":"IF('All Bill Data Entry'!K26=\"\",\"\",'All Bill Data Entry'!K26)","v":""},{"$f":"IF('All Bill Data Entry'!I26=\"\",\"\",'All Bill Data Entry'!I26)","v":""},{"$f":"IF('All Bill Data Entry'!C26=\"\",\"\",'All Bill Data Entry'!C26)","v":""},{"$f":"IF($B21=\"\",\"\",'All Bill Data Entry'!Y26)","v":""},"","",null,null,"","","",""]
["",{"$f":"IF('All Bill Data Entry'!A27=\"\",\"\",'All Bill Data Entry'!A27)","v":""},"","",{"$f":"IF('All Bill Data Entry'!L27=\"\",\"\",'All Bill Data Entry'!L27)","v":""},{"$f":"IF('All Bill Data Entry'!V27=\"\",\"\",'All Bill Data Entry'!V27)","v":""},{"$f":"IF('All Bill Data Entry'!N27=\"\",\"\",'All Bill Data Entry'!N27)","v":""},"",{"$f":"IF('All Bill Data Entry'!U27=\"\",\"\",'All Bill Data Entry'!U27)","v":""},{"$f":"IF('All Bill Data Entry'!B27=\"\",\"\",'All Bill Data Entry'!B27)","v":""},"",{"$f":"IF('All Bill Data Entry'!X27=\"\",\"\",'All Bill Data Entry'!X27)","v":""},"",{"$f":"IF('All Bill Data Entry'!D27=\"\",\"\",'All Bill Data Entry'!D27)","v":""},"",{"$f":"IF('All Bill Data Entry'!F27=\"\",\"\",'All Bill Data Entry'!F27)","v":""},{"$f":"IF('All Bill Data Entry'!G27=\"\",\"\",'All Bill Data Entry'!G27)","v":""},{"$f":"IF('All Bill Data Entry'!H27=\"\",\"\",'All Bill Data Entry'!H27)","v":""},{"$f":"IF('All Bill Data Entry'!J27=\"\",\"\",'All Bill Data Entry'!J27)","v":""},{"$f":"IF('All Bill Data Entry'!K27=\"\",\"\",'All Bill Data Entry'!K27)","v":""},{"$f":"IF('All Bill Data Entry'!I27=\"\",\"\",'All Bill Data Entry'!I27)","v":""},{"$f":"IF('All Bill Data Entry'!C27=\"\",\"\",'All Bill Data Entry'!C27)","v":""},{"$f":"IF($B22=\"\",\"\",'All Bill Data Entry'!Y27)","v":""},"","",null,null,"","","",""]
["",{"$f":"IF('All Bill Data Entry'!A28=\"\",\"\",'All Bill Data Entry'!A28)","v":""},"","",{"$f":"IF('All Bill Data Entry'!L28=\"\",\"\",'All Bill Data Entry'!L28)","v":""},{"$f":"IF('All Bill Data Entry'!V28=\"\",\"\",'All Bill Data Entry'!V28)","v":""},{"$f":"IF('All Bill Data Entry'!N28=\"\",\"\",'All Bill Data Entry'!N28)","v":""},"",{"$f":"IF('All Bill Data Entry'!U28=\"\",\"\",'All Bill Data Entry'!U28)","v":""},{"$f":"IF('All Bill Data Entry'!B28=\"\",\"\",'All Bill Data Entry'!B28)","v":""},"",{"$f":"IF('All Bill Data Entry'!X28=\"\",\"\",'All Bill Data Entry'!X28)","v":""},"",{"$f":"IF('All Bill Data Entry'!D28=\"\",\"\",'All Bill Data Entry'!D28)","v":""},"",{"$f":"IF('All Bill Data Entry'!F28=\"\",\"\",'All Bill Data Entry'!F28)","v":""},{"$f":"IF('All Bill Data Entry'!G28=\"\",\"\",'All Bill Data Entry'!G28)","v":""},{"$f":"IF('All Bill Data Entry'!H28=\"\",\"\",'All Bill Data Entry'!H28)","v":""},{"$f":"IF('All Bill Data Entry'!J28=\"\",\"\",'All Bill Data Entry'!J28)","v":""},{"$f":"IF('All Bill Data Entry'!K28=\"\",\"\",'All Bill Data Entry'!K28)","v":""},{"$f":"IF('All Bill Data Entry'!I28=\"\",\"\",'All Bill Data Entry'!I28)","v":""},{"$f":"IF('All Bill Data Entry'!C28=\"\",\"\",'All Bill Data Entry'!C28)","v":""},{"$f":"IF($B23=\"\",\"\",'All Bill Data Entry'!Y28)","v":""},"","",null,null,"","","",""]
["",{"$f":"IF('All Bill Data Entry'!A29=\"\",\"\",'All Bill Data Entry'!A29)","v":""},"","",{"$f":"IF('All Bill Data Entry'!L29=\"\",\"\",'All Bill Data Entry'!L29)","v":""},{"$f":"IF('All Bill Data Entry'!V29=\"\",\"\",'All Bill Data Entry'!V29)","v":""},{"$f":"IF('All Bill Data Entry'!N29=\"\",\"\",'All Bill Data Entry'!N29)","v":""},"",{"$f":"IF('All Bill Data Entry'!U29=\"\",\"\",'All Bill Data Entry'!U29)","v":""},{"$f":"IF('All Bill Data Entry'!B29=\"\",\"\",'All Bill Data Entry'!B29)","v":""},"",{"$f":"IF('All Bill Data Entry'!X29=\"\",\"\",'All Bill Data Entry'!X29)","v":""},"",{"$f":"IF('All Bill Data Entry'!D29=\"\",\"\",'All Bill Data Entry'!D29)","v":""},"",{"$f":"IF('All Bill Data Entry'!F29=\"\",\"\",'All Bill Data Entry'!F29)","v":""},{"$f":"IF('All Bill Data Entry'!G29=\"\",\"\",'All Bill Data Entry'!G29)","v":""},{"$f":"IF('All Bill Data Entry'!H29=\"\",\"\",'All Bill Data Entry'!H29)","v":""},{"$f":"IF('All Bill Data Entry'!J29=\"\",\"\",'All Bill Data Entry'!J29)","v":""},{"$f":"IF('All Bill Data Entry'!K29=\"\",\"\",'All Bill Data Entry'!K29)","v":""},{"$f":"IF('All Bill Data Entry'!I29=\"\",\"\",'All Bill Data Entry'!I29)","v":""},{"$f":"IF('All Bill Data Entry'!C29=\"\",\"\",'All Bill Data Entry'!C29)","v":""},{"$f":"IF($B24=\"\",\"\",'All Bill Data Entry'!Y29)","v":""},"","",null,null,"","","",""]
["",{"$f":"IF('All Bill Data Entry'!A30=\"\",\"\",'All Bill Data Entry'!A30)","v":""},"","",{"$f":"IF('All Bill Data Entry'!L30=\"\",\"\",'All Bill Data Entry'!L30)","v":""},{"$f":"IF('All Bill Data Entry'!V30=\"\",\"\",'All Bill Data Entry'!V30)","v":""},{"$f":"IF('All Bill Data Entry'!N30=\"\",\"\",'All Bill Data Entry'!N30)","v":""},"",{"$f":"IF('All Bill Data Entry'!U30=\"\",\"\",'All Bill Data Entry'!U30)","v":""},{"$f":"IF('All Bill Data Entry'!B30=\"\",\"\",'All Bill Data Entry'!B30)","v":""},"",{"$f":"IF('All Bill Data Entry'!X30=\"\",\"\",'All Bill Data Entry'!X30)","v":""},"",{"$f":"IF('All Bill Data Entry'!D30=\"\",\"\",'All Bill Data Entry'!D30)","v":""},"",{"$f":"IF('All Bill Data Entry'!F30=\"\",\"\",'All Bill Data Entry'!F30)","v":""},{"$f":"IF('All Bill Data Entry'!G30=\"\",\"\",'All Bill Data Entry'!G30)","v":""},{"$f":"IF('All Bill Data Entry'!H30=\"\",\"\",'All Bill Data Entry'!H30)","v":""},{"$f":"IF('All Bill Data Entry'!J30=\"\",\"\",'All Bill Data Entry'!J30)","v":""},{"$f":"IF('All Bill Data Entry'!K30=\"\",\"\",'All Bill Data Entry'!K30)","v":""},{"$f":"IF('All Bill Data Entry'!I30=\"\",\"\",'All Bill Data Entry'!I30)","v":""},{"$f":"IF('All Bill Data Entry'!C30=\"\",\"\",'All Bill Data Entry'!C30)","v":""},{"$f":"IF($B25=\"\",\"\",'All Bill Data Entry'!Y30)","v":""},"","",null,null,"","","",""]
["",{"$f":"IF('All Bill Data Entry'!A31=\"\",\"\",'All Bill Data Entry'!A31)","v":""},"","",{"$f":"IF('All Bill Data Entry'!L31=\"\",\"\",'All Bill Data Entry'!L31)","v":""},{"$f":"IF('All Bill Data Entry'!V31=\"\",\"\",'All Bill Data Entry'!V31)","v":""},{"$f":"IF('All Bill Data Entry'!N31=\"\",\"\",'All Bill Data Entry'!N31)","v":""},"",{"$f":"IF('All Bill Data Entry'!U31=\"\",\"\",'All Bill Data Entry'!U31)","v":""},{"$f":"IF('All Bill Data Entry'!B31=\"\",\"\",'All Bill Data Entry'!B31)","v":""},"",{"$f":"IF('All Bill Data Entry'!X31=\"\",\"\",'All Bill Data Entry'!X31)","v":""},"",{"$f":"IF('All Bill Data Entry'!D31=\"\",\"\",'All Bill Data Entry'!D31)","v":""},"",{"$f":"IF('All Bill Data Entry'!F31=\"\",\"\",'All Bill Data Entry'!F31)","v":""},{"$f":"IF('All Bill Data Entry'!G31=\"\",\"\",'All Bill Data Entry'!G31)","v":""},{"$f":"IF('All Bill Data Entry'!H31=\"\",\"\",'All Bill Data Entry'!H31)","v":""},{"$f":"IF('All Bill Data Entry'!J31=\"\",\"\",'All Bill Data Entry'!J31)","v":""},{"$f":"IF('All Bill Data Entry'!K31=\"\",\"\",'All Bill Data Entry'!K31)","v":""},{"$f":"IF('All Bill Data Entry'!I31=\"\",\"\",'All Bill Data Entry'!I31)","v":""},{"$f":"IF('All Bill Data Entry'!C31=\"\",\"\",'All Bill Data Entry'!C31)","v":""},{"$f":"IF($B26=\"\",\"\",'All Bill Data Entry'!Y31)","v":""},"","",null,null,"","","",""]
["",{"$f":"IF('All Bill Data Entry'!A32=\"\",\"\",'All Bill Data Entry'!A32)","v":""},"","",{"$f":"IF('All Bill Data Entry'!L32=\"\",\"\",'All Bill Data Entry'!L32)","v":""},{"$f":"IF('All Bill Data Entry'!V32=\"\",\"\",'All Bill Data Entry'!V32)","v":""},{"$f":"IF('All Bill Data Entry'!N32=\"\",\"\",'All Bill Data Entry'!N32)","v":""},"",{"$f":"IF('All Bill Data Entry'!U32=\"\",\"\",'All Bill Data Entry'!U32)","v":""},{"$f":"IF('All Bill Data Entry'!B32=\"\",\"\",'All Bill Data Entry'!B32)","v":""},"",{"$f":"IF('All Bill Data Entry'!X32=\"\",\"\",'All Bill Data Entry'!X32)","v":""},"",{"$f":"IF('All Bill Data Entry'!D32=\"\",\"\",'All Bill Data Entry'!D32)","v":""},"",{"$f":"IF('All Bill Data Entry'!F32=\"\",\"\",'All Bill Data Entry'!F32)","v":""},{"$f":"IF('All Bill Data Entry'!G32=\"\",\"\",'All Bill Data Entry'!G32)","v":""},{"$f":"IF('All Bill Data Entry'!H32=\"\",\"\",'All Bill Data Entry'!H32)","v":""},{"$f":"IF('All Bill Data Entry'!J32=\"\",\"\",'All Bill Data Entry'!J32)","v":""},{"$f":"IF('All Bill Data Entry'!K32=\"\",\"\",'All Bill Data Entry'!K32)","v":""},{"$f":"IF('All Bill Data Entry'!I32=\"\",\"\",'All Bill Data Entry'!I32)","v":""},{"$f":"IF('All Bill Data Entry'!C32=\"\",\"\",'All Bill Data Entry'!C32)","v":""},{"$f":"IF($B27=\"\",\"\",'All Bill Data Entry'!Y32)","v":""},"","",null,null,"","","",""]
["",{"$f":"IF('All Bill Data Entry'!A33=\"\",\"\",'All Bill Data Entry'!A33)","v":""},"","",{"$f":"IF('All Bill Data Entry'!L33=\"\",\"\",'All Bill Data Entry'!L33)","v":""},{"$f":"IF('All Bill Data Entry'!V33=\"\",\"\",'All Bill Data Entry'!V33)","v":""},{"$f":"IF('All Bill Data Entry'!N33=\"\",\"\",'All Bill Data Entry'!N33)","v":""},"",{"$f":"IF('All Bill Data Entry'!U33=\"\",\"\",'All Bill Data Entry'!U33)","v":""},{"$f":"IF('All Bill Data Entry'!B33=\"\",\"\",'All Bill Data Entry'!B33)","v":""},"",{"$f":"IF('All Bill Data Entry'!X33=\"\",\"\",'All Bill Data Entry'!X33)","v":""},"",{"$f":"IF('All Bill Data Entry'!D33=\"\",\"\",'All Bill Data Entry'!D33)","v":""},"",{"$f":"IF('All Bill Data Entry'!F33=\"\",\"\",'All Bill Data Entry'!F33)","v":""},{"$f":"IF('All Bill Data Entry'!G33=\"\",\"\",'All Bill Data Entry'!G33)","v":""},{"$f":"IF('All Bill Data Entry'!H33=\"\",\"\",'All Bill Data Entry'!H33)","v":""},{"$f":"IF('All Bill Data Entry'!J33=\"\",\"\",'All Bill Data Entry'!J33)","v":""},{"$f":"IF('All Bill Data Entry'!K33=\"\",\"\",'All Bill Data Entry'!K33)","v":""},{"$f":"IF('All Bill Data Entry'!I33=\"\",\"\",'All Bill Data Entry'!I33)","v":""},{"$f":"IF('All Bill Data Entry'!C33=\"\",\"\",'All Bill Data Entry'!C33)","v":""},{"$f":"IF($B28=\"\",\"\",'All Bill Data Entry'!Y33)","v":""},"","",null,null,"","","",""]
["",{"$f":"IF('All Bill Data Entry'!A34=\"\",\"\",'All Bill Data Entry'!A34)","v":""},"","",{"$f":"IF('All Bill Data Entry'!L34=\"\",\"\",'All Bill Data Entry'!L34)","v":""},{"$f":"IF('All Bill Data Entry'!V34=\"\",\"\",'All Bill Data Entry'!V34)","v":""},{"$f":"IF('All Bill Data Entry'!N34=\"\",\"\",'All Bill Data Entry'!N34)","v":""},"",{"$f":"IF('All Bill Data Entry'!U34=\"\",\"\",'All Bill Data Entry'!U34)","v":""},{"$f":"IF('All Bill Data Entry'!B34=\"\",\"\",'All Bill Data Entry'!B34)","v":""},"",{"$f":"IF('All Bill Data Entry'!X34=\"\",\"\",'All Bill Data Entry'!X34)","v":""},"",{"$f":"IF('All Bill Data Entry'!D34=\"\",\"\",'All Bill Data Entry'!D34)","v":""},"",{"$f":"IF('All Bill Data Entry'!F34=\"\",\"\",'All Bill Data Entry'!F34)","v":""},{"$f":"IF('All Bill Data Entry'!G34=\"\",\"\",'All Bill Data Entry'!G34)","v":""},{"$f":"IF('All Bill Data Entry'!H34=\"\",\"\",'All Bill Data Entry'!H34)","v":""},{"$f":"IF('All Bill Data Entry'!J34=\"\",\"\",'All Bill Data Entry'!J34)","v":""},{"$f":"IF('All Bill Data Entry'!K34=\"\",\"\",'All Bill Data Entry'!K34)","v":""},{"$f":"IF('All Bill Data Entry'!I34=\"\",\"\",'All Bill Data Entry'!I34)","v":""},{"$f":"IF('All Bill Data Entry'!C34=\"\",\"\",'All Bill Data Entry'!C34)","v":""},{"$f":"IF($B29=\"\",\"\",'All Bill Data Entry'!Y34)","v":""},"","",null,null,"","","",""]
["",{"$f":"IF('All Bill Data Entry'!A35=\"\",\"\",'All Bill Data Entry'!A35)","v":""},"","",{"$f":"IF('All Bill Data Entry'!L35=\"\",\"\",'All Bill Data Entry'!L35)","v":""},{"$f":"IF('All Bill Data Entry'!V35=\"\",\"\",'All Bill Data Entry'!V35)","v":""},{"$f":"IF('All Bill Data Entry'!N35=\"\",\"\",'All Bill Data Entry'!N35)","v":""},"",{"$f":"IF('All Bill Data Entry'!U35=\"\",\"\",'All Bill Data Entry'!U35)","v":""},{"$f":"IF('All Bill Data Entry'!B35=\"\",\"\",'All Bill Data Entry'!B35)","v":""},"",{"$f":"IF('All Bill Data Entry'!X35=\"\",\"\",'All Bill Data Entry'!X35)","v":""},"",{"$f":"IF('All Bill Data Entry'!D35=\"\",\"\",'All Bill Data Entry'!D35)","v":""},"",{"$f":"IF('All Bill Data Entry'!F35=\"\",\"\",'All Bill Data Entry'!F35)","v":""},{"$f":"IF('All Bill Data Entry'!G35=\"\",\"\",'All Bill Data Entry'!G35)","v":""},{"$f":"IF('All Bill Data Entry'!H35=\"\",\"\",'All Bill Data Entry'!H35)","v":""},{"$f":"IF('All Bill Data Entry'!J35=\"\",\"\",'All Bill Data Entry'!J35)","v":""},{"$f":"IF('All Bill Data Entry'!K35=\"\",\"\",'All Bill Data Entry'!K35)","v":""},{"$f":"IF('All Bill Data Entry'!I35=\"\",\"\",'All Bill Data Entry'!I35)","v":""},{"$f":"IF('All Bill Data Entry'!C35=\"\",\"\",'All Bill Data Entry'!C35)","v":""},{"$f":"IF($B30=\"\",\"\",'All Bill Data Entry'!Y35)","v":""},"","",null,null,"","","",""]
["",{"$f":"IF('All Bill Data Entry'!A36=\"\",\"\",'All Bill Data Entry'!A36)","v":""},"","",{"$f":"IF('All Bill Data Entry'!L36=\"\",\"\",'All Bill Data Entry'!L36)","v":""},{"$f":"IF('All Bill Data Entry'!V36=\"\",\"\",'All Bill Data Entry'!V36)","v":""},{"$f":"IF('All Bill Data Entry'!N36=\"\",\"\",'All Bill Data Entry'!N36)","v":""},"",{"$f":"IF('All Bill Data Entry'!U36=\"\",\"\",'All Bill Data Entry'!U36)","v":""},{"$f":"IF('All Bill Data Entry'!B36=\"\",\"\",'All Bill Data Entry'!B36)","v":""},"",{"$f":"IF('All Bill Data Entry'!X36=\"\",\"\",'All Bill Data Entry'!X36)","v":""},"",{"$f":"IF('All Bill Data Entry'!D36=\"\",\"\",'All Bill Data Entry'!D36)","v":""},"",{"$f":"IF('All Bill Data Entry'!F36=\"\",\"\",'All Bill Data Entry'!F36)","v":""},{"$f":"IF('All Bill Data Entry'!G36=\"\",\"\",'All Bill Data Entry'!G36)","v":""},{"$f":"IF('All Bill Data Entry'!H36=\"\",\"\",'All Bill Data Entry'!H36)","v":""},{"$f":"IF('All Bill Data Entry'!J36=\"\",\"\",'All Bill Data Entry'!J36)","v":""},{"$f":"IF('All Bill Data Entry'!K36=\"\",\"\",'All Bill Data Entry'!K36)","v":""},{"$f":"IF('All Bill Data Entry'!I36=\"\",\"\",'All Bill Data Entry'!I36)","v":""},{"$f":"IF('All Bill Data Entry'!C36=\"\",\"\",'All Bill Data Entry'!C36)","v":""},{"$f":"IF($B31=\"\",\"\",'All Bill Data Entry'!Y36)","v":""},"","",null,null,"","","",""]
["",{"$f":"IF('All Bill Data Entry'!A37=\"\",\"\",'All Bill Data Entry'!A37)","v":""},"","",{"$f":"IF('All Bill Data Entry'!L37=\"\",\"\",'All Bill Data Entry'!L37)","v":""},{"$f":"IF('All Bill Data Entry'!V37=\"\",\"\",'All Bill Data Entry'!V37)","v":""},{"$f":"IF('All Bill Data Entry'!N37=\"\",\"\",'All Bill Data Entry'!N37)","v":""},"",{"$f":"IF('All Bill Data Entry'!U37=\"\",\"\",'All Bill Data Entry'!U37)","v":""},{"$f":"IF('All Bill Data Entry'!B37=\"\",\"\",'All Bill Data Entry'!B37)","v":""},"",{"$f":"IF('All Bill Data Entry'!X37=\"\",\"\",'All Bill Data Entry'!X37)","v":""},"",{"$f":"IF('All Bill Data Entry'!D37=\"\",\"\",'All Bill Data Entry'!D37)","v":""},"",{"$f":"IF('All Bill Data Entry'!F37=\"\",\"\",'All Bill Data Entry'!F37)","v":""},{"$f":"IF('All Bill Data Entry'!G37=\"\",\"\",'All Bill Data Entry'!G37)","v":""},{"$f":"IF('All Bill Data Entry'!H37=\"\",\"\",'All Bill Data Entry'!H37)","v":""},{"$f":"IF('All Bill Data Entry'!J37=\"\",\"\",'All Bill Data Entry'!J37)","v":""},{"$f":"IF('All Bill Data Entry'!K37=\"\",\"\",'All Bill Data Entry'!K37)","v":""},{"$f":"IF('All Bill Data Entry'!I37=\"\",\"\",'All Bill Data Entry'!I37)","v":""},{"$f":"IF('All Bill Data Entry'!C37=\"\",\"\",'All Bill Data Entry'!C37)","v":""},{"$f":"IF($B32=\"\",\"\",'All Bill Data Entry'!Y37)","v":""},"","",null,null,"","","",""]
["",{"$f":"IF('All Bill Data Entry'!A38=\"\",\"\",'All Bill Data Entry'!A38)","v":""},"","",{"$f":"IF('All Bill Data Entry'!L38=\"\",\"\",'All Bill Data Entry'!L38)","v":""},{"$f":"IF('All Bill Data Entry'!V38=\"\",\"\",'All Bill Data Entry'!V38)","v":""},{"$f":"IF('All Bill Data Entry'!N38=\"\",\"\",'All Bill Data Entry'!N38)","v":""},"",{"$f":"IF('All Bill Data Entry'!U38=\"\",\"\",'All Bill Data Entry'!U38)","v":""},{"$f":"IF('All Bill Data Entry'!B38=\"\",\"\",'All Bill Data Entry'!B38)","v":""},"",{"$f":"IF('All Bill Data Entry'!X38=\"\",\"\",'All Bill Data Entry'!X38)","v":""},"",{"$f":"IF('All Bill Data Entry'!D38=\"\",\"\",'All Bill Data Entry'!D38)","v":""},"",{"$f":"IF('All Bill Data Entry'!F38=\"\",\"\",'All Bill Data Entry'!F38)","v":""},{"$f":"IF('All Bill Data Entry'!G38=\"\",\"\",'All Bill Data Entry'!G38)","v":""},{"$f":"IF('All Bill Data Entry'!H38=\"\",\"\",'All Bill Data Entry'!H38)","v":""},{"$f":"IF('All Bill Data Entry'!J38=\"\",\"\",'All Bill Data Entry'!J38)","v":""},{"$f":"IF('All Bill Data Entry'!K38=\"\",\"\",'All Bill Data Entry'!K38)","v":""},{"$f":"IF('All Bill Data Entry'!I38=\"\",\"\",'All Bill Data Entry'!I38)","v":""},{"$f":"IF('All Bill Data Entry'!C38=\"\",\"\",'All Bill Data Entry'!C38)","v":""},{"$f":"IF($B33=\"\",\"\",'All Bill Data Entry'!Y38)","v":""},"","",null,null,"","","",""]
["",{"$f":"IF('All Bill Data Entry'!A39=\"\",\"\",'All Bill Data Entry'!A39)","v":""},"","",{"$f":"IF('All Bill Data Entry'!L39=\"\",\"\",'All Bill Data Entry'!L39)","v":""},{"$f":"IF('All Bill Data Entry'!V39=\"\",\"\",'All Bill Data Entry'!V39)","v":""},{"$f":"IF('All Bill Data Entry'!N39=\"\",\"\",'All Bill Data Entry'!N39)","v":""},"",{"$f":"IF('All Bill Data Entry'!U39=\"\",\"\",'All Bill Data Entry'!U39)","v":""},{"$f":"IF('All Bill Data Entry'!B39=\"\",\"\",'All Bill Data Entry'!B39)","v":""},"",{"$f":"IF('All Bill Data Entry'!X39=\"\",\"\",'All Bill Data Entry'!X39)","v":""},"",{"$f":"IF('All Bill Data Entry'!D39=\"\",\"\",'All Bill Data Entry'!D39)","v":""},"",{"$f":"IF('All Bill Data Entry'!F39=\"\",\"\",'All Bill Data Entry'!F39)","v":""},{"$f":"IF('All Bill Data Entry'!G39=\"\",\"\",'All Bill Data Entry'!G39)","v":""},{"$f":"IF('All Bill Data Entry'!H39=\"\",\"\",'All Bill Data Entry'!H39)","v":""},{"$f":"IF('All Bill Data Entry'!J39=\"\",\"\",'All Bill Data Entry'!J39)","v":""},{"$f":"IF('All Bill Data Entry'!K39=\"\",\"\",'All Bill Data Entry'!K39)","v":""},{"$f":"IF('All Bill Data Entry'!I39=\"\",\"\",'All Bill Data Entry'!I39)","v":""},{"$f":"IF('All Bill Data Entry'!C39=\"\",\"\",'All Bill Data Entry'!C39)","v":""},{"$f":"IF($B34=\"\",\"\",'All Bill Data Entry'!Y39)","v":""},"","",null,null,"","","",""]
["",{"$f":"IF('All Bill Data Entry'!A40=\"\",\"\",'All Bill Data Entry'!A40)","v":""},"","",{"$f":"IF('All Bill Data Entry'!L40=\"\",\"\",'All Bill Data Entry'!L40)","v":""},{"$f":"IF('All Bill Data Entry'!V40=\"\",\"\",'All Bill Data Entry'!V40)","v":""},{"$f":"IF('All Bill Data Entry'!N40=\"\",\"\",'All Bill Data Entry'!N40)","v":""},"",{"$f":"IF('All Bill Data Entry'!U40=\"\",\"\",'All Bill Data Entry'!U40)","v":""},{"$f":"IF('All Bill Data Entry'!B40=\"\",\"\",'All Bill Data Entry'!B40)","v":""},"",{"$f":"IF('All Bill Data Entry'!X40=\"\",\"\",'All Bill Data Entry'!X40)","v":""},"",{"$f":"IF('All Bill Data Entry'!D40=\"\",\"\",'All Bill Data Entry'!D40)","v":""},"",{"$f":"IF('All Bill Data Entry'!F40=\"\",\"\",'All Bill Data Entry'!F40)","v":""},{"$f":"IF('All Bill Data Entry'!G40=\"\",\"\",'All Bill Data Entry'!G40)","v":""},{"$f":"IF('All Bill Data Entry'!H40=\"\",\"\",'All Bill Data Entry'!H40)","v":""},{"$f":"IF('All Bill Data Entry'!J40=\"\",\"\",'All Bill Data Entry'!J40)","v":""},{"$f":"IF('All Bill Data Entry'!K40=\"\",\"\",'All Bill Data Entry'!K40)","v":""},{"$f":"IF('All Bill Data Entry'!I40=\"\",\"\",'All Bill Data Entry'!I40)","v":""},{"$f":"IF('All Bill Data Entry'!C40=\"\",\"\",'All Bill Data Entry'!C40)","v":""},{"$f":"IF($B35=\"\",\"\",'All Bill Data Entry'!Y40)","v":""},"","",null,null,"","","",""]
["",{"$f":"IF('All Bill Data Entry'!A41=\"\",\"\",'All Bill Data Entry'!A41)","v":""},"","",{"$f":"IF('All Bill Data Entry'!L41=\"\",\"\",'All Bill Data Entry'!L41)","v":""},{"$f":"IF('All Bill Data Entry'!V41=\"\",\"\",'All Bill Data Entry'!V41)","v":""},{"$f":"IF('All Bill Data Entry'!N41=\"\",\"\",'All Bill Data Entry'!N41)","v":""},"",{"$f":"IF('All Bill Data Entry'!U41=\"\",\"\",'All Bill Data Entry'!U41)","v":""},{"$f":"IF('All Bill Data Entry'!B41=\"\",\"\",'All Bill Data Entry'!B41)","v":""},"",{"$f":"IF('All Bill Data Entry'!X41=\"\",\"\",'All Bill Data Entry'!X41)","v":""},"",{"$f":"IF('All Bill Data Entry'!D41=\"\",\"\",'All Bill Data Entry'!D41)","v":""},"",{"$f":"IF('All Bill Data Entry'!F41=\"\",\"\",'All Bill Data Entry'!F41)","v":""},{"$f":"IF('All Bill Data Entry'!G41=\"\",\"\",'All Bill Data Entry'!G41)","v":""},{"$f":"IF('All Bill Data Entry'!H41=\"\",\"\",'All Bill Data Entry'!H41)","v":""},{"$f":"IF('All Bill Data Entry'!J41=\"\",\"\",'All Bill Data Entry'!J41)","v":""},{"$f":"IF('All Bill Data Entry'!K41=\"\",\"\",'All Bill Data Entry'!K41)","v":""},{"$f":"IF('All Bill Data Entry'!I41=\"\",\"\",'All Bill Data Entry'!I41)","v":""},{"$f":"IF('All Bill Data Entry'!C41=\"\",\"\",'All Bill Data Entry'!C41)","v":""},{"$f":"IF($B36=\"\",\"\",'All Bill Data Entry'!Y41)","v":""},"","",null,null,"","","",""]
["",{"$f":"IF('All Bill Data Entry'!A42=\"\",\"\",'All Bill Data Entry'!A42)","v":""},"","",{"$f":"IF('All Bill Data Entry'!L42=\"\",\"\",'All Bill Data Entry'!L42)","v":""},{"$f":"IF('All Bill Data Entry'!V42=\"\",\"\",'All Bill Data Entry'!V42)","v":""},{"$f":"IF('All Bill Data Entry'!N42=\"\",\"\",'All Bill Data Entry'!N42)","v":""},"",{"$f":"IF('All Bill Data Entry'!U42=\"\",\"\",'All Bill Data Entry'!U42)","v":""},{"$f":"IF('All Bill Data Entry'!B42=\"\",\"\",'All Bill Data Entry'!B42)","v":""},"",{"$f":"IF('All Bill Data Entry'!X42=\"\",\"\",'All Bill Data Entry'!X42)","v":""},"",{"$f":"IF('All Bill Data Entry'!D42=\"\",\"\",'All Bill Data Entry'!D42)","v":""},"",{"$f":"IF('All Bill Data Entry'!F42=\"\",\"\",'All Bill Data Entry'!F42)","v":""},{"$f":"IF('All Bill Data Entry'!G42=\"\",\"\",'All Bill Data Entry'!G42)","v":""},{"$f":"IF('All Bill Data Entry'!H42=\"\",\"\",'All Bill Data Entry'!H42)","v":""},{"$f":"IF('All Bill Data Entry'!J42=\"\",\"\",'All Bill Data Entry'!J42)","v":""},{"$f":"IF('All Bill Data Entry'!K42=\"\",\"\",'All Bill Data Entry'!K42)","v":""},{"$f":"IF('All Bill Data Entry'!I42=\"\",\"\",'All Bill Data Entry'!I42)","v":""},{"$f":"IF('All Bill Data Entry'!C42=\"\",\"\",'All Bill Data Entry'!C42)","v":""},{"$f":"IF($B37=\"\",\"\",'All Bill Data Entry'!Y42)","v":""},"","",null,null,"","","",""]
["",{"$f":"IF('All Bill Data Entry'!A43=\"\",\"\",'All Bill Data Entry'!A43)","v":""},"","",{"$f":"IF('All Bill Data Entry'!L43=\"\",\"\",'All Bill Data Entry'!L43)","v":""},{"$f":"IF('All Bill Data Entry'!V43=\"\",\"\",'All Bill Data Entry'!V43)","v":""},{"$f":"IF('All Bill Data Entry'!N43=\"\",\"\",'All Bill Data Entry'!N43)","v":""},"",{"$f":"IF('All Bill Data Entry'!U43=\"\",\"\",'All Bill Data Entry'!U43)","v":""},{"$f":"IF('All Bill Data Entry'!B43=\"\",\"\",'All Bill Data Entry'!B43)","v":""},"",{"$f":"IF('All Bill Data Entry'!X43=\"\",\"\",'All Bill Data Entry'!X43)","v":""},"",{"$f":"IF('All Bill Data Entry'!D43=\"\",\"\",'All Bill Data Entry'!D43)","v":""},"",{"$f":"IF('All Bill Data Entry'!F43=\"\",\"\",'All Bill Data Entry'!F43)","v":""},{"$f":"IF('All Bill Data Entry'!G43=\"\",\"\",'All Bill Data Entry'!G43)","v":""},{"$f":"IF('All Bill Data Entry'!H43=\"\",\"\",'All Bill Data Entry'!H43)","v":""},{"$f":"IF('All Bill Data Entry'!J43=\"\",\"\",'All Bill Data Entry'!J43)","v":""},{"$f":"IF('All Bill Data Entry'!K43=\"\",\"\",'All Bill Data Entry'!K43)","v":""},{"$f":"IF('All Bill Data Entry'!I43=\"\",\"\",'All Bill Data Entry'!I43)","v":""},{"$f":"IF('All Bill Data Entry'!C43=\"\",\"\",'All Bill Data Entry'!C43)","v":""},{"$f":"IF($B38=\"\",\"\",'All Bill Data Entry'!Y43)","v":""},"","",null,null,"","","",""]
["",{"$f":"IF('All Bill Data Entry'!A44=\"\",\"\",'All Bill Data Entry'!A44)","v":""},"","",{"$f":"IF('All Bill Data Entry'!L44=\"\",\"\",'All Bill Data Entry'!L44)","v":""},{"$f":"IF('All Bill Data Entry'!V44=\"\",\"\",'All Bill Data Entry'!V44)","v":""},{"$f":"IF('All Bill Data Entry'!N44=\"\",\"\",'All Bill Data Entry'!N44)","v":""},"",{"$f":"IF('All Bill Data Entry'!U44=\"\",\"\",'All Bill Data Entry'!U44)","v":""},{"$f":"IF('All Bill Data Entry'!B44=\"\",\"\",'All Bill Data Entry'!B44)","v":""},"",{"$f":"IF('All Bill Data Entry'!X44=\"\",\"\",'All Bill Data Entry'!X44)","v":""},"",{"$f":"IF('All Bill Data Entry'!D44=\"\",\"\",'All Bill Data Entry'!D44)","v":""},"",{"$f":"IF('All Bill Data Entry'!F44=\"\",\"\",'All Bill Data Entry'!F44)","v":""},{"$f":"IF('All Bill Data Entry'!G44=\"\",\"\",'All Bill Data Entry'!G44)","v":""},{"$f":"IF('All Bill Data Entry'!H44=\"\",\"\",'All Bill Data Entry'!H44)","v":""},{"$f":"IF('All Bill Data Entry'!J44=\"\",\"\",'All Bill Data Entry'!J44)","v":""},{"$f":"IF('All Bill Data Entry'!K44=\"\",\"\",'All Bill Data Entry'!K44)","v":""},{"$f":"IF('All Bill Data Entry'!I44=\"\",\"\",'All Bill Data Entry'!I44)","v":""},{"$f":"IF('All Bill Data Entry'!C44=\"\",\"\",'All Bill Data Entry'!C44)","v":""},{"$f":"IF($B39=\"\",\"\",'All Bill Data Entry'!Y44)","v":""},"","",null,null,"","","",""]
["",{"$f":"IF('All Bill Data Entry'!A45=\"\",\"\",'All Bill Data Entry'!A45)","v":""},"","",{"$f":"IF('All Bill Data Entry'!L45=\"\",\"\",'All Bill Data Entry'!L45)","v":""},{"$f":"IF('All Bill Data Entry'!V45=\"\",\"\",'All Bill Data Entry'!V45)","v":""},{"$f":"IF('All Bill Data Entry'!N45=\"\",\"\",'All Bill Data Entry'!N45)","v":""},"",{"$f":"IF('All Bill Data Entry'!U45=\"\",\"\",'All Bill Data Entry'!U45)","v":""},{"$f":"IF('All Bill Data Entry'!B45=\"\",\"\",'All Bill Data Entry'!B45)","v":""},"",{"$f":"IF('All Bill Data Entry'!X45=\"\",\"\",'All Bill Data Entry'!X45)","v":""},"",{"$f":"IF('All Bill Data Entry'!D45=\"\",\"\",'All Bill Data Entry'!D45)","v":""},"",{"$f":"IF('All Bill Data Entry'!F45=\"\",\"\",'All Bill Data Entry'!F45)","v":""},{"$f":"IF('All Bill Data Entry'!G45=\"\",\"\",'All Bill Data Entry'!G45)","v":""},{"$f":"IF('All Bill Data Entry'!H45=\"\",\"\",'All Bill Data Entry'!H45)","v":""},{"$f":"IF('All Bill Data Entry'!J45=\"\",\"\",'All Bill Data Entry'!J45)","v":""},{"$f":"IF('All Bill Data Entry'!K45=\"\",\"\",'All Bill Data Entry'!K45)","v":""},{"$f":"IF('All Bill Data Entry'!I45=\"\",\"\",'All Bill Data Entry'!I45)","v":""},{"$f":"IF('All Bill Data Entry'!C45=\"\",\"\",'All Bill Data Entry'!C45)","v":""},{"$f":"IF($B40=\"\",\"\",'All Bill Data Entry'!Y45)","v":""},"","",null,null,"","","",""]
["",{"$f":"IF('All Bill Data Entry'!A46=\"\",\"\",'All Bill Data Entry'!A46)","v":""},"","",{"$f":"IF('All Bill Data Entry'!L46=\"\",\"\",'All Bill Data Entry'!L46)","v":""},{"$f":"IF('All Bill Data Entry'!V46=\"\",\"\",'All Bill Data Entry'!V46)","v":""},{"$f":"IF('All Bill Data Entry'!N46=\"\",\"\",'All Bill Data Entry'!N46)","v":""},"",{"$f":"IF('All Bill Data Entry'!U46=\"\",\"\",'All Bill Data Entry'!U46)","v":""},{"$f":"IF('All Bill Data Entry'!B46=\"\",\"\",'All Bill Data Entry'!B46)","v":""},"",{"$f":"IF('All Bill Data Entry'!X46=\"\",\"\",'All Bill Data Entry'!X46)","v":""},"",{"$f":"IF('All Bill Data Entry'!D46=\"\",\"\",'All Bill Data Entry'!D46)","v":""},"",{"$f":"IF('All Bill Data Entry'!F46=\"\",\"\",'All Bill Data Entry'!F46)","v":""},{"$f":"IF('All Bill Data Entry'!G46=\"\",\"\",'All Bill Data Entry'!G46)","v":""},{"$f":"IF('All Bill Data Entry'!H46=\"\",\"\",'All Bill Data Entry'!H46)","v":""},{"$f":"IF('All Bill Data Entry'!J46=\"\",\"\",'All Bill Data Entry'!J46)","v":""},{"$f":"IF('All Bill Data Entry'!K46=\"\",\"\",'All Bill Data Entry'!K46)","v":""},{"$f":"IF('All Bill Data Entry'!I46=\"\",\"\",'All Bill Data Entry'!I46)","v":""},{"$f":"IF('All Bill Data Entry'!C46=\"\",\"\",'All Bill Data Entry'!C46)","v":""},{"$f":"IF($B41=\"\",\"\",'All Bill Data Entry'!Y46)","v":""},"","",null,null,"","","",""]
["",{"$f":"IF('All Bill Data Entry'!A47=\"\",\"\",'All Bill Data Entry'!A47)","v":""},"","",{"$f":"IF('All Bill Data Entry'!L47=\"\",\"\",'All Bill Data Entry'!L47)","v":""},{"$f":"IF('All Bill Data Entry'!V47=\"\",\"\",'All Bill Data Entry'!V47)","v":""},{"$f":"IF('All Bill Data Entry'!N47=\"\",\"\",'All Bill Data Entry'!N47)","v":""},"",{"$f":"IF('All Bill Data Entry'!U47=\"\",\"\",'All Bill Data Entry'!U47)","v":""},{"$f":"IF('All Bill Data Entry'!B47=\"\",\"\",'All Bill Data Entry'!B47)","v":""},"",{"$f":"IF('All Bill Data Entry'!X47=\"\",\"\",'All Bill Data Entry'!X47)","v":""},"",{"$f":"IF('All Bill Data Entry'!D47=\"\",\"\",'All Bill Data Entry'!D47)","v":""},"",{"$f":"IF('All Bill Data Entry'!F47=\"\",\"\",'All Bill Data Entry'!F47)","v":""},{"$f":"IF('All Bill Data Entry'!G47=\"\",\"\",'All Bill Data Entry'!G47)","v":""},{"$f":"IF('All Bill Data Entry'!H47=\"\",\"\",'All Bill Data Entry'!H47)","v":""},{"$f":"IF('All Bill Data Entry'!J47=\"\",\"\",'All Bill Data Entry'!J47)","v":""},{"$f":"IF('All Bill Data Entry'!K47=\"\",\"\",'All Bill Data Entry'!K47)","v":""},{"$f":"IF('All Bill Data Entry'!I47=\"\",\"\",'All Bill Data Entry'!I47)","v":""},{"$f":"IF('All Bill Data Entry'!C47=\"\",\"\",'All Bill Data Entry'!C47)","v":""},{"$f":"IF($B42=\"\",\"\",'All Bill Data Entry'!Y47)","v":""},"","",null,null,"","","",""]
["",{"$f":"IF('All Bill Data Entry'!A48=\"\",\"\",'All Bill Data Entry'!A48)","v":""},"","",{"$f":"IF('All Bill Data Entry'!L48=\"\",\"\",'All Bill Data Entry'!L48)","v":""},{"$f":"IF('All Bill Data Entry'!V48=\"\",\"\",'All Bill Data Entry'!V48)","v":""},{"$f":"IF('All Bill Data Entry'!N48=\"\",\"\",'All Bill Data Entry'!N48)","v":""},"",{"$f":"IF('All Bill Data Entry'!U48=\"\",\"\",'All Bill Data Entry'!U48)","v":""},{"$f":"IF('All Bill Data Entry'!B48=\"\",\"\",'All Bill Data Entry'!B48)","v":""},"",{"$f":"IF('All Bill Data Entry'!X48=\"\",\"\",'All Bill Data Entry'!X48)","v":""},"",{"$f":"IF('All Bill Data Entry'!D48=\"\",\"\",'All Bill Data Entry'!D48)","v":""},"",{"$f":"IF('All Bill Data Entry'!F48=\"\",\"\",'All Bill Data Entry'!F48)","v":""},{"$f":"IF('All Bill Data Entry'!G48=\"\",\"\",'All Bill Data Entry'!G48)","v":""},{"$f":"IF('All Bill Data Entry'!H48=\"\",\"\",'All Bill Data Entry'!H48)","v":""},{"$f":"IF('All Bill Data Entry'!J48=\"\",\"\",'All Bill Data Entry'!J48)","v":""},{"$f":"IF('All Bill Data Entry'!K48=\"\",\"\",'All Bill Data Entry'!K48)","v":""},{"$f":"IF('All Bill Data Entry'!I48=\"\",\"\",'All Bill Data Entry'!I48)","v":""},{"$f":"IF('All Bill Data Entry'!C48=\"\",\"\",'All Bill Data Entry'!C48)","v":""},{"$f":"IF($B43=\"\",\"\",'All Bill Data Entry'!Y48)","v":""},"","",null,null,"","","",""]
["",{"$f":"IF('All Bill Data Entry'!A49=\"\",\"\",'All Bill Data Entry'!A49)","v":""},"","",{"$f":"IF('All Bill Data Entry'!L49=\"\",\"\",'All Bill Data Entry'!L49)","v":""},{"$f":"IF('All Bill Data Entry'!V49=\"\",\"\",'All Bill Data Entry'!V49)","v":""},{"$f":"IF('All Bill Data Entry'!N49=\"\",\"\",'All Bill Data Entry'!N49)","v":""},"",{"$f":"IF('All Bill Data Entry'!U49=\"\",\"\",'All Bill Data Entry'!U49)","v":""},{"$f":"IF('All Bill Data Entry'!B49=\"\",\"\",'All Bill Data Entry'!B49)","v":""},"",{"$f":"IF('All Bill Data Entry'!X49=\"\",\"\",'All Bill Data Entry'!X49)","v":""},"",{"$f":"IF('All Bill Data Entry'!D49=\"\",\"\",'All Bill Data Entry'!D49)","v":""},"",{"$f":"IF('All Bill Data Entry'!F49=\"\",\"\",'All Bill Data Entry'!F49)","v":""},{"$f":"IF('All Bill Data Entry'!G49=\"\",\"\",'All Bill Data Entry'!G49)","v":""},{"$f":"IF('All Bill Data Entry'!H49=\"\",\"\",'All Bill Data Entry'!H49)","v":""},{"$f":"IF('All Bill Data Entry'!J49=\"\",\"\",'All Bill Data Entry'!J49)","v":""},{"$f":"IF('All Bill Data Entry'!K49=\"\",\"\",'All Bill Data Entry'!K49)","v":""},{"$f":"IF('All Bill Data Entry'!I49=\"\",\"\",'All Bill Data Entry'!I49)","v":""},{"$f":"IF('All Bill Data Entry'!C49=\"\",\"\",'All Bill Data Entry'!C49)","v":""},{"$f":"IF($B44=\"\",\"\",'All Bill Data Entry'!Y49)","v":""},"","",null,null,"","","",""]
["",{"$f":"IF('All Bill Data Entry'!A50=\"\",\"\",'All Bill Data Entry'!A50)","v":""},"","",{"$f":"IF('All Bill Data Entry'!L50=\"\",\"\",'All Bill Data Entry'!L50)","v":""},{"$f":"IF('All Bill Data Entry'!V50=\"\",\"\",'All Bill Data Entry'!V50)","v":""},{"$f":"IF('All Bill Data Entry'!N50=\"\",\"\",'All Bill Data Entry'!N50)","v":""},"",{"$f":"IF('All Bill Data Entry'!U50=\"\",\"\",'All Bill Data Entry'!U50)","v":""},{"$f":"IF('All Bill Data Entry'!B50=\"\",\"\",'All Bill Data Entry'!B50)","v":""},"",{"$f":"IF('All Bill Data Entry'!X50=\"\",\"\",'All Bill Data Entry'!X50)","v":""},"",{"$f":"IF('All Bill Data Entry'!D50=\"\",\"\",'All Bill Data Entry'!D50)","v":""},"",{"$f":"IF('All Bill Data Entry'!F50=\"\",\"\",'All Bill Data Entry'!F50)","v":""},{"$f":"IF('All Bill Data Entry'!G50=\"\",\"\",'All Bill Data Entry'!G50)","v":""},{"$f":"IF('All Bill Data Entry'!H50=\"\",\"\",'All Bill Data Entry'!H50)","v":""},{"$f":"IF('All Bill Data Entry'!J50=\"\",\"\",'All Bill Data Entry'!J50)","v":""},{"$f":"IF('All Bill Data Entry'!K50=\"\",\"\",'All Bill Data Entry'!K50)","v":""},{"$f":"IF('All Bill Data Entry'!I50=\"\",\"\",'All Bill Data Entry'!I50)","v":""},{"$f":"IF('All Bill Data Entry'!C50=\"\",\"\",'All Bill Data Entry'!C50)","v":""},{"$f":"IF($B45=\"\",\"\",'All Bill Data Entry'!Y50)","v":""},"","",null,null,"","","",""]
["",{"$f":"IF('All Bill Data Entry'!A51=\"\",\"\",'All Bill Data Entry'!A51)","v":""},"","",{"$f":"IF('All Bill Data Entry'!L51=\"\",\"\",'All Bill Data Entry'!L51)","v":""},{"$f":"IF('All Bill Data Entry'!V51=\"\",\"\",'All Bill Data Entry'!V51)","v":""},{"$f":"IF('All Bill Data Entry'!N51=\"\",\"\",'All Bill Data Entry'!N51)","v":""},"",{"$f":"IF('All Bill Data Entry'!U51=\"\",\"\",'All Bill Data Entry'!U51)","v":""},{"$f":"IF('All Bill Data Entry'!B51=\"\",\"\",'All Bill Data Entry'!B51)","v":""},"",{"$f":"IF('All Bill Data Entry'!X51=\"\",\"\",'All Bill Data Entry'!X51)","v":""},"",{"$f":"IF('All Bill Data Entry'!D51=\"\",\"\",'All Bill Data Entry'!D51)","v":""},"",{"$f":"IF('All Bill Data Entry'!F51=\"\",\"\",'All Bill Data Entry'!F51)","v":""},{"$f":"IF('All Bill Data Entry'!G51=\"\",\"\",'All Bill Data Entry'!G51)","v":""},{"$f":"IF('All Bill Data Entry'!H51=\"\",\"\",'All Bill Data Entry'!H51)","v":""},{"$f":"IF('All Bill Data Entry'!J51=\"\",\"\",'All Bill Data Entry'!J51)","v":""},{"$f":"IF('All Bill Data Entry'!K51=\"\",\"\",'All Bill Data Entry'!K51)","v":""},{"$f":"IF('All Bill Data Entry'!I51=\"\",\"\",'All Bill Data Entry'!I51)","v":""},{"$f":"IF('All Bill Data Entry'!C51=\"\",\"\",'All Bill Data Entry'!C51)","v":""},{"$f":"IF($B46=\"\",\"\",'All Bill Data Entry'!Y51)","v":""},"","",null,null,"","","",""]
["",{"$f":"IF('All Bill Data Entry'!A52=\"\",\"\",'All Bill Data Entry'!A52)","v":""},"","",{"$f":"IF('All Bill Data Entry'!L52=\"\",\"\",'All Bill Data Entry'!L52)","v":""},{"$f":"IF('All Bill Data Entry'!V52=\"\",\"\",'All Bill Data Entry'!V52)","v":""},{"$f":"IF('All Bill Data Entry'!N52=\"\",\"\",'All Bill Data Entry'!N52)","v":""},"",{"$f":"IF('All Bill Data Entry'!U52=\"\",\"\",'All Bill Data Entry'!U52)","v":""},{"$f":"IF('All Bill Data Entry'!B52=\"\",\"\",'All Bill Data Entry'!B52)","v":""},"",{"$f":"IF('All Bill Data Entry'!X52=\"\",\"\",'All Bill Data Entry'!X52)","v":""},"",{"$f":"IF('All Bill Data Entry'!D52=\"\",\"\",'All Bill Data Entry'!D52)","v":""},"",{"$f":"IF('All Bill Data Entry'!F52=\"\",\"\",'All Bill Data Entry'!F52)","v":""},{"$f":"IF('All Bill Data Entry'!G52=\"\",\"\",'All Bill Data Entry'!G52)","v":""},{"$f":"IF('All Bill Data Entry'!H52=\"\",\"\",'All Bill Data Entry'!H52)","v":""},{"$f":"IF('All Bill Data Entry'!J52=\"\",\"\",'All Bill Data Entry'!J52)","v":""},{"$f":"IF('All Bill Data Entry'!K52=\"\",\"\",'All Bill Data Entry'!K52)","v":""},{"$f":"IF('All Bill Data Entry'!I52=\"\",\"\",'All Bill Data Entry'!I52)","v":""},{"$f":"IF('All Bill Data Entry'!C52=\"\",\"\",'All Bill Data Entry'!C52)","v":""},{"$f":"IF($B47=\"\",\"\",'All Bill Data Entry'!Y52)","v":""},"","",null,null,"","","",""]
["",{"$f":"IF('All Bill Data Entry'!A53=\"\",\"\",'All Bill Data Entry'!A53)","v":""},"","",{"$f":"IF('All Bill Data Entry'!L53=\"\",\"\",'All Bill Data Entry'!L53)","v":""},{"$f":"IF('All Bill Data Entry'!V53=\"\",\"\",'All Bill Data Entry'!V53)","v":""},{"$f":"IF('All Bill Data Entry'!N53=\"\",\"\",'All Bill Data Entry'!N53)","v":""},"",{"$f":"IF('All Bill Data Entry'!U53=\"\",\"\",'All Bill Data Entry'!U53)","v":""},{"$f":"IF('All Bill Data Entry'!B53=\"\",\"\",'All Bill Data Entry'!B53)","v":""},"",{"$f":"IF('All Bill Data Entry'!X53=\"\",\"\",'All Bill Data Entry'!X53)","v":""},"",{"$f":"IF('All Bill Data Entry'!D53=\"\",\"\",'All Bill Data Entry'!D53)","v":""},"",{"$f":"IF('All Bill Data Entry'!F53=\"\",\"\",'All Bill Data Entry'!F53)","v":""},{"$f":"IF('All Bill Data Entry'!G53=\"\",\"\",'All Bill Data Entry'!G53)","v":""},{"$f":"IF('All Bill Data Entry'!H53=\"\",\"\",'All Bill Data Entry'!H53)","v":""},{"$f":"IF('All Bill Data Entry'!J53=\"\",\"\",'All Bill Data Entry'!J53)","v":""},{"$f":"IF('All Bill Data Entry'!K53=\"\",\"\",'All Bill Data Entry'!K53)","v":""},{"$f":"IF('All Bill Data Entry'!I53=\"\",\"\",'All Bill Data Entry'!I53)","v":""},{"$f":"IF('All Bill Data Entry'!C53=\"\",\"\",'All Bill Data Entry'!C53)","v":""},{"$f":"IF($B48=\"\",\"\",'All Bill Data Entry'!Y53)","v":""},"","",null,null,"","","",""]
["",{"$f":"IF('All Bill Data Entry'!A54=\"\",\"\",'All Bill Data Entry'!A54)","v":""},"","",{"$f":"IF('All Bill Data Entry'!L54=\"\",\"\",'All Bill Data Entry'!L54)","v":""},{"$f":"IF('All Bill Data Entry'!V54=\"\",\"\",'All Bill Data Entry'!V54)","v":""},{"$f":"IF('All Bill Data Entry'!N54=\"\",\"\",'All Bill Data Entry'!N54)","v":""},"",{"$f":"IF('All Bill Data Entry'!U54=\"\",\"\",'All Bill Data Entry'!U54)","v":""},{"$f":"IF('All Bill Data Entry'!B54=\"\",\"\",'All Bill Data Entry'!B54)","v":""},"",{"$f":"IF('All Bill Data Entry'!X54=\"\",\"\",'All Bill Data Entry'!X54)","v":""},"",{"$f":"IF('All Bill Data Entry'!D54=\"\",\"\",'All Bill Data Entry'!D54)","v":""},"",{"$f":"IF('All Bill Data Entry'!F54=\"\",\"\",'All Bill Data Entry'!F54)","v":""},{"$f":"IF('All Bill Data Entry'!G54=\"\",\"\",'All Bill Data Entry'!G54)","v":""},{"$f":"IF('All Bill Data Entry'!H54=\"\",\"\",'All Bill Data Entry'!H54)","v":""},{"$f":"IF('All Bill Data Entry'!J54=\"\",\"\",'All Bill Data Entry'!J54)","v":""},{"$f":"IF('All Bill Data Entry'!K54=\"\",\"\",'All Bill Data Entry'!K54)","v":""},{"$f":"IF('All Bill Data Entry'!I54=\"\",\"\",'All Bill Data Entry'!I54)","v":""},{"$f":"IF('All Bill Data Entry'!C54=\"\",\"\",'All Bill Data Entry'!C54)","v":""},{"$f":"IF($B49=\"\",\"\",'All Bill Data Entry'!Y54)","v":""},"","",null,null,"","","",""]
["",{"$f":"IF('All Bill Data Entry'!A55=\"\",\"\",'All Bill Data Entry'!A55)","v":""},"","",{"$f":"IF('All Bill Data Entry'!L55=\"\",\"\",'All Bill Data Entry'!L55)","v":""},{"$f":"IF('All Bill Data Entry'!V55=\"\",\"\",'All Bill Data Entry'!V55)","v":""},{"$f":"IF('All Bill Data Entry'!N55=\"\",\"\",'All Bill Data Entry'!N55)","v":""},"",{"$f":"IF('All Bill Data Entry'!U55=\"\",\"\",'All Bill Data Entry'!U55)","v":""},{"$f":"IF('All Bill Data Entry'!B55=\"\",\"\",'All Bill Data Entry'!B55)","v":""},"",{"$f":"IF('All Bill Data Entry'!X55=\"\",\"\",'All Bill Data Entry'!X55)","v":""},"",{"$f":"IF('All Bill Data Entry'!D55=\"\",\"\",'All Bill Data Entry'!D55)","v":""},"",{"$f":"IF('All Bill Data Entry'!F55=\"\",\"\",'All Bill Data Entry'!F55)","v":""},{"$f":"IF('All Bill Data Entry'!G55=\"\",\"\",'All Bill Data Entry'!G55)","v":""},{"$f":"IF('All Bill Data Entry'!H55=\"\",\"\",'All Bill Data Entry'!H55)","v":""},{"$f":"IF('All Bill Data Entry'!J55=\"\",\"\",'All Bill Data Entry'!J55)","v":""},{"$f":"IF('All Bill Data Entry'!K55=\"\",\"\",'All Bill Data Entry'!K55)","v":""},{"$f":"IF('All Bill Data Entry'!I55=\"\",\"\",'All Bill Data Entry'!I55)","v":""},{"$f":"IF('All Bill Data Entry'!C55=\"\",\"\",'All Bill Data Entry'!C55)","v":""},{"$f":"IF($B50=\"\",\"\",'All Bill Data Entry'!Y55)","v":""},"","",null,null,"","","",""]
["",{"$f":"IF('All Bill Data Entry'!A56=\"\",\"\",'All Bill Data Entry'!A56)","v":""},"","",{"$f":"IF('All Bill Data Entry'!L56=\"\",\"\",'All Bill Data Entry'!L56)","v":""},{"$f":"IF('All Bill Data Entry'!V56=\"\",\"\",'All Bill Data Entry'!V56)","v":""},{"$f":"IF('All Bill Data Entry'!N56=\"\",\"\",'All Bill Data Entry'!N56)","v":""},"",{"$f":"IF('All Bill Data Entry'!U56=\"\",\"\",'All Bill Data Entry'!U56)","v":""},{"$f":"IF('All Bill Data Entry'!B56=\"\",\"\",'All Bill Data Entry'!B56)","v":""},"",{"$f":"IF('All Bill Data Entry'!X56=\"\",\"\",'All Bill Data Entry'!X56)","v":""},"",{"$f":"IF('All Bill Data Entry'!D56=\"\",\"\",'All Bill Data Entry'!D56)","v":""},"",{"$f":"IF('All Bill Data Entry'!F56=\"\",\"\",'All Bill Data Entry'!F56)","v":""},{"$f":"IF('All Bill Data Entry'!G56=\"\",\"\",'All Bill Data Entry'!G56)","v":""},{"$f":"IF('All Bill Data Entry'!H56=\"\",\"\",'All Bill Data Entry'!H56)","v":""},{"$f":"IF('All Bill Data Entry'!J56=\"\",\"\",'All Bill Data Entry'!J56)","v":""},{"$f":"IF('All Bill Data Entry'!K56=\"\",\"\",'All Bill Data Entry'!K56)","v":""},{"$f":"IF('All Bill Data Entry'!I56=\"\",\"\",'All Bill Data Entry'!I56)","v":""},{"$f":"IF('All Bill Data Entry'!C56=\"\",\"\",'All Bill Data Entry'!C56)","v":""},{"$f":"IF($B51=\"\",\"\",'All Bill Data Entry'!Y56)","v":""},"","",null,null,"","","",""]
["",{"$f":"IF('All Bill Data Entry'!A57=\"\",\"\",'All Bill Data Entry'!A57)","v":""},"","",{"$f":"IF('All Bill Data Entry'!L57=\"\",\"\",'All Bill Data Entry'!L57)","v":""},{"$f":"IF('All Bill Data Entry'!V57=\"\",\"\",'All Bill Data Entry'!V57)","v":""},{"$f":"IF('All Bill Data Entry'!N57=\"\",\"\",'All Bill Data Entry'!N57)","v":""},"",{"$f":"IF('All Bill Data Entry'!U57=\"\",\"\",'All Bill Data Entry'!U57)","v":""},{"$f":"IF('All Bill Data Entry'!B57=\"\",\"\",'All Bill Data Entry'!B57)","v":""},"",{"$f":"IF('All Bill Data Entry'!X57=\"\",\"\",'All Bill Data Entry'!X57)","v":""},"",{"$f":"IF('All Bill Data Entry'!D57=\"\",\"\",'All Bill Data Entry'!D57)","v":""},"",{"$f":"IF('All Bill Data Entry'!F57=\"\",\"\",'All Bill Data Entry'!F57)","v":""},{"$f":"IF('All Bill Data Entry'!G57=\"\",\"\",'All Bill Data Entry'!G57)","v":""},{"$f":"IF('All Bill Data Entry'!H57=\"\",\"\",'All Bill Data Entry'!H57)","v":""},{"$f":"IF('All Bill Data Entry'!J57=\"\",\"\",'All Bill Data Entry'!J57)","v":""},{"$f":"IF('All Bill Data Entry'!K57=\"\",\"\",'All Bill Data Entry'!K57)","v":""},{"$f":"IF('All Bill Data Entry'!I57=\"\",\"\",'All Bill Data Entry'!I57)","v":""},{"$f":"IF('All Bill Data Entry'!C57=\"\",\"\",'All Bill Data Entry'!C57)","v":""},{"$f":"IF($B52=\"\",\"\",'All Bill Data Entry'!Y57)","v":""},"","",null,null,"","","",""]
["",{"$f":"IF('All Bill Data Entry'!A58=\"\",\"\",'All Bill Data Entry'!A58)","v":""},"","",{"$f":"IF('All Bill Data Entry'!L58=\"\",\"\",'All Bill Data Entry'!L58)","v":""},{"$f":"IF('All Bill Data Entry'!V58=\"\",\"\",'All Bill Data Entry'!V58)","v":""},{"$f":"IF('All Bill Data Entry'!N58=\"\",\"\",'All Bill Data Entry'!N58)","v":""},"",{"$f":"IF('All Bill Data Entry'!U58=\"\",\"\",'All Bill Data Entry'!U58)","v":""},{"$f":"IF('All Bill Data Entry'!B58=\"\",\"\",'All Bill Data Entry'!B58)","v":""},"",{"$f":"IF('All Bill Data Entry'!X58=\"\",\"\",'All Bill Data Entry'!X58)","v":""},"",{"$f":"IF('All Bill Data Entry'!D58=\"\",\"\",'All Bill Data Entry'!D58)","v":""},"",{"$f":"IF('All Bill Data Entry'!F58=\"\",\"\",'All Bill Data Entry'!F58)","v":""},{"$f":"IF('All Bill Data Entry'!G58=\"\",\"\",'All Bill Data Entry'!G58)","v":""},{"$f":"IF('All Bill Data Entry'!H58=\"\",\"\",'All Bill Data Entry'!H58)","v":""},{"$f":"IF('All Bill Data Entry'!J58=\"\",\"\",'All Bill Data Entry'!J58)","v":""},{"$f":"IF('All Bill Data Entry'!K58=\"\",\"\",'All Bill Data Entry'!K58)","v":""},{"$f":"IF('All Bill Data Entry'!I58=\"\",\"\",'All Bill Data Entry'!I58)","v":""},{"$f":"IF('All Bill Data Entry'!C58=\"\",\"\",'All Bill Data Entry'!C58)","v":""},{"$f":"IF($B53=\"\",\"\",'All Bill Data Entry'!Y58)","v":""},"","",null,null,"","","",""]
["",{"$f":"IF('All Bill Data Entry'!A59=\"\",\"\",'All Bill Data Entry'!A59)","v":""},"","",{"$f":"IF('All Bill Data Entry'!L59=\"\",\"\",'All Bill Data Entry'!L59)","v":""},{"$f":"IF('All Bill Data Entry'!V59=\"\",\"\",'All Bill Data Entry'!V59)","v":""},{"$f":"IF('All Bill Data Entry'!N59=\"\",\"\",'All Bill Data Entry'!N59)","v":""},"",{"$f":"IF('All Bill Data Entry'!U59=\"\",\"\",'All Bill Data Entry'!U59)","v":""},{"$f":"IF('All Bill Data Entry'!B59=\"\",\"\",'All Bill Data Entry'!B59)","v":""},"",{"$f":"IF('All Bill Data Entry'!X59=\"\",\"\",'All Bill Data Entry'!X59)","v":""},"",{"$f":"IF('All Bill Data Entry'!D59=\"\",\"\",'All Bill Data Entry'!D59)","v":""},"",{"$f":"IF('All Bill Data Entry'!F59=\"\",\"\",'All Bill Data Entry'!F59)","v":""},{"$f":"IF('All Bill Data Entry'!G59=\"\",\"\",'All Bill Data Entry'!G59)","v":""},{"$f":"IF('All Bill Data Entry'!H59=\"\",\"\",'All Bill Data Entry'!H59)","v":""},{"$f":"IF('All Bill Data Entry'!J59=\"\",\"\",'All Bill Data Entry'!J59)","v":""},{"$f":"IF('All Bill Data Entry'!K59=\"\",\"\",'All Bill Data Entry'!K59)","v":""},{"$f":"IF('All Bill Data Entry'!I59=\"\",\"\",'All Bill Data Entry'!I59)","v":""},{"$f":"IF('All Bill Data Entry'!C59=\"\",\"\",'All Bill Data Entry'!C59)","v":""},{"$f":"IF($B54=\"\",\"\",'All Bill Data Entry'!Y59)","v":""},"","",null,null,"","","",""]
["",{"$f":"IF('All Bill Data Entry'!A60=\"\",\"\",'All Bill Data Entry'!A60)","v":""},"","",{"$f":"IF('All Bill Data Entry'!L60=\"\",\"\",'All Bill Data Entry'!L60)","v":""},{"$f":"IF('All Bill Data Entry'!V60=\"\",\"\",'All Bill Data Entry'!V60)","v":""},{"$f":"IF('All Bill Data Entry'!N60=\"\",\"\",'All Bill Data Entry'!N60)","v":""},"",{"$f":"IF('All Bill Data Entry'!U60=\"\",\"\",'All Bill Data Entry'!U60)","v":""},{"$f":"IF('All Bill Data Entry'!B60=\"\",\"\",'All Bill Data Entry'!B60)","v":""},"",{"$f":"IF('All Bill Data Entry'!X60=\"\",\"\",'All Bill Data Entry'!X60)","v":""},"",{"$f":"IF('All Bill Data Entry'!D60=\"\",\"\",'All Bill Data Entry'!D60)","v":""},"",{"$f":"IF('All Bill Data Entry'!F60=\"\",\"\",'All Bill Data Entry'!F60)","v":""},{"$f":"IF('All Bill Data Entry'!G60=\"\",\"\",'All Bill Data Entry'!G60)","v":""},{"$f":"IF('All Bill Data Entry'!H60=\"\",\"\",'All Bill Data Entry'!H60)","v":""},{"$f":"IF('All Bill Data Entry'!J60=\"\",\"\",'All Bill Data Entry'!J60)","v":""},{"$f":"IF('All Bill Data Entry'!K60=\"\",\"\",'All Bill Data Entry'!K60)","v":""},{"$f":"IF('All Bill Data Entry'!I60=\"\",\"\",'All Bill Data Entry'!I60)","v":""},{"$f":"IF('All Bill Data Entry'!C60=\"\",\"\",'All Bill Data Entry'!C60)","v":""},{"$f":"IF($B55=\"\",\"\",'All Bill Data Entry'!Y60)","v":""},"","",null,null,"","","",""]
["",{"$f":"IF('All Bill Data Entry'!A61=\"\",\"\",'All Bill Data Entry'!A61)","v":""},"","",{"$f":"IF('All Bill Data Entry'!L61=\"\",\"\",'All Bill Data Entry'!L61)","v":""},{"$f":"IF('All Bill Data Entry'!V61=\"\",\"\",'All Bill Data Entry'!V61)","v":""},{"$f":"IF('All Bill Data Entry'!N61=\"\",\"\",'All Bill Data Entry'!N61)","v":""},"",{"$f":"IF('All Bill Data Entry'!U61=\"\",\"\",'All Bill Data Entry'!U61)","v":""},{"$f":"IF('All Bill Data Entry'!B61=\"\",\"\",'All Bill Data Entry'!B61)","v":""},"",{"$f":"IF('All Bill Data Entry'!X61=\"\",\"\",'All Bill Data Entry'!X61)","v":""},"",{"$f":"IF('All Bill Data Entry'!D61=\"\",\"\",'All Bill Data Entry'!D61)","v":""},"",{"$f":"IF('All Bill Data Entry'!F61=\"\",\"\",'All Bill Data Entry'!F61)","v":""},{"$f":"IF('All Bill Data Entry'!G61=\"\",\"\",'All Bill Data Entry'!G61)","v":""},{"$f":"IF('All Bill Data Entry'!H61=\"\",\"\",'All Bill Data Entry'!H61)","v":""},{"$f":"IF('All Bill Data Entry'!J61=\"\",\"\",'All Bill Data Entry'!J61)","v":""},{"$f":"IF('All Bill Data Entry'!K61=\"\",\"\",'All Bill Data Entry'!K61)","v":""},{"$f":"IF('All Bill Data Entry'!I61=\"\",\"\",'All Bill Data Entry'!I61)","v":""},{"$f":"IF('All Bill Data Entry'!C61=\"\",\"\",'All Bill Data Entry'!C61)","v":""},{"$f":"IF($B56=\"\",\"\",'All Bill Data Entry'!Y61)","v":""},"","",null,null,"","","",""]
["",{"$f":"IF('All Bill Data Entry'!A62=\"\",\"\",'All Bill Data Entry'!A62)","v":""},"","",{"$f":"IF('All Bill Data Entry'!L62=\"\",\"\",'All Bill Data Entry'!L62)","v":""},{"$f":"IF('All Bill Data Entry'!V62=\"\",\"\",'All Bill Data Entry'!V62)","v":""},{"$f":"IF('All Bill Data Entry'!N62=\"\",\"\",'All Bill Data Entry'!N62)","v":""},"",{"$f":"IF('All Bill Data Entry'!U62=\"\",\"\",'All Bill Data Entry'!U62)","v":""},{"$f":"IF('All Bill Data Entry'!B62=\"\",\"\",'All Bill Data Entry'!B62)","v":""},"",{"$f":"IF('All Bill Data Entry'!X62=\"\",\"\",'All Bill Data Entry'!X62)","v":""},"",{"$f":"IF('All Bill Data Entry'!D62=\"\",\"\",'All Bill Data Entry'!D62)","v":""},"",{"$f":"IF('All Bill Data Entry'!F62=\"\",\"\",'All Bill Data Entry'!F62)","v":""},{"$f":"IF('All Bill Data Entry'!G62=\"\",\"\",'All Bill Data Entry'!G62)","v":""},{"$f":"IF('All Bill Data Entry'!H62=\"\",\"\",'All Bill Data Entry'!H62)","v":""},{"$f":"IF('All Bill Data Entry'!J62=\"\",\"\",'All Bill Data Entry'!J62)","v":""},{"$f":"IF('All Bill Data Entry'!K62=\"\",\"\",'All Bill Data Entry'!K62)","v":""},{"$f":"IF('All Bill Data Entry'!I62=\"\",\"\",'All Bill Data Entry'!I62)","v":""},{"$f":"IF('All Bill Data Entry'!C62=\"\",\"\",'All Bill Data Entry'!C62)","v":""},{"$f":"IF($B57=\"\",\"\",'All Bill Data Entry'!Y62)","v":""},"","",null,null,"","","",""]
["",{"$f":"IF('All Bill Data Entry'!A63=\"\",\"\",'All Bill Data Entry'!A63)","v":""},"","",{"$f":"IF('All Bill Data Entry'!L63=\"\",\"\",'All Bill Data Entry'!L63)","v":""},{"$f":"IF('All Bill Data Entry'!V63=\"\",\"\",'All Bill Data Entry'!V63)","v":""},{"$f":"IF('All Bill Data Entry'!N63=\"\",\"\",'All Bill Data Entry'!N63)","v":""},"",{"$f":"IF('All Bill Data Entry'!U63=\"\",\"\",'All Bill Data Entry'!U63)","v":""},{"$f":"IF('All Bill Data Entry'!B63=\"\",\"\",'All Bill Data Entry'!B63)","v":""},"",{"$f":"IF('All Bill Data Entry'!X63=\"\",\"\",'All Bill Data Entry'!X63)","v":""},"",{"$f":"IF('All Bill Data Entry'!D63=\"\",\"\",'All Bill Data Entry'!D63)","v":""},"",{"$f":"IF('All Bill Data Entry'!F63=\"\",\"\",'All Bill Data Entry'!F63)","v":""},{"$f":"IF('All Bill Data Entry'!G63=\"\",\"\",'All Bill Data Entry'!G63)","v":""},{"$f":"IF('All Bill Data Entry'!H63=\"\",\"\",'All Bill Data Entry'!H63)","v":""},{"$f":"IF('All Bill Data Entry'!J63=\"\",\"\",'All Bill Data Entry'!J63)","v":""},{"$f":"IF('All Bill Data Entry'!K63=\"\",\"\",'All Bill Data Entry'!K63)","v":""},{"$f":"IF('All Bill Data Entry'!I63=\"\",\"\",'All Bill Data Entry'!I63)","v":""},{"$f":"IF('All Bill Data Entry'!C63=\"\",\"\",'All Bill Data Entry'!C63)","v":""},{"$f":"IF($B58=\"\",\"\",'All Bill Data Entry'!Y63)","v":""},"","",null,null,"","","",""]
["",{"$f":"IF('All Bill Data Entry'!A64=\"\",\"\",'All Bill Data Entry'!A64)","v":""},"","",{"$f":"IF('All Bill Data Entry'!L64=\"\",\"\",'All Bill Data Entry'!L64)","v":""},{"$f":"IF('All Bill Data Entry'!V64=\"\",\"\",'All Bill Data Entry'!V64)","v":""},{"$f":"IF('All Bill Data Entry'!N64=\"\",\"\",'All Bill Data Entry'!N64)","v":""},"",{"$f":"IF('All Bill Data Entry'!U64=\"\",\"\",'All Bill Data Entry'!U64)","v":""},{"$f":"IF('All Bill Data Entry'!B64=\"\",\"\",'All Bill Data Entry'!B64)","v":""},"",{"$f":"IF('All Bill Data Entry'!X64=\"\",\"\",'All Bill Data Entry'!X64)","v":""},"",{"$f":"IF('All Bill Data Entry'!D64=\"\",\"\",'All Bill Data Entry'!D64)","v":""},"",{"$f":"IF('All Bill Data Entry'!F64=\"\",\"\",'All Bill Data Entry'!F64)","v":""},{"$f":"IF('All Bill Data Entry'!G64=\"\",\"\",'All Bill Data Entry'!G64)","v":""},{"$f":"IF('All Bill Data Entry'!H64=\"\",\"\",'All Bill Data Entry'!H64)","v":""},{"$f":"IF('All Bill Data Entry'!J64=\"\",\"\",'All Bill Data Entry'!J64)","v":""},{"$f":"IF('All Bill Data Entry'!K64=\"\",\"\",'All Bill Data Entry'!K64)","v":""},{"$f":"IF('All Bill Data Entry'!I64=\"\",\"\",'All Bill Data Entry'!I64)","v":""},{"$f":"IF('All Bill Data Entry'!C64=\"\",\"\",'All Bill Data Entry'!C64)","v":""},{"$f":"IF($B59=\"\",\"\",'All Bill Data Entry'!Y64)","v":""},"","",null,null,"","","",""]
["",{"$f":"IF('All Bill Data Entry'!A65=\"\",\"\",'All Bill Data Entry'!A65)","v":""},"","",{"$f":"IF('All Bill Data Entry'!L65=\"\",\"\",'All Bill Data Entry'!L65)","v":""},{"$f":"IF('All Bill Data Entry'!V65=\"\",\"\",'All Bill Data Entry'!V65)","v":""},{"$f":"IF('All Bill Data Entry'!N65=\"\",\"\",'All Bill Data Entry'!N65)","v":""},"",{"$f":"IF('All Bill Data Entry'!U65=\"\",\"\",'All Bill Data Entry'!U65)","v":""},{"$f":"IF('All Bill Data Entry'!B65=\"\",\"\",'All Bill Data Entry'!B65)","v":""},"",{"$f":"IF('All Bill Data Entry'!X65=\"\",\"\",'All Bill Data Entry'!X65)","v":""},"",{"$f":"IF('All Bill Data Entry'!D65=\"\",\"\",'All Bill Data Entry'!D65)","v":""},"",{"$f":"IF('All Bill Data Entry'!F65=\"\",\"\",'All Bill Data Entry'!F65)","v":""},{"$f":"IF('All Bill Data Entry'!G65=\"\",\"\",'All Bill Data Entry'!G65)","v":""},{"$f":"IF('All Bill Data Entry'!H65=\"\",\"\",'All Bill Data Entry'!H65)","v":""},{"$f":"IF('All Bill Data Entry'!J65=\"\",\"\",'All Bill Data Entry'!J65)","v":""},{"$f":"IF('All Bill Data Entry'!K65=\"\",\"\",'All Bill Data Entry'!K65)","v":""},{"$f":"IF('All Bill Data Entry'!I65=\"\",\"\",'All Bill Data Entry'!I65)","v":""},{"$f":"IF('All Bill Data Entry'!C65=\"\",\"\",'All Bill Data Entry'!C65)","v":""},{"$f":"IF($B60=\"\",\"\",'All Bill Data Entry'!Y65)","v":""},"","",null,null,"","","",""]
["",{"$f":"IF('All Bill Data Entry'!A66=\"\",\"\",'All Bill Data Entry'!A66)","v":""},"","",{"$f":"IF('All Bill Data Entry'!L66=\"\",\"\",'All Bill Data Entry'!L66)","v":""},{"$f":"IF('All Bill Data Entry'!V66=\"\",\"\",'All Bill Data Entry'!V66)","v":""},{"$f":"IF('All Bill Data Entry'!N66=\"\",\"\",'All Bill Data Entry'!N66)","v":""},"",{"$f":"IF('All Bill Data Entry'!U66=\"\",\"\",'All Bill Data Entry'!U66)","v":""},{"$f":"IF('All Bill Data Entry'!B66=\"\",\"\",'All Bill Data Entry'!B66)","v":""},"",{"$f":"IF('All Bill Data Entry'!X66=\"\",\"\",'All Bill Data Entry'!X66)","v":""},"",{"$f":"IF('All Bill Data Entry'!D66=\"\",\"\",'All Bill Data Entry'!D66)","v":""},"",{"$f":"IF('All Bill Data Entry'!F66=\"\",\"\",'All Bill Data Entry'!F66)","v":""},{"$f":"IF('All Bill Data Entry'!G66=\"\",\"\",'All Bill Data Entry'!G66)","v":""},{"$f":"IF('All Bill Data Entry'!H66=\"\",\"\",'All Bill Data Entry'!H66)","v":""},{"$f":"IF('All Bill Data Entry'!J66=\"\",\"\",'All Bill Data Entry'!J66)","v":""},{"$f":"IF('All Bill Data Entry'!K66=\"\",\"\",'All Bill Data Entry'!K66)","v":""},{"$f":"IF('All Bill Data Entry'!I66=\"\",\"\",'All Bill Data Entry'!I66)","v":""},{"$f":"IF('All Bill Data Entry'!C66=\"\",\"\",'All Bill Data Entry'!C66)","v":""},{"$f":"IF($B61=\"\",\"\",'All Bill Data Entry'!Y66)","v":""},"","",null,null,"","","",""]
["",{"$f":"IF('All Bill Data Entry'!A67=\"\",\"\",'All Bill Data Entry'!A67)","v":""},"","",{"$f":"IF('All Bill Data Entry'!L67=\"\",\"\",'All Bill Data Entry'!L67)","v":""},{"$f":"IF('All Bill Data Entry'!V67=\"\",\"\",'All Bill Data Entry'!V67)","v":""},{"$f":"IF('All Bill Data Entry'!N67=\"\",\"\",'All Bill Data Entry'!N67)","v":""},"",{"$f":"IF('All Bill Data Entry'!U67=\"\",\"\",'All Bill Data Entry'!U67)","v":""},{"$f":"IF('All Bill Data Entry'!B67=\"\",\"\",'All Bill Data Entry'!B67)","v":""},"",{"$f":"IF('All Bill Data Entry'!X67=\"\",\"\",'All Bill Data Entry'!X67)","v":""},"",{"$f":"IF('All Bill Data Entry'!D67=\"\",\"\",'All Bill Data Entry'!D67)","v":""},"",{"$f":"IF('All Bill Data Entry'!F67=\"\",\"\",'All Bill Data Entry'!F67)","v":""},{"$f":"IF('All Bill Data Entry'!G67=\"\",\"\",'All Bill Data Entry'!G67)","v":""},{"$f":"IF('All Bill Data Entry'!H67=\"\",\"\",'All Bill Data Entry'!H67)","v":""},{"$f":"IF('All Bill Data Entry'!J67=\"\",\"\",'All Bill Data Entry'!J67)","v":""},{"$f":"IF('All Bill Data Entry'!K67=\"\",\"\",'All Bill Data Entry'!K67)","v":""},{"$f":"IF('All Bill Data Entry'!I67=\"\",\"\",'All Bill Data Entry'!I67)","v":""},{"$f":"IF('All Bill Data Entry'!C67=\"\",\"\",'All Bill Data Entry'!C67)","v":""},{"$f":"IF($B62=\"\",\"\",'All Bill Data Entry'!Y67)","v":""},"","",null,null,"","","",""]
["",{"$f":"IF('All Bill Data Entry'!A68=\"\",\"\",'All Bill Data Entry'!A68)","v":""},"","",{"$f":"IF('All Bill Data Entry'!L68=\"\",\"\",'All Bill Data Entry'!L68)","v":""},{"$f":"IF('All Bill Data Entry'!V68=\"\",\"\",'All Bill Data Entry'!V68)","v":""},{"$f":"IF('All Bill Data Entry'!N68=\"\",\"\",'All Bill Data Entry'!N68)","v":""},"",{"$f":"IF('All Bill Data Entry'!U68=\"\",\"\",'All Bill Data Entry'!U68)","v":""},{"$f":"IF('All Bill Data Entry'!B68=\"\",\"\",'All Bill Data Entry'!B68)","v":""},"",{"$f":"IF('All Bill Data Entry'!X68=\"\",\"\",'All Bill Data Entry'!X68)","v":""},"",{"$f":"IF('All Bill Data Entry'!D68=\"\",\"\",'All Bill Data Entry'!D68)","v":""},"",{"$f":"IF('All Bill Data Entry'!F68=\"\",\"\",'All Bill Data Entry'!F68)","v":""},{"$f":"IF('All Bill Data Entry'!G68=\"\",\"\",'All Bill Data Entry'!G68)","v":""},{"$f":"IF('All Bill Data Entry'!H68=\"\",\"\",'All Bill Data Entry'!H68)","v":""},{"$f":"IF('All Bill Data Entry'!J68=\"\",\"\",'All Bill Data Entry'!J68)","v":""},{"$f":"IF('All Bill Data Entry'!K68=\"\",\"\",'All Bill Data Entry'!K68)","v":""},{"$f":"IF('All Bill Data Entry'!I68=\"\",\"\",'All Bill Data Entry'!I68)","v":""},{"$f":"IF('All Bill Data Entry'!C68=\"\",\"\",'All Bill Data Entry'!C68)","v":""},{"$f":"IF($B63=\"\",\"\",'All Bill Data Entry'!Y68)","v":""},"","",null,null,"","","",""]
["",{"$f":"IF('All Bill Data Entry'!A69=\"\",\"\",'All Bill Data Entry'!A69)","v":""},"","",{"$f":"IF('All Bill Data Entry'!L69=\"\",\"\",'All Bill Data Entry'!L69)","v":""},{"$f":"IF('All Bill Data Entry'!V69=\"\",\"\",'All Bill Data Entry'!V69)","v":""},{"$f":"IF('All Bill Data Entry'!N69=\"\",\"\",'All Bill Data Entry'!N69)","v":""},"",{"$f":"IF('All Bill Data Entry'!U69=\"\",\"\",'All Bill Data Entry'!U69)","v":""},{"$f":"IF('All Bill Data Entry'!B69=\"\",\"\",'All Bill Data Entry'!B69)","v":""},"",{"$f":"IF('All Bill Data Entry'!X69=\"\",\"\",'All Bill Data Entry'!X69)","v":""},"",{"$f":"IF('All Bill Data Entry'!D69=\"\",\"\",'All Bill Data Entry'!D69)","v":""},"",{"$f":"IF('All Bill Data Entry'!F69=\"\",\"\",'All Bill Data Entry'!F69)","v":""},{"$f":"IF('All Bill Data Entry'!G69=\"\",\"\",'All Bill Data Entry'!G69)","v":""},{"$f":"IF('All Bill Data Entry'!H69=\"\",\"\",'All Bill Data Entry'!H69)","v":""},{"$f":"IF('All Bill Data Entry'!J69=\"\",\"\",'All Bill Data Entry'!J69)","v":""},{"$f":"IF('All Bill Data Entry'!K69=\"\",\"\",'All Bill Data Entry'!K69)","v":""},{"$f":"IF('All Bill Data Entry'!I69=\"\",\"\",'All Bill Data Entry'!I69)","v":""},{"$f":"IF('All Bill Data Entry'!C69=\"\",\"\",'All Bill Data Entry'!C69)","v":""},{"$f":"IF($B64=\"\",\"\",'All Bill Data Entry'!Y69)","v":""},"","",null,null,"","","",""]
["",{"$f":"IF('All Bill Data Entry'!A70=\"\",\"\",'All Bill Data Entry'!A70)","v":""},"","",{"$f":"IF('All Bill Data Entry'!L70=\"\",\"\",'All Bill Data Entry'!L70)","v":""},{"$f":"IF('All Bill Data Entry'!V70=\"\",\"\",'All Bill Data Entry'!V70)","v":""},{"$f":"IF('All Bill Data Entry'!N70=\"\",\"\",'All Bill Data Entry'!N70)","v":""},"",{"$f":"IF('All Bill Data Entry'!U70=\"\",\"\",'All Bill Data Entry'!U70)","v":""},{"$f":"IF('All Bill Data Entry'!B70=\"\",\"\",'All Bill Data Entry'!B70)","v":""},"",{"$f":"IF('All Bill Data Entry'!X70=\"\",\"\",'All Bill Data Entry'!X70)","v":""},"",{"$f":"IF('All Bill Data Entry'!D70=\"\",\"\",'All Bill Data Entry'!D70)","v":""},"",{"$f":"IF('All Bill Data Entry'!F70=\"\",\"\",'All Bill Data Entry'!F70)","v":""},{"$f":"IF('All Bill Data Entry'!G70=\"\",\"\",'All Bill Data Entry'!G70)","v":""},{"$f":"IF('All Bill Data Entry'!H70=\"\",\"\",'All Bill Data Entry'!H70)","v":""},{"$f":"IF('All Bill Data Entry'!J70=\"\",\"\",'All Bill Data Entry'!J70)","v":""},{"$f":"IF('All Bill Data Entry'!K70=\"\",\"\",'All Bill Data Entry'!K70)","v":""},{"$f":"IF('All Bill Data Entry'!I70=\"\",\"\",'All Bill Data Entry'!I70)","v":""},{"$f":"IF('All Bill Data Entry'!C70=\"\",\"\",'All Bill Data Entry'!C70)","v":""},{"$f":"IF($B65=\"\",\"\",'All Bill Data Entry'!Y70)","v":""},"","",null,null,"","","",""]
["",{"$f":"IF('All Bill Data Entry'!A71=\"\",\"\",'All Bill Data Entry'!A71)","v":""},"","",{"$f":"IF('All Bill Data Entry'!L71=\"\",\"\",'All Bill Data Entry'!L71)","v":""},{"$f":"IF('All Bill Data Entry'!V71=\"\",\"\",'All Bill Data Entry'!V71)","v":""},{"$f":"IF('All Bill Data Entry'!N71=\"\",\"\",'All Bill Data Entry'!N71)","v":""},"",{"$f":"IF('All Bill Data Entry'!U71=\"\",\"\",'All Bill Data Entry'!U71)","v":""},{"$f":"IF('All Bill Data Entry'!B71=\"\",\"\",'All Bill Data Entry'!B71)","v":""},"",{"$f":"IF('All Bill Data Entry'!X71=\"\",\"\",'All Bill Data Entry'!X71)","v":""},"",{"$f":"IF('All Bill Data Entry'!D71=\"\",\"\",'All Bill Data Entry'!D71)","v":""},"",{"$f":"IF('All Bill Data Entry'!F71=\"\",\"\",'All Bill Data Entry'!F71)","v":""},{"$f":"IF('All Bill Data Entry'!G71=\"\",\"\",'All Bill Data Entry'!G71)","v":""},{"$f":"IF('All Bill Data Entry'!H71=\"\",\"\",'All Bill Data Entry'!H71)","v":""},{"$f":"IF('All Bill Data Entry'!J71=\"\",\"\",'All Bill Data Entry'!J71)","v":""},{"$f":"IF('All Bill Data Entry'!K71=\"\",\"\",'All Bill Data Entry'!K71)","v":""},{"$f":"IF('All Bill Data Entry'!I71=\"\",\"\",'All Bill Data Entry'!I71)","v":""},{"$f":"IF('All Bill Data Entry'!C71=\"\",\"\",'All Bill Data Entry'!C71)","v":""},{"$f":"IF($B66=\"\",\"\",'All Bill Data Entry'!Y71)","v":""},"","",null,null,"","","",""]
[{"$f":"IF($B67=\"\",\"\",\"L\")","v":""},{"$f":"IF('All Bill Data Entry'!A72=\"\",\"\",'All Bill Data Entry'!A72)","v":""},{"$f":"IF($B67=\"\",\"\",\"LINE\")","v":""},{"$f":"IF($B67=\"\",\"\",\"AUX01\")","v":""},{"$f":"IF('All Bill Data Entry'!L72=\"\",\"\",'All Bill Data Entry'!L72)","v":""},{"$f":"IF('All Bill Data Entry'!V72=\"\",\"\",'All Bill Data Entry'!V72)","v":""},{"$f":"IF('All Bill Data Entry'!N72=\"\",\"\",'All Bill Data Entry'!N72)","v":""},"",{"$f":"IF('All Bill Data Entry'!U72=\"\",\"\",'All Bill Data Entry'!U72)","v":""},{"$f":"IF('All Bill Data Entry'!B72=\"\",\"\",'All Bill Data Entry'!B72)","v":""},"",{"$f":"IF('All Bill Data Entry'!X72=\"\",\"\",'All Bill Data Entry'!X72)","v":""},{"$f":"IF($B67=\"\",\"\",\"REV\")","v":""},{"$f":"IF('All Bill Data Entry'!D72=\"\",\"\",'All Bill Data Entry'!D72)","v":""},{"$f":"IF($B67=\"\",\"\",\"EA\")","v":""},{"$f":"IF('All Bill Data Entry'!F72=\"\",\"\",'All Bill Data Entry'!F72)","v":""},{"$f":"IF('All Bill Data Entry'!G72=\"\",\"\",'All Bill Data Entry'!G72)","v":""},{"$f":"IF('All Bill Data Entry'!H72=\"\",\"\",'All Bill Data Entry'!H72)","v":""},{"$f":"IF('All Bill Data Entry'!J72=\"\",\"\",'All Bill Data Entry'!J72)","v":""},{"$f":"IF('All Bill Data Entry'!K72=\"\",\"\",'All Bill Data Entry'!K72)","v":""},{"$f":"IF('All Bill Data Entry'!I72=\"\",\"\",'All Bill Data Entry'!I72)","v":""},{"$f":"IF('All Bill Data Entry'!C72=\"\",\"\",'All Bill Data Entry'!C72)","v":""},{"$f":"IF($B67=\"\",\"\",'All Bill Data Entry'!Y72)","v":""},{"$f":"IF($B67=\"\",\"\",\"N\")","v":""},{"$f":"IF($B67=\"\",\"\",\"BBI\")","v":""},null,null,{"$f":"IF($B67=\"\",\"\",\"AUX01\")","v":""},{"$f":"IF($B67=\"\",\"\",\"B101\")","v":""},{"$f":"IF($B67=\"\",\"\",\"N\")","v":""},{"$f":"IF($B67=\"\",\"\",1)","v":""}]
["",{"$f":"IF('All Bill Data Entry'!A73=\"\",\"\",'All Bill Data Entry'!A73)","v":""},"","",{"$f":"IF('All Bill Data Entry'!L73=\"\",\"\",'All Bill Data Entry'!L73)","v":""},{"$f":"IF('All Bill Data Entry'!V73=\"\",\"\",'All Bill Data Entry'!V73)","v":""},{"$f":"IF('All Bill Data Entry'!N73=\"\",\"\",'All Bill Data Entry'!N73)","v":""},"",{"$f":"IF('All Bill Data Entry'!U73=\"\",\"\",'All Bill Data Entry'!U73)","v":""},{"$f":"IF('All Bill Data Entry'!B73=\"\",\"\",'All Bill Data Entry'!B73)","v":""},"",{"$f":"IF('All Bill Data Entry'!X73=\"\",\"\",'All Bill Data Entry'!X73)","v":""},"",{"$f":"IF('All Bill Data Entry'!D73=\"\",\"\",'All Bill Data Entry'!D73)","v":""},"",{"$f":"IF('All Bill Data Entry'!F73=\"\",\"\",'All Bill Data Entry'!F73)","v":""},{"$f":"IF('All Bill Data Entry'!G73=\"\",\"\",'All Bill Data Entry'!G73)","v":""},{"$f":"IF('All Bill Data Entry'!H73=\"\",\"\",'All Bill Data Entry'!H73)","v":""},{"$f":"IF('All Bill Data Entry'!J73=\"\",\"\",'All Bill Data Entry'!J73)","v":""},{"$f":"IF('All Bill Data Entry'!K73=\"\",\"\",'All Bill Data Entry'!K73)","v":""},{"$f":"IF('All Bill Data Entry'!I73=\"\",\"\",'All Bill Data Entry'!I73)","v":""},{"$f":"IF('All Bill Data Entry'!C73=\"\",\"\",'All Bill Data Entry'!C73)","v":""},{"$f":"IF($B68=\"\",\"\",'All Bill Data Entry'!Y73)","v":""},"","",null,null,"","","",""]
["",{"$f":"IF('All Bill Data Entry'!A74=\"\",\"\",'All Bill Data Entry'!A74)","v":""},"","",{"$f":"IF('All Bill Data Entry'!L74=\"\",\"\",'All Bill Data Entry'!L74)","v":""},{"$f":"IF('All Bill Data Entry'!V74=\"\",\"\",'All Bill Data Entry'!V74)","v":""},{"$f":"IF('All Bill Data Entry'!N74=\"\",\"\",'All Bill Data Entry'!N74)","v":""},{"$f":"IF(B69=\"\",\"\",\"AUXILIARY2\")","v":""},{"$f":"IF('All Bill Data Entry'!U74=\"\",\"\",'All Bill Data Entry'!U74)","v":""},{"$f":"IF('All Bill Data Entry'!B74=\"\",\"\",'All Bill Data Entry'!B74)","v":""},{"$f":"J69","v":""},{"$f":"IF('All Bill Data Entry'!X74=\"\",\"\",'All Bill Data Entry'!X74)","v":""},"",{"$f":"IF('All Bill Data Entry'!D74=\"\",\"\",'All Bill Data Entry'!D74)","v":""},"",{"$f":"IF('All Bill Data Entry'!F74=\"\",\"\",'All Bill Data Entry'!F74)","v":""},{"$f":"IF('All Bill Data Entry'!G74=\"\",\"\",'All Bill Data Entry'!G74)","v":""},{"$f":"IF('All Bill Data Entry'!H74=\"\",\"\",'All Bill Data Entry'!H74)","v":""},{"$f":"IF('All Bill Data Entry'!J74=\"\",\"\",'All Bill Data Entry'!J74)","v":""},{"$f":"IF('All Bill Data Entry'!K74=\"\",\"\",'All Bill Data Entry'!K74)","v":""},{"$f":"IF('All Bill Data Entry'!I74=\"\",\"\",'All Bill Data Entry'!I74)","v":""},{"$f":"IF('All Bill Data Entry'!C74=\"\",\"\",'All Bill Data Entry'!C74)","v":""},{"$f":"IF($B69=\"\",\"\",'All Bill Data Entry'!Y74)","v":""},"","",null,null,"","","",""]
["",{"$f":"IF('All Bill Data Entry'!A75=\"\",\"\",'All Bill Data Entry'!A75)","v":""},"","",{"$f":"IF('All Bill Data Entry'!L75=\"\",\"\",'All Bill Data Entry'!L75)","v":""},{"$f":"IF('All Bill Data Entry'!V75=\"\",\"\",'All Bill Data Entry'!V75)","v":""},{"$f":"IF('All Bill Data Entry'!N75=\"\",\"\",'All Bill Data Entry'!N75)","v":""},"",{"$f":"IF('All Bill Data Entry'!U75=\"\",\"\",'All Bill Data Entry'!U75)","v":""},{"$f":"IF('All Bill Data Entry'!B75=\"\",\"\",'All Bill Data Entry'!B75)","v":""},"",{"$f":"IF('All Bill Data Entry'!X75=\"\",\"\",'All Bill Data Entry'!X75)","v":""},"",{"$f":"IF('All Bill Data Entry'!D75=\"\",\"\",'All Bill Data Entry'!D75)","v":""},"",{"$f":"IF('All Bill Data Entry'!F75=\"\",\"\",'All Bill Data Entry'!F75)","v":""},{"$f":"IF('All Bill Data Entry'!G75=\"\",\"\",'All Bill Data Entry'!G75)","v":""},{"$f":"IF('All Bill Data Entry'!H75=\"\",\"\",'All Bill Data Entry'!H75)","v":""},{"$f":"IF('All Bill Data Entry'!J75=\"\",\"\",'All Bill Data Entry'!J75)","v":""},{"$f":"IF('All Bill Data Entry'!K75=\"\",\"\",'All Bill Data Entry'!K75)","v":""},{"$f":"IF('All Bill Data Entry'!I75=\"\",\"\",'All Bill Data Entry'!I75)","v":""},{"$f":"IF('All Bill Data Entry'!C75=\"\",\"\",'All Bill Data Entry'!C75)","v":""},{"$f":"IF($B70=\"\",\"\",'All Bill Data Entry'!Y75)","v":""},"","",null,null,"","","",""]
["",{"$f":"IF('All Bill Data Entry'!A76=\"\",\"\",'All Bill Data Entry'!A76)","v":""},"","",{"$f":"IF('All Bill Data Entry'!L76=\"\",\"\",'All Bill Data Entry'!L76)","v":""},{"$f":"IF('All Bill Data Entry'!V76=\"\",\"\",'All Bill Data Entry'!V76)","v":""},{"$f":"IF('All Bill Data Entry'!N76=\"\",\"\",'All Bill Data Entry'!N76)","v":""},"",{"$f":"IF('All Bill Data Entry'!U76=\"\",\"\",'All Bill Data Entry'!U76)","v":""},{"$f":"IF('All Bill Data Entry'!B76=\"\",\"\",'All Bill Data Entry'!B76)","v":""},"",{"$f":"IF('All Bill Data Entry'!X76=\"\",\"\",'All Bill Data Entry'!X76)","v":""},"",{"$f":"IF('All Bill Data Entry'!D76=\"\",\"\",'All Bill Data Entry'!D76)","v":""},"",{"$f":"IF('All Bill Data Entry'!F76=\"\",\"\",'All Bill Data Entry'!F76)","v":""},{"$f":"IF('All Bill Data Entry'!G76=\"\",\"\",'All Bill Data Entry'!G76)","v":""},{"$f":"IF('All Bill Data Entry'!H76=\"\",\"\",'All Bill Data Entry'!H76)","v":""},{"$f":"IF('All Bill Data Entry'!J76=\"\",\"\",'All Bill Data Entry'!J76)","v":""},{"$f":"IF('All Bill Data Entry'!K76=\"\",\"\",'All Bill Data Entry'!K76)","v":""},{"$f":"IF('All Bill Data Entry'!I76=\"\",\"\",'All Bill Data Entry'!I76)","v":""},{"$f":"IF('All Bill Data Entry'!C76=\"\",\"\",'All Bill Data Entry'!C76)","v":""},{"$f":"IF($B71=\"\",\"\",'All Bill Data Entry'!Y76)","v":""},"","",null,null,"","","",""]
["",{"$f":"IF('All Bill Data Entry'!A77=\"\",\"\",'All Bill Data Entry'!A77)","v":""},"","",{"$f":"IF('All Bill Data Entry'!L77=\"\",\"\",'All Bill Data Entry'!L77)","v":""},{"$f":"IF('All Bill Data Entry'!V77=\"\",\"\",'All Bill Data Entry'!V77)","v":""},{"$f":"IF('All Bill Data Entry'!N77=\"\",\"\",'All Bill Data Entry'!N77)","v":""},"",{"$f":"IF('All Bill Data Entry'!U77=\"\",\"\",'All Bill Data Entry'!U77)","v":""},{"$f":"IF('All Bill Data Entry'!B77=\"\",\"\",'All Bill Data Entry'!B77)","v":""},"",{"$f":"IF('All Bill Data Entry'!X77=\"\",\"\",'All Bill Data Entry'!X77)","v":""},"",{"$f":"IF('All Bill Data Entry'!D77=\"\",\"\",'All Bill Data Entry'!D77)","v":""},"",{"$f":"IF('All Bill Data Entry'!F77=\"\",\"\",'All Bill Data Entry'!F77)","v":""},{"$f":"IF('All Bill Data Entry'!G77=\"\",\"\",'All Bill Data Entry'!G77)","v":""},{"$f":"IF('All Bill Data Entry'!H77=\"\",\"\",'All Bill Data Entry'!H77)","v":""},{"$f":"IF('All Bill Data Entry'!J77=\"\",\"\",'All Bill Data Entry'!J77)","v":""},{"$f":"IF('All Bill Data Entry'!K77=\"\",\"\",'All Bill Data Entry'!K77)","v":""},{"$f":"IF('All Bill Data Entry'!I77=\"\",\"\",'All Bill Data Entry'!I77)","v":""},{"$f":"IF('All Bill Data Entry'!C77=\"\",\"\",'All Bill Data Entry'!C77)","v":""},{"$f":"IF($B72=\"\",\"\",'All Bill Data Entry'!Y77)","v":""},"","",null,null,"","","",""]
["",{"$f":"IF('All Bill Data Entry'!A78=\"\",\"\",'All Bill Data Entry'!A78)","v":""},"","",{"$f":"IF('All Bill Data Entry'!L78=\"\",\"\",'All Bill Data Entry'!L78)","v":""},{"$f":"IF('All Bill Data Entry'!V78=\"\",\"\",'All Bill Data Entry'!V78)","v":""},{"$f":"IF('All Bill Data Entry'!N78=\"\",\"\",'All Bill Data Entry'!N78)","v":""},"",{"$f":"IF('All Bill Data Entry'!U78=\"\",\"\",'All Bill Data Entry'!U78)","v":""},{"$f":"IF('All Bill Data Entry'!B78=\"\",\"\",'All Bill Data Entry'!B78)","v":""},"",{"$f":"IF('All Bill Data Entry'!X78=\"\",\"\",'All Bill Data Entry'!X78)","v":""},"",{"$f":"IF('All Bill Data Entry'!D78=\"\",\"\",'All Bill Data Entry'!D78)","v":""},"",{"$f":"IF('All Bill Data Entry'!F78=\"\",\"\",'All Bill Data Entry'!F78)","v":""},{"$f":"IF('All Bill Data Entry'!G78=\"\",\"\",'All Bill Data Entry'!G78)","v":""},{"$f":"IF('All Bill Data Entry'!H78=\"\",\"\",'All Bill Data Entry'!H78)","v":""},{"$f":"IF('All Bill Data Entry'!J78=\"\",\"\",'All Bill Data Entry'!J78)","v":""},{"$f":"IF('All Bill Data Entry'!K78=\"\",\"\",'All Bill Data Entry'!K78)","v":""},{"$f":"IF('All Bill Data Entry'!I78=\"\",\"\",'All Bill Data Entry'!I78)","v":""},{"$f":"IF('All Bill Data Entry'!C78=\"\",\"\",'All Bill Data Entry'!C78)","v":""},{"$f":"IF($B73=\"\",\"\",'All Bill Data Entry'!Y78)","v":""},"","",null,null,"","","",""]
["",{"$f":"IF('All Bill Data Entry'!A79=\"\",\"\",'All Bill Data Entry'!A79)","v":""},"","",{"$f":"IF('All Bill Data Entry'!L79=\"\",\"\",'All Bill Data Entry'!L79)","v":""},{"$f":"IF('All Bill Data Entry'!V79=\"\",\"\",'All Bill Data Entry'!V79)","v":""},{"$f":"IF('All Bill Data Entry'!N79=\"\",\"\",'All Bill Data Entry'!N79)","v":""},"",{"$f":"IF('All Bill Data Entry'!U79=\"\",\"\",'All Bill Data Entry'!U79)","v":""},{"$f":"IF('All Bill Data Entry'!B79=\"\",\"\",'All Bill Data Entry'!B79)","v":""},"",{"$f":"IF('All Bill Data Entry'!X79=\"\",\"\",'All Bill Data Entry'!X79)","v":""},"",{"$f":"IF('All Bill Data Entry'!D79=\"\",\"\",'All Bill Data Entry'!D79)","v":""},"",{"$f":"IF('All Bill Data Entry'!F79=\"\",\"\",'All Bill Data Entry'!F79)","v":""},{"$f":"IF('All Bill Data Entry'!G79=\"\",\"\",'All Bill Data Entry'!G79)","v":""},{"$f":"IF('All Bill Data Entry'!H79=\"\",\"\",'All Bill Data Entry'!H79)","v":""},{"$f":"IF('All Bill Data Entry'!J79=\"\",\"\",'All Bill Data Entry'!J79)","v":""},{"$f":"IF('All Bill Data Entry'!K79=\"\",\"\",'All Bill Data Entry'!K79)","v":""},{"$f":"IF('All Bill Data Entry'!I79=\"\",\"\",'All Bill Data Entry'!I79)","v":""},{"$f":"IF('All Bill Data Entry'!C79=\"\",\"\",'All Bill Data Entry'!C79)","v":""},{"$f":"IF($B74=\"\",\"\",'All Bill Data Entry'!Y79)","v":""},"","",null,null,"","","",""]
["",{"$f":"IF('All Bill Data Entry'!A80=\"\",\"\",'All Bill Data Entry'!A80)","v":""},"","",{"$f":"IF('All Bill Data Entry'!L80=\"\",\"\",'All Bill Data Entry'!L80)","v":""},{"$f":"IF('All Bill Data Entry'!V80=\"\",\"\",'All Bill Data Entry'!V80)","v":""},{"$f":"IF('All Bill Data Entry'!N80=\"\",\"\",'All Bill Data Entry'!N80)","v":""},"",{"$f":"IF('All Bill Data Entry'!U80=\"\",\"\",'All Bill Data Entry'!U80)","v":""},{"$f":"IF('All Bill Data Entry'!B80=\"\",\"\",'All Bill Data Entry'!B80)","v":""},"",{"$f":"IF('All Bill Data Entry'!X80=\"\",\"\",'All Bill Data Entry'!X80)","v":""},"",{"$f":"IF('All Bill Data Entry'!D80=\"\",\"\",'All Bill Data Entry'!D80)","v":""},"",{"$f":"IF('All Bill Data Entry'!F80=\"\",\"\",'All Bill Data Entry'!F80)","v":""},{"$f":"IF('All Bill Data Entry'!G80=\"\",\"\",'All Bill Data Entry'!G80)","v":""},{"$f":"IF('All Bill Data Entry'!H80=\"\",\"\",'All Bill Data Entry'!H80)","v":""},{"$f":"IF('All Bill Data Entry'!J80=\"\",\"\",'All Bill Data Entry'!J80)","v":""},{"$f":"IF('All Bill Data Entry'!K80=\"\",\"\",'All Bill Data Entry'!K80)","v":""},{"$f":"IF('All Bill Data Entry'!I80=\"\",\"\",'All Bill Data Entry'!I80)","v":""},{"$f":"IF('All Bill Data Entry'!C80=\"\",\"\",'All Bill Data Entry'!C80)","v":""},{"$f":"IF($B75=\"\",\"\",'All Bill Data Entry'!Y80)","v":""},"","",null,null,"","","",""]
["",{"$f":"IF('All Bill Data Entry'!A81=\"\",\"\",'All Bill Data Entry'!A81)","v":""},"","",{"$f":"IF('All Bill Data Entry'!L81=\"\",\"\",'All Bill Data Entry'!L81)","v":""},{"$f":"IF('All Bill Data Entry'!V81=\"\",\"\",'All Bill Data Entry'!V81)","v":""},{"$f":"IF('All Bill Data Entry'!N81=\"\",\"\",'All Bill Data Entry'!N81)","v":""},"",{"$f":"IF('All Bill Data Entry'!U81=\"\",\"\",'All Bill Data Entry'!U81)","v":""},{"$f":"IF('All Bill Data Entry'!B81=\"\",\"\",'All Bill Data Entry'!B81)","v":""},"",{"$f":"IF('All Bill Data Entry'!X81=\"\",\"\",'All Bill Data Entry'!X81)","v":""},"",{"$f":"IF('All Bill Data Entry'!D81=\"\",\"\",'All Bill Data Entry'!D81)","v":""},"",{"$f":"IF('All Bill Data Entry'!F81=\"\",\"\",'All Bill Data Entry'!F81)","v":""},{"$f":"IF('All Bill Data Entry'!G81=\"\",\"\",'All Bill Data Entry'!G81)","v":""},{"$f":"IF('All Bill Data Entry'!H81=\"\",\"\",'All Bill Data Entry'!H81)","v":""},{"$f":"IF('All Bill Data Entry'!J81=\"\",\"\",'All Bill Data Entry'!J81)","v":""},{"$f":"IF('All Bill Data Entry'!K81=\"\",\"\",'All Bill Data Entry'!K81)","v":""},{"$f":"IF('All Bill Data Entry'!I81=\"\",\"\",'All Bill Data Entry'!I81)","v":""},{"$f":"IF('All Bill Data Entry'!C81=\"\",\"\",'All Bill Data Entry'!C81)","v":""},{"$f":"IF($B76=\"\",\"\",'All Bill Data Entry'!Y81)","v":""},"","",null,null,"","","",""]
["",{"$f":"IF('All Bill Data Entry'!A82=\"\",\"\",'All Bill Data Entry'!A82)","v":""},"","",{"$f":"IF('All Bill Data Entry'!L82=\"\",\"\",'All Bill Data Entry'!L82)","v":""},{"$f":"IF('All Bill Data Entry'!V82=\"\",\"\",'All Bill Data Entry'!V82)","v":""},{"$f":"IF('All Bill Data Entry'!N82=\"\",\"\",'All Bill Data Entry'!N82)","v":""},"",{"$f":"IF('All Bill Data Entry'!U82=\"\",\"\",'All Bill Data Entry'!U82)","v":""},{"$f":"IF('All Bill Data Entry'!B82=\"\",\"\",'All Bill Data Entry'!B82)","v":""},"",{"$f":"IF('All Bill Data Entry'!X82=\"\",\"\",'All Bill Data Entry'!X82)","v":""},"",{"$f":"IF('All Bill Data Entry'!D82=\"\",\"\",'All Bill Data Entry'!D82)","v":""},"",{"$f":"IF('All Bill Data Entry'!F82=\"\",\"\",'All Bill Data Entry'!F82)","v":""},{"$f":"IF('All Bill Data Entry'!G82=\"\",\"\",'All Bill Data Entry'!G82)","v":""},{"$f":"IF('All Bill Data Entry'!H82=\"\",\"\",'All Bill Data Entry'!H82)","v":""},{"$f":"IF('All Bill Data Entry'!J82=\"\",\"\",'All Bill Data Entry'!J82)","v":""},{"$f":"IF('All Bill Data Entry'!K82=\"\",\"\",'All Bill Data Entry'!K82)","v":""},{"$f":"IF('All Bill Data Entry'!I82=\"\",\"\",'All Bill Data Entry'!I82)","v":""},{"$f":"IF('All Bill Data Entry'!C82=\"\",\"\",'All Bill Data Entry'!C82)","v":""},{"$f":"IF($B77=\"\",\"\",'All Bill Data Entry'!Y82)","v":""},"","",null,null,"","","",""]
["",{"$f":"IF('All Bill Data Entry'!A83=\"\",\"\",'All Bill Data Entry'!A83)","v":""},"","",{"$f":"IF('All Bill Data Entry'!L83=\"\",\"\",'All Bill Data Entry'!L83)","v":""},{"$f":"IF('All Bill Data Entry'!V83=\"\",\"\",'All Bill Data Entry'!V83)","v":""},{"$f":"IF('All Bill Data Entry'!N83=\"\",\"\",'All Bill Data Entry'!N83)","v":""},"",{"$f":"IF('All Bill Data Entry'!U83=\"\",\"\",'All Bill Data Entry'!U83)","v":""},{"$f":"IF('All Bill Data Entry'!B83=\"\",\"\",'All Bill Data Entry'!B83)","v":""},"",{"$f":"IF('All Bill Data Entry'!X83=\"\",\"\",'All Bill Data Entry'!X83)","v":""},"",{"$f":"IF('All Bill Data Entry'!D83=\"\",\"\",'All Bill Data Entry'!D83)","v":""},"",{"$f":"IF('All Bill Data Entry'!F83=\"\",\"\",'All Bill Data Entry'!F83)","v":""},{"$f":"IF('All Bill Data Entry'!G83=\"\",\"\",'All Bill Data Entry'!G83)","v":""},{"$f":"IF('All Bill Data Entry'!H83=\"\",\"\",'All Bill Data Entry'!H83)","v":""},{"$f":"IF('All Bill Data Entry'!J83=\"\",\"\",'All Bill Data Entry'!J83)","v":""},{"$f":"IF('All Bill Data Entry'!K83=\"\",\"\",'All Bill Data Entry'!K83)","v":""},{"$f":"IF('All Bill Data Entry'!I83=\"\",\"\",'All Bill Data Entry'!I83)","v":""},{"$f":"IF('All Bill Data Entry'!C83=\"\",\"\",'All Bill Data Entry'!C83)","v":""},{"$f":"IF($B78=\"\",\"\",'All Bill Data Entry'!Y83)","v":""},"","",null,null,"","","",""]
["",{"$f":"IF('All Bill Data Entry'!A84=\"\",\"\",'All Bill Data Entry'!A84)","v":""},"","",{"$f":"IF('All Bill Data Entry'!L84=\"\",\"\",'All Bill Data Entry'!L84)","v":""},{"$f":"IF('All Bill Data Entry'!V84=\"\",\"\",'All Bill Data Entry'!V84)","v":""},{"$f":"IF('All Bill Data Entry'!N84=\"\",\"\",'All Bill Data Entry'!N84)","v":""},"",{"$f":"IF('All Bill Data Entry'!U84=\"\",\"\",'All Bill Data Entry'!U84)","v":""},{"$f":"IF('All Bill Data Entry'!B84=\"\",\"\",'All Bill Data Entry'!B84)","v":""},"",{"$f":"IF('All Bill Data Entry'!X84=\"\",\"\",'All Bill Data Entry'!X84)","v":""},"",{"$f":"IF('All Bill Data Entry'!D84=\"\",\"\",'All Bill Data Entry'!D84)","v":""},"",{"$f":"IF('All Bill Data Entry'!F84=\"\",\"\",'All Bill Data Entry'!F84)","v":""},{"$f":"IF('All Bill Data Entry'!G84=\"\",\"\",'All Bill Data Entry'!G84)","v":""},{"$f":"IF('All Bill Data Entry'!H84=\"\",\"\",'All Bill Data Entry'!H84)","v":""},{"$f":"IF('All Bill Data Entry'!J84=\"\",\"\",'All Bill Data Entry'!J84)","v":""},{"$f":"IF('All Bill Data Entry'!K84=\"\",\"\",'All Bill Data Entry'!K84)","v":""},{"$f":"IF('All Bill Data Entry'!I84=\"\",\"\",'All Bill Data Entry'!I84)","v":""},{"$f":"IF('All Bill Data Entry'!C84=\"\",\"\",'All Bill Data Entry'!C84)","v":""},{"$f":"IF($B79=\"\",\"\",'All Bill Data Entry'!Y84)","v":""},"","",null,null,"","","",""]
["",{"$f":"IF('All Bill Data Entry'!A85=\"\",\"\",'All Bill Data Entry'!A85)","v":""},"","",{"$f":"IF('All Bill Data Entry'!L85=\"\",\"\",'All Bill Data Entry'!L85)","v":""},{"$f":"IF('All Bill Data Entry'!V85=\"\",\"\",'All Bill Data Entry'!V85)","v":""},{"$f":"IF('All Bill Data Entry'!N85=\"\",\"\",'All Bill Data Entry'!N85)","v":""},"",{"$f":"IF('All Bill Data Entry'!U85=\"\",\"\",'All Bill Data Entry'!U85)","v":""},{"$f":"IF('All Bill Data Entry'!B85=\"\",\"\",'All Bill Data Entry'!B85)","v":""},"",{"$f":"IF('All Bill Data Entry'!X85=\"\",\"\",'All Bill Data Entry'!X85)","v":""},"",{"$f":"IF('All Bill Data Entry'!D85=\"\",\"\",'All Bill Data Entry'!D85)","v":""},"",{"$f":"IF('All Bill Data Entry'!F85=\"\",\"\",'All Bill Data Entry'!F85)","v":""},{"$f":"IF('All Bill Data Entry'!G85=\"\",\"\",'All Bill Data Entry'!G85)","v":""},{"$f":"IF('All Bill Data Entry'!H85=\"\",\"\",'All Bill Data Entry'!H85)","v":""},{"$f":"IF('All Bill Data Entry'!J85=\"\",\"\",'All Bill Data Entry'!J85)","v":""},{"$f":"IF('All Bill Data Entry'!K85=\"\",\"\",'All Bill Data Entry'!K85)","v":""},{"$f":"IF('All Bill Data Entry'!I85=\"\",\"\",'All Bill Data Entry'!I85)","v":""},{"$f":"IF('All Bill Data Entry'!C85=\"\",\"\",'All Bill Data Entry'!C85)","v":""},{"$f":"IF($B80=\"\",\"\",'All Bill Data Entry'!Y85)","v":""},"","",null,null,"","","",""]
["",{"$f":"IF('All Bill Data Entry'!A86=\"\",\"\",'All Bill Data Entry'!A86)","v":""},"","",{"$f":"IF('All Bill Data Entry'!L86=\"\",\"\",'All Bill Data Entry'!L86)","v":""},{"$f":"IF('All Bill Data Entry'!V86=\"\",\"\",'All Bill Data Entry'!V86)","v":""},{"$f":"IF('All Bill Data Entry'!N86=\"\",\"\",'All Bill Data Entry'!N86)","v":""},"",{"$f":"IF('All Bill Data Entry'!U86=\"\",\"\",'All Bill Data Entry'!U86)","v":""},{"$f":"IF('All Bill Data Entry'!B86=\"\",\"\",'All Bill Data Entry'!B86)","v":""},"",{"$f":"IF('All Bill Data Entry'!X86=\"\",\"\",'All Bill Data Entry'!X86)","v":""},"",{"$f":"IF('All Bill Data Entry'!D86=\"\",\"\",'All Bill Data Entry'!D86)","v":""},"",{"$f":"IF('All Bill Data Entry'!F86=\"\",\"\",'All Bill Data Entry'!F86)","v":""},{"$f":"IF('All Bill Data Entry'!G86=\"\",\"\",'All Bill Data Entry'!G86)","v":""},{"$f":"IF('All Bill Data Entry'!H86=\"\",\"\",'All Bill Data Entry'!H86)","v":""},{"$f":"IF('All Bill Data Entry'!J86=\"\",\"\",'All Bill Data Entry'!J86)","v":""},{"$f":"IF('All Bill Data Entry'!K86=\"\",\"\",'All Bill Data Entry'!K86)","v":""},{"$f":"IF('All Bill Data Entry'!I86=\"\",\"\",'All Bill Data Entry'!I86)","v":""},{"$f":"IF('All Bill Data Entry'!C86=\"\",\"\",'All Bill Data Entry'!C86)","v":""},{"$f":"IF($B81=\"\",\"\",'All Bill Data Entry'!Y86)","v":""},"","",null,null,"","","",""]
["",{"$f":"IF('All Bill Data Entry'!A87=\"\",\"\",'All Bill Data Entry'!A87)","v":""},"","",{"$f":"IF('All Bill Data Entry'!L87=\"\",\"\",'All Bill Data Entry'!L87)","v":""},{"$f":"IF('All Bill Data Entry'!V87=\"\",\"\",'All Bill Data Entry'!V87)","v":""},{"$f":"IF('All Bill Data Entry'!N87=\"\",\"\",'All Bill Data Entry'!N87)","v":""},"",{"$f":"IF('All Bill Data Entry'!U87=\"\",\"\",'All Bill Data Entry'!U87)","v":""},{"$f":"IF('All Bill Data Entry'!B87=\"\",\"\",'All Bill Data Entry'!B87)","v":""},"",{"$f":"IF('All Bill Data Entry'!X87=\"\",\"\",'All Bill Data Entry'!X87)","v":""},"",{"$f":"IF('All Bill Data Entry'!D87=\"\",\"\",'All Bill Data Entry'!D87)","v":""},"",{"$f":"IF('All Bill Data Entry'!F87=\"\",\"\",'All Bill Data Entry'!F87)","v":""},{"$f":"IF('All Bill Data Entry'!G87=\"\",\"\",'All Bill Data Entry'!G87)","v":""},{"$f":"IF('All Bill Data Entry'!H87=\"\",\"\",'All Bill Data Entry'!H87)","v":""},{"$f":"IF('All Bill Data Entry'!J87=\"\",\"\",'All Bill Data Entry'!J87)","v":""},{"$f":"IF('All Bill Data Entry'!K87=\"\",\"\",'All Bill Data Entry'!K87)","v":""},{"$f":"IF('All Bill Data Entry'!I87=\"\",\"\",'All Bill Data Entry'!I87)","v":""},{"$f":"IF('All Bill Data Entry'!C87=\"\",\"\",'All Bill Data Entry'!C87)","v":""},{"$f":"IF($B82=\"\",\"\",'All Bill Data Entry'!Y87)","v":""},"","",null,null,"","","",""]
["",{"$f":"IF('All Bill Data Entry'!A88=\"\",\"\",'All Bill Data Entry'!A88)","v":""},"","",{"$f":"IF('All Bill Data Entry'!L88=\"\",\"\",'All Bill Data Entry'!L88)","v":""},{"$f":"IF('All Bill Data Entry'!V88=\"\",\"\",'All Bill Data Entry'!V88)","v":""},{"$f":"IF('All Bill Data Entry'!N88=\"\",\"\",'All Bill Data Entry'!N88)","v":""},"",{"$f":"IF('All Bill Data Entry'!U88=\"\",\"\",'All Bill Data Entry'!U88)","v":""},{"$f":"IF('All Bill Data Entry'!B88=\"\",\"\",'All Bill Data Entry'!B88)","v":""},"",{"$f":"IF('All Bill Data Entry'!X88=\"\",\"\",'All Bill Data Entry'!X88)","v":""},"",{"$f":"IF('All Bill Data Entry'!D88=\"\",\"\",'All Bill Data Entry'!D88)","v":""},"",{"$f":"IF('All Bill Data Entry'!F88=\"\",\"\",'All Bill Data Entry'!F88)","v":""},{"$f":"IF('All Bill Data Entry'!G88=\"\",\"\",'All Bill Data Entry'!G88)","v":""},{"$f":"IF('All Bill Data Entry'!H88=\"\",\"\",'All Bill Data Entry'!H88)","v":""},{"$f":"IF('All Bill Data Entry'!J88=\"\",\"\",'All Bill Data Entry'!J88)","v":""},{"$f":"IF('All Bill Data Entry'!K88=\"\",\"\",'All Bill Data Entry'!K88)","v":""},{"$f":"IF('All Bill Data Entry'!I88=\"\",\"\",'All Bill Data Entry'!I88)","v":""},{"$f":"IF('All Bill Data Entry'!C88=\"\",\"\",'All Bill Data Entry'!C88)","v":""},{"$f":"IF($B83=\"\",\"\",'All Bill Data Entry'!Y88)","v":""},"","",null,null,"","","",""]
["",{"$f":"IF('All Bill Data Entry'!A89=\"\",\"\",'All Bill Data Entry'!A89)","v":""},"","",{"$f":"IF('All Bill Data Entry'!L89=\"\",\"\",'All Bill Data Entry'!L89)","v":""},{"$f":"IF('All Bill Data Entry'!V89=\"\",\"\",'All Bill Data Entry'!V89)","v":""},{"$f":"IF('All Bill Data Entry'!N89=\"\",\"\",'All Bill Data Entry'!N89)","v":""},"",{"$f":"IF('All Bill Data Entry'!U89=\"\",\"\",'All Bill Data Entry'!U89)","v":""},{"$f":"IF('All Bill Data Entry'!B89=\"\",\"\",'All Bill Data Entry'!B89)","v":""},"",{"$f":"IF('All Bill Data Entry'!X89=\"\",\"\",'All Bill Data Entry'!X89)","v":""},"",{"$f":"IF('All Bill Data Entry'!D89=\"\",\"\",'All Bill Data Entry'!D89)","v":""},"",{"$f":"IF('All Bill Data Entry'!F89=\"\",\"\",'All Bill Data Entry'!F89)","v":""},{"$f":"IF('All Bill Data Entry'!G89=\"\",\"\",'All Bill Data Entry'!G89)","v":""},{"$f":"IF('All Bill Data Entry'!H89=\"\",\"\",'All Bill Data Entry'!H89)","v":""},{"$f":"IF('All Bill Data Entry'!J89=\"\",\"\",'All Bill Data Entry'!J89)","v":""},{"$f":"IF('All Bill Data Entry'!K89=\"\",\"\",'All Bill Data Entry'!K89)","v":""},{"$f":"IF('All Bill Data Entry'!I89=\"\",\"\",'All Bill Data Entry'!I89)","v":""},{"$f":"IF('All Bill Data Entry'!C89=\"\",\"\",'All Bill Data Entry'!C89)","v":""},{"$f":"IF($B84=\"\",\"\",'All Bill Data Entry'!Y89)","v":""},"","",null,null,"","","",""]
["",{"$f":"IF('All Bill Data Entry'!A90=\"\",\"\",'All Bill Data Entry'!A90)","v":""},"","",{"$f":"IF('All Bill Data Entry'!L90=\"\",\"\",'All Bill Data Entry'!L90)","v":""},{"$f":"IF('All Bill Data Entry'!V90=\"\",\"\",'All Bill Data Entry'!V90)","v":""},{"$f":"IF('All Bill Data Entry'!N90=\"\",\"\",'All Bill Data Entry'!N90)","v":""},"",{"$f":"IF('All Bill Data Entry'!U90=\"\",\"\",'All Bill Data Entry'!U90)","v":""},{"$f":"IF('All Bill Data Entry'!B90=\"\",\"\",'All Bill Data Entry'!B90)","v":""},"",{"$f":"IF('All Bill Data Entry'!X90=\"\",\"\",'All Bill Data Entry'!X90)","v":""},"",{"$f":"IF('All Bill Data Entry'!D90=\"\",\"\",'All Bill Data Entry'!D90)","v":""},"",{"$f":"IF('All Bill Data Entry'!F90=\"\",\"\",'All Bill Data Entry'!F90)","v":""},{"$f":"IF('All Bill Data Entry'!G90=\"\",\"\",'All Bill Data Entry'!G90)","v":""},{"$f":"IF('All Bill Data Entry'!H90=\"\",\"\",'All Bill Data Entry'!H90)","v":""},{"$f":"IF('All Bill Data Entry'!J90=\"\",\"\",'All Bill Data Entry'!J90)","v":""},{"$f":"IF('All Bill Data Entry'!K90=\"\",\"\",'All Bill Data Entry'!K90)","v":""},{"$f":"IF('All Bill Data Entry'!I90=\"\",\"\",'All Bill Data Entry'!I90)","v":""},{"$f":"IF('All Bill Data Entry'!C90=\"\",\"\",'All Bill Data Entry'!C90)","v":""},{"$f":"IF($B85=\"\",\"\",'All Bill Data Entry'!Y90)","v":""},"","",null,null,"","","",""]
["",{"$f":"IF('All Bill Data Entry'!A91=\"\",\"\",'All Bill Data Entry'!A91)","v":""},"","",{"$f":"IF('All Bill Data Entry'!L91=\"\",\"\",'All Bill Data Entry'!L91)","v":""},{"$f":"IF('All Bill Data Entry'!V91=\"\",\"\",'All Bill Data Entry'!V91)","v":""},{"$f":"IF('All Bill Data Entry'!N91=\"\",\"\",'All Bill Data Entry'!N91)","v":""},"",{"$f":"IF('All Bill Data Entry'!U91=\"\",\"\",'All Bill Data Entry'!U91)","v":""},{"$f":"IF('All Bill Data Entry'!B91=\"\",\"\",'All Bill Data Entry'!B91)","v":""},"",{"$f":"IF('All Bill Data Entry'!X91=\"\",\"\",'All Bill Data Entry'!X91)","v":""},"",{"$f":"IF('All Bill Data Entry'!D91=\"\",\"\",'All Bill Data Entry'!D91)","v":""},"",{"$f":"IF('All Bill Data Entry'!F91=\"\",\"\",'All Bill Data Entry'!F91)","v":""},{"$f":"IF('All Bill Data Entry'!G91=\"\",\"\",'All Bill Data Entry'!G91)","v":""},{"$f":"IF('All Bill Data Entry'!H91=\"\",\"\",'All Bill Data Entry'!H91)","v":""},{"$f":"IF('All Bill Data Entry'!J91=\"\",\"\",'All Bill Data Entry'!J91)","v":""},{"$f":"IF('All Bill Data Entry'!K91=\"\",\"\",'All Bill Data Entry'!K91)","v":""},{"$f":"IF('All Bill Data Entry'!I91=\"\",\"\",'All Bill Data Entry'!I91)","v":""},{"$f":"IF('All Bill Data Entry'!C91=\"\",\"\",'All Bill Data Entry'!C91)","v":""},{"$f":"IF($B86=\"\",\"\",'All Bill Data Entry'!Y91)","v":""},"","",null,null,"","","",""]
["",{"$f":"IF('All Bill Data Entry'!A92=\"\",\"\",'All Bill Data Entry'!A92)","v":""},"","",{"$f":"IF('All Bill Data Entry'!L92=\"\",\"\",'All Bill Data Entry'!L92)","v":""},{"$f":"IF('All Bill Data Entry'!V92=\"\",\"\",'All Bill Data Entry'!V92)","v":""},{"$f":"IF('All Bill Data Entry'!N92=\"\",\"\",'All Bill Data Entry'!N92)","v":""},"",{"$f":"IF('All Bill Data Entry'!U92=\"\",\"\",'All Bill Data Entry'!U92)","v":""},{"$f":"IF('All Bill Data Entry'!B92=\"\",\"\",'All Bill Data Entry'!B92)","v":""},"",{"$f":"IF('All Bill Data Entry'!X92=\"\",\"\",'All Bill Data Entry'!X92)","v":""},"",{"$f":"IF('All Bill Data Entry'!D92=\"\",\"\",'All Bill Data Entry'!D92)","v":""},"",{"$f":"IF('All Bill Data Entry'!F92=\"\",\"\",'All Bill Data Entry'!F92)","v":""},{"$f":"IF('All Bill Data Entry'!G92=\"\",\"\",'All Bill Data Entry'!G92)","v":""},{"$f":"IF('All Bill Data Entry'!H92=\"\",\"\",'All Bill Data Entry'!H92)","v":""},{"$f":"IF('All Bill Data Entry'!J92=\"\",\"\",'All Bill Data Entry'!J92)","v":""},{"$f":"IF('All Bill Data Entry'!K92=\"\",\"\",'All Bill Data Entry'!K92)","v":""},{"$f":"IF('All Bill Data Entry'!I92=\"\",\"\",'All Bill Data Entry'!I92)","v":""},{"$f":"IF('All Bill Data Entry'!C92=\"\",\"\",'All Bill Data Entry'!C92)","v":""},{"$f":"IF($B87=\"\",\"\",'All Bill Data Entry'!Y92)","v":""},"","",null,null,"","","",""]
["",{"$f":"IF('All Bill Data Entry'!A93=\"\",\"\",'All Bill Data Entry'!A93)","v":""},"","",{"$f":"IF('All Bill Data Entry'!L93=\"\",\"\",'All Bill Data Entry'!L93)","v":""},{"$f":"IF('All Bill Data Entry'!V93=\"\",\"\",'All Bill Data Entry'!V93)","v":""},{"$f":"IF('All Bill Data Entry'!N93=\"\",\"\",'All Bill Data Entry'!N93)","v":""},"",{"$f":"IF('All Bill Data Entry'!U93=\"\",\"\",'All Bill Data Entry'!U93)","v":""},{"$f":"IF('All Bill Data Entry'!B93=\"\",\"\",'All Bill Data Entry'!B93)","v":""},"",{"$f":"IF('All Bill Data Entry'!X93=\"\",\"\",'All Bill Data Entry'!X93)","v":""},"",{"$f":"IF('All Bill Data Entry'!D93=\"\",\"\",'All Bill Data Entry'!D93)","v":""},"",{"$f":"IF('All Bill Data Entry'!F93=\"\",\"\",'All Bill Data Entry'!F93)","v":""},{"$f":"IF('All Bill Data Entry'!G93=\"\",\"\",'All Bill Data Entry'!G93)","v":""},{"$f":"IF('All Bill Data Entry'!H93=\"\",\"\",'All Bill Data Entry'!H93)","v":""},{"$f":"IF('All Bill Data Entry'!J93=\"\",\"\",'All Bill Data Entry'!J93)","v":""},{"$f":"IF('All Bill Data Entry'!K93=\"\",\"\",'All Bill Data Entry'!K93)","v":""},{"$f":"IF('All Bill Data Entry'!I93=\"\",\"\",'All Bill Data Entry'!I93)","v":""},{"$f":"IF('All Bill Data Entry'!C93=\"\",\"\",'All Bill Data Entry'!C93)","v":""},{"$f":"IF($B88=\"\",\"\",'All Bill Data Entry'!Y93)","v":""},"","",null,null,"","","",""]
["",{"$f":"IF('All Bill Data Entry'!A94=\"\",\"\",'All Bill Data Entry'!A94)","v":""},"","",{"$f":"IF('All Bill Data Entry'!L94=\"\",\"\",'All Bill Data Entry'!L94)","v":""},{"$f":"IF('All Bill Data Entry'!V94=\"\",\"\",'All Bill Data Entry'!V94)","v":""},{"$f":"IF('All Bill Data Entry'!N94=\"\",\"\",'All Bill Data Entry'!N94)","v":""},"",{"$f":"IF('All Bill Data Entry'!U94=\"\",\"\",'All Bill Data Entry'!U94)","v":""},{"$f":"IF('All Bill Data Entry'!B94=\"\",\"\",'All Bill Data Entry'!B94)","v":""},"",{"$f":"IF('All Bill Data Entry'!X94=\"\",\"\",'All Bill Data Entry'!X94)","v":""},"",{"$f":"IF('All Bill Data Entry'!D94=\"\",\"\",'All Bill Data Entry'!D94)","v":""},"",{"$f":"IF('All Bill Data Entry'!F94=\"\",\"\",'All Bill Data Entry'!F94)","v":""},{"$f":"IF('All Bill Data Entry'!G94=\"\",\"\",'All Bill Data Entry'!G94)","v":""},{"$f":"IF('All Bill Data Entry'!H94=\"\",\"\",'All Bill Data Entry'!H94)","v":""},{"$f":"IF('All Bill Data Entry'!J94=\"\",\"\",'All Bill Data Entry'!J94)","v":""},{"$f":"IF('All Bill Data Entry'!K94=\"\",\"\",'All Bill Data Entry'!K94)","v":""},{"$f":"IF('All Bill Data Entry'!I94=\"\",\"\",'All Bill Data Entry'!I94)","v":""},{"$f":"IF('All Bill Data Entry'!C94=\"\",\"\",'All Bill Data Entry'!C94)","v":""},{"$f":"IF($B89=\"\",\"\",'All Bill Data Entry'!Y94)","v":""},"","",null,null,"","","",""]
["",{"$f":"IF('All Bill Data Entry'!A95=\"\",\"\",'All Bill Data Entry'!A95)","v":""},"","",{"$f":"IF('All Bill Data Entry'!L95=\"\",\"\",'All Bill Data Entry'!L95)","v":""},{"$f":"IF('All Bill Data Entry'!V95=\"\",\"\",'All Bill Data Entry'!V95)","v":""},{"$f":"IF('All Bill Data Entry'!N95=\"\",\"\",'All Bill Data Entry'!N95)","v":""},"",{"$f":"IF('All Bill Data Entry'!U95=\"\",\"\",'All Bill Data Entry'!U95)","v":""},{"$f":"IF('All Bill Data Entry'!B95=\"\",\"\",'All Bill Data Entry'!B95)","v":""},"",{"$f":"IF('All Bill Data Entry'!X95=\"\",\"\",'All Bill Data Entry'!X95)","v":""},"",{"$f":"IF('All Bill Data Entry'!D95=\"\",\"\",'All Bill Data Entry'!D95)","v":""},"",{"$f":"IF('All Bill Data Entry'!F95=\"\",\"\",'All Bill Data Entry'!F95)","v":""},{"$f":"IF('All Bill Data Entry'!G95=\"\",\"\",'All Bill Data Entry'!G95)","v":""},{"$f":"IF('All Bill Data Entry'!H95=\"\",\"\",'All Bill Data Entry'!H95)","v":""},{"$f":"IF('All Bill Data Entry'!J95=\"\",\"\",'All Bill Data Entry'!J95)","v":""},{"$f":"IF('All Bill Data Entry'!K95=\"\",\"\",'All Bill Data Entry'!K95)","v":""},{"$f":"IF('All Bill Data Entry'!I95=\"\",\"\",'All Bill Data Entry'!I95)","v":""},{"$f":"IF('All Bill Data Entry'!C95=\"\",\"\",'All Bill Data Entry'!C95)","v":""},{"$f":"IF($B90=\"\",\"\",'All Bill Data Entry'!Y95)","v":""},"","",null,null,"","","",""]
["",{"$f":"IF('All Bill Data Entry'!A96=\"\",\"\",'All Bill Data Entry'!A96)","v":""},"","",{"$f":"IF('All Bill Data Entry'!L96=\"\",\"\",'All Bill Data Entry'!L96)","v":""},{"$f":"IF('All Bill Data Entry'!V96=\"\",\"\",'All Bill Data Entry'!V96)","v":""},{"$f":"IF('All Bill Data Entry'!N96=\"\",\"\",'All Bill Data Entry'!N96)","v":""},"",{"$f":"IF('All Bill Data Entry'!U96=\"\",\"\",'All Bill Data Entry'!U96)","v":""},{"$f":"IF('All Bill Data Entry'!B96=\"\",\"\",'All Bill Data Entry'!B96)","v":""},"",{"$f":"IF('All Bill Data Entry'!X96=\"\",\"\",'All Bill Data Entry'!X96)","v":""},"",{"$f":"IF('All Bill Data Entry'!D96=\"\",\"\",'All Bill Data Entry'!D96)","v":""},"",{"$f":"IF('All Bill Data Entry'!F96=\"\",\"\",'All Bill Data Entry'!F96)","v":""},{"$f":"IF('All Bill Data Entry'!G96=\"\",\"\",'All Bill Data Entry'!G96)","v":""},{"$f":"IF('All Bill Data Entry'!H96=\"\",\"\",'All Bill Data Entry'!H96)","v":""},{"$f":"IF('All Bill Data Entry'!J96=\"\",\"\",'All Bill Data Entry'!J96)","v":""},{"$f":"IF('All Bill Data Entry'!K96=\"\",\"\",'All Bill Data Entry'!K96)","v":""},{"$f":"IF('All Bill Data Entry'!I96=\"\",\"\",'All Bill Data Entry'!I96)","v":""},{"$f":"IF('All Bill Data Entry'!C96=\"\",\"\",'All Bill Data Entry'!C96)","v":""},{"$f":"IF($B91=\"\",\"\",'All Bill Data Entry'!Y96)","v":""},"","",null,null,"","","",""]
["",{"$f":"IF('All Bill Data Entry'!A97=\"\",\"\",'All Bill Data Entry'!A97)","v":""},"","",{"$f":"IF('All Bill Data Entry'!L97=\"\",\"\",'All Bill Data Entry'!L97)","v":""},{"$f":"IF('All Bill Data Entry'!V97=\"\",\"\",'All Bill Data Entry'!V97)","v":""},{"$f":"IF('All Bill Data Entry'!N97=\"\",\"\",'All Bill Data Entry'!N97)","v":""},"",{"$f":"IF('All Bill Data Entry'!U97=\"\",\"\",'All Bill Data Entry'!U97)","v":""},{"$f":"IF('All Bill Data Entry'!B97=\"\",\"\",'All Bill Data Entry'!B97)","v":""},"",{"$f":"IF('All Bill Data Entry'!X97=\"\",\"\",'All Bill Data Entry'!X97)","v":""},"",{"$f":"IF('All Bill Data Entry'!D97=\"\",\"\",'All Bill Data Entry'!D97)","v":""},"",{"$f":"IF('All Bill Data Entry'!F97=\"\",\"\",'All Bill Data Entry'!F97)","v":""},{"$f":"IF('All Bill Data Entry'!G97=\"\",\"\",'All Bill Data Entry'!G97)","v":""},{"$f":"IF('All Bill Data Entry'!H97=\"\",\"\",'All Bill Data Entry'!H97)","v":""},{"$f":"IF('All Bill Data Entry'!J97=\"\",\"\",'All Bill Data Entry'!J97)","v":""},{"$f":"IF('All Bill Data Entry'!K97=\"\",\"\",'All Bill Data Entry'!K97)","v":""},{"$f":"IF('All Bill Data Entry'!I97=\"\",\"\",'All Bill Data Entry'!I97)","v":""},{"$f":"IF('All Bill Data Entry'!C97=\"\",\"\",'All Bill Data Entry'!C97)","v":""},{"$f":"IF($B92=\"\",\"\",'All Bill Data Entry'!Y97)","v":""},"","",null,null,"","","",""]
["",{"$f":"IF('All Bill Data Entry'!A98=\"\",\"\",'All Bill Data Entry'!A98)","v":""},"","",{"$f":"IF('All Bill Data Entry'!L98=\"\",\"\",'All Bill Data Entry'!L98)","v":""},{"$f":"IF('All Bill Data Entry'!V98=\"\",\"\",'All Bill Data Entry'!V98)","v":""},{"$f":"IF('All Bill Data Entry'!N98=\"\",\"\",'All Bill Data Entry'!N98)","v":""},"",{"$f":"IF('All Bill Data Entry'!U98=\"\",\"\",'All Bill Data Entry'!U98)","v":""},{"$f":"IF('All Bill Data Entry'!B98=\"\",\"\",'All Bill Data Entry'!B98)","v":""},"",{"$f":"IF('All Bill Data Entry'!X98=\"\",\"\",'All Bill Data Entry'!X98)","v":""},"",{"$f":"IF('All Bill Data Entry'!D98=\"\",\"\",'All Bill Data Entry'!D98)","v":""},"",{"$f":"IF('All Bill Data Entry'!F98=\"\",\"\",'All Bill Data Entry'!F98)","v":""},{"$f":"IF('All Bill Data Entry'!G98=\"\",\"\",'All Bill Data Entry'!G98)","v":""},{"$f":"IF('All Bill Data Entry'!H98=\"\",\"\",'All Bill Data Entry'!H98)","v":""},{"$f":"IF('All Bill Data Entry'!J98=\"\",\"\",'All Bill Data Entry'!J98)","v":""},{"$f":"IF('All Bill Data Entry'!K98=\"\",\"\",'All Bill Data Entry'!K98)","v":""},{"$f":"IF('All Bill Data Entry'!I98=\"\",\"\",'All Bill Data Entry'!I98)","v":""},{"$f":"IF('All Bill Data Entry'!C98=\"\",\"\",'All Bill Data Entry'!C98)","v":""},{"$f":"IF($B93=\"\",\"\",'All Bill Data Entry'!Y98)","v":""},"","",null,null,"","","",""]
["",{"$f":"IF('All Bill Data Entry'!A99=\"\",\"\",'All Bill Data Entry'!A99)","v":""},"","",{"$f":"IF('All Bill Data Entry'!L99=\"\",\"\",'All Bill Data Entry'!L99)","v":""},{"$f":"IF('All Bill Data Entry'!V99=\"\",\"\",'All Bill Data Entry'!V99)","v":""},{"$f":"IF('All Bill Data Entry'!N99=\"\",\"\",'All Bill Data Entry'!N99)","v":""},"",{"$f":"IF('All Bill Data Entry'!U99=\"\",\"\",'All Bill Data Entry'!U99)","v":""},{"$f":"IF('All Bill Data Entry'!B99=\"\",\"\",'All Bill Data Entry'!B99)","v":""},"",{"$f":"IF('All Bill Data Entry'!X99=\"\",\"\",'All Bill Data Entry'!X99)","v":""},"",{"$f":"IF('All Bill Data Entry'!D99=\"\",\"\",'All Bill Data Entry'!D99)","v":""},"",{"$f":"IF('All Bill Data Entry'!F99=\"\",\"\",'All Bill Data Entry'!F99)","v":""},{"$f":"IF('All Bill Data Entry'!G99=\"\",\"\",'All Bill Data Entry'!G99)","v":""},{"$f":"IF('All Bill Data Entry'!H99=\"\",\"\",'All Bill Data Entry'!H99)","v":""},{"$f":"IF('All Bill Data Entry'!J99=\"\",\"\",'All Bill Data Entry'!J99)","v":""},{"$f":"IF('All Bill Data Entry'!K99=\"\",\"\",'All Bill Data Entry'!K99)","v":""},{"$f":"IF('All Bill Data Entry'!I99=\"\",\"\",'All Bill Data Entry'!I99)","v":""},{"$f":"IF('All Bill Data Entry'!C99=\"\",\"\",'All Bill Data Entry'!C99)","v":""},{"$f":"IF($B94=\"\",\"\",'All Bill Data Entry'!Y99)","v":""},"","",null,null,"","","",""]
["",{"$f":"IF('All Bill Data Entry'!A100=\"\",\"\",'All Bill Data Entry'!A100)","v":""},"","",{"$f":"IF('All Bill Data Entry'!L100=\"\",\"\",'All Bill Data Entry'!L100)","v":""},{"$f":"IF('All Bill Data Entry'!V100=\"\",\"\",'All Bill Data Entry'!V100)","v":""},{"$f":"IF('All Bill Data Entry'!N100=\"\",\"\",'All Bill Data Entry'!N100)","v":""},"",{"$f":"IF('All Bill Data Entry'!U100=\"\",\"\",'All Bill Data Entry'!U100)","v":""},{"$f":"IF('All Bill Data Entry'!B100=\"\",\"\",'All Bill Data Entry'!B100)","v":""},"",{"$f":"IF('All Bill Data Entry'!X100=\"\",\"\",'All Bill Data Entry'!X100)","v":""},"",{"$f":"IF('All Bill Data Entry'!D100=\"\",\"\",'All Bill Data Entry'!D100)","v":""},"",{"$f":"IF('All Bill Data Entry'!F100=\"\",\"\",'All Bill Data Entry'!F100)","v":""},{"$f":"IF('All Bill Data Entry'!G100=\"\",\"\",'All Bill Data Entry'!G100)","v":""},{"$f":"IF('All Bill Data Entry'!H100=\"\",\"\",'All Bill Data Entry'!H100)","v":""},{"$f":"IF('All Bill Data Entry'!J100=\"\",\"\",'All Bill Data Entry'!J100)","v":""},{"$f":"IF('All Bill Data Entry'!K100=\"\",\"\",'All Bill Data Entry'!K100)","v":""},{"$f":"IF('All Bill Data Entry'!I100=\"\",\"\",'All Bill Data Entry'!I100)","v":""},{"$f":"IF('All Bill Data Entry'!C100=\"\",\"\",'All Bill Data Entry'!C100)","v":""},{"$f":"IF($B95=\"\",\"\",'All Bill Data Entry'!Y100)","v":""},"","",null,null,"","","",""]
["",{"$f":"IF('All Bill Data Entry'!A101=\"\",\"\",'All Bill Data Entry'!A101)","v":""},"","",{"$f":"IF('All Bill Data Entry'!L101=\"\",\"\",'All Bill Data Entry'!L101)","v":""},{"$f":"IF('All Bill Data Entry'!V101=\"\",\"\",'All Bill Data Entry'!V101)","v":""},{"$f":"IF('All Bill Data Entry'!N101=\"\",\"\",'All Bill Data Entry'!N101)","v":""},"",{"$f":"IF('All Bill Data Entry'!U101=\"\",\"\",'All Bill Data Entry'!U101)","v":""},{"$f":"IF('All Bill Data Entry'!B101=\"\",\"\",'All Bill Data Entry'!B101)","v":""},"",{"$f":"IF('All Bill Data Entry'!X101=\"\",\"\",'All Bill Data Entry'!X101)","v":""},"",{"$f":"IF('All Bill Data Entry'!D101=\"\",\"\",'All Bill Data Entry'!D101)","v":""},"",{"$f":"IF('All Bill Data Entry'!F101=\"\",\"\",'All Bill Data Entry'!F101)","v":""},{"$f":"IF('All Bill Data Entry'!G101=\"\",\"\",'All Bill Data Entry'!G101)","v":""},{"$f":"IF('All Bill Data Entry'!H101=\"\",\"\",'All Bill Data Entry'!H101)","v":""},{"$f":"IF('All Bill Data Entry'!J101=\"\",\"\",'All Bill Data Entry'!J101)","v":""},{"$f":"IF('All Bill Data Entry'!K101=\"\",\"\",'All Bill Data Entry'!K101)","v":""},{"$f":"IF('All Bill Data Entry'!I101=\"\",\"\",'All Bill Data Entry'!I101)","v":""},{"$f":"IF('All Bill Data Entry'!C101=\"\",\"\",'All Bill Data Entry'!C101)","v":""},{"$f":"IF($B96=\"\",\"\",'All Bill Data Entry'!Y101)","v":""},"","",null,null,"","","",""]
["",{"$f":"IF('All Bill Data Entry'!A102=\"\",\"\",'All Bill Data Entry'!A102)","v":""},"","",{"$f":"IF('All Bill Data Entry'!L102=\"\",\"\",'All Bill Data Entry'!L102)","v":""},{"$f":"IF('All Bill Data Entry'!V102=\"\",\"\",'All Bill Data Entry'!V102)","v":""},{"$f":"IF('All Bill Data Entry'!N102=\"\",\"\",'All Bill Data Entry'!N102)","v":""},"",{"$f":"IF('All Bill Data Entry'!U102=\"\",\"\",'All Bill Data Entry'!U102)","v":""},{"$f":"IF('All Bill Data Entry'!B102=\"\",\"\",'All Bill Data Entry'!B102)","v":""},"",{"$f":"IF('All Bill Data Entry'!X102=\"\",\"\",'All Bill Data Entry'!X102)","v":""},"",{"$f":"IF('All Bill Data Entry'!D102=\"\",\"\",'All Bill Data Entry'!D102)","v":""},"",{"$f":"IF('All Bill Data Entry'!F102=\"\",\"\",'All Bill Data Entry'!F102)","v":""},{"$f":"IF('All Bill Data Entry'!G102=\"\",\"\",'All Bill Data Entry'!G102)","v":""},{"$f":"IF('All Bill Data Entry'!H102=\"\",\"\",'All Bill Data Entry'!H102)","v":""},{"$f":"IF('All Bill Data Entry'!J102=\"\",\"\",'All Bill Data Entry'!J102)","v":""},{"$f":"IF('All Bill Data Entry'!K102=\"\",\"\",'All Bill Data Entry'!K102)","v":""},{"$f":"IF('All Bill Data Entry'!I102=\"\",\"\",'All Bill Data Entry'!I102)","v":""},{"$f":"IF('All Bill Data Entry'!C102=\"\",\"\",'All Bill Data Entry'!C102)","v":""},{"$f":"IF($B97=\"\",\"\",'All Bill Data Entry'!Y102)","v":""},"","",null,null,"","","",""]
["",{"$f":"IF('All Bill Data Entry'!A103=\"\",\"\",'All Bill Data Entry'!A103)","v":""},"","",{"$f":"IF('All Bill Data Entry'!L103=\"\",\"\",'All Bill Data Entry'!L103)","v":""},{"$f":"IF('All Bill Data Entry'!V103=\"\",\"\",'All Bill Data Entry'!V103)","v":""},{"$f":"IF('All Bill Data Entry'!N103=\"\",\"\",'All Bill Data Entry'!N103)","v":""},"",{"$f":"IF('All Bill Data Entry'!U103=\"\",\"\",'All Bill Data Entry'!U103)","v":""},{"$f":"IF('All Bill Data Entry'!B103=\"\",\"\",'All Bill Data Entry'!B103)","v":""},"",{"$f":"IF('All Bill Data Entry'!X103=\"\",\"\",'All Bill Data Entry'!X103)","v":""},"",{"$f":"IF('All Bill Data Entry'!D103=\"\",\"\",'All Bill Data Entry'!D103)","v":""},"",{"$f":"IF('All Bill Data Entry'!F103=\"\",\"\",'All Bill Data Entry'!F103)","v":""},{"$f":"IF('All Bill Data Entry'!G103=\"\",\"\",'All Bill Data Entry'!G103)","v":""},{"$f":"IF('All Bill Data Entry'!H103=\"\",\"\",'All Bill Data Entry'!H103)","v":""},{"$f":"IF('All Bill Data Entry'!J103=\"\",\"\",'All Bill Data Entry'!J103)","v":""},{"$f":"IF('All Bill Data Entry'!K103=\"\",\"\",'All Bill Data Entry'!K103)","v":""},{"$f":"IF('All Bill Data Entry'!I103=\"\",\"\",'All Bill Data Entry'!I103)","v":""},{"$f":"IF('All Bill Data Entry'!C103=\"\",\"\",'All Bill Data Entry'!C103)","v":""},{"$f":"IF($B98=\"\",\"\",'All Bill Data Entry'!Y103)","v":""},"","",null,null,"","","",""]
["",{"$f":"IF('All Bill Data Entry'!A104=\"\",\"\",'All Bill Data Entry'!A104)","v":""},"","",{"$f":"IF('All Bill Data Entry'!L104=\"\",\"\",'All Bill Data Entry'!L104)","v":""},{"$f":"IF('All Bill Data Entry'!V104=\"\",\"\",'All Bill Data Entry'!V104)","v":""},{"$f":"IF('All Bill Data Entry'!N104=\"\",\"\",'All Bill Data Entry'!N104)","v":""},"",{"$f":"IF('All Bill Data Entry'!U104=\"\",\"\",'All Bill Data Entry'!U104)","v":""},{"$f":"IF('All Bill Data Entry'!B104=\"\",\"\",'All Bill Data Entry'!B104)","v":""},"",{"$f":"IF('All Bill Data Entry'!X104=\"\",\"\",'All Bill Data Entry'!X104)","v":""},"",{"$f":"IF('All Bill Data Entry'!D104=\"\",\"\",'All Bill Data Entry'!D104)","v":""},"",{"$f":"IF('All Bill Data Entry'!F104=\"\",\"\",'All Bill Data Entry'!F104)","v":""},{"$f":"IF('All Bill Data Entry'!G104=\"\",\"\",'All Bill Data Entry'!G104)","v":""},{"$f":"IF('All Bill Data Entry'!H104=\"\",\"\",'All Bill Data Entry'!H104)","v":""},{"$f":"IF('All Bill Data Entry'!J104=\"\",\"\",'All Bill Data Entry'!J104)","v":""},{"$f":"IF('All Bill Data Entry'!K104=\"\",\"\",'All Bill Data Entry'!K104)","v":""},{"$f":"IF('All Bill Data Entry'!I104=\"\",\"\",'All Bill Data Entry'!I104)","v":""},{"$f":"IF('All Bill Data Entry'!C104=\"\",\"\",'All Bill Data Entry'!C104)","v":""},{"$f":"IF($B99=\"\",\"\",'All Bill Data Entry'!Y104)","v":""},"","",null,null,"","","",""]
["",{"$f":"IF('All Bill Data Entry'!A105=\"\",\"\",'All Bill Data Entry'!A105)","v":""},"","",{"$f":"IF('All Bill Data Entry'!L105=\"\",\"\",'All Bill Data Entry'!L105)","v":""},{"$f":"IF('All Bill Data Entry'!V105=\"\",\"\",'All Bill Data Entry'!V105)","v":""},{"$f":"IF('All Bill Data Entry'!N105=\"\",\"\",'All Bill Data Entry'!N105)","v":""},"",{"$f":"IF('All Bill Data Entry'!U105=\"\",\"\",'All Bill Data Entry'!U105)","v":""},{"$f":"IF('All Bill Data Entry'!B105=\"\",\"\",'All Bill Data Entry'!B105)","v":""},"",{"$f":"IF('All Bill Data Entry'!X105=\"\",\"\",'All Bill Data Entry'!X105)","v":""},"",{"$f":"IF('All Bill Data Entry'!D105=\"\",\"\",'All Bill Data Entry'!D105)","v":""},"",{"$f":"IF('All Bill Data Entry'!F105=\"\",\"\",'All Bill Data Entry'!F105)","v":""},{"$f":"IF('All Bill Data Entry'!G105=\"\",\"\",'All Bill Data Entry'!G105)","v":""},{"$f":"IF('All Bill Data Entry'!H105=\"\",\"\",'All Bill Data Entry'!H105)","v":""},{"$f":"IF('All Bill Data Entry'!J105=\"\",\"\",'All Bill Data Entry'!J105)","v":""},{"$f":"IF('All Bill Data Entry'!K105=\"\",\"\",'All Bill Data Entry'!K105)","v":""},{"$f":"IF('All Bill Data Entry'!I105=\"\",\"\",'All Bill Data Entry'!I105)","v":""},{"$f":"IF('All Bill Data Entry'!C105=\"\",\"\",'All Bill Data Entry'!C105)","v":""},{"$f":"IF($B100=\"\",\"\",'All Bill Data Entry'!Y105)","v":""},"","",null,null,"","","",""]
["",{"$f":"IF('All Bill Data Entry'!A106=\"\",\"\",'All Bill Data Entry'!A106)","v":""},"","",{"$f":"IF('All Bill Data Entry'!L106=\"\",\"\",'All Bill Data Entry'!L106)","v":""},{"$f":"IF('All Bill Data Entry'!V106=\"\",\"\",'All Bill Data Entry'!V106)","v":""},{"$f":"IF('All Bill Data Entry'!N106=\"\",\"\",'All Bill Data Entry'!N106)","v":""},"",{"$f":"IF('All Bill Data Entry'!U106=\"\",\"\",'All Bill Data Entry'!U106)","v":""},{"$f":"IF('All Bill Data Entry'!B106=\"\",\"\",'All Bill Data Entry'!B106)","v":""},"",{"$f":"IF('All Bill Data Entry'!X106=\"\",\"\",'All Bill Data Entry'!X106)","v":""},"",{"$f":"IF('All Bill Data Entry'!D106=\"\",\"\",'All Bill Data Entry'!D106)","v":""},"",{"$f":"IF('All Bill Data Entry'!F106=\"\",\"\",'All Bill Data Entry'!F106)","v":""},{"$f":"IF('All Bill Data Entry'!G106=\"\",\"\",'All Bill Data Entry'!G106)","v":""},{"$f":"IF('All Bill Data Entry'!H106=\"\",\"\",'All Bill Data Entry'!H106)","v":""},{"$f":"IF('All Bill Data Entry'!J106=\"\",\"\",'All Bill Data Entry'!J106)","v":""},{"$f":"IF('All Bill Data Entry'!K106=\"\",\"\",'All Bill Data Entry'!K106)","v":""},{"$f":"IF('All Bill Data Entry'!I106=\"\",\"\",'All Bill Data Entry'!I106)","v":""},{"$f":"IF('All Bill Data Entry'!C106=\"\",\"\",'All Bill Data Entry'!C106)","v":""},{"$f":"IF($B101=\"\",\"\",'All Bill Data Entry'!Y106)","v":""},"","",null,null,"","","",""]
["",{"$f":"IF('All Bill Data Entry'!A107=\"\",\"\",'All Bill Data Entry'!A107)","v":""},"","",{"$f":"IF('All Bill Data Entry'!L107=\"\",\"\",'All Bill Data Entry'!L107)","v":""},{"$f":"IF('All Bill Data Entry'!V107=\"\",\"\",'All Bill Data Entry'!V107)","v":""},{"$f":"IF('All Bill Data Entry'!N107=\"\",\"\",'All Bill Data Entry'!N107)","v":""},"",{"$f":"IF('All Bill Data Entry'!U107=\"\",\"\",'All Bill Data Entry'!U107)","v":""},{"$f":"IF('All Bill Data Entry'!B107=\"\",\"\",'All Bill Data Entry'!B107)","v":""},"",{"$f":"IF('All Bill Data Entry'!X107=\"\",\"\",'All Bill Data Entry'!X107)","v":""},"",{"$f":"IF('All Bill Data Entry'!D107=\"\",\"\",'All Bill Data Entry'!D107)","v":""},"",{"$f":"IF('All Bill Data Entry'!F107=\"\",\"\",'All Bill Data Entry'!F107)","v":""},{"$f":"IF('All Bill Data Entry'!G107=\"\",\"\",'All Bill Data Entry'!G107)","v":""},{"$f":"IF('All Bill Data Entry'!H107=\"\",\"\",'All Bill Data Entry'!H107)","v":""},{"$f":"IF('All Bill Data Entry'!J107=\"\",\"\",'All Bill Data Entry'!J107)","v":""},{"$f":"IF('All Bill Data Entry'!K107=\"\",\"\",'All Bill Data Entry'!K107)","v":""},{"$f":"IF('All Bill Data Entry'!I107=\"\",\"\",'All Bill Data Entry'!I107)","v":""},{"$f":"IF('All Bill Data Entry'!C107=\"\",\"\",'All Bill Data Entry'!C107)","v":""},{"$f":"IF($B102=\"\",\"\",'All Bill Data Entry'!Y107)","v":""},"","",null,null,"","","",""]
["",{"$f":"IF('All Bill Data Entry'!A108=\"\",\"\",'All Bill Data Entry'!A108)","v":""},"","",{"$f":"IF('All Bill Data Entry'!L108=\"\",\"\",'All Bill Data Entry'!L108)","v":""},{"$f":"IF('All Bill Data Entry'!V108=\"\",\"\",'All Bill Data Entry'!V108)","v":""},{"$f":"IF('All Bill Data Entry'!N108=\"\",\"\",'All Bill Data Entry'!N108)","v":""},"",{"$f":"IF('All Bill Data Entry'!U108=\"\",\"\",'All Bill Data Entry'!U108)","v":""},{"$f":"IF('All Bill Data Entry'!B108=\"\",\"\",'All Bill Data Entry'!B108)","v":""},"",{"$f":"IF('All Bill Data Entry'!X108=\"\",\"\",'All Bill Data Entry'!X108)","v":""},"",{"$f":"IF('All Bill Data Entry'!D108=\"\",\"\",'All Bill Data Entry'!D108)","v":""},"",{"$f":"IF('All Bill Data Entry'!F108=\"\",\"\",'All Bill Data Entry'!F108)","v":""},{"$f":"IF('All Bill Data Entry'!G108=\"\",\"\",'All Bill Data Entry'!G108)","v":""},{"$f":"IF('All Bill Data Entry'!H108=\"\",\"\",'All Bill Data Entry'!H108)","v":""},{"$f":"IF('All Bill Data Entry'!J108=\"\",\"\",'All Bill Data Entry'!J108)","v":""},{"$f":"IF('All Bill Data Entry'!K108=\"\",\"\",'All Bill Data Entry'!K108)","v":""},{"$f":"IF('All Bill Data Entry'!I108=\"\",\"\",'All Bill Data Entry'!I108)","v":""},{"$f":"IF('All Bill Data Entry'!C108=\"\",\"\",'All Bill Data Entry'!C108)","v":""},{"$f":"IF($B103=\"\",\"\",'All Bill Data Entry'!Y108)","v":""},"","",null,null,"","","",""]
["",{"$f":"IF('All Bill Data Entry'!A109=\"\",\"\",'All Bill Data Entry'!A109)","v":""},"","",{"$f":"IF('All Bill Data Entry'!L109=\"\",\"\",'All Bill Data Entry'!L109)","v":""},{"$f":"IF('All Bill Data Entry'!V109=\"\",\"\",'All Bill Data Entry'!V109)","v":""},{"$f":"IF('All Bill Data Entry'!N109=\"\",\"\",'All Bill Data Entry'!N109)","v":""},"",{"$f":"IF('All Bill Data Entry'!U109=\"\",\"\",'All Bill Data Entry'!U109)","v":""},{"$f":"IF('All Bill Data Entry'!B109=\"\",\"\",'All Bill Data Entry'!B109)","v":""},"",{"$f":"IF('All Bill Data Entry'!X109=\"\",\"\",'All Bill Data Entry'!X109)","v":""},"",{"$f":"IF('All Bill Data Entry'!D109=\"\",\"\",'All Bill Data Entry'!D109)","v":""},"",{"$f":"IF('All Bill Data Entry'!F109=\"\",\"\",'All Bill Data Entry'!F109)","v":""},{"$f":"IF('All Bill Data Entry'!G109=\"\",\"\",'All Bill Data Entry'!G109)","v":""},{"$f":"IF('All Bill Data Entry'!H109=\"\",\"\",'All Bill Data Entry'!H109)","v":""},{"$f":"IF('All Bill Data Entry'!J109=\"\",\"\",'All Bill Data Entry'!J109)","v":""},{"$f":"IF('All Bill Data Entry'!K109=\"\",\"\",'All Bill Data Entry'!K109)","v":""},{"$f":"IF('All Bill Data Entry'!I109=\"\",\"\",'All Bill Data Entry'!I109)","v":""},{"$f":"IF('All Bill Data Entry'!C109=\"\",\"\",'All Bill Data Entry'!C109)","v":""},{"$f":"IF($B104=\"\",\"\",'All Bill Data Entry'!Y109)","v":""},"","",null,null,"","","",""]
["",{"$f":"IF('All Bill Data Entry'!A110=\"\",\"\",'All Bill Data Entry'!A110)","v":""},"","",{"$f":"IF('All Bill Data Entry'!L110=\"\",\"\",'All Bill Data Entry'!L110)","v":""},{"$f":"IF('All Bill Data Entry'!V110=\"\",\"\",'All Bill Data Entry'!V110)","v":""},{"$f":"IF('All Bill Data Entry'!N110=\"\",\"\",'All Bill Data Entry'!N110)","v":""},"",{"$f":"IF('All Bill Data Entry'!U110=\"\",\"\",'All Bill Data Entry'!U110)","v":""},{"$f":"IF('All Bill Data Entry'!B110=\"\",\"\",'All Bill Data Entry'!B110)","v":""},"",{"$f":"IF('All Bill Data Entry'!X110=\"\",\"\",'All Bill Data Entry'!X110)","v":""},"",{"$f":"IF('All Bill Data Entry'!D110=\"\",\"\",'All Bill Data Entry'!D110)","v":""},"",{"$f":"IF('All Bill Data Entry'!F110=\"\",\"\",'All Bill Data Entry'!F110)","v":""},{"$f":"IF('All Bill Data Entry'!G110=\"\",\"\",'All Bill Data Entry'!G110)","v":""},{"$f":"IF('All Bill Data Entry'!H110=\"\",\"\",'All Bill Data Entry'!H110)","v":""},{"$f":"IF('All Bill Data Entry'!J110=\"\",\"\",'All Bill Data Entry'!J110)","v":""},{"$f":"IF('All Bill Data Entry'!K110=\"\",\"\",'All Bill Data Entry'!K110)","v":""},{"$f":"IF('All Bill Data Entry'!I110=\"\",\"\",'All Bill Data Entry'!I110)","v":""},{"$f":"IF('All Bill Data Entry'!C110=\"\",\"\",'All Bill Data Entry'!C110)","v":""},{"$f":"IF($B105=\"\",\"\",'All Bill Data Entry'!Y110)","v":""},"","",null,null,"","","",""]
["",{"$f":"IF('All Bill Data Entry'!A111=\"\",\"\",'All Bill Data Entry'!A111)","v":""},"","",{"$f":"IF('All Bill Data Entry'!L111=\"\",\"\",'All Bill Data Entry'!L111)","v":""},{"$f":"IF('All Bill Data Entry'!V111=\"\",\"\",'All Bill Data Entry'!V111)","v":""},{"$f":"IF('All Bill Data Entry'!N111=\"\",\"\",'All Bill Data Entry'!N111)","v":""},"",{"$f":"IF('All Bill Data Entry'!U111=\"\",\"\",'All Bill Data Entry'!U111)","v":""},{"$f":"IF('All Bill Data Entry'!B111=\"\",\"\",'All Bill Data Entry'!B111)","v":""},"",{"$f":"IF('All Bill Data Entry'!X111=\"\",\"\",'All Bill Data Entry'!X111)","v":""},"",{"$f":"IF('All Bill Data Entry'!D111=\"\",\"\",'All Bill Data Entry'!D111)","v":""},"",{"$f":"IF('All Bill Data Entry'!F111=\"\",\"\",'All Bill Data Entry'!F111)","v":""},{"$f":"IF('All Bill Data Entry'!G111=\"\",\"\",'All Bill Data Entry'!G111)","v":""},{"$f":"IF('All Bill Data Entry'!H111=\"\",\"\",'All Bill Data Entry'!H111)","v":""},{"$f":"IF('All Bill Data Entry'!J111=\"\",\"\",'All Bill Data Entry'!J111)","v":""},{"$f":"IF('All Bill Data Entry'!K111=\"\",\"\",'All Bill Data Entry'!K111)","v":""},{"$f":"IF('All Bill Data Entry'!I111=\"\",\"\",'All Bill Data Entry'!I111)","v":""},{"$f":"IF('All Bill Data Entry'!C111=\"\",\"\",'All Bill Data Entry'!C111)","v":""},{"$f":"IF($B106=\"\",\"\",'All Bill Data Entry'!Y111)","v":""},"","",null,null,"","","",""]
["",{"$f":"IF('All Bill Data Entry'!A112=\"\",\"\",'All Bill Data Entry'!A112)","v":""},"","",{"$f":"IF('All Bill Data Entry'!L112=\"\",\"\",'All Bill Data Entry'!L112)","v":""},{"$f":"IF('All Bill Data Entry'!V112=\"\",\"\",'All Bill Data Entry'!V112)","v":""},{"$f":"IF('All Bill Data Entry'!N112=\"\",\"\",'All Bill Data Entry'!N112)","v":""},"",{"$f":"IF('All Bill Data Entry'!U112=\"\",\"\",'All Bill Data Entry'!U112)","v":""},{"$f":"IF('All Bill Data Entry'!B112=\"\",\"\",'All Bill Data Entry'!B112)","v":""},"",{"$f":"IF('All Bill Data Entry'!X112=\"\",\"\",'All Bill Data Entry'!X112)","v":""},"",{"$f":"IF('All Bill Data Entry'!D112=\"\",\"\",'All Bill Data Entry'!D112)","v":""},"",{"$f":"IF('All Bill Data Entry'!F112=\"\",\"\",'All Bill Data Entry'!F112)","v":""},{"$f":"IF('All Bill Data Entry'!G112=\"\",\"\",'All Bill Data Entry'!G112)","v":""},{"$f":"IF('All Bill Data Entry'!H112=\"\",\"\",'All Bill Data Entry'!H112)","v":""},{"$f":"IF('All Bill Data Entry'!J112=\"\",\"\",'All Bill Data Entry'!J112)","v":""},{"$f":"IF('All Bill Data Entry'!K112=\"\",\"\",'All Bill Data Entry'!K112)","v":""},{"$f":"IF('All Bill Data Entry'!I112=\"\",\"\",'All Bill Data Entry'!I112)","v":""},{"$f":"IF('All Bill Data Entry'!C112=\"\",\"\",'All Bill Data Entry'!C112)","v":""},{"$f":"IF($B107=\"\",\"\",'All Bill Data Entry'!Y112)","v":""},"","",null,null,"","","",""]
["",{"$f":"IF('All Bill Data Entry'!A113=\"\",\"\",'All Bill Data Entry'!A113)","v":""},"","",{"$f":"IF('All Bill Data Entry'!L113=\"\",\"\",'All Bill Data Entry'!L113)","v":""},{"$f":"IF('All Bill Data Entry'!V113=\"\",\"\",'All Bill Data Entry'!V113)","v":""},{"$f":"IF('All Bill Data Entry'!N113=\"\",\"\",'All Bill Data Entry'!N113)","v":""},"",{"$f":"IF('All Bill Data Entry'!U113=\"\",\"\",'All Bill Data Entry'!U113)","v":""},{"$f":"IF('All Bill Data Entry'!B113=\"\",\"\",'All Bill Data Entry'!B113)","v":""},"",{"$f":"IF('All Bill Data Entry'!X113=\"\",\"\",'All Bill Data Entry'!X113)","v":""},"",{"$f":"IF('All Bill Data Entry'!D113=\"\",\"\",'All Bill Data Entry'!D113)","v":""},"",{"$f":"IF('All Bill Data Entry'!F113=\"\",\"\",'All Bill Data Entry'!F113)","v":""},{"$f":"IF('All Bill Data Entry'!G113=\"\",\"\",'All Bill Data Entry'!G113)","v":""},{"$f":"IF('All Bill Data Entry'!H113=\"\",\"\",'All Bill Data Entry'!H113)","v":""},{"$f":"IF('All Bill Data Entry'!J113=\"\",\"\",'All Bill Data Entry'!J113)","v":""},{"$f":"IF('All Bill Data Entry'!K113=\"\",\"\",'All Bill Data Entry'!K113)","v":""},{"$f":"IF('All Bill Data Entry'!I113=\"\",\"\",'All Bill Data Entry'!I113)","v":""},{"$f":"IF('All Bill Data Entry'!C113=\"\",\"\",'All Bill Data Entry'!C113)","v":""},{"$f":"IF($B108=\"\",\"\",'All Bill Data Entry'!Y113)","v":""},"","",null,null,"","","",""]
["",{"$f":"IF('All Bill Data Entry'!A114=\"\",\"\",'All Bill Data Entry'!A114)","v":""},"","",{"$f":"IF('All Bill Data Entry'!L114=\"\",\"\",'All Bill Data Entry'!L114)","v":""},{"$f":"IF('All Bill Data Entry'!V114=\"\",\"\",'All Bill Data Entry'!V114)","v":""},{"$f":"IF('All Bill Data Entry'!N114=\"\",\"\",'All Bill Data Entry'!N114)","v":""},"",{"$f":"IF('All Bill Data Entry'!U114=\"\",\"\",'All Bill Data Entry'!U114)","v":""},{"$f":"IF('All Bill Data Entry'!B114=\"\",\"\",'All Bill Data Entry'!B114)","v":""},"",{"$f":"IF('All Bill Data Entry'!X114=\"\",\"\",'All Bill Data Entry'!X114)","v":""},"",{"$f":"IF('All Bill Data Entry'!D114=\"\",\"\",'All Bill Data Entry'!D114)","v":""},"",{"$f":"IF('All Bill Data Entry'!F114=\"\",\"\",'All Bill Data Entry'!F114)","v":""},{"$f":"IF('All Bill Data Entry'!G114=\"\",\"\",'All Bill Data Entry'!G114)","v":""},{"$f":"IF('All Bill Data Entry'!H114=\"\",\"\",'All Bill Data Entry'!H114)","v":""},{"$f":"IF('All Bill Data Entry'!J114=\"\",\"\",'All Bill Data Entry'!J114)","v":""},{"$f":"IF('All Bill Data Entry'!K114=\"\",\"\",'All Bill Data Entry'!K114)","v":""},{"$f":"IF('All Bill Data Entry'!I114=\"\",\"\",'All Bill Data Entry'!I114)","v":""},{"$f":"IF('All Bill Data Entry'!C114=\"\",\"\",'All Bill Data Entry'!C114)","v":""},{"$f":"IF($B109=\"\",\"\",'All Bill Data Entry'!Y114)","v":""},"","",null,null,"","","",""]
["",{"$f":"IF('All Bill Data Entry'!A115=\"\",\"\",'All Bill Data Entry'!A115)","v":""},"","",{"$f":"IF('All Bill Data Entry'!L115=\"\",\"\",'All Bill Data Entry'!L115)","v":""},{"$f":"IF('All Bill Data Entry'!V115=\"\",\"\",'All Bill Data Entry'!V115)","v":""},{"$f":"IF('All Bill Data Entry'!N115=\"\",\"\",'All Bill Data Entry'!N115)","v":""},"",{"$f":"IF('All Bill Data Entry'!U115=\"\",\"\",'All Bill Data Entry'!U115)","v":""},{"$f":"IF('All Bill Data Entry'!B115=\"\",\"\",'All Bill Data Entry'!B115)","v":""},"",{"$f":"IF('All Bill Data Entry'!X115=\"\",\"\",'All Bill Data Entry'!X115)","v":""},"",{"$f":"IF('All Bill Data Entry'!D115=\"\",\"\",'All Bill Data Entry'!D115)","v":""},"",{"$f":"IF('All Bill Data Entry'!F115=\"\",\"\",'All Bill Data Entry'!F115)","v":""},{"$f":"IF('All Bill Data Entry'!G115=\"\",\"\",'All Bill Data Entry'!G115)","v":""},{"$f":"IF('All Bill Data Entry'!H115=\"\",\"\",'All Bill Data Entry'!H115)","v":""},{"$f":"IF('All Bill Data Entry'!J115=\"\",\"\",'All Bill Data Entry'!J115)","v":""},{"$f":"IF('All Bill Data Entry'!K115=\"\",\"\",'All Bill Data Entry'!K115)","v":""},{"$f":"IF('All Bill Data Entry'!I115=\"\",\"\",'All Bill Data Entry'!I115)","v":""},{"$f":"IF('All Bill Data Entry'!C115=\"\",\"\",'All Bill Data Entry'!C115)","v":""},{"$f":"IF($B110=\"\",\"\",'All Bill Data Entry'!Y115)","v":""},"","",null,null,"","","",""]
["",{"$f":"IF('All Bill Data Entry'!A116=\"\",\"\",'All Bill Data Entry'!A116)","v":""},"","",{"$f":"IF('All Bill Data Entry'!L116=\"\",\"\",'All Bill Data Entry'!L116)","v":""},{"$f":"IF('All Bill Data Entry'!V116=\"\",\"\",'All Bill Data Entry'!V116)","v":""},{"$f":"IF('All Bill Data Entry'!N116=\"\",\"\",'All Bill Data Entry'!N116)","v":""},"",{"$f":"IF('All Bill Data Entry'!U116=\"\",\"\",'All Bill Data Entry'!U116)","v":""},{"$f":"IF('All Bill Data Entry'!B116=\"\",\"\",'All Bill Data Entry'!B116)","v":""},"",{"$f":"IF('All Bill Data Entry'!X116=\"\",\"\",'All Bill Data Entry'!X116)","v":""},"",{"$f":"IF('All Bill Data Entry'!D116=\"\",\"\",'All Bill Data Entry'!D116)","v":""},"",{"$f":"IF('All Bill Data Entry'!F116=\"\",\"\",'All Bill Data Entry'!F116)","v":""},{"$f":"IF('All Bill Data Entry'!G116=\"\",\"\",'All Bill Data Entry'!G116)","v":""},{"$f":"IF('All Bill Data Entry'!H116=\"\",\"\",'All Bill Data Entry'!H116)","v":""},{"$f":"IF('All Bill Data Entry'!J116=\"\",\"\",'All Bill Data Entry'!J116)","v":""},{"$f":"IF('All Bill Data Entry'!K116=\"\",\"\",'All Bill Data Entry'!K116)","v":""},{"$f":"IF('All Bill Data Entry'!I116=\"\",\"\",'All Bill Data Entry'!I116)","v":""},{"$f":"IF('All Bill Data Entry'!C116=\"\",\"\",'All Bill Data Entry'!C116)","v":""},{"$f":"IF($B111=\"\",\"\",'All Bill Data Entry'!Y116)","v":""},"","",null,null,"","","",""]
["",{"$f":"IF('All Bill Data Entry'!A117=\"\",\"\",'All Bill Data Entry'!A117)","v":""},"","",{"$f":"IF('All Bill Data Entry'!L117=\"\",\"\",'All Bill Data Entry'!L117)","v":""},{"$f":"IF('All Bill Data Entry'!V117=\"\",\"\",'All Bill Data Entry'!V117)","v":""},{"$f":"IF('All Bill Data Entry'!N117=\"\",\"\",'All Bill Data Entry'!N117)","v":""},"",{"$f":"IF('All Bill Data Entry'!U117=\"\",\"\",'All Bill Data Entry'!U117)","v":""},{"$f":"IF('All Bill Data Entry'!B117=\"\",\"\",'All Bill Data Entry'!B117)","v":""},"",{"$f":"IF('All Bill Data Entry'!X117=\"\",\"\",'All Bill Data Entry'!X117)","v":""},"",{"$f":"IF('All Bill Data Entry'!D117=\"\",\"\",'All Bill Data Entry'!D117)","v":""},"",{"$f":"IF('All Bill Data Entry'!F117=\"\",\"\",'All Bill Data Entry'!F117)","v":""},{"$f":"IF('All Bill Data Entry'!G117=\"\",\"\",'All Bill Data Entry'!G117)","v":""},{"$f":"IF('All Bill Data Entry'!H117=\"\",\"\",'All Bill Data Entry'!H117)","v":""},{"$f":"IF('All Bill Data Entry'!J117=\"\",\"\",'All Bill Data Entry'!J117)","v":""},{"$f":"IF('All Bill Data Entry'!K117=\"\",\"\",'All Bill Data Entry'!K117)","v":""},{"$f":"IF('All Bill Data Entry'!I117=\"\",\"\",'All Bill Data Entry'!I117)","v":""},{"$f":"IF('All Bill Data Entry'!C117=\"\",\"\",'All Bill Data Entry'!C117)","v":""},{"$f":"IF($B112=\"\",\"\",'All Bill Data Entry'!Y117)","v":""},"","",null,null,"","","",""]
["",{"$f":"IF('All Bill Data Entry'!A118=\"\",\"\",'All Bill Data Entry'!A118)","v":""},"","",{"$f":"IF('All Bill Data Entry'!L118=\"\",\"\",'All Bill Data Entry'!L118)","v":""},{"$f":"IF('All Bill Data Entry'!V118=\"\",\"\",'All Bill Data Entry'!V118)","v":""},{"$f":"IF('All Bill Data Entry'!N118=\"\",\"\",'All Bill Data Entry'!N118)","v":""},"",{"$f":"IF('All Bill Data Entry'!U118=\"\",\"\",'All Bill Data Entry'!U118)","v":""},{"$f":"IF('All Bill Data Entry'!B118=\"\",\"\",'All Bill Data Entry'!B118)","v":""},"",{"$f":"IF('All Bill Data Entry'!X118=\"\",\"\",'All Bill Data Entry'!X118)","v":""},"",{"$f":"IF('All Bill Data Entry'!D118=\"\",\"\",'All Bill Data Entry'!D118)","v":""},"",{"$f":"IF('All Bill Data Entry'!F118=\"\",\"\",'All Bill Data Entry'!F118)","v":""},{"$f":"IF('All Bill Data Entry'!G118=\"\",\"\",'All Bill Data Entry'!G118)","v":""},{"$f":"IF('All Bill Data Entry'!H118=\"\",\"\",'All Bill Data Entry'!H118)","v":""},{"$f":"IF('All Bill Data Entry'!J118=\"\",\"\",'All Bill Data Entry'!J118)","v":""},{"$f":"IF('All Bill Data Entry'!K118=\"\",\"\",'All Bill Data Entry'!K118)","v":""},{"$f":"IF('All Bill Data Entry'!I118=\"\",\"\",'All Bill Data Entry'!I118)","v":""},{"$f":"IF('All Bill Data Entry'!C118=\"\",\"\",'All Bill Data Entry'!C118)","v":""},{"$f":"IF($B113=\"\",\"\",'All Bill Data Entry'!Y118)","v":""},"","",null,null,"","","",""]
["",{"$f":"IF('All Bill Data Entry'!A119=\"\",\"\",'All Bill Data Entry'!A119)","v":""},"","",{"$f":"IF('All Bill Data Entry'!L119=\"\",\"\",'All Bill Data Entry'!L119)","v":""},{"$f":"IF('All Bill Data Entry'!V119=\"\",\"\",'All Bill Data Entry'!V119)","v":""},{"$f":"IF('All Bill Data Entry'!N119=\"\",\"\",'All Bill Data Entry'!N119)","v":""},"",{"$f":"IF('All Bill Data Entry'!U119=\"\",\"\",'All Bill Data Entry'!U119)","v":""},{"$f":"IF('All Bill Data Entry'!B119=\"\",\"\",'All Bill Data Entry'!B119)","v":""},"",{"$f":"IF('All Bill Data Entry'!X119=\"\",\"\",'All Bill Data Entry'!X119)","v":""},"",{"$f":"IF('All Bill Data Entry'!D119=\"\",\"\",'All Bill Data Entry'!D119)","v":""},"",{"$f":"IF('All Bill Data Entry'!F119=\"\",\"\",'All Bill Data Entry'!F119)","v":""},{"$f":"IF('All Bill Data Entry'!G119=\"\",\"\",'All Bill Data Entry'!G119)","v":""},{"$f":"IF('All Bill Data Entry'!H119=\"\",\"\",'All Bill Data Entry'!H119)","v":""},{"$f":"IF('All Bill Data Entry'!J119=\"\",\"\",'All Bill Data Entry'!J119)","v":""},{"$f":"IF('All Bill Data Entry'!K119=\"\",\"\",'All Bill Data Entry'!K119)","v":""},{"$f":"IF('All Bill Data Entry'!I119=\"\",\"\",'All Bill Data Entry'!I119)","v":""},{"$f":"IF('All Bill Data Entry'!C119=\"\",\"\",'All Bill Data Entry'!C119)","v":""},{"$f":"IF($B114=\"\",\"\",'All Bill Data Entry'!Y119)","v":""},"","",null,null,"","","",""]
["",{"$f":"IF('All Bill Data Entry'!A120=\"\",\"\",'All Bill Data Entry'!A120)","v":""},"","",{"$f":"IF('All Bill Data Entry'!L120=\"\",\"\",'All Bill Data Entry'!L120)","v":""},{"$f":"IF('All Bill Data Entry'!V120=\"\",\"\",'All Bill Data Entry'!V120)","v":""},{"$f":"IF('All Bill Data Entry'!N120=\"\",\"\",'All Bill Data Entry'!N120)","v":""},"",{"$f":"IF('All Bill Data Entry'!U120=\"\",\"\",'All Bill Data Entry'!U120)","v":""},{"$f":"IF('All Bill Data Entry'!B120=\"\",\"\",'All Bill Data Entry'!B120)","v":""},"",{"$f":"IF('All Bill Data Entry'!X120=\"\",\"\",'All Bill Data Entry'!X120)","v":""},"",{"$f":"IF('All Bill Data Entry'!D120=\"\",\"\",'All Bill Data Entry'!D120)","v":""},"",{"$f":"IF('All Bill Data Entry'!F120=\"\",\"\",'All Bill Data Entry'!F120)","v":""},{"$f":"IF('All Bill Data Entry'!G120=\"\",\"\",'All Bill Data Entry'!G120)","v":""},{"$f":"IF('All Bill Data Entry'!H120=\"\",\"\",'All Bill Data Entry'!H120)","v":""},{"$f":"IF('All Bill Data Entry'!J120=\"\",\"\",'All Bill Data Entry'!J120)","v":""},{"$f":"IF('All Bill Data Entry'!K120=\"\",\"\",'All Bill Data Entry'!K120)","v":""},{"$f":"IF('All Bill Data Entry'!I120=\"\",\"\",'All Bill Data Entry'!I120)","v":""},{"$f":"IF('All Bill Data Entry'!C120=\"\",\"\",'All Bill Data Entry'!C120)","v":""},{"$f":"IF($B115=\"\",\"\",'All Bill Data Entry'!Y120)","v":""},"","",null,null,"","","",""]
["",{"$f":"IF('All Bill Data Entry'!A121=\"\",\"\",'All Bill Data Entry'!A121)","v":""},"","",{"$f":"IF('All Bill Data Entry'!L121=\"\",\"\",'All Bill Data Entry'!L121)","v":""},{"$f":"IF('All Bill Data Entry'!V121=\"\",\"\",'All Bill Data Entry'!V121)","v":""},{"$f":"IF('All Bill Data Entry'!N121=\"\",\"\",'All Bill Data Entry'!N121)","v":""},"",{"$f":"IF('All Bill Data Entry'!U121=\"\",\"\",'All Bill Data Entry'!U121)","v":""},{"$f":"IF('All Bill Data Entry'!B121=\"\",\"\",'All Bill Data Entry'!B121)","v":""},"",{"$f":"IF('All Bill Data Entry'!X121=\"\",\"\",'All Bill Data Entry'!X121)","v":""},"",{"$f":"IF('All Bill Data Entry'!D121=\"\",\"\",'All Bill Data Entry'!D121)","v":""},"",{"$f":"IF('All Bill Data Entry'!F121=\"\",\"\",'All Bill Data Entry'!F121)","v":""},{"$f":"IF('All Bill Data Entry'!G121=\"\",\"\",'All Bill Data Entry'!G121)","v":""},{"$f":"IF('All Bill Data Entry'!H121=\"\",\"\",'All Bill Data Entry'!H121)","v":""},{"$f":"IF('All Bill Data Entry'!J121=\"\",\"\",'All Bill Data Entry'!J121)","v":""},{"$f":"IF('All Bill Data Entry'!K121=\"\",\"\",'All Bill Data Entry'!K121)","v":""},{"$f":"IF('All Bill Data Entry'!I121=\"\",\"\",'All Bill Data Entry'!I121)","v":""},{"$f":"IF('All Bill Data Entry'!C121=\"\",\"\",'All Bill Data Entry'!C121)","v":""},{"$f":"IF($B116=\"\",\"\",'All Bill Data Entry'!Y121)","v":""},"","",null,null,"","","",""]
["",{"$f":"IF('All Bill Data Entry'!A122=\"\",\"\",'All Bill Data Entry'!A122)","v":""},"","",{"$f":"IF('All Bill Data Entry'!L122=\"\",\"\",'All Bill Data Entry'!L122)","v":""},{"$f":"IF('All Bill Data Entry'!V122=\"\",\"\",'All Bill Data Entry'!V122)","v":""},{"$f":"IF('All Bill Data Entry'!N122=\"\",\"\",'All Bill Data Entry'!N122)","v":""},"",{"$f":"IF('All Bill Data Entry'!U122=\"\",\"\",'All Bill Data Entry'!U122)","v":""},{"$f":"IF('All Bill Data Entry'!B122=\"\",\"\",'All Bill Data Entry'!B122)","v":""},"",{"$f":"IF('All Bill Data Entry'!X122=\"\",\"\",'All Bill Data Entry'!X122)","v":""},"",{"$f":"IF('All Bill Data Entry'!D122=\"\",\"\",'All Bill Data Entry'!D122)","v":""},"",{"$f":"IF('All Bill Data Entry'!F122=\"\",\"\",'All Bill Data Entry'!F122)","v":""},{"$f":"IF('All Bill Data Entry'!G122=\"\",\"\",'All Bill Data Entry'!G122)","v":""},{"$f":"IF('All Bill Data Entry'!H122=\"\",\"\",'All Bill Data Entry'!H122)","v":""},{"$f":"IF('All Bill Data Entry'!J122=\"\",\"\",'All Bill Data Entry'!J122)","v":""},{"$f":"IF('All Bill Data Entry'!K122=\"\",\"\",'All Bill Data Entry'!K122)","v":""},{"$f":"IF('All Bill Data Entry'!I122=\"\",\"\",'All Bill Data Entry'!I122)","v":""},{"$f":"IF('All Bill Data Entry'!C122=\"\",\"\",'All Bill Data Entry'!C122)","v":""},{"$f":"IF($B117=\"\",\"\",'All Bill Data Entry'!Y122)","v":""},"","",null,null,"","","",""]
["",{"$f":"IF('All Bill Data Entry'!A123=\"\",\"\",'All Bill Data Entry'!A123)","v":""},"","",{"$f":"IF('All Bill Data Entry'!L123=\"\",\"\",'All Bill Data Entry'!L123)","v":""},{"$f":"IF('All Bill Data Entry'!V123=\"\",\"\",'All Bill Data Entry'!V123)","v":""},{"$f":"IF('All Bill Data Entry'!N123=\"\",\"\",'All Bill Data Entry'!N123)","v":""},"",{"$f":"IF('All Bill Data Entry'!U123=\"\",\"\",'All Bill Data Entry'!U123)","v":""},{"$f":"IF('All Bill Data Entry'!B123=\"\",\"\",'All Bill Data Entry'!B123)","v":""},"",{"$f":"IF('All Bill Data Entry'!X123=\"\",\"\",'All Bill Data Entry'!X123)","v":""},"",{"$f":"IF('All Bill Data Entry'!D123=\"\",\"\",'All Bill Data Entry'!D123)","v":""},"",{"$f":"IF('All Bill Data Entry'!F123=\"\",\"\",'All Bill Data Entry'!F123)","v":""},{"$f":"IF('All Bill Data Entry'!G123=\"\",\"\",'All Bill Data Entry'!G123)","v":""},{"$f":"IF('All Bill Data Entry'!H123=\"\",\"\",'All Bill Data Entry'!H123)","v":""},{"$f":"IF('All Bill Data Entry'!J123=\"\",\"\",'All Bill Data Entry'!J123)","v":""},{"$f":"IF('All Bill Data Entry'!K123=\"\",\"\",'All Bill Data Entry'!K123)","v":""},{"$f":"IF('All Bill Data Entry'!I123=\"\",\"\",'All Bill Data Entry'!I123)","v":""},{"$f":"IF('All Bill Data Entry'!C123=\"\",\"\",'All Bill Data Entry'!C123)","v":""},{"$f":"IF($B118=\"\",\"\",'All Bill Data Entry'!Y123)","v":""},"","",null,null,"","","",""]
["",{"$f":"IF('All Bill Data Entry'!A124=\"\",\"\",'All Bill Data Entry'!A124)","v":""},"","",{"$f":"IF('All Bill Data Entry'!L124=\"\",\"\",'All Bill Data Entry'!L124)","v":""},{"$f":"IF('All Bill Data Entry'!V124=\"\",\"\",'All Bill Data Entry'!V124)","v":""},{"$f":"IF('All Bill Data Entry'!N124=\"\",\"\",'All Bill Data Entry'!N124)","v":""},"",{"$f":"IF('All Bill Data Entry'!U124=\"\",\"\",'All Bill Data Entry'!U124)","v":""},{"$f":"IF('All Bill Data Entry'!B124=\"\",\"\",'All Bill Data Entry'!B124)","v":""},"",{"$f":"IF('All Bill Data Entry'!X124=\"\",\"\",'All Bill Data Entry'!X124)","v":""},"",{"$f":"IF('All Bill Data Entry'!D124=\"\",\"\",'All Bill Data Entry'!D124)","v":""},"",{"$f":"IF('All Bill Data Entry'!F124=\"\",\"\",'All Bill Data Entry'!F124)","v":""},{"$f":"IF('All Bill Data Entry'!G124=\"\",\"\",'All Bill Data Entry'!G124)","v":""},{"$f":"IF('All Bill Data Entry'!H124=\"\",\"\",'All Bill Data Entry'!H124)","v":""},{"$f":"IF('All Bill Data Entry'!J124=\"\",\"\",'All Bill Data Entry'!J124)","v":""},{"$f":"IF('All Bill Data Entry'!K124=\"\",\"\",'All Bill Data Entry'!K124)","v":""},{"$f":"IF('All Bill Data Entry'!I124=\"\",\"\",'All Bill Data Entry'!I124)","v":""},{"$f":"IF('All Bill Data Entry'!C124=\"\",\"\",'All Bill Data Entry'!C124)","v":""},{"$f":"IF($B119=\"\",\"\",'All Bill Data Entry'!Y124)","v":""},"","",null,null,"","","",""]
["",{"$f":"IF('All Bill Data Entry'!A125=\"\",\"\",'All Bill Data Entry'!A125)","v":""},"","",{"$f":"IF('All Bill Data Entry'!L125=\"\",\"\",'All Bill Data Entry'!L125)","v":""},{"$f":"IF('All Bill Data Entry'!V125=\"\",\"\",'All Bill Data Entry'!V125)","v":""},{"$f":"IF('All Bill Data Entry'!N125=\"\",\"\",'All Bill Data Entry'!N125)","v":""},"",{"$f":"IF('All Bill Data Entry'!U125=\"\",\"\",'All Bill Data Entry'!U125)","v":""},{"$f":"IF('All Bill Data Entry'!B125=\"\",\"\",'All Bill Data Entry'!B125)","v":""},"",{"$f":"IF('All Bill Data Entry'!X125=\"\",\"\",'All Bill Data Entry'!X125)","v":""},"",{"$f":"IF('All Bill Data Entry'!D125=\"\",\"\",'All Bill Data Entry'!D125)","v":""},"",{"$f":"IF('All Bill Data Entry'!F125=\"\",\"\",'All Bill Data Entry'!F125)","v":""},{"$f":"IF('All Bill Data Entry'!G125=\"\",\"\",'All Bill Data Entry'!G125)","v":""},{"$f":"IF('All Bill Data Entry'!H125=\"\",\"\",'All Bill Data Entry'!H125)","v":""},{"$f":"IF('All Bill Data Entry'!J125=\"\",\"\",'All Bill Data Entry'!J125)","v":""},{"$f":"IF('All Bill Data Entry'!K125=\"\",\"\",'All Bill Data Entry'!K125)","v":""},{"$f":"IF('All Bill Data Entry'!I125=\"\",\"\",'All Bill Data Entry'!I125)","v":""},{"$f":"IF('All Bill Data Entry'!C125=\"\",\"\",'All Bill Data Entry'!C125)","v":""},{"$f":"IF($B120=\"\",\"\",'All Bill Data Entry'!Y125)","v":""},"","",null,null,"","","",""]
["",{"$f":"IF('All Bill Data Entry'!A126=\"\",\"\",'All Bill Data Entry'!A126)","v":""},"","",{"$f":"IF('All Bill Data Entry'!L126=\"\",\"\",'All Bill Data Entry'!L126)","v":""},{"$f":"IF('All Bill Data Entry'!V126=\"\",\"\",'All Bill Data Entry'!V126)","v":""},{"$f":"IF('All Bill Data Entry'!N126=\"\",\"\",'All Bill Data Entry'!N126)","v":""},"",{"$f":"IF('All Bill Data Entry'!U126=\"\",\"\",'All Bill Data Entry'!U126)","v":""},{"$f":"IF('All Bill Data Entry'!B126=\"\",\"\",'All Bill Data Entry'!B126)","v":""},"",{"$f":"IF('All Bill Data Entry'!X126=\"\",\"\",'All Bill Data Entry'!X126)","v":""},"",{"$f":"IF('All Bill Data Entry'!D126=\"\",\"\",'All Bill Data Entry'!D126)","v":""},"",{"$f":"IF('All Bill Data Entry'!F126=\"\",\"\",'All Bill Data Entry'!F126)","v":""},{"$f":"IF('All Bill Data Entry'!G126=\"\",\"\",'All Bill Data Entry'!G126)","v":""},{"$f":"IF('All Bill Data Entry'!H126=\"\",\"\",'All Bill Data Entry'!H126)","v":""},{"$f":"IF('All Bill Data Entry'!J126=\"\",\"\",'All Bill Data Entry'!J126)","v":""},{"$f":"IF('All Bill Data Entry'!K126=\"\",\"\",'All Bill Data Entry'!K126)","v":""},{"$f":"IF('All Bill Data Entry'!I126=\"\",\"\",'All Bill Data Entry'!I126)","v":""},{"$f":"IF('All Bill Data Entry'!C126=\"\",\"\",'All Bill Data Entry'!C126)","v":""},{"$f":"IF($B121=\"\",\"\",'All Bill Data Entry'!Y126)","v":""},"","",null,null,"","","",""]
["",{"$f":"IF('All Bill Data Entry'!A127=\"\",\"\",'All Bill Data Entry'!A127)","v":""},"","",{"$f":"IF('All Bill Data Entry'!L127=\"\",\"\",'All Bill Data Entry'!L127)","v":""},{"$f":"IF('All Bill Data Entry'!V127=\"\",\"\",'All Bill Data Entry'!V127)","v":""},{"$f":"IF('All Bill Data Entry'!N127=\"\",\"\",'All Bill Data Entry'!N127)","v":""},"",{"$f":"IF('All Bill Data Entry'!U127=\"\",\"\",'All Bill Data Entry'!U127)","v":""},{"$f":"IF('All Bill Data Entry'!B127=\"\",\"\",'All Bill Data Entry'!B127)","v":""},"",{"$f":"IF('All Bill Data Entry'!X127=\"\",\"\",'All Bill Data Entry'!X127)","v":""},"",{"$f":"IF('All Bill Data Entry'!D127=\"\",\"\",'All Bill Data Entry'!D127)","v":""},"",{"$f":"IF('All Bill Data Entry'!F127=\"\",\"\",'All Bill Data Entry'!F127)","v":""},{"$f":"IF('All Bill Data Entry'!G127=\"\",\"\",'All Bill Data Entry'!G127)","v":""},{"$f":"IF('All Bill Data Entry'!H127=\"\",\"\",'All Bill Data Entry'!H127)","v":""},{"$f":"IF('All Bill Data Entry'!J127=\"\",\"\",'All Bill Data Entry'!J127)","v":""},{"$f":"IF('All Bill Data Entry'!K127=\"\",\"\",'All Bill Data Entry'!K127)","v":""},{"$f":"IF('All Bill Data Entry'!I127=\"\",\"\",'All Bill Data Entry'!I127)","v":""},{"$f":"IF('All Bill Data Entry'!C127=\"\",\"\",'All Bill Data Entry'!C127)","v":""},{"$f":"IF($B122=\"\",\"\",'All Bill Data Entry'!Y127)","v":""},"","",null,null,"","","",""]
["",{"$f":"IF('All Bill Data Entry'!A128=\"\",\"\",'All Bill Data Entry'!A128)","v":""},"","",{"$f":"IF('All Bill Data Entry'!L128=\"\",\"\",'All Bill Data Entry'!L128)","v":""},{"$f":"IF('All Bill Data Entry'!V128=\"\",\"\",'All Bill Data Entry'!V128)","v":""},{"$f":"IF('All Bill Data Entry'!N128=\"\",\"\",'All Bill Data Entry'!N128)","v":""},"",{"$f":"IF('All Bill Data Entry'!U128=\"\",\"\",'All Bill Data Entry'!U128)","v":""},{"$f":"IF('All Bill Data Entry'!B128=\"\",\"\",'All Bill Data Entry'!B128)","v":""},"",{"$f":"IF('All Bill Data Entry'!X128=\"\",\"\",'All Bill Data Entry'!X128)","v":""},"",{"$f":"IF('All Bill Data Entry'!D128=\"\",\"\",'All Bill Data Entry'!D128)","v":""},"",{"$f":"IF('All Bill Data Entry'!F128=\"\",\"\",'All Bill Data Entry'!F128)","v":""},{"$f":"IF('All Bill Data Entry'!G128=\"\",\"\",'All Bill Data Entry'!G128)","v":""},{"$f":"IF('All Bill Data Entry'!H128=\"\",\"\",'All Bill Data Entry'!H128)","v":""},{"$f":"IF('All Bill Data Entry'!J128=\"\",\"\",'All Bill Data Entry'!J128)","v":""},{"$f":"IF('All Bill Data Entry'!K128=\"\",\"\",'All Bill Data Entry'!K128)","v":""},{"$f":"IF('All Bill Data Entry'!I128=\"\",\"\",'All Bill Data Entry'!I128)","v":""},{"$f":"IF('All Bill Data Entry'!C128=\"\",\"\",'All Bill Data Entry'!C128)","v":""},{"$f":"IF($B123=\"\",\"\",'All Bill Data Entry'!Y128)","v":""},"","",null,null,"","","",""]
["",{"$f":"IF('All Bill Data Entry'!A129=\"\",\"\",'All Bill Data Entry'!A129)","v":""},"","",{"$f":"IF('All Bill Data Entry'!L129=\"\",\"\",'All Bill Data Entry'!L129)","v":""},{"$f":"IF('All Bill Data Entry'!V129=\"\",\"\",'All Bill Data Entry'!V129)","v":""},{"$f":"IF('All Bill Data Entry'!N129=\"\",\"\",'All Bill Data Entry'!N129)","v":""},"",{"$f":"IF('All Bill Data Entry'!U129=\"\",\"\",'All Bill Data Entry'!U129)","v":""},{"$f":"IF('All Bill Data Entry'!B129=\"\",\"\",'All Bill Data Entry'!B129)","v":""},"",{"$f":"IF('All Bill Data Entry'!X129=\"\",\"\",'All Bill Data Entry'!X129)","v":""},"",{"$f":"IF('All Bill Data Entry'!D129=\"\",\"\",'All Bill Data Entry'!D129)","v":""},"",{"$f":"IF('All Bill Data Entry'!F129=\"\",\"\",'All Bill Data Entry'!F129)","v":""},{"$f":"IF('All Bill Data Entry'!G129=\"\",\"\",'All Bill Data Entry'!G129)","v":""},{"$f":"IF('All Bill Data Entry'!H129=\"\",\"\",'All Bill Data Entry'!H129)","v":""},{"$f":"IF('All Bill Data Entry'!J129=\"\",\"\",'All Bill Data Entry'!J129)","v":""},{"$f":"IF('All Bill Data Entry'!K129=\"\",\"\",'All Bill Data Entry'!K129)","v":""},{"$f":"IF('All Bill Data Entry'!I129=\"\",\"\",'All Bill Data Entry'!I129)","v":""},{"$f":"IF('All Bill Data Entry'!C129=\"\",\"\",'All Bill Data Entry'!C129)","v":""},{"$f":"IF($B124=\"\",\"\",'All Bill Data Entry'!Y129)","v":""},"","",null,null,"","","",""]
["",{"$f":"IF('All Bill Data Entry'!A130=\"\",\"\",'All Bill Data Entry'!A130)","v":""},"","",{"$f":"IF('All Bill Data Entry'!L130=\"\",\"\",'All Bill Data Entry'!L130)","v":""},{"$f":"IF('All Bill Data Entry'!V130=\"\",\"\",'All Bill Data Entry'!V130)","v":""},{"$f":"IF('All Bill Data Entry'!N130=\"\",\"\",'All Bill Data Entry'!N130)","v":""},"",{"$f":"IF('All Bill Data Entry'!U130=\"\",\"\",'All Bill Data Entry'!U130)","v":""},{"$f":"IF('All Bill Data Entry'!B130=\"\",\"\",'All Bill Data Entry'!B130)","v":""},"",{"$f":"IF('All Bill Data Entry'!X130=\"\",\"\",'All Bill Data Entry'!X130)","v":""},"",{"$f":"IF('All Bill Data Entry'!D130=\"\",\"\",'All Bill Data Entry'!D130)","v":""},"",{"$f":"IF('All Bill Data Entry'!F130=\"\",\"\",'All Bill Data Entry'!F130)","v":""},{"$f":"IF('All Bill Data Entry'!G130=\"\",\"\",'All Bill Data Entry'!G130)","v":""},{"$f":"IF('All Bill Data Entry'!H130=\"\",\"\",'All Bill Data Entry'!H130)","v":""},{"$f":"IF('All Bill Data Entry'!J130=\"\",\"\",'All Bill Data Entry'!J130)","v":""},{"$f":"IF('All Bill Data Entry'!K130=\"\",\"\",'All Bill Data Entry'!K130)","v":""},{"$f":"IF('All Bill Data Entry'!I130=\"\",\"\",'All Bill Data Entry'!I130)","v":""},{"$f":"IF('All Bill Data Entry'!C130=\"\",\"\",'All Bill Data Entry'!C130)","v":""},{"$f":"IF($B125=\"\",\"\",'All Bill Data Entry'!Y130)","v":""},"","",null,null,"","","",""]
["",{"$f":"IF('All Bill Data Entry'!A131=\"\",\"\",'All Bill Data Entry'!A131)","v":""},"","",{"$f":"IF('All Bill Data Entry'!L131=\"\",\"\",'All Bill Data Entry'!L131)","v":""},{"$f":"IF('All Bill Data Entry'!V131=\"\",\"\",'All Bill Data Entry'!V131)","v":""},{"$f":"IF('All Bill Data Entry'!N131=\"\",\"\",'All Bill Data Entry'!N131)","v":""},"",{"$f":"IF('All Bill Data Entry'!U131=\"\",\"\",'All Bill Data Entry'!U131)","v":""},{"$f":"IF('All Bill Data Entry'!B131=\"\",\"\",'All Bill Data Entry'!B131)","v":""},"",{"$f":"IF('All Bill Data Entry'!X131=\"\",\"\",'All Bill Data Entry'!X131)","v":""},"",{"$f":"IF('All Bill Data Entry'!D131=\"\",\"\",'All Bill Data Entry'!D131)","v":""},"",{"$f":"IF('All Bill Data Entry'!F131=\"\",\"\",'All Bill Data Entry'!F131)","v":""},{"$f":"IF('All Bill Data Entry'!G131=\"\",\"\",'All Bill Data Entry'!G131)","v":""},{"$f":"IF('All Bill Data Entry'!H131=\"\",\"\",'All Bill Data Entry'!H131)","v":""},{"$f":"IF('All Bill Data Entry'!J131=\"\",\"\",'All Bill Data Entry'!J131)","v":""},{"$f":"IF('All Bill Data Entry'!K131=\"\",\"\",'All Bill Data Entry'!K131)","v":""},{"$f":"IF('All Bill Data Entry'!I131=\"\",\"\",'All Bill Data Entry'!I131)","v":""},{"$f":"IF('All Bill Data Entry'!C131=\"\",\"\",'All Bill Data Entry'!C131)","v":""},{"$f":"IF($B126=\"\",\"\",'All Bill Data Entry'!Y131)","v":""},"","",null,null,"","","",""]
["",{"$f":"IF('All Bill Data Entry'!A132=\"\",\"\",'All Bill Data Entry'!A132)","v":""},"","",{"$f":"IF('All Bill Data Entry'!L132=\"\",\"\",'All Bill Data Entry'!L132)","v":""},{"$f":"IF('All Bill Data Entry'!V132=\"\",\"\",'All Bill Data Entry'!V132)","v":""},{"$f":"IF('All Bill Data Entry'!N132=\"\",\"\",'All Bill Data Entry'!N132)","v":""},"",{"$f":"IF('All Bill Data Entry'!U132=\"\",\"\",'All Bill Data Entry'!U132)","v":""},{"$f":"IF('All Bill Data Entry'!B132=\"\",\"\",'All Bill Data Entry'!B132)","v":""},"",{"$f":"IF('All Bill Data Entry'!X132=\"\",\"\",'All Bill Data Entry'!X132)","v":""},"",{"$f":"IF('All Bill Data Entry'!D132=\"\",\"\",'All Bill Data Entry'!D132)","v":""},"",{"$f":"IF('All Bill Data Entry'!F132=\"\",\"\",'All Bill Data Entry'!F132)","v":""},{"$f":"IF('All Bill Data Entry'!G132=\"\",\"\",'All Bill Data Entry'!G132)","v":""},{"$f":"IF('All Bill Data Entry'!H132=\"\",\"\",'All Bill Data Entry'!H132)","v":""},{"$f":"IF('All Bill Data Entry'!J132=\"\",\"\",'All Bill Data Entry'!J132)","v":""},{"$f":"IF('All Bill Data Entry'!K132=\"\",\"\",'All Bill Data Entry'!K132)","v":""},{"$f":"IF('All Bill Data Entry'!I132=\"\",\"\",'All Bill Data Entry'!I132)","v":""},{"$f":"IF('All Bill Data Entry'!C132=\"\",\"\",'All Bill Data Entry'!C132)","v":""},{"$f":"IF($B127=\"\",\"\",'All Bill Data Entry'!Y132)","v":""},"","",null,null,"","","",""]
["",{"$f":"IF('All Bill Data Entry'!A133=\"\",\"\",'All Bill Data Entry'!A133)","v":""},"","",{"$f":"IF('All Bill Data Entry'!L133=\"\",\"\",'All Bill Data Entry'!L133)","v":""},{"$f":"IF('All Bill Data Entry'!V133=\"\",\"\",'All Bill Data Entry'!V133)","v":""},{"$f":"IF('All Bill Data Entry'!N133=\"\",\"\",'All Bill Data Entry'!N133)","v":""},"",{"$f":"IF('All Bill Data Entry'!U133=\"\",\"\",'All Bill Data Entry'!U133)","v":""},{"$f":"IF('All Bill Data Entry'!B133=\"\",\"\",'All Bill Data Entry'!B133)","v":""},"",{"$f":"IF('All Bill Data Entry'!X133=\"\",\"\",'All Bill Data Entry'!X133)","v":""},"",{"$f":"IF('All Bill Data Entry'!D133=\"\",\"\",'All Bill Data Entry'!D133)","v":""},"",{"$f":"IF('All Bill Data Entry'!F133=\"\",\"\",'All Bill Data Entry'!F133)","v":""},{"$f":"IF('All Bill Data Entry'!G133=\"\",\"\",'All Bill Data Entry'!G133)","v":""},{"$f":"IF('All Bill Data Entry'!H133=\"\",\"\",'All Bill Data Entry'!H133)","v":""},{"$f":"IF('All Bill Data Entry'!J133=\"\",\"\",'All Bill Data Entry'!J133)","v":""},{"$f":"IF('All Bill Data Entry'!K133=\"\",\"\",'All Bill Data Entry'!K133)","v":""},{"$f":"IF('All Bill Data Entry'!I133=\"\",\"\",'All Bill Data Entry'!I133)","v":""},{"$f":"IF('All Bill Data Entry'!C133=\"\",\"\",'All Bill Data Entry'!C133)","v":""},{"$f":"IF($B128=\"\",\"\",'All Bill Data Entry'!Y133)","v":""},"","",null,null,"","","",""]
["",{"$f":"IF('All Bill Data Entry'!A134=\"\",\"\",'All Bill Data Entry'!A134)","v":""},"","",{"$f":"IF('All Bill Data Entry'!L134=\"\",\"\",'All Bill Data Entry'!L134)","v":""},{"$f":"IF('All Bill Data Entry'!V134=\"\",\"\",'All Bill Data Entry'!V134)","v":""},{"$f":"IF('All Bill Data Entry'!N134=\"\",\"\",'All Bill Data Entry'!N134)","v":""},"",{"$f":"IF('All Bill Data Entry'!U134=\"\",\"\",'All Bill Data Entry'!U134)","v":""},{"$f":"IF('All Bill Data Entry'!B134=\"\",\"\",'All Bill Data Entry'!B134)","v":""},"",{"$f":"IF('All Bill Data Entry'!X134=\"\",\"\",'All Bill Data Entry'!X134)","v":""},"",{"$f":"IF('All Bill Data Entry'!D134=\"\",\"\",'All Bill Data Entry'!D134)","v":""},"",{"$f":"IF('All Bill Data Entry'!F134=\"\",\"\",'All Bill Data Entry'!F134)","v":""},{"$f":"IF('All Bill Data Entry'!G134=\"\",\"\",'All Bill Data Entry'!G134)","v":""},{"$f":"IF('All Bill Data Entry'!H134=\"\",\"\",'All Bill Data Entry'!H134)","v":""},{"$f":"IF('All Bill Data Entry'!J134=\"\",\"\",'All Bill Data Entry'!J134)","v":""},{"$f":"IF('All Bill Data Entry'!K134=\"\",\"\",'All Bill Data Entry'!K134)","v":""},{"$f":"IF('All Bill Data Entry'!I134=\"\",\"\",'All Bill Data Entry'!I134)","v":""},{"$f":"IF('All Bill Data Entry'!C134=\"\",\"\",'All Bill Data Entry'!C134)","v":""},{"$f":"IF($B129=\"\",\"\",'All Bill Data Entry'!Y134)","v":""},"","",null,null,"","","",""]
["",{"$f":"IF('All Bill Data Entry'!A135=\"\",\"\",'All Bill Data Entry'!A135)","v":""},"","",{"$f":"IF('All Bill Data Entry'!L135=\"\",\"\",'All Bill Data Entry'!L135)","v":""},{"$f":"IF('All Bill Data Entry'!V135=\"\",\"\",'All Bill Data Entry'!V135)","v":""},{"$f":"IF('All Bill Data Entry'!N135=\"\",\"\",'All Bill Data Entry'!N135)","v":""},"",{"$f":"IF('All Bill Data Entry'!U135=\"\",\"\",'All Bill Data Entry'!U135)","v":""},{"$f":"IF('All Bill Data Entry'!B135=\"\",\"\",'All Bill Data Entry'!B135)","v":""},"",{"$f":"IF('All Bill Data Entry'!X135=\"\",\"\",'All Bill Data Entry'!X135)","v":""},"",{"$f":"IF('All Bill Data Entry'!D135=\"\",\"\",'All Bill Data Entry'!D135)","v":""},"",{"$f":"IF('All Bill Data Entry'!F135=\"\",\"\",'All Bill Data Entry'!F135)","v":""},{"$f":"IF('All Bill Data Entry'!G135=\"\",\"\",'All Bill Data Entry'!G135)","v":""},{"$f":"IF('All Bill Data Entry'!H135=\"\",\"\",'All Bill Data Entry'!H135)","v":""},{"$f":"IF('All Bill Data Entry'!J135=\"\",\"\",'All Bill Data Entry'!J135)","v":""},{"$f":"IF('All Bill Data Entry'!K135=\"\",\"\",'All Bill Data Entry'!K135)","v":""},{"$f":"IF('All Bill Data Entry'!I135=\"\",\"\",'All Bill Data Entry'!I135)","v":""},{"$f":"IF('All Bill Data Entry'!C135=\"\",\"\",'All Bill Data Entry'!C135)","v":""},{"$f":"IF($B130=\"\",\"\",'All Bill Data Entry'!Y135)","v":""},"","",null,null,"","","",""]
[{"$f":"IF($B131=\"\",\"\",\"L\")","v":""},{"$f":"IF('All Bill Data Entry'!A136=\"\",\"\",'All Bill Data Entry'!A136)","v":""},{"$f":"IF($B131=\"\",\"\",\"LINE\")","v":""},{"$f":"IF($B131=\"\",\"\",\"AUX01\")","v":""},{"$f":"IF('All Bill Data Entry'!L136=\"\",\"\",'All Bill Data Entry'!L136)","v":""},{"$f":"IF('All Bill Data Entry'!V136=\"\",\"\",'All Bill Data Entry'!V136)","v":""},{"$f":"IF('All Bill Data Entry'!N136=\"\",\"\",'All Bill Data Entry'!N136)","v":""},"",{"$f":"IF('All Bill Data Entry'!U136=\"\",\"\",'All Bill Data Entry'!U136)","v":""},{"$f":"IF('All Bill Data Entry'!B136=\"\",\"\",'All Bill Data Entry'!B136)","v":""},"",{"$f":"IF('All Bill Data Entry'!X136=\"\",\"\",'All Bill Data Entry'!X136)","v":""},{"$f":"IF($B131=\"\",\"\",\"REV\")","v":""},{"$f":"IF('All Bill Data Entry'!D136=\"\",\"\",'All Bill Data Entry'!D136)","v":""},{"$f":"IF($B131=\"\",\"\",\"EA\")","v":""},{"$f":"IF('All Bill Data Entry'!F136=\"\",\"\",'All Bill Data Entry'!F136)","v":""},{"$f":"IF('All Bill Data Entry'!G136=\"\",\"\",'All Bill Data Entry'!G136)","v":""},{"$f":"IF('All Bill Data Entry'!H136=\"\",\"\",'All Bill Data Entry'!H136)","v":""},{"$f":"IF('All Bill Data Entry'!J136=\"\",\"\",'All Bill Data Entry'!J136)","v":""},{"$f":"IF('All Bill Data Entry'!K136=\"\",\"\",'All Bill Data Entry'!K136)","v":""},{"$f":"IF('All Bill Data Entry'!I136=\"\",\"\",'All Bill Data Entry'!I136)","v":""},{"$f":"IF('All Bill Data Entry'!C136=\"\",\"\",'All Bill Data Entry'!C136)","v":""},{"$f":"IF($B131=\"\",\"\",'All Bill Data Entry'!Y136)","v":""},{"$f":"IF($B131=\"\",\"\",\"N\")","v":""},{"$f":"IF($B131=\"\",\"\",\"BBI\")","v":""},null,null,{"$f":"IF($B131=\"\",\"\",\"AUX01\")","v":""},{"$f":"IF($B131=\"\",\"\",\"B101\")","v":""},{"$f":"IF($B131=\"\",\"\",\"N\")","v":""},{"$f":"IF($B131=\"\",\"\",1)","v":""}]
["",{"$f":"IF('All Bill Data Entry'!A137=\"\",\"\",'All Bill Data Entry'!A137)","v":""},"","",{"$f":"IF('All Bill Data Entry'!L137=\"\",\"\",'All Bill Data Entry'!L137)","v":""},{"$f":"IF('All Bill Data Entry'!V137=\"\",\"\",'All Bill Data Entry'!V137)","v":""},{"$f":"IF('All Bill Data Entry'!N137=\"\",\"\",'All Bill Data Entry'!N137)","v":""},"",{"$f":"IF('All Bill Data Entry'!U137=\"\",\"\",'All Bill Data Entry'!U137)","v":""},{"$f":"IF('All Bill Data Entry'!B137=\"\",\"\",'All Bill Data Entry'!B137)","v":""},"",{"$f":"IF('All Bill Data Entry'!X137=\"\",\"\",'All Bill Data Entry'!X137)","v":""},"",{"$f":"IF('All Bill Data Entry'!D137=\"\",\"\",'All Bill Data Entry'!D137)","v":""},"",{"$f":"IF('All Bill Data Entry'!F137=\"\",\"\",'All Bill Data Entry'!F137)","v":""},{"$f":"IF('All Bill Data Entry'!G137=\"\",\"\",'All Bill Data Entry'!G137)","v":""},{"$f":"IF('All Bill Data Entry'!H137=\"\",\"\",'All Bill Data Entry'!H137)","v":""},{"$f":"IF('All Bill Data Entry'!J137=\"\",\"\",'All Bill Data Entry'!J137)","v":""},{"$f":"IF('All Bill Data Entry'!K137=\"\",\"\",'All Bill Data Entry'!K137)","v":""},{"$f":"IF('All Bill Data Entry'!I137=\"\",\"\",'All Bill Data Entry'!I137)","v":""},{"$f":"IF('All Bill Data Entry'!C137=\"\",\"\",'All Bill Data Entry'!C137)","v":""},{"$f":"IF($B132=\"\",\"\",'All Bill Data Entry'!Y137)","v":""},"","",null,null,"","","",""]
["",{"$f":"IF('All Bill Data Entry'!A138=\"\",\"\",'All Bill Data Entry'!A138)","v":""},"","",{"$f":"IF('All Bill Data Entry'!L138=\"\",\"\",'All Bill Data Entry'!L138)","v":""},{"$f":"IF('All Bill Data Entry'!V138=\"\",\"\",'All Bill Data Entry'!V138)","v":""},{"$f":"IF('All Bill Data Entry'!N138=\"\",\"\",'All Bill Data Entry'!N138)","v":""},{"$f":"IF(B133=\"\",\"\",\"AUXILIARY2\")","v":""},{"$f":"IF('All Bill Data Entry'!U138=\"\",\"\",'All Bill Data Entry'!U138)","v":""},{"$f":"IF('All Bill Data Entry'!B138=\"\",\"\",'All Bill Data Entry'!B138)","v":""},{"$f":"J133","v":""},{"$f":"IF('All Bill Data Entry'!X138=\"\",\"\",'All Bill Data Entry'!X138)","v":""},"",{"$f":"IF('All Bill Data Entry'!D138=\"\",\"\",'All Bill Data Entry'!D138)","v":""},"",{"$f":"IF('All Bill Data Entry'!F138=\"\",\"\",'All Bill Data Entry'!F138)","v":""},{"$f":"IF('All Bill Data Entry'!G138=\"\",\"\",'All Bill Data Entry'!G138)","v":""},{"$f":"IF('All Bill Data Entry'!H138=\"\",\"\",'All Bill Data Entry'!H138)","v":""},{"$f":"IF('All Bill Data Entry'!J138=\"\",\"\",'All Bill Data Entry'!J138)","v":""},{"$f":"IF('All Bill Data Entry'!K138=\"\",\"\",'All Bill Data Entry'!K138)","v":""},{"$f":"IF('All Bill Data Entry'!I138=\"\",\"\",'All Bill Data Entry'!I138)","v":""},{"$f":"IF('All Bill Data Entry'!C138=\"\",\"\",'All Bill Data Entry'!C138)","v":""},{"$f":"IF($B133=\"\",\"\",'All Bill Data Entry'!Y138)","v":""},"","",null,null,"","","",""]
["",{"$f":"IF('All Bill Data Entry'!A139=\"\",\"\",'All Bill Data Entry'!A139)","v":""},"","",{"$f":"IF('All Bill Data Entry'!L139=\"\",\"\",'All Bill Data Entry'!L139)","v":""},{"$f":"IF('All Bill Data Entry'!V139=\"\",\"\",'All Bill Data Entry'!V139)","v":""},{"$f":"IF('All Bill Data Entry'!N139=\"\",\"\",'All Bill Data Entry'!N139)","v":""},"",{"$f":"IF('All Bill Data Entry'!U139=\"\",\"\",'All Bill Data Entry'!U139)","v":""},{"$f":"IF('All Bill Data Entry'!B139=\"\",\"\",'All Bill Data Entry'!B139)","v":""},"",{"$f":"IF('All Bill Data Entry'!X139=\"\",\"\",'All Bill Data Entry'!X139)","v":""},"",{"$f":"IF('All Bill Data Entry'!D139=\"\",\"\",'All Bill Data Entry'!D139)","v":""},"",{"$f":"IF('All Bill Data Entry'!F139=\"\",\"\",'All Bill Data Entry'!F139)","v":""},{"$f":"IF('All Bill Data Entry'!G139=\"\",\"\",'All Bill Data Entry'!G139)","v":""},{"$f":"IF('All Bill Data Entry'!H139=\"\",\"\",'All Bill Data Entry'!H139)","v":""},{"$f":"IF('All Bill Data Entry'!J139=\"\",\"\",'All Bill Data Entry'!J139)","v":""},{"$f":"IF('All Bill Data Entry'!K139=\"\",\"\",'All Bill Data Entry'!K139)","v":""},{"$f":"IF('All Bill Data Entry'!I139=\"\",\"\",'All Bill Data Entry'!I139)","v":""},{"$f":"IF('All Bill Data Entry'!C139=\"\",\"\",'All Bill Data Entry'!C139)","v":""},{"$f":"IF($B134=\"\",\"\",'All Bill Data Entry'!Y139)","v":""},"","",null,null,"","","",""]
["",{"$f":"IF('All Bill Data Entry'!A140=\"\",\"\",'All Bill Data Entry'!A140)","v":""},"","",{"$f":"IF('All Bill Data Entry'!L140=\"\",\"\",'All Bill Data Entry'!L140)","v":""},{"$f":"IF('All Bill Data Entry'!V140=\"\",\"\",'All Bill Data Entry'!V140)","v":""},{"$f":"IF('All Bill Data Entry'!N140=\"\",\"\",'All Bill Data Entry'!N140)","v":""},"",{"$f":"IF('All Bill Data Entry'!U140=\"\",\"\",'All Bill Data Entry'!U140)","v":""},{"$f":"IF('All Bill Data Entry'!B140=\"\",\"\",'All Bill Data Entry'!B140)","v":""},"",{"$f":"IF('All Bill Data Entry'!X140=\"\",\"\",'All Bill Data Entry'!X140)","v":""},"",{"$f":"IF('All Bill Data Entry'!D140=\"\",\"\",'All Bill Data Entry'!D140)","v":""},"",{"$f":"IF('All Bill Data Entry'!F140=\"\",\"\",'All Bill Data Entry'!F140)","v":""},{"$f":"IF('All Bill Data Entry'!G140=\"\",\"\",'All Bill Data Entry'!G140)","v":""},{"$f":"IF('All Bill Data Entry'!H140=\"\",\"\",'All Bill Data Entry'!H140)","v":""},{"$f":"IF('All Bill Data Entry'!J140=\"\",\"\",'All Bill Data Entry'!J140)","v":""},{"$f":"IF('All Bill Data Entry'!K140=\"\",\"\",'All Bill Data Entry'!K140)","v":""},{"$f":"IF('All Bill Data Entry'!I140=\"\",\"\",'All Bill Data Entry'!I140)","v":""},{"$f":"IF('All Bill Data Entry'!C140=\"\",\"\",'All Bill Data Entry'!C140)","v":""},{"$f":"IF($B135=\"\",\"\",'All Bill Data Entry'!Y140)","v":""},"","",null,null,"","","",""]
["",{"$f":"IF('All Bill Data Entry'!A141=\"\",\"\",'All Bill Data Entry'!A141)","v":""},"","",{"$f":"IF('All Bill Data Entry'!L141=\"\",\"\",'All Bill Data Entry'!L141)","v":""},{"$f":"IF('All Bill Data Entry'!V141=\"\",\"\",'All Bill Data Entry'!V141)","v":""},{"$f":"IF('All Bill Data Entry'!N141=\"\",\"\",'All Bill Data Entry'!N141)","v":""},"",{"$f":"IF('All Bill Data Entry'!U141=\"\",\"\",'All Bill Data Entry'!U141)","v":""},{"$f":"IF('All Bill Data Entry'!B141=\"\",\"\",'All Bill Data Entry'!B141)","v":""},"",{"$f":"IF('All Bill Data Entry'!X141=\"\",\"\",'All Bill Data Entry'!X141)","v":""},"",{"$f":"IF('All Bill Data Entry'!D141=\"\",\"\",'All Bill Data Entry'!D141)","v":""},"",{"$f":"IF('All Bill Data Entry'!F141=\"\",\"\",'All Bill Data Entry'!F141)","v":""},{"$f":"IF('All Bill Data Entry'!G141=\"\",\"\",'All Bill Data Entry'!G141)","v":""},{"$f":"IF('All Bill Data Entry'!H141=\"\",\"\",'All Bill Data Entry'!H141)","v":""},{"$f":"IF('All Bill Data Entry'!J141=\"\",\"\",'All Bill Data Entry'!J141)","v":""},{"$f":"IF('All Bill Data Entry'!K141=\"\",\"\",'All Bill Data Entry'!K141)","v":""},{"$f":"IF('All Bill Data Entry'!I141=\"\",\"\",'All Bill Data Entry'!I141)","v":""},{"$f":"IF('All Bill Data Entry'!C141=\"\",\"\",'All Bill Data Entry'!C141)","v":""},{"$f":"IF($B136=\"\",\"\",'All Bill Data Entry'!Y141)","v":""},"","",null,null,"","","",""]
["",{"$f":"IF('All Bill Data Entry'!A142=\"\",\"\",'All Bill Data Entry'!A142)","v":""},"","",{"$f":"IF('All Bill Data Entry'!L142=\"\",\"\",'All Bill Data Entry'!L142)","v":""},{"$f":"IF('All Bill Data Entry'!V142=\"\",\"\",'All Bill Data Entry'!V142)","v":""},{"$f":"IF('All Bill Data Entry'!N142=\"\",\"\",'All Bill Data Entry'!N142)","v":""},"",{"$f":"IF('All Bill Data Entry'!U142=\"\",\"\",'All Bill Data Entry'!U142)","v":""},{"$f":"IF('All Bill Data Entry'!B142=\"\",\"\",'All Bill Data Entry'!B142)","v":""},"",{"$f":"IF('All Bill Data Entry'!X142=\"\",\"\",'All Bill Data Entry'!X142)","v":""},"",{"$f":"IF('All Bill Data Entry'!D142=\"\",\"\",'All Bill Data Entry'!D142)","v":""},"",{"$f":"IF('All Bill Data Entry'!F142=\"\",\"\",'All Bill Data Entry'!F142)","v":""},{"$f":"IF('All Bill Data Entry'!G142=\"\",\"\",'All Bill Data Entry'!G142)","v":""},{"$f":"IF('All Bill Data Entry'!H142=\"\",\"\",'All Bill Data Entry'!H142)","v":""},{"$f":"IF('All Bill Data Entry'!J142=\"\",\"\",'All Bill Data Entry'!J142)","v":""},{"$f":"IF('All Bill Data Entry'!K142=\"\",\"\",'All Bill Data Entry'!K142)","v":""},{"$f":"IF('All Bill Data Entry'!I142=\"\",\"\",'All Bill Data Entry'!I142)","v":""},{"$f":"IF('All Bill Data Entry'!C142=\"\",\"\",'All Bill Data Entry'!C142)","v":""},{"$f":"IF($B137=\"\",\"\",'All Bill Data Entry'!Y142)","v":""},"","",null,null,"","","",""]
["",{"$f":"IF('All Bill Data Entry'!A143=\"\",\"\",'All Bill Data Entry'!A143)","v":""},"","",{"$f":"IF('All Bill Data Entry'!L143=\"\",\"\",'All Bill Data Entry'!L143)","v":""},{"$f":"IF('All Bill Data Entry'!V143=\"\",\"\",'All Bill Data Entry'!V143)","v":""},{"$f":"IF('All Bill Data Entry'!N143=\"\",\"\",'All Bill Data Entry'!N143)","v":""},"",{"$f":"IF('All Bill Data Entry'!U143=\"\",\"\",'All Bill Data Entry'!U143)","v":""},{"$f":"IF('All Bill Data Entry'!B143=\"\",\"\",'All Bill Data Entry'!B143)","v":""},"",{"$f":"IF('All Bill Data Entry'!X143=\"\",\"\",'All Bill Data Entry'!X143)","v":""},"",{"$f":"IF('All Bill Data Entry'!D143=\"\",\"\",'All Bill Data Entry'!D143)","v":""},"",{"$f":"IF('All Bill Data Entry'!F143=\"\",\"\",'All Bill Data Entry'!F143)","v":""},{"$f":"IF('All Bill Data Entry'!G143=\"\",\"\",'All Bill Data Entry'!G143)","v":""},{"$f":"IF('All Bill Data Entry'!H143=\"\",\"\",'All Bill Data Entry'!H143)","v":""},{"$f":"IF('All Bill Data Entry'!J143=\"\",\"\",'All Bill Data Entry'!J143)","v":""},{"$f":"IF('All Bill Data Entry'!K143=\"\",\"\",'All Bill Data Entry'!K143)","v":""},{"$f":"IF('All Bill Data Entry'!I143=\"\",\"\",'All Bill Data Entry'!I143)","v":""},{"$f":"IF('All Bill Data Entry'!C143=\"\",\"\",'All Bill Data Entry'!C143)","v":""},{"$f":"IF($B138=\"\",\"\",'All Bill Data Entry'!Y143)","v":""},"","",null,null,"","","",""]
["",{"$f":"IF('All Bill Data Entry'!A144=\"\",\"\",'All Bill Data Entry'!A144)","v":""},"","",{"$f":"IF('All Bill Data Entry'!L144=\"\",\"\",'All Bill Data Entry'!L144)","v":""},{"$f":"IF('All Bill Data Entry'!V144=\"\",\"\",'All Bill Data Entry'!V144)","v":""},{"$f":"IF('All Bill Data Entry'!N144=\"\",\"\",'All Bill Data Entry'!N144)","v":""},"",{"$f":"IF('All Bill Data Entry'!U144=\"\",\"\",'All Bill Data Entry'!U144)","v":""},{"$f":"IF('All Bill Data Entry'!B144=\"\",\"\",'All Bill Data Entry'!B144)","v":""},"",{"$f":"IF('All Bill Data Entry'!X144=\"\",\"\",'All Bill Data Entry'!X144)","v":""},"",{"$f":"IF('All Bill Data Entry'!D144=\"\",\"\",'All Bill Data Entry'!D144)","v":""},"",{"$f":"IF('All Bill Data Entry'!F144=\"\",\"\",'All Bill Data Entry'!F144)","v":""},{"$f":"IF('All Bill Data Entry'!G144=\"\",\"\",'All Bill Data Entry'!G144)","v":""},{"$f":"IF('All Bill Data Entry'!H144=\"\",\"\",'All Bill Data Entry'!H144)","v":""},{"$f":"IF('All Bill Data Entry'!J144=\"\",\"\",'All Bill Data Entry'!J144)","v":""},{"$f":"IF('All Bill Data Entry'!K144=\"\",\"\",'All Bill Data Entry'!K144)","v":""},{"$f":"IF('All Bill Data Entry'!I144=\"\",\"\",'All Bill Data Entry'!I144)","v":""},{"$f":"IF('All Bill Data Entry'!C144=\"\",\"\",'All Bill Data Entry'!C144)","v":""},{"$f":"IF($B139=\"\",\"\",'All Bill Data Entry'!Y144)","v":""},"","",null,null,"","","",""]
["",{"$f":"IF('All Bill Data Entry'!A145=\"\",\"\",'All Bill Data Entry'!A145)","v":""},"","",{"$f":"IF('All Bill Data Entry'!L145=\"\",\"\",'All Bill Data Entry'!L145)","v":""},{"$f":"IF('All Bill Data Entry'!V145=\"\",\"\",'All Bill Data Entry'!V145)","v":""},{"$f":"IF('All Bill Data Entry'!N145=\"\",\"\",'All Bill Data Entry'!N145)","v":""},"",{"$f":"IF('All Bill Data Entry'!U145=\"\",\"\",'All Bill Data Entry'!U145)","v":""},{"$f":"IF('All Bill Data Entry'!B145=\"\",\"\",'All Bill Data Entry'!B145)","v":""},"",{"$f":"IF('All Bill Data Entry'!X145=\"\",\"\",'All Bill Data Entry'!X145)","v":""},"",{"$f":"IF('All Bill Data Entry'!D145=\"\",\"\",'All Bill Data Entry'!D145)","v":""},"",{"$f":"IF('All Bill Data Entry'!F145=\"\",\"\",'All Bill Data Entry'!F145)","v":""},{"$f":"IF('All Bill Data Entry'!G145=\"\",\"\",'All Bill Data Entry'!G145)","v":""},{"$f":"IF('All Bill Data Entry'!H145=\"\",\"\",'All Bill Data Entry'!H145)","v":""},{"$f":"IF('All Bill Data Entry'!J145=\"\",\"\",'All Bill Data Entry'!J145)","v":""},{"$f":"IF('All Bill Data Entry'!K145=\"\",\"\",'All Bill Data Entry'!K145)","v":""},{"$f":"IF('All Bill Data Entry'!I145=\"\",\"\",'All Bill Data Entry'!I145)","v":""},{"$f":"IF('All Bill Data Entry'!C145=\"\",\"\",'All Bill Data Entry'!C145)","v":""},{"$f":"IF($B140=\"\",\"\",'All Bill Data Entry'!Y145)","v":""},"","",null,null,"","","",""]
["",{"$f":"IF('All Bill Data Entry'!A146=\"\",\"\",'All Bill Data Entry'!A146)","v":""},"","",{"$f":"IF('All Bill Data Entry'!L146=\"\",\"\",'All Bill Data Entry'!L146)","v":""},{"$f":"IF('All Bill Data Entry'!V146=\"\",\"\",'All Bill Data Entry'!V146)","v":""},{"$f":"IF('All Bill Data Entry'!N146=\"\",\"\",'All Bill Data Entry'!N146)","v":""},"",{"$f":"IF('All Bill Data Entry'!U146=\"\",\"\",'All Bill Data Entry'!U146)","v":""},{"$f":"IF('All Bill Data Entry'!B146=\"\",\"\",'All Bill Data Entry'!B146)","v":""},"",{"$f":"IF('All Bill Data Entry'!X146=\"\",\"\",'All Bill Data Entry'!X146)","v":""},"",{"$f":"IF('All Bill Data Entry'!D146=\"\",\"\",'All Bill Data Entry'!D146)","v":""},"",{"$f":"IF('All Bill Data Entry'!F146=\"\",\"\",'All Bill Data Entry'!F146)","v":""},{"$f":"IF('All Bill Data Entry'!G146=\"\",\"\",'All Bill Data Entry'!G146)","v":""},{"$f":"IF('All Bill Data Entry'!H146=\"\",\"\",'All Bill Data Entry'!H146)","v":""},{"$f":"IF('All Bill Data Entry'!J146=\"\",\"\",'All Bill Data Entry'!J146)","v":""},{"$f":"IF('All Bill Data Entry'!K146=\"\",\"\",'All Bill Data Entry'!K146)","v":""},{"$f":"IF('All Bill Data Entry'!I146=\"\",\"\",'All Bill Data Entry'!I146)","v":""},{"$f":"IF('All Bill Data Entry'!C146=\"\",\"\",'All Bill Data Entry'!C146)","v":""},{"$f":"IF($B141=\"\",\"\",'All Bill Data Entry'!Y146)","v":""},"","",null,null,"","","",""]
["",{"$f":"IF('All Bill Data Entry'!A147=\"\",\"\",'All Bill Data Entry'!A147)","v":""},"","",{"$f":"IF('All Bill Data Entry'!L147=\"\",\"\",'All Bill Data Entry'!L147)","v":""},{"$f":"IF('All Bill Data Entry'!V147=\"\",\"\",'All Bill Data Entry'!V147)","v":""},{"$f":"IF('All Bill Data Entry'!N147=\"\",\"\",'All Bill Data Entry'!N147)","v":""},"",{"$f":"IF('All Bill Data Entry'!U147=\"\",\"\",'All Bill Data Entry'!U147)","v":""},{"$f":"IF('All Bill Data Entry'!B147=\"\",\"\",'All Bill Data Entry'!B147)","v":""},"",{"$f":"IF('All Bill Data Entry'!X147=\"\",\"\",'All Bill Data Entry'!X147)","v":""},"",{"$f":"IF('All Bill Data Entry'!D147=\"\",\"\",'All Bill Data Entry'!D147)","v":""},"",{"$f":"IF('All Bill Data Entry'!F147=\"\",\"\",'All Bill Data Entry'!F147)","v":""},{"$f":"IF('All Bill Data Entry'!G147=\"\",\"\",'All Bill Data Entry'!G147)","v":""},{"$f":"IF('All Bill Data Entry'!H147=\"\",\"\",'All Bill Data Entry'!H147)","v":""},{"$f":"IF('All Bill Data Entry'!J147=\"\",\"\",'All Bill Data Entry'!J147)","v":""},{"$f":"IF('All Bill Data Entry'!K147=\"\",\"\",'All Bill Data Entry'!K147)","v":""},{"$f":"IF('All Bill Data Entry'!I147=\"\",\"\",'All Bill Data Entry'!I147)","v":""},{"$f":"IF('All Bill Data Entry'!C147=\"\",\"\",'All Bill Data Entry'!C147)","v":""},{"$f":"IF($B142=\"\",\"\",'All Bill Data Entry'!Y147)","v":""},"","",null,null,"","","",""]
["",{"$f":"IF('All Bill Data Entry'!A148=\"\",\"\",'All Bill Data Entry'!A148)","v":""},"","",{"$f":"IF('All Bill Data Entry'!L148=\"\",\"\",'All Bill Data Entry'!L148)","v":""},{"$f":"IF('All Bill Data Entry'!V148=\"\",\"\",'All Bill Data Entry'!V148)","v":""},{"$f":"IF('All Bill Data Entry'!N148=\"\",\"\",'All Bill Data Entry'!N148)","v":""},"",{"$f":"IF('All Bill Data Entry'!U148=\"\",\"\",'All Bill Data Entry'!U148)","v":""},{"$f":"IF('All Bill Data Entry'!B148=\"\",\"\",'All Bill Data Entry'!B148)","v":""},"",{"$f":"IF('All Bill Data Entry'!X148=\"\",\"\",'All Bill Data Entry'!X148)","v":""},"",{"$f":"IF('All Bill Data Entry'!D148=\"\",\"\",'All Bill Data Entry'!D148)","v":""},"",{"$f":"IF('All Bill Data Entry'!F148=\"\",\"\",'All Bill Data Entry'!F148)","v":""},{"$f":"IF('All Bill Data Entry'!G148=\"\",\"\",'All Bill Data Entry'!G148)","v":""},{"$f":"IF('All Bill Data Entry'!H148=\"\",\"\",'All Bill Data Entry'!H148)","v":""},{"$f":"IF('All Bill Data Entry'!J148=\"\",\"\",'All Bill Data Entry'!J148)","v":""},{"$f":"IF('All Bill Data Entry'!K148=\"\",\"\",'All Bill Data Entry'!K148)","v":""},{"$f":"IF('All Bill Data Entry'!I148=\"\",\"\",'All Bill Data Entry'!I148)","v":""},{"$f":"IF('All Bill Data Entry'!C148=\"\",\"\",'All Bill Data Entry'!C148)","v":""},{"$f":"IF($B143=\"\",\"\",'All Bill Data Entry'!Y148)","v":""},"","",null,null,"","","",""]
["",{"$f":"IF('All Bill Data Entry'!A149=\"\",\"\",'All Bill Data Entry'!A149)","v":""},"","",{"$f":"IF('All Bill Data Entry'!L149=\"\",\"\",'All Bill Data Entry'!L149)","v":""},{"$f":"IF('All Bill Data Entry'!V149=\"\",\"\",'All Bill Data Entry'!V149)","v":""},{"$f":"IF('All Bill Data Entry'!N149=\"\",\"\",'All Bill Data Entry'!N149)","v":""},"",{"$f":"IF('All Bill Data Entry'!U149=\"\",\"\",'All Bill Data Entry'!U149)","v":""},{"$f":"IF('All Bill Data Entry'!B149=\"\",\"\",'All Bill Data Entry'!B149)","v":""},"",{"$f":"IF('All Bill Data Entry'!X149=\"\",\"\",'All Bill Data Entry'!X149)","v":""},"",{"$f":"IF('All Bill Data Entry'!D149=\"\",\"\",'All Bill Data Entry'!D149)","v":""},"",{"$f":"IF('All Bill Data Entry'!F149=\"\",\"\",'All Bill Data Entry'!F149)","v":""},{"$f":"IF('All Bill Data Entry'!G149=\"\",\"\",'All Bill Data Entry'!G149)","v":""},{"$f":"IF('All Bill Data Entry'!H149=\"\",\"\",'All Bill Data Entry'!H149)","v":""},{"$f":"IF('All Bill Data Entry'!J149=\"\",\"\",'All Bill Data Entry'!J149)","v":""},{"$f":"IF('All Bill Data Entry'!K149=\"\",\"\",'All Bill Data Entry'!K149)","v":""},{"$f":"IF('All Bill Data Entry'!I149=\"\",\"\",'All Bill Data Entry'!I149)","v":""},{"$f":"IF('All Bill Data Entry'!C149=\"\",\"\",'All Bill Data Entry'!C149)","v":""},{"$f":"IF($B144=\"\",\"\",'All Bill Data Entry'!Y149)","v":""},"","",null,null,"","","",""]
["",{"$f":"IF('All Bill Data Entry'!A150=\"\",\"\",'All Bill Data Entry'!A150)","v":""},"","",{"$f":"IF('All Bill Data Entry'!L150=\"\",\"\",'All Bill Data Entry'!L150)","v":""},{"$f":"IF('All Bill Data Entry'!V150=\"\",\"\",'All Bill Data Entry'!V150)","v":""},{"$f":"IF('All Bill Data Entry'!N150=\"\",\"\",'All Bill Data Entry'!N150)","v":""},"",{"$f":"IF('All Bill Data Entry'!U150=\"\",\"\",'All Bill Data Entry'!U150)","v":""},{"$f":"IF('All Bill Data Entry'!B150=\"\",\"\",'All Bill Data Entry'!B150)","v":""},"",{"$f":"IF('All Bill Data Entry'!X150=\"\",\"\",'All Bill Data Entry'!X150)","v":""},"",{"$f":"IF('All Bill Data Entry'!D150=\"\",\"\",'All Bill Data Entry'!D150)","v":""},"",{"$f":"IF('All Bill Data Entry'!F150=\"\",\"\",'All Bill Data Entry'!F150)","v":""},{"$f":"IF('All Bill Data Entry'!G150=\"\",\"\",'All Bill Data Entry'!G150)","v":""},{"$f":"IF('All Bill Data Entry'!H150=\"\",\"\",'All Bill Data Entry'!H150)","v":""},{"$f":"IF('All Bill Data Entry'!J150=\"\",\"\",'All Bill Data Entry'!J150)","v":""},{"$f":"IF('All Bill Data Entry'!K150=\"\",\"\",'All Bill Data Entry'!K150)","v":""},{"$f":"IF('All Bill Data Entry'!I150=\"\",\"\",'All Bill Data Entry'!I150)","v":""},{"$f":"IF('All Bill Data Entry'!C150=\"\",\"\",'All Bill Data Entry'!C150)","v":""},{"$f":"IF($B145=\"\",\"\",'All Bill Data Entry'!Y150)","v":""},"","",null,null,"","","",""]
["",{"$f":"IF('All Bill Data Entry'!A151=\"\",\"\",'All Bill Data Entry'!A151)","v":""},"","",{"$f":"IF('All Bill Data Entry'!L151=\"\",\"\",'All Bill Data Entry'!L151)","v":""},{"$f":"IF('All Bill Data Entry'!V151=\"\",\"\",'All Bill Data Entry'!V151)","v":""},{"$f":"IF('All Bill Data Entry'!N151=\"\",\"\",'All Bill Data Entry'!N151)","v":""},"",{"$f":"IF('All Bill Data Entry'!U151=\"\",\"\",'All Bill Data Entry'!U151)","v":""},{"$f":"IF('All Bill Data Entry'!B151=\"\",\"\",'All Bill Data Entry'!B151)","v":""},"",{"$f":"IF('All Bill Data Entry'!X151=\"\",\"\",'All Bill Data Entry'!X151)","v":""},"",{"$f":"IF('All Bill Data Entry'!D151=\"\",\"\",'All Bill Data Entry'!D151)","v":""},"",{"$f":"IF('All Bill Data Entry'!F151=\"\",\"\",'All Bill Data Entry'!F151)","v":""},{"$f":"IF('All Bill Data Entry'!G151=\"\",\"\",'All Bill Data Entry'!G151)","v":""},{"$f":"IF('All Bill Data Entry'!H151=\"\",\"\",'All Bill Data Entry'!H151)","v":""},{"$f":"IF('All Bill Data Entry'!J151=\"\",\"\",'All Bill Data Entry'!J151)","v":""},{"$f":"IF('All Bill Data Entry'!K151=\"\",\"\",'All Bill Data Entry'!K151)","v":""},{"$f":"IF('All Bill Data Entry'!I151=\"\",\"\",'All Bill Data Entry'!I151)","v":""},{"$f":"IF('All Bill Data Entry'!C151=\"\",\"\",'All Bill Data Entry'!C151)","v":""},{"$f":"IF($B146=\"\",\"\",'All Bill Data Entry'!Y151)","v":""},"","",null,null,"","","",""]
["",{"$f":"IF('All Bill Data Entry'!A152=\"\",\"\",'All Bill Data Entry'!A152)","v":""},"","",{"$f":"IF('All Bill Data Entry'!L152=\"\",\"\",'All Bill Data Entry'!L152)","v":""},{"$f":"IF('All Bill Data Entry'!V152=\"\",\"\",'All Bill Data Entry'!V152)","v":""},{"$f":"IF('All Bill Data Entry'!N152=\"\",\"\",'All Bill Data Entry'!N152)","v":""},"",{"$f":"IF('All Bill Data Entry'!U152=\"\",\"\",'All Bill Data Entry'!U152)","v":""},{"$f":"IF('All Bill Data Entry'!B152=\"\",\"\",'All Bill Data Entry'!B152)","v":""},"",{"$f":"IF('All Bill Data Entry'!X152=\"\",\"\",'All Bill Data Entry'!X152)","v":""},"",{"$f":"IF('All Bill Data Entry'!D152=\"\",\"\",'All Bill Data Entry'!D152)","v":""},"",{"$f":"IF('All Bill Data Entry'!F152=\"\",\"\",'All Bill Data Entry'!F152)","v":""},{"$f":"IF('All Bill Data Entry'!G152=\"\",\"\",'All Bill Data Entry'!G152)","v":""},{"$f":"IF('All Bill Data Entry'!H152=\"\",\"\",'All Bill Data Entry'!H152)","v":""},{"$f":"IF('All Bill Data Entry'!J152=\"\",\"\",'All Bill Data Entry'!J152)","v":""},{"$f":"IF('All Bill Data Entry'!K152=\"\",\"\",'All Bill Data Entry'!K152)","v":""},{"$f":"IF('All Bill Data Entry'!I152=\"\",\"\",'All Bill Data Entry'!I152)","v":""},{"$f":"IF('All Bill Data Entry'!C152=\"\",\"\",'All Bill Data Entry'!C152)","v":""},{"$f":"IF($B147=\"\",\"\",'All Bill Data Entry'!Y152)","v":""},"","",null,null,"","","",""]
["",{"$f":"IF('All Bill Data Entry'!A153=\"\",\"\",'All Bill Data Entry'!A153)","v":""},"","",{"$f":"IF('All Bill Data Entry'!L153=\"\",\"\",'All Bill Data Entry'!L153)","v":""},{"$f":"IF('All Bill Data Entry'!V153=\"\",\"\",'All Bill Data Entry'!V153)","v":""},{"$f":"IF('All Bill Data Entry'!N153=\"\",\"\",'All Bill Data Entry'!N153)","v":""},"",{"$f":"IF('All Bill Data Entry'!U153=\"\",\"\",'All Bill Data Entry'!U153)","v":""},{"$f":"IF('All Bill Data Entry'!B153=\"\",\"\",'All Bill Data Entry'!B153)","v":""},"",{"$f":"IF('All Bill Data Entry'!X153=\"\",\"\",'All Bill Data Entry'!X153)","v":""},"",{"$f":"IF('All Bill Data Entry'!D153=\"\",\"\",'All Bill Data Entry'!D153)","v":""},"",{"$f":"IF('All Bill Data Entry'!F153=\"\",\"\",'All Bill Data Entry'!F153)","v":""},{"$f":"IF('All Bill Data Entry'!G153=\"\",\"\",'All Bill Data Entry'!G153)","v":""},{"$f":"IF('All Bill Data Entry'!H153=\"\",\"\",'All Bill Data Entry'!H153)","v":""},{"$f":"IF('All Bill Data Entry'!J153=\"\",\"\",'All Bill Data Entry'!J153)","v":""},{"$f":"IF('All Bill Data Entry'!K153=\"\",\"\",'All Bill Data Entry'!K153)","v":""},{"$f":"IF('All Bill Data Entry'!I153=\"\",\"\",'All Bill Data Entry'!I153)","v":""},{"$f":"IF('All Bill Data Entry'!C153=\"\",\"\",'All Bill Data Entry'!C153)","v":""},{"$f":"IF($B148=\"\",\"\",'All Bill Data Entry'!Y153)","v":""},"","",null,null,"","","",""]
["",{"$f":"IF('All Bill Data Entry'!A154=\"\",\"\",'All Bill Data Entry'!A154)","v":""},"","",{"$f":"IF('All Bill Data Entry'!L154=\"\",\"\",'All Bill Data Entry'!L154)","v":""},{"$f":"IF('All Bill Data Entry'!V154=\"\",\"\",'All Bill Data Entry'!V154)","v":""},{"$f":"IF('All Bill Data Entry'!N154=\"\",\"\",'All Bill Data Entry'!N154)","v":""},"",{"$f":"IF('All Bill Data Entry'!U154=\"\",\"\",'All Bill Data Entry'!U154)","v":""},{"$f":"IF('All Bill Data Entry'!B154=\"\",\"\",'All Bill Data Entry'!B154)","v":""},"",{"$f":"IF('All Bill Data Entry'!X154=\"\",\"\",'All Bill Data Entry'!X154)","v":""},"",{"$f":"IF('All Bill Data Entry'!D154=\"\",\"\",'All Bill Data Entry'!D154)","v":""},"",{"$f":"IF('All Bill Data Entry'!F154=\"\",\"\",'All Bill Data Entry'!F154)","v":""},{"$f":"IF('All Bill Data Entry'!G154=\"\",\"\",'All Bill Data Entry'!G154)","v":""},{"$f":"IF('All Bill Data Entry'!H154=\"\",\"\",'All Bill Data Entry'!H154)","v":""},{"$f":"IF('All Bill Data Entry'!J154=\"\",\"\",'All Bill Data Entry'!J154)","v":""},{"$f":"IF('All Bill Data Entry'!K154=\"\",\"\",'All Bill Data Entry'!K154)","v":""},{"$f":"IF('All Bill Data Entry'!I154=\"\",\"\",'All Bill Data Entry'!I154)","v":""},{"$f":"IF('All Bill Data Entry'!C154=\"\",\"\",'All Bill Data Entry'!C154)","v":""},{"$f":"IF($B149=\"\",\"\",'All Bill Data Entry'!Y154)","v":""},"","",null,null,"","","",""]
["",{"$f":"IF('All Bill Data Entry'!A155=\"\",\"\",'All Bill Data Entry'!A155)","v":""},"","",{"$f":"IF('All Bill Data Entry'!L155=\"\",\"\",'All Bill Data Entry'!L155)","v":""},{"$f":"IF('All Bill Data Entry'!V155=\"\",\"\",'All Bill Data Entry'!V155)","v":""},{"$f":"IF('All Bill Data Entry'!N155=\"\",\"\",'All Bill Data Entry'!N155)","v":""},"",{"$f":"IF('All Bill Data Entry'!U155=\"\",\"\",'All Bill Data Entry'!U155)","v":""},{"$f":"IF('All Bill Data Entry'!B155=\"\",\"\",'All Bill Data Entry'!B155)","v":""},"",{"$f":"IF('All Bill Data Entry'!X155=\"\",\"\",'All Bill Data Entry'!X155)","v":""},"",{"$f":"IF('All Bill Data Entry'!D155=\"\",\"\",'All Bill Data Entry'!D155)","v":""},"",{"$f":"IF('All Bill Data Entry'!F155=\"\",\"\",'All Bill Data Entry'!F155)","v":""},{"$f":"IF('All Bill Data Entry'!G155=\"\",\"\",'All Bill Data Entry'!G155)","v":""},{"$f":"IF('All Bill Data Entry'!H155=\"\",\"\",'All Bill Data Entry'!H155)","v":""},{"$f":"IF('All Bill Data Entry'!J155=\"\",\"\",'All Bill Data Entry'!J155)","v":""},{"$f":"IF('All Bill Data Entry'!K155=\"\",\"\",'All Bill Data Entry'!K155)","v":""},{"$f":"IF('All Bill Data Entry'!I155=\"\",\"\",'All Bill Data Entry'!I155)","v":""},{"$f":"IF('All Bill Data Entry'!C155=\"\",\"\",'All Bill Data Entry'!C155)","v":""},{"$f":"IF($B150=\"\",\"\",'All Bill Data Entry'!Y155)","v":""},"","",null,null,"","","",""]
["",{"$f":"IF('All Bill Data Entry'!A156=\"\",\"\",'All Bill Data Entry'!A156)","v":""},"","",{"$f":"IF('All Bill Data Entry'!L156=\"\",\"\",'All Bill Data Entry'!L156)","v":""},{"$f":"IF('All Bill Data Entry'!V156=\"\",\"\",'All Bill Data Entry'!V156)","v":""},{"$f":"IF('All Bill Data Entry'!N156=\"\",\"\",'All Bill Data Entry'!N156)","v":""},"",{"$f":"IF('All Bill Data Entry'!U156=\"\",\"\",'All Bill Data Entry'!U156)","v":""},{"$f":"IF('All Bill Data Entry'!B156=\"\",\"\",'All Bill Data Entry'!B156)","v":""},"",{"$f":"IF('All Bill Data Entry'!X156=\"\",\"\",'All Bill Data Entry'!X156)","v":""},"",{"$f":"IF('All Bill Data Entry'!D156=\"\",\"\",'All Bill Data Entry'!D156)","v":""},"",{"$f":"IF('All Bill Data Entry'!F156=\"\",\"\",'All Bill Data Entry'!F156)","v":""},{"$f":"IF('All Bill Data Entry'!G156=\"\",\"\",'All Bill Data Entry'!G156)","v":""},{"$f":"IF('All Bill Data Entry'!H156=\"\",\"\",'All Bill Data Entry'!H156)","v":""},{"$f":"IF('All Bill Data Entry'!J156=\"\",\"\",'All Bill Data Entry'!J156)","v":""},{"$f":"IF('All Bill Data Entry'!K156=\"\",\"\",'All Bill Data Entry'!K156)","v":""},{"$f":"IF('All Bill Data Entry'!I156=\"\",\"\",'All Bill Data Entry'!I156)","v":""},{"$f":"IF('All Bill Data Entry'!C156=\"\",\"\",'All Bill Data Entry'!C156)","v":""},{"$f":"IF($B151=\"\",\"\",'All Bill Data Entry'!Y156)","v":""},"","",null,null,"","","",""]
["",{"$f":"IF('All Bill Data Entry'!A157=\"\",\"\",'All Bill Data Entry'!A157)","v":""},"","",{"$f":"IF('All Bill Data Entry'!L157=\"\",\"\",'All Bill Data Entry'!L157)","v":""},{"$f":"IF('All Bill Data Entry'!V157=\"\",\"\",'All Bill Data Entry'!V157)","v":""},{"$f":"IF('All Bill Data Entry'!N157=\"\",\"\",'All Bill Data Entry'!N157)","v":""},"",{"$f":"IF('All Bill Data Entry'!U157=\"\",\"\",'All Bill Data Entry'!U157)","v":""},{"$f":"IF('All Bill Data Entry'!B157=\"\",\"\",'All Bill Data Entry'!B157)","v":""},"",{"$f":"IF('All Bill Data Entry'!X157=\"\",\"\",'All Bill Data Entry'!X157)","v":""},"",{"$f":"IF('All Bill Data Entry'!D157=\"\",\"\",'All Bill Data Entry'!D157)","v":""},"",{"$f":"IF('All Bill Data Entry'!F157=\"\",\"\",'All Bill Data Entry'!F157)","v":""},{"$f":"IF('All Bill Data Entry'!G157=\"\",\"\",'All Bill Data Entry'!G157)","v":""},{"$f":"IF('All Bill Data Entry'!H157=\"\",\"\",'All Bill Data Entry'!H157)","v":""},{"$f":"IF('All Bill Data Entry'!J157=\"\",\"\",'All Bill Data Entry'!J157)","v":""},{"$f":"IF('All Bill Data Entry'!K157=\"\",\"\",'All Bill Data Entry'!K157)","v":""},{"$f":"IF('All Bill Data Entry'!I157=\"\",\"\",'All Bill Data Entry'!I157)","v":""},{"$f":"IF('All Bill Data Entry'!C157=\"\",\"\",'All Bill Data Entry'!C157)","v":""},{"$f":"IF($B152=\"\",\"\",'All Bill Data Entry'!Y157)","v":""},"","",null,null,"","","",""]
["",{"$f":"IF('All Bill Data Entry'!A158=\"\",\"\",'All Bill Data Entry'!A158)","v":""},"","",{"$f":"IF('All Bill Data Entry'!L158=\"\",\"\",'All Bill Data Entry'!L158)","v":""},{"$f":"IF('All Bill Data Entry'!V158=\"\",\"\",'All Bill Data Entry'!V158)","v":""},{"$f":"IF('All Bill Data Entry'!N158=\"\",\"\",'All Bill Data Entry'!N158)","v":""},"",{"$f":"IF('All Bill Data Entry'!U158=\"\",\"\",'All Bill Data Entry'!U158)","v":""},{"$f":"IF('All Bill Data Entry'!B158=\"\",\"\",'All Bill Data Entry'!B158)","v":""},"",{"$f":"IF('All Bill Data Entry'!X158=\"\",\"\",'All Bill Data Entry'!X158)","v":""},"",{"$f":"IF('All Bill Data Entry'!D158=\"\",\"\",'All Bill Data Entry'!D158)","v":""},"",{"$f":"IF('All Bill Data Entry'!F158=\"\",\"\",'All Bill Data Entry'!F158)","v":""},{"$f":"IF('All Bill Data Entry'!G158=\"\",\"\",'All Bill Data Entry'!G158)","v":""},{"$f":"IF('All Bill Data Entry'!H158=\"\",\"\",'All Bill Data Entry'!H158)","v":""},{"$f":"IF('All Bill Data Entry'!J158=\"\",\"\",'All Bill Data Entry'!J158)","v":""},{"$f":"IF('All Bill Data Entry'!K158=\"\",\"\",'All Bill Data Entry'!K158)","v":""},{"$f":"IF('All Bill Data Entry'!I158=\"\",\"\",'All Bill Data Entry'!I158)","v":""},{"$f":"IF('All Bill Data Entry'!C158=\"\",\"\",'All Bill Data Entry'!C158)","v":""},{"$f":"IF($B153=\"\",\"\",'All Bill Data Entry'!Y158)","v":""},"","",null,null,"","","",""]
["",{"$f":"IF('All Bill Data Entry'!A159=\"\",\"\",'All Bill Data Entry'!A159)","v":""},"","",{"$f":"IF('All Bill Data Entry'!L159=\"\",\"\",'All Bill Data Entry'!L159)","v":""},{"$f":"IF('All Bill Data Entry'!V159=\"\",\"\",'All Bill Data Entry'!V159)","v":""},{"$f":"IF('All Bill Data Entry'!N159=\"\",\"\",'All Bill Data Entry'!N159)","v":""},"",{"$f":"IF('All Bill Data Entry'!U159=\"\",\"\",'All Bill Data Entry'!U159)","v":""},{"$f":"IF('All Bill Data Entry'!B159=\"\",\"\",'All Bill Data Entry'!B159)","v":""},"",{"$f":"IF('All Bill Data Entry'!X159=\"\",\"\",'All Bill Data Entry'!X159)","v":""},"",{"$f":"IF('All Bill Data Entry'!D159=\"\",\"\",'All Bill Data Entry'!D159)","v":""},"",{"$f":"IF('All Bill Data Entry'!F159=\"\",\"\",'All Bill Data Entry'!F159)","v":""},{"$f":"IF('All Bill Data Entry'!G159=\"\",\"\",'All Bill Data Entry'!G159)","v":""},{"$f":"IF('All Bill Data Entry'!H159=\"\",\"\",'All Bill Data Entry'!H159)","v":""},{"$f":"IF('All Bill Data Entry'!J159=\"\",\"\",'All Bill Data Entry'!J159)","v":""},{"$f":"IF('All Bill Data Entry'!K159=\"\",\"\",'All Bill Data Entry'!K159)","v":""},{"$f":"IF('All Bill Data Entry'!I159=\"\",\"\",'All Bill Data Entry'!I159)","v":""},{"$f":"IF('All Bill Data Entry'!C159=\"\",\"\",'All Bill Data Entry'!C159)","v":""},{"$f":"IF($B154=\"\",\"\",'All Bill Data Entry'!Y159)","v":""},"","",null,null,"","","",""]
["",{"$f":"IF('All Bill Data Entry'!A160=\"\",\"\",'All Bill Data Entry'!A160)","v":""},"","",{"$f":"IF('All Bill Data Entry'!L160=\"\",\"\",'All Bill Data Entry'!L160)","v":""},{"$f":"IF('All Bill Data Entry'!V160=\"\",\"\",'All Bill Data Entry'!V160)","v":""},{"$f":"IF('All Bill Data Entry'!N160=\"\",\"\",'All Bill Data Entry'!N160)","v":""},"",{"$f":"IF('All Bill Data Entry'!U160=\"\",\"\",'All Bill Data Entry'!U160)","v":""},{"$f":"IF('All Bill Data Entry'!B160=\"\",\"\",'All Bill Data Entry'!B160)","v":""},"",{"$f":"IF('All Bill Data Entry'!X160=\"\",\"\",'All Bill Data Entry'!X160)","v":""},"",{"$f":"IF('All Bill Data Entry'!D160=\"\",\"\",'All Bill Data Entry'!D160)","v":""},"",{"$f":"IF('All Bill Data Entry'!F160=\"\",\"\",'All Bill Data Entry'!F160)","v":""},{"$f":"IF('All Bill Data Entry'!G160=\"\",\"\",'All Bill Data Entry'!G160)","v":""},{"$f":"IF('All Bill Data Entry'!H160=\"\",\"\",'All Bill Data Entry'!H160)","v":""},{"$f":"IF('All Bill Data Entry'!J160=\"\",\"\",'All Bill Data Entry'!J160)","v":""},{"$f":"IF('All Bill Data Entry'!K160=\"\",\"\",'All Bill Data Entry'!K160)","v":""},{"$f":"IF('All Bill Data Entry'!I160=\"\",\"\",'All Bill Data Entry'!I160)","v":""},{"$f":"IF('All Bill Data Entry'!C160=\"\",\"\",'All Bill Data Entry'!C160)","v":""},{"$f":"IF($B155=\"\",\"\",'All Bill Data Entry'!Y160)","v":""},"","",null,null,"","","",""]
["",{"$f":"IF('All Bill Data Entry'!A161=\"\",\"\",'All Bill Data Entry'!A161)","v":""},"","",{"$f":"IF('All Bill Data Entry'!L161=\"\",\"\",'All Bill Data Entry'!L161)","v":""},{"$f":"IF('All Bill Data Entry'!V161=\"\",\"\",'All Bill Data Entry'!V161)","v":""},{"$f":"IF('All Bill Data Entry'!N161=\"\",\"\",'All Bill Data Entry'!N161)","v":""},"",{"$f":"IF('All Bill Data Entry'!U161=\"\",\"\",'All Bill Data Entry'!U161)","v":""},{"$f":"IF('All Bill Data Entry'!B161=\"\",\"\",'All Bill Data Entry'!B161)","v":""},"",{"$f":"IF('All Bill Data Entry'!X161=\"\",\"\",'All Bill Data Entry'!X161)","v":""},"",{"$f":"IF('All Bill Data Entry'!D161=\"\",\"\",'All Bill Data Entry'!D161)","v":""},"",{"$f":"IF('All Bill Data Entry'!F161=\"\",\"\",'All Bill Data Entry'!F161)","v":""},{"$f":"IF('All Bill Data Entry'!G161=\"\",\"\",'All Bill Data Entry'!G161)","v":""},{"$f":"IF('All Bill Data Entry'!H161=\"\",\"\",'All Bill Data Entry'!H161)","v":""},{"$f":"IF('All Bill Data Entry'!J161=\"\",\"\",'All Bill Data Entry'!J161)","v":""},{"$f":"IF('All Bill Data Entry'!K161=\"\",\"\",'All Bill Data Entry'!K161)","v":""},{"$f":"IF('All Bill Data Entry'!I161=\"\",\"\",'All Bill Data Entry'!I161)","v":""},{"$f":"IF('All Bill Data Entry'!C161=\"\",\"\",'All Bill Data Entry'!C161)","v":""},{"$f":"IF($B156=\"\",\"\",'All Bill Data Entry'!Y161)","v":""},"","",null,null,"","","",""]
["",{"$f":"IF('All Bill Data Entry'!A162=\"\",\"\",'All Bill Data Entry'!A162)","v":""},"","",{"$f":"IF('All Bill Data Entry'!L162=\"\",\"\",'All Bill Data Entry'!L162)","v":""},{"$f":"IF('All Bill Data Entry'!V162=\"\",\"\",'All Bill Data Entry'!V162)","v":""},{"$f":"IF('All Bill Data Entry'!N162=\"\",\"\",'All Bill Data Entry'!N162)","v":""},"",{"$f":"IF('All Bill Data Entry'!U162=\"\",\"\",'All Bill Data Entry'!U162)","v":""},{"$f":"IF('All Bill Data Entry'!B162=\"\",\"\",'All Bill Data Entry'!B162)","v":""},"",{"$f":"IF('All Bill Data Entry'!X162=\"\",\"\",'All Bill Data Entry'!X162)","v":""},"",{"$f":"IF('All Bill Data Entry'!D162=\"\",\"\",'All Bill Data Entry'!D162)","v":""},"",{"$f":"IF('All Bill Data Entry'!F162=\"\",\"\",'All Bill Data Entry'!F162)","v":""},{"$f":"IF('All Bill Data Entry'!G162=\"\",\"\",'All Bill Data Entry'!G162)","v":""},{"$f":"IF('All Bill Data Entry'!H162=\"\",\"\",'All Bill Data Entry'!H162)","v":""},{"$f":"IF('All Bill Data Entry'!J162=\"\",\"\",'All Bill Data Entry'!J162)","v":""},{"$f":"IF('All Bill Data Entry'!K162=\"\",\"\",'All Bill Data Entry'!K162)","v":""},{"$f":"IF('All Bill Data Entry'!I162=\"\",\"\",'All Bill Data Entry'!I162)","v":""},{"$f":"IF('All Bill Data Entry'!C162=\"\",\"\",'All Bill Data Entry'!C162)","v":""},{"$f":"IF($B157=\"\",\"\",'All Bill Data Entry'!Y162)","v":""},"","",null,null,"","","",""]
["",{"$f":"IF('All Bill Data Entry'!A163=\"\",\"\",'All Bill Data Entry'!A163)","v":""},"","",{"$f":"IF('All Bill Data Entry'!L163=\"\",\"\",'All Bill Data Entry'!L163)","v":""},{"$f":"IF('All Bill Data Entry'!V163=\"\",\"\",'All Bill Data Entry'!V163)","v":""},{"$f":"IF('All Bill Data Entry'!N163=\"\",\"\",'All Bill Data Entry'!N163)","v":""},"",{"$f":"IF('All Bill Data Entry'!U163=\"\",\"\",'All Bill Data Entry'!U163)","v":""},{"$f":"IF('All Bill Data Entry'!B163=\"\",\"\",'All Bill Data Entry'!B163)","v":""},"",{"$f":"IF('All Bill Data Entry'!X163=\"\",\"\",'All Bill Data Entry'!X163)","v":""},"",{"$f":"IF('All Bill Data Entry'!D163=\"\",\"\",'All Bill Data Entry'!D163)","v":""},"",{"$f":"IF('All Bill Data Entry'!F163=\"\",\"\",'All Bill Data Entry'!F163)","v":""},{"$f":"IF('All Bill Data Entry'!G163=\"\",\"\",'All Bill Data Entry'!G163)","v":""},{"$f":"IF('All Bill Data Entry'!H163=\"\",\"\",'All Bill Data Entry'!H163)","v":""},{"$f":"IF('All Bill Data Entry'!J163=\"\",\"\",'All Bill Data Entry'!J163)","v":""},{"$f":"IF('All Bill Data Entry'!K163=\"\",\"\",'All Bill Data Entry'!K163)","v":""},{"$f":"IF('All Bill Data Entry'!I163=\"\",\"\",'All Bill Data Entry'!I163)","v":""},{"$f":"IF('All Bill Data Entry'!C163=\"\",\"\",'All Bill Data Entry'!C163)","v":""},{"$f":"IF($B158=\"\",\"\",'All Bill Data Entry'!Y163)","v":""},"","",null,null,"","","",""]
["",{"$f":"IF('All Bill Data Entry'!A164=\"\",\"\",'All Bill Data Entry'!A164)","v":""},"","",{"$f":"IF('All Bill Data Entry'!L164=\"\",\"\",'All Bill Data Entry'!L164)","v":""},{"$f":"IF('All Bill Data Entry'!V164=\"\",\"\",'All Bill Data Entry'!V164)","v":""},{"$f":"IF('All Bill Data Entry'!N164=\"\",\"\",'All Bill Data Entry'!N164)","v":""},"",{"$f":"IF('All Bill Data Entry'!U164=\"\",\"\",'All Bill Data Entry'!U164)","v":""},{"$f":"IF('All Bill Data Entry'!B164=\"\",\"\",'All Bill Data Entry'!B164)","v":""},"",{"$f":"IF('All Bill Data Entry'!X164=\"\",\"\",'All Bill Data Entry'!X164)","v":""},"",{"$f":"IF('All Bill Data Entry'!D164=\"\",\"\",'All Bill Data Entry'!D164)","v":""},"",{"$f":"IF('All Bill Data Entry'!F164=\"\",\"\",'All Bill Data Entry'!F164)","v":""},{"$f":"IF('All Bill Data Entry'!G164=\"\",\"\",'All Bill Data Entry'!G164)","v":""},{"$f":"IF('All Bill Data Entry'!H164=\"\",\"\",'All Bill Data Entry'!H164)","v":""},{"$f":"IF('All Bill Data Entry'!J164=\"\",\"\",'All Bill Data Entry'!J164)","v":""},{"$f":"IF('All Bill Data Entry'!K164=\"\",\"\",'All Bill Data Entry'!K164)","v":""},{"$f":"IF('All Bill Data Entry'!I164=\"\",\"\",'All Bill Data Entry'!I164)","v":""},{"$f":"IF('All Bill Data Entry'!C164=\"\",\"\",'All Bill Data Entry'!C164)","v":""},{"$f":"IF($B159=\"\",\"\",'All Bill Data Entry'!Y164)","v":""},"","",null,null,"","","",""]
["",{"$f":"IF('All Bill Data Entry'!A165=\"\",\"\",'All Bill Data Entry'!A165)","v":""},"","",{"$f":"IF('All Bill Data Entry'!L165=\"\",\"\",'All Bill Data Entry'!L165)","v":""},{"$f":"IF('All Bill Data Entry'!V165=\"\",\"\",'All Bill Data Entry'!V165)","v":""},{"$f":"IF('All Bill Data Entry'!N165=\"\",\"\",'All Bill Data Entry'!N165)","v":""},"",{"$f":"IF('All Bill Data Entry'!U165=\"\",\"\",'All Bill Data Entry'!U165)","v":""},{"$f":"IF('All Bill Data Entry'!B165=\"\",\"\",'All Bill Data Entry'!B165)","v":""},"",{"$f":"IF('All Bill Data Entry'!X165=\"\",\"\",'All Bill Data Entry'!X165)","v":""},"",{"$f":"IF('All Bill Data Entry'!D165=\"\",\"\",'All Bill Data Entry'!D165)","v":""},"",{"$f":"IF('All Bill Data Entry'!F165=\"\",\"\",'All Bill Data Entry'!F165)","v":""},{"$f":"IF('All Bill Data Entry'!G165=\"\",\"\",'All Bill Data Entry'!G165)","v":""},{"$f":"IF('All Bill Data Entry'!H165=\"\",\"\",'All Bill Data Entry'!H165)","v":""},{"$f":"IF('All Bill Data Entry'!J165=\"\",\"\",'All Bill Data Entry'!J165)","v":""},{"$f":"IF('All Bill Data Entry'!K165=\"\",\"\",'All Bill Data Entry'!K165)","v":""},{"$f":"IF('All Bill Data Entry'!I165=\"\",\"\",'All Bill Data Entry'!I165)","v":""},{"$f":"IF('All Bill Data Entry'!C165=\"\",\"\",'All Bill Data Entry'!C165)","v":""},{"$f":"IF($B160=\"\",\"\",'All Bill Data Entry'!Y165)","v":""},"","",null,null,"","","",""]
["",{"$f":"IF('All Bill Data Entry'!A166=\"\",\"\",'All Bill Data Entry'!A166)","v":""},"","",{"$f":"IF('All Bill Data Entry'!L166=\"\",\"\",'All Bill Data Entry'!L166)","v":""},{"$f":"IF('All Bill Data Entry'!V166=\"\",\"\",'All Bill Data Entry'!V166)","v":""},{"$f":"IF('All Bill Data Entry'!N166=\"\",\"\",'All Bill Data Entry'!N166)","v":""},"",{"$f":"IF('All Bill Data Entry'!U166=\"\",\"\",'All Bill Data Entry'!U166)","v":""},{"$f":"IF('All Bill Data Entry'!B166=\"\",\"\",'All Bill Data Entry'!B166)","v":""},"",{"$f":"IF('All Bill Data Entry'!X166=\"\",\"\",'All Bill Data Entry'!X166)","v":""},"",{"$f":"IF('All Bill Data Entry'!D166=\"\",\"\",'All Bill Data Entry'!D166)","v":""},"",{"$f":"IF('All Bill Data Entry'!F166=\"\",\"\",'All Bill Data Entry'!F166)","v":""},{"$f":"IF('All Bill Data Entry'!G166=\"\",\"\",'All Bill Data Entry'!G166)","v":""},{"$f":"IF('All Bill Data Entry'!H166=\"\",\"\",'All Bill Data Entry'!H166)","v":""},{"$f":"IF('All Bill Data Entry'!J166=\"\",\"\",'All Bill Data Entry'!J166)","v":""},{"$f":"IF('All Bill Data Entry'!K166=\"\",\"\",'All Bill Data Entry'!K166)","v":""},{"$f":"IF('All Bill Data Entry'!I166=\"\",\"\",'All Bill Data Entry'!I166)","v":""},{"$f":"IF('All Bill Data Entry'!C166=\"\",\"\",'All Bill Data Entry'!C166)","v":""},{"$f":"IF($B161=\"\",\"\",'All Bill Data Entry'!Y166)","v":""},"","",null,null,"","","",""]
["",{"$f":"IF('All Bill Data Entry'!A167=\"\",\"\",'All Bill Data Entry'!A167)","v":""},"","",{"$f":"IF('All Bill Data Entry'!L167=\"\",\"\",'All Bill Data Entry'!L167)","v":""},{"$f":"IF('All Bill Data Entry'!V167=\"\",\"\",'All Bill Data Entry'!V167)","v":""},{"$f":"IF('All Bill Data Entry'!N167=\"\",\"\",'All Bill Data Entry'!N167)","v":""},"",{"$f":"IF('All Bill Data Entry'!U167=\"\",\"\",'All Bill Data Entry'!U167)","v":""},{"$f":"IF('All Bill Data Entry'!B167=\"\",\"\",'All Bill Data Entry'!B167)","v":""},"",{"$f":"IF('All Bill Data Entry'!X167=\"\",\"\",'All Bill Data Entry'!X167)","v":""},"",{"$f":"IF('All Bill Data Entry'!D167=\"\",\"\",'All Bill Data Entry'!D167)","v":""},"",{"$f":"IF('All Bill Data Entry'!F167=\"\",\"\",'All Bill Data Entry'!F167)","v":""},{"$f":"IF('All Bill Data Entry'!G167=\"\",\"\",'All Bill Data Entry'!G167)","v":""},{"$f":"IF('All Bill Data Entry'!H167=\"\",\"\",'All Bill Data Entry'!H167)","v":""},{"$f":"IF('All Bill Data Entry'!J167=\"\",\"\",'All Bill Data Entry'!J167)","v":""},{"$f":"IF('All Bill Data Entry'!K167=\"\",\"\",'All Bill Data Entry'!K167)","v":""},{"$f":"IF('All Bill Data Entry'!I167=\"\",\"\",'All Bill Data Entry'!I167)","v":""},{"$f":"IF('All Bill Data Entry'!C167=\"\",\"\",'All Bill Data Entry'!C167)","v":""},{"$f":"IF($B162=\"\",\"\",'All Bill Data Entry'!Y167)","v":""},"","",null,null,"","","",""]
["",{"$f":"IF('All Bill Data Entry'!A168=\"\",\"\",'All Bill Data Entry'!A168)","v":""},"","",{"$f":"IF('All Bill Data Entry'!L168=\"\",\"\",'All Bill Data Entry'!L168)","v":""},{"$f":"IF('All Bill Data Entry'!V168=\"\",\"\",'All Bill Data Entry'!V168)","v":""},{"$f":"IF('All Bill Data Entry'!N168=\"\",\"\",'All Bill Data Entry'!N168)","v":""},"",{"$f":"IF('All Bill Data Entry'!U168=\"\",\"\",'All Bill Data Entry'!U168)","v":""},{"$f":"IF('All Bill Data Entry'!B168=\"\",\"\",'All Bill Data Entry'!B168)","v":""},"",{"$f":"IF('All Bill Data Entry'!X168=\"\",\"\",'All Bill Data Entry'!X168)","v":""},"",{"$f":"IF('All Bill Data Entry'!D168=\"\",\"\",'All Bill Data Entry'!D168)","v":""},"",{"$f":"IF('All Bill Data Entry'!F168=\"\",\"\",'All Bill Data Entry'!F168)","v":""},{"$f":"IF('All Bill Data Entry'!G168=\"\",\"\",'All Bill Data Entry'!G168)","v":""},{"$f":"IF('All Bill Data Entry'!H168=\"\",\"\",'All Bill Data Entry'!H168)","v":""},{"$f":"IF('All Bill Data Entry'!J168=\"\",\"\",'All Bill Data Entry'!J168)","v":""},{"$f":"IF('All Bill Data Entry'!K168=\"\",\"\",'All Bill Data Entry'!K168)","v":""},{"$f":"IF('All Bill Data Entry'!I168=\"\",\"\",'All Bill Data Entry'!I168)","v":""},{"$f":"IF('All Bill Data Entry'!C168=\"\",\"\",'All Bill Data Entry'!C168)","v":""},{"$f":"IF($B163=\"\",\"\",'All Bill Data Entry'!Y168)","v":""},"","",null,null,"","","",""]
["",{"$f":"IF('All Bill Data Entry'!A169=\"\",\"\",'All Bill Data Entry'!A169)","v":""},"","",{"$f":"IF('All Bill Data Entry'!L169=\"\",\"\",'All Bill Data Entry'!L169)","v":""},{"$f":"IF('All Bill Data Entry'!V169=\"\",\"\",'All Bill Data Entry'!V169)","v":""},{"$f":"IF('All Bill Data Entry'!N169=\"\",\"\",'All Bill Data Entry'!N169)","v":""},"",{"$f":"IF('All Bill Data Entry'!U169=\"\",\"\",'All Bill Data Entry'!U169)","v":""},{"$f":"IF('All Bill Data Entry'!B169=\"\",\"\",'All Bill Data Entry'!B169)","v":""},"",{"$f":"IF('All Bill Data Entry'!X169=\"\",\"\",'All Bill Data Entry'!X169)","v":""},"",{"$f":"IF('All Bill Data Entry'!D169=\"\",\"\",'All Bill Data Entry'!D169)","v":""},"",{"$f":"IF('All Bill Data Entry'!F169=\"\",\"\",'All Bill Data Entry'!F169)","v":""},{"$f":"IF('All Bill Data Entry'!G169=\"\",\"\",'All Bill Data Entry'!G169)","v":""},{"$f":"IF('All Bill Data Entry'!H169=\"\",\"\",'All Bill Data Entry'!H169)","v":""},{"$f":"IF('All Bill Data Entry'!J169=\"\",\"\",'All Bill Data Entry'!J169)","v":""},{"$f":"IF('All Bill Data Entry'!K169=\"\",\"\",'All Bill Data Entry'!K169)","v":""},{"$f":"IF('All Bill Data Entry'!I169=\"\",\"\",'All Bill Data Entry'!I169)","v":""},{"$f":"IF('All Bill Data Entry'!C169=\"\",\"\",'All Bill Data Entry'!C169)","v":""},{"$f":"IF($B164=\"\",\"\",'All Bill Data Entry'!Y169)","v":""},"","",null,null,"","","",""]
["",{"$f":"IF('All Bill Data Entry'!A170=\"\",\"\",'All Bill Data Entry'!A170)","v":""},"","",{"$f":"IF('All Bill Data Entry'!L170=\"\",\"\",'All Bill Data Entry'!L170)","v":""},{"$f":"IF('All Bill Data Entry'!V170=\"\",\"\",'All Bill Data Entry'!V170)","v":""},{"$f":"IF('All Bill Data Entry'!N170=\"\",\"\",'All Bill Data Entry'!N170)","v":""},"",{"$f":"IF('All Bill Data Entry'!U170=\"\",\"\",'All Bill Data Entry'!U170)","v":""},{"$f":"IF('All Bill Data Entry'!B170=\"\",\"\",'All Bill Data Entry'!B170)","v":""},"",{"$f":"IF('All Bill Data Entry'!X170=\"\",\"\",'All Bill Data Entry'!X170)","v":""},"",{"$f":"IF('All Bill Data Entry'!D170=\"\",\"\",'All Bill Data Entry'!D170)","v":""},"",{"$f":"IF('All Bill Data Entry'!F170=\"\",\"\",'All Bill Data Entry'!F170)","v":""},{"$f":"IF('All Bill Data Entry'!G170=\"\",\"\",'All Bill Data Entry'!G170)","v":""},{"$f":"IF('All Bill Data Entry'!H170=\"\",\"\",'All Bill Data Entry'!H170)","v":""},{"$f":"IF('All Bill Data Entry'!J170=\"\",\"\",'All Bill Data Entry'!J170)","v":""},{"$f":"IF('All Bill Data Entry'!K170=\"\",\"\",'All Bill Data Entry'!K170)","v":""},{"$f":"IF('All Bill Data Entry'!I170=\"\",\"\",'All Bill Data Entry'!I170)","v":""},{"$f":"IF('All Bill Data Entry'!C170=\"\",\"\",'All Bill Data Entry'!C170)","v":""},{"$f":"IF($B165=\"\",\"\",'All Bill Data Entry'!Y170)","v":""},"","",null,null,"","","",""]
["",{"$f":"IF('All Bill Data Entry'!A171=\"\",\"\",'All Bill Data Entry'!A171)","v":""},"","",{"$f":"IF('All Bill Data Entry'!L171=\"\",\"\",'All Bill Data Entry'!L171)","v":""},{"$f":"IF('All Bill Data Entry'!V171=\"\",\"\",'All Bill Data Entry'!V171)","v":""},{"$f":"IF('All Bill Data Entry'!N171=\"\",\"\",'All Bill Data Entry'!N171)","v":""},"",{"$f":"IF('All Bill Data Entry'!U171=\"\",\"\",'All Bill Data Entry'!U171)","v":""},{"$f":"IF('All Bill Data Entry'!B171=\"\",\"\",'All Bill Data Entry'!B171)","v":""},"",{"$f":"IF('All Bill Data Entry'!X171=\"\",\"\",'All Bill Data Entry'!X171)","v":""},"",{"$f":"IF('All Bill Data Entry'!D171=\"\",\"\",'All Bill Data Entry'!D171)","v":""},"",{"$f":"IF('All Bill Data Entry'!F171=\"\",\"\",'All Bill Data Entry'!F171)","v":""},{"$f":"IF('All Bill Data Entry'!G171=\"\",\"\",'All Bill Data Entry'!G171)","v":""},{"$f":"IF('All Bill Data Entry'!H171=\"\",\"\",'All Bill Data Entry'!H171)","v":""},{"$f":"IF('All Bill Data Entry'!J171=\"\",\"\",'All Bill Data Entry'!J171)","v":""},{"$f":"IF('All Bill Data Entry'!K171=\"\",\"\",'All Bill Data Entry'!K171)","v":""},{"$f":"IF('All Bill Data Entry'!I171=\"\",\"\",'All Bill Data Entry'!I171)","v":""},{"$f":"IF('All Bill Data Entry'!C171=\"\",\"\",'All Bill Data Entry'!C171)","v":""},{"$f":"IF($B166=\"\",\"\",'All Bill Data Entry'!Y171)","v":""},"","",null,null,"","","",""]
["",{"$f":"IF('All Bill Data Entry'!A172=\"\",\"\",'All Bill Data Entry'!A172)","v":""},"","",{"$f":"IF('All Bill Data Entry'!L172=\"\",\"\",'All Bill Data Entry'!L172)","v":""},{"$f":"IF('All Bill Data Entry'!V172=\"\",\"\",'All Bill Data Entry'!V172)","v":""},{"$f":"IF('All Bill Data Entry'!N172=\"\",\"\",'All Bill Data Entry'!N172)","v":""},"",{"$f":"IF('All Bill Data Entry'!U172=\"\",\"\",'All Bill Data Entry'!U172)","v":""},{"$f":"IF('All Bill Data Entry'!B172=\"\",\"\",'All Bill Data Entry'!B172)","v":""},"",{"$f":"IF('All Bill Data Entry'!X172=\"\",\"\",'All Bill Data Entry'!X172)","v":""},"",{"$f":"IF('All Bill Data Entry'!D172=\"\",\"\",'All Bill Data Entry'!D172)","v":""},"",{"$f":"IF('All Bill Data Entry'!F172=\"\",\"\",'All Bill Data Entry'!F172)","v":""},{"$f":"IF('All Bill Data Entry'!G172=\"\",\"\",'All Bill Data Entry'!G172)","v":""},{"$f":"IF('All Bill Data Entry'!H172=\"\",\"\",'All Bill Data Entry'!H172)","v":""},{"$f":"IF('All Bill Data Entry'!J172=\"\",\"\",'All Bill Data Entry'!J172)","v":""},{"$f":"IF('All Bill Data Entry'!K172=\"\",\"\",'All Bill Data Entry'!K172)","v":""},{"$f":"IF('All Bill Data Entry'!I172=\"\",\"\",'All Bill Data Entry'!I172)","v":""},{"$f":"IF('All Bill Data Entry'!C172=\"\",\"\",'All Bill Data Entry'!C172)","v":""},{"$f":"IF($B167=\"\",\"\",'All Bill Data Entry'!Y172)","v":""},"","",null,null,"","","",""]
["",{"$f":"IF('All Bill Data Entry'!A173=\"\",\"\",'All Bill Data Entry'!A173)","v":""},"","",{"$f":"IF('All Bill Data Entry'!L173=\"\",\"\",'All Bill Data Entry'!L173)","v":""},{"$f":"IF('All Bill Data Entry'!V173=\"\",\"\",'All Bill Data Entry'!V173)","v":""},{"$f":"IF('All Bill Data Entry'!N173=\"\",\"\",'All Bill Data Entry'!N173)","v":""},"",{"$f":"IF('All Bill Data Entry'!U173=\"\",\"\",'All Bill Data Entry'!U173)","v":""},{"$f":"IF('All Bill Data Entry'!B173=\"\",\"\",'All Bill Data Entry'!B173)","v":""},"",{"$f":"IF('All Bill Data Entry'!X173=\"\",\"\",'All Bill Data Entry'!X173)","v":""},"",{"$f":"IF('All Bill Data Entry'!D173=\"\",\"\",'All Bill Data Entry'!D173)","v":""},"",{"$f":"IF('All Bill Data Entry'!F173=\"\",\"\",'All Bill Data Entry'!F173)","v":""},{"$f":"IF('All Bill Data Entry'!G173=\"\",\"\",'All Bill Data Entry'!G173)","v":""},{"$f":"IF('All Bill Data Entry'!H173=\"\",\"\",'All Bill Data Entry'!H173)","v":""},{"$f":"IF('All Bill Data Entry'!J173=\"\",\"\",'All Bill Data Entry'!J173)","v":""},{"$f":"IF('All Bill Data Entry'!K173=\"\",\"\",'All Bill Data Entry'!K173)","v":""},{"$f":"IF('All Bill Data Entry'!I173=\"\",\"\",'All Bill Data Entry'!I173)","v":""},{"$f":"IF('All Bill Data Entry'!C173=\"\",\"\",'All Bill Data Entry'!C173)","v":""},{"$f":"IF($B168=\"\",\"\",'All Bill Data Entry'!Y173)","v":""},"","",null,null,"","","",""]
["",{"$f":"IF('All Bill Data Entry'!A174=\"\",\"\",'All Bill Data Entry'!A174)","v":""},"","",{"$f":"IF('All Bill Data Entry'!L174=\"\",\"\",'All Bill Data Entry'!L174)","v":""},{"$f":"IF('All Bill Data Entry'!V174=\"\",\"\",'All Bill Data Entry'!V174)","v":""},{"$f":"IF('All Bill Data Entry'!N174=\"\",\"\",'All Bill Data Entry'!N174)","v":""},"",{"$f":"IF('All Bill Data Entry'!U174=\"\",\"\",'All Bill Data Entry'!U174)","v":""},{"$f":"IF('All Bill Data Entry'!B174=\"\",\"\",'All Bill Data Entry'!B174)","v":""},"",{"$f":"IF('All Bill Data Entry'!X174=\"\",\"\",'All Bill Data Entry'!X174)","v":""},"",{"$f":"IF('All Bill Data Entry'!D174=\"\",\"\",'All Bill Data Entry'!D174)","v":""},"",{"$f":"IF('All Bill Data Entry'!F174=\"\",\"\",'All Bill Data Entry'!F174)","v":""},{"$f":"IF('All Bill Data Entry'!G174=\"\",\"\",'All Bill Data Entry'!G174)","v":""},{"$f":"IF('All Bill Data Entry'!H174=\"\",\"\",'All Bill Data Entry'!H174)","v":""},{"$f":"IF('All Bill Data Entry'!J174=\"\",\"\",'All Bill Data Entry'!J174)","v":""},{"$f":"IF('All Bill Data Entry'!K174=\"\",\"\",'All Bill Data Entry'!K174)","v":""},{"$f":"IF('All Bill Data Entry'!I174=\"\",\"\",'All Bill Data Entry'!I174)","v":""},{"$f":"IF('All Bill Data Entry'!C174=\"\",\"\",'All Bill Data Entry'!C174)","v":""},{"$f":"IF($B169=\"\",\"\",'All Bill Data Entry'!Y174)","v":""},"","",null,null,"","","",""]
["",{"$f":"IF('All Bill Data Entry'!A175=\"\",\"\",'All Bill Data Entry'!A175)","v":""},"","",{"$f":"IF('All Bill Data Entry'!L175=\"\",\"\",'All Bill Data Entry'!L175)","v":""},{"$f":"IF('All Bill Data Entry'!V175=\"\",\"\",'All Bill Data Entry'!V175)","v":""},{"$f":"IF('All Bill Data Entry'!N175=\"\",\"\",'All Bill Data Entry'!N175)","v":""},"",{"$f":"IF('All Bill Data Entry'!U175=\"\",\"\",'All Bill Data Entry'!U175)","v":""},{"$f":"IF('All Bill Data Entry'!B175=\"\",\"\",'All Bill Data Entry'!B175)","v":""},"",{"$f":"IF('All Bill Data Entry'!X175=\"\",\"\",'All Bill Data Entry'!X175)","v":""},"",{"$f":"IF('All Bill Data Entry'!D175=\"\",\"\",'All Bill Data Entry'!D175)","v":""},"",{"$f":"IF('All Bill Data Entry'!F175=\"\",\"\",'All Bill Data Entry'!F175)","v":""},{"$f":"IF('All Bill Data Entry'!G175=\"\",\"\",'All Bill Data Entry'!G175)","v":""},{"$f":"IF('All Bill Data Entry'!H175=\"\",\"\",'All Bill Data Entry'!H175)","v":""},{"$f":"IF('All Bill Data Entry'!J175=\"\",\"\",'All Bill Data Entry'!J175)","v":""},{"$f":"IF('All Bill Data Entry'!K175=\"\",\"\",'All Bill Data Entry'!K175)","v":""},{"$f":"IF('All Bill Data Entry'!I175=\"\",\"\",'All Bill Data Entry'!I175)","v":""},{"$f":"IF('All Bill Data Entry'!C175=\"\",\"\",'All Bill Data Entry'!C175)","v":""},{"$f":"IF($B170=\"\",\"\",'All Bill Data Entry'!Y175)","v":""},"","",null,null,"","","",""]
["",{"$f":"IF('All Bill Data Entry'!A176=\"\",\"\",'All Bill Data Entry'!A176)","v":""},"","",{"$f":"IF('All Bill Data Entry'!L176=\"\",\"\",'All Bill Data Entry'!L176)","v":""},{"$f":"IF('All Bill Data Entry'!V176=\"\",\"\",'All Bill Data Entry'!V176)","v":""},{"$f":"IF('All Bill Data Entry'!N176=\"\",\"\",'All Bill Data Entry'!N176)","v":""},"",{"$f":"IF('All Bill Data Entry'!U176=\"\",\"\",'All Bill Data Entry'!U176)","v":""},{"$f":"IF('All Bill Data Entry'!B176=\"\",\"\",'All Bill Data Entry'!B176)","v":""},"",{"$f":"IF('All Bill Data Entry'!X176=\"\",\"\",'All Bill Data Entry'!X176)","v":""},"",{"$f":"IF('All Bill Data Entry'!D176=\"\",\"\",'All Bill Data Entry'!D176)","v":""},"",{"$f":"IF('All Bill Data Entry'!F176=\"\",\"\",'All Bill Data Entry'!F176)","v":""},{"$f":"IF('All Bill Data Entry'!G176=\"\",\"\",'All Bill Data Entry'!G176)","v":""},{"$f":"IF('All Bill Data Entry'!H176=\"\",\"\",'All Bill Data Entry'!H176)","v":""},{"$f":"IF('All Bill Data Entry'!J176=\"\",\"\",'All Bill Data Entry'!J176)","v":""},{"$f":"IF('All Bill Data Entry'!K176=\"\",\"\",'All Bill Data Entry'!K176)","v":""},{"$f":"IF('All Bill Data Entry'!I176=\"\",\"\",'All Bill Data Entry'!I176)","v":""},{"$f":"IF('All Bill Data Entry'!C176=\"\",\"\",'All Bill Data Entry'!C176)","v":""},{"$f":"IF($B171=\"\",\"\",'All Bill Data Entry'!Y176)","v":""},"","",null,null,"","","",""]
["",{"$f":"IF('All Bill Data Entry'!A177=\"\",\"\",'All Bill Data Entry'!A177)","v":""},"","",{"$f":"IF('All Bill Data Entry'!L177=\"\",\"\",'All Bill Data Entry'!L177)","v":""},{"$f":"IF('All Bill Data Entry'!V177=\"\",\"\",'All Bill Data Entry'!V177)","v":""},{"$f":"IF('All Bill Data Entry'!N177=\"\",\"\",'All Bill Data Entry'!N177)","v":""},"",{"$f":"IF('All Bill Data Entry'!U177=\"\",\"\",'All Bill Data Entry'!U177)","v":""},{"$f":"IF('All Bill Data Entry'!B177=\"\",\"\",'All Bill Data Entry'!B177)","v":""},"",{"$f":"IF('All Bill Data Entry'!X177=\"\",\"\",'All Bill Data Entry'!X177)","v":""},"",{"$f":"IF('All Bill Data Entry'!D177=\"\",\"\",'All Bill Data Entry'!D177)","v":""},"",{"$f":"IF('All Bill Data Entry'!F177=\"\",\"\",'All Bill Data Entry'!F177)","v":""},{"$f":"IF('All Bill Data Entry'!G177=\"\",\"\",'All Bill Data Entry'!G177)","v":""},{"$f":"IF('All Bill Data Entry'!H177=\"\",\"\",'All Bill Data Entry'!H177)","v":""},{"$f":"IF('All Bill Data Entry'!J177=\"\",\"\",'All Bill Data Entry'!J177)","v":""},{"$f":"IF('All Bill Data Entry'!K177=\"\",\"\",'All Bill Data Entry'!K177)","v":""},{"$f":"IF('All Bill Data Entry'!I177=\"\",\"\",'All Bill Data Entry'!I177)","v":""},{"$f":"IF('All Bill Data Entry'!C177=\"\",\"\",'All Bill Data Entry'!C177)","v":""},{"$f":"IF($B172=\"\",\"\",'All Bill Data Entry'!Y177)","v":""},"","",null,null,"","","",""]
["",{"$f":"IF('All Bill Data Entry'!A178=\"\",\"\",'All Bill Data Entry'!A178)","v":""},"","",{"$f":"IF('All Bill Data Entry'!L178=\"\",\"\",'All Bill Data Entry'!L178)","v":""},{"$f":"IF('All Bill Data Entry'!V178=\"\",\"\",'All Bill Data Entry'!V178)","v":""},{"$f":"IF('All Bill Data Entry'!N178=\"\",\"\",'All Bill Data Entry'!N178)","v":""},"",{"$f":"IF('All Bill Data Entry'!U178=\"\",\"\",'All Bill Data Entry'!U178)","v":""},{"$f":"IF('All Bill Data Entry'!B178=\"\",\"\",'All Bill Data Entry'!B178)","v":""},"",{"$f":"IF('All Bill Data Entry'!X178=\"\",\"\",'All Bill Data Entry'!X178)","v":""},"",{"$f":"IF('All Bill Data Entry'!D178=\"\",\"\",'All Bill Data Entry'!D178)","v":""},"",{"$f":"IF('All Bill Data Entry'!F178=\"\",\"\",'All Bill Data Entry'!F178)","v":""},{"$f":"IF('All Bill Data Entry'!G178=\"\",\"\",'All Bill Data Entry'!G178)","v":""},{"$f":"IF('All Bill Data Entry'!H178=\"\",\"\",'All Bill Data Entry'!H178)","v":""},{"$f":"IF('All Bill Data Entry'!J178=\"\",\"\",'All Bill Data Entry'!J178)","v":""},{"$f":"IF('All Bill Data Entry'!K178=\"\",\"\",'All Bill Data Entry'!K178)","v":""},{"$f":"IF('All Bill Data Entry'!I178=\"\",\"\",'All Bill Data Entry'!I178)","v":""},{"$f":"IF('All Bill Data Entry'!C178=\"\",\"\",'All Bill Data Entry'!C178)","v":""},{"$f":"IF($B173=\"\",\"\",'All Bill Data Entry'!Y178)","v":""},"","",null,null,"","","",""]
["",{"$f":"IF('All Bill Data Entry'!A179=\"\",\"\",'All Bill Data Entry'!A179)","v":""},"","",{"$f":"IF('All Bill Data Entry'!L179=\"\",\"\",'All Bill Data Entry'!L179)","v":""},{"$f":"IF('All Bill Data Entry'!V179=\"\",\"\",'All Bill Data Entry'!V179)","v":""},{"$f":"IF('All Bill Data Entry'!N179=\"\",\"\",'All Bill Data Entry'!N179)","v":""},"",{"$f":"IF('All Bill Data Entry'!U179=\"\",\"\",'All Bill Data Entry'!U179)","v":""},{"$f":"IF('All Bill Data Entry'!B179=\"\",\"\",'All Bill Data Entry'!B179)","v":""},"",{"$f":"IF('All Bill Data Entry'!X179=\"\",\"\",'All Bill Data Entry'!X179)","v":""},"",{"$f":"IF('All Bill Data Entry'!D179=\"\",\"\",'All Bill Data Entry'!D179)","v":""},"",{"$f":"IF('All Bill Data Entry'!F179=\"\",\"\",'All Bill Data Entry'!F179)","v":""},{"$f":"IF('All Bill Data Entry'!G179=\"\",\"\",'All Bill Data Entry'!G179)","v":""},{"$f":"IF('All Bill Data Entry'!H179=\"\",\"\",'All Bill Data Entry'!H179)","v":""},{"$f":"IF('All Bill Data Entry'!J179=\"\",\"\",'All Bill Data Entry'!J179)","v":""},{"$f":"IF('All Bill Data Entry'!K179=\"\",\"\",'All Bill Data Entry'!K179)","v":""},{"$f":"IF('All Bill Data Entry'!I179=\"\",\"\",'All Bill Data Entry'!I179)","v":""},{"$f":"IF('All Bill Data Entry'!C179=\"\",\"\",'All Bill Data Entry'!C179)","v":""},{"$f":"IF($B174=\"\",\"\",'All Bill Data Entry'!Y179)","v":""},"","",null,null,"","","",""]
["",{"$f":"IF('All Bill Data Entry'!A180=\"\",\"\",'All Bill Data Entry'!A180)","v":""},"","",{"$f":"IF('All Bill Data Entry'!L180=\"\",\"\",'All Bill Data Entry'!L180)","v":""},{"$f":"IF('All Bill Data Entry'!V180=\"\",\"\",'All Bill Data Entry'!V180)","v":""},{"$f":"IF('All Bill Data Entry'!N180=\"\",\"\",'All Bill Data Entry'!N180)","v":""},"",{"$f":"IF('All Bill Data Entry'!U180=\"\",\"\",'All Bill Data Entry'!U180)","v":""},{"$f":"IF('All Bill Data Entry'!B180=\"\",\"\",'All Bill Data Entry'!B180)","v":""},"",{"$f":"IF('All Bill Data Entry'!X180=\"\",\"\",'All Bill Data Entry'!X180)","v":""},"",{"$f":"IF('All Bill Data Entry'!D180=\"\",\"\",'All Bill Data Entry'!D180)","v":""},"",{"$f":"IF('All Bill Data Entry'!F180=\"\",\"\",'All Bill Data Entry'!F180)","v":""},{"$f":"IF('All Bill Data Entry'!G180=\"\",\"\",'All Bill Data Entry'!G180)","v":""},{"$f":"IF('All Bill Data Entry'!H180=\"\",\"\",'All Bill Data Entry'!H180)","v":""},{"$f":"IF('All Bill Data Entry'!J180=\"\",\"\",'All Bill Data Entry'!J180)","v":""},{"$f":"IF('All Bill Data Entry'!K180=\"\",\"\",'All Bill Data Entry'!K180)","v":""},{"$f":"IF('All Bill Data Entry'!I180=\"\",\"\",'All Bill Data Entry'!I180)","v":""},{"$f":"IF('All Bill Data Entry'!C180=\"\",\"\",'All Bill Data Entry'!C180)","v":""},{"$f":"IF($B175=\"\",\"\",'All Bill Data Entry'!Y180)","v":""},"","",null,null,"","","",""]
["",{"$f":"IF('All Bill Data Entry'!A181=\"\",\"\",'All Bill Data Entry'!A181)","v":""},"","",{"$f":"IF('All Bill Data Entry'!L181=\"\",\"\",'All Bill Data Entry'!L181)","v":""},{"$f":"IF('All Bill Data Entry'!V181=\"\",\"\",'All Bill Data Entry'!V181)","v":""},{"$f":"IF('All Bill Data Entry'!N181=\"\",\"\",'All Bill Data Entry'!N181)","v":""},"",{"$f":"IF('All Bill Data Entry'!U181=\"\",\"\",'All Bill Data Entry'!U181)","v":""},{"$f":"IF('All Bill Data Entry'!B181=\"\",\"\",'All Bill Data Entry'!B181)","v":""},"",{"$f":"IF('All Bill Data Entry'!X181=\"\",\"\",'All Bill Data Entry'!X181)","v":""},"",{"$f":"IF('All Bill Data Entry'!D181=\"\",\"\",'All Bill Data Entry'!D181)","v":""},"",{"$f":"IF('All Bill Data Entry'!F181=\"\",\"\",'All Bill Data Entry'!F181)","v":""},{"$f":"IF('All Bill Data Entry'!G181=\"\",\"\",'All Bill Data Entry'!G181)","v":""},{"$f":"IF('All Bill Data Entry'!H181=\"\",\"\",'All Bill Data Entry'!H181)","v":""},{"$f":"IF('All Bill Data Entry'!J181=\"\",\"\",'All Bill Data Entry'!J181)","v":""},{"$f":"IF('All Bill Data Entry'!K181=\"\",\"\",'All Bill Data Entry'!K181)","v":""},{"$f":"IF('All Bill Data Entry'!I181=\"\",\"\",'All Bill Data Entry'!I181)","v":""},{"$f":"IF('All Bill Data Entry'!C181=\"\",\"\",'All Bill Data Entry'!C181)","v":""},{"$f":"IF($B176=\"\",\"\",'All Bill Data Entry'!Y181)","v":""},"","",null,null,"","","",""]
["",{"$f":"IF('All Bill Data Entry'!A182=\"\",\"\",'All Bill Data Entry'!A182)","v":""},"","",{"$f":"IF('All Bill Data Entry'!L182=\"\",\"\",'All Bill Data Entry'!L182)","v":""},{"$f":"IF('All Bill Data Entry'!V182=\"\",\"\",'All Bill Data Entry'!V182)","v":""},{"$f":"IF('All Bill Data Entry'!N182=\"\",\"\",'All Bill Data Entry'!N182)","v":""},"",{"$f":"IF('All Bill Data Entry'!U182=\"\",\"\",'All Bill Data Entry'!U182)","v":""},{"$f":"IF('All Bill Data Entry'!B182=\"\",\"\",'All Bill Data Entry'!B182)","v":""},"",{"$f":"IF('All Bill Data Entry'!X182=\"\",\"\",'All Bill Data Entry'!X182)","v":""},"",{"$f":"IF('All Bill Data Entry'!D182=\"\",\"\",'All Bill Data Entry'!D182)","v":""},"",{"$f":"IF('All Bill Data Entry'!F182=\"\",\"\",'All Bill Data Entry'!F182)","v":""},{"$f":"IF('All Bill Data Entry'!G182=\"\",\"\",'All Bill Data Entry'!G182)","v":""},{"$f":"IF('All Bill Data Entry'!H182=\"\",\"\",'All Bill Data Entry'!H182)","v":""},{"$f":"IF('All Bill Data Entry'!J182=\"\",\"\",'All Bill Data Entry'!J182)","v":""},{"$f":"IF('All Bill Data Entry'!K182=\"\",\"\",'All Bill Data Entry'!K182)","v":""},{"$f":"IF('All Bill Data Entry'!I182=\"\",\"\",'All Bill Data Entry'!I182)","v":""},{"$f":"IF('All Bill Data Entry'!C182=\"\",\"\",'All Bill Data Entry'!C182)","v":""},{"$f":"IF($B177=\"\",\"\",'All Bill Data Entry'!Y182)","v":""},"","",null,null,"","","",""]
["",{"$f":"IF('All Bill Data Entry'!A183=\"\",\"\",'All Bill Data Entry'!A183)","v":""},"","",{"$f":"IF('All Bill Data Entry'!L183=\"\",\"\",'All Bill Data Entry'!L183)","v":""},{"$f":"IF('All Bill Data Entry'!V183=\"\",\"\",'All Bill Data Entry'!V183)","v":""},{"$f":"IF('All Bill Data Entry'!N183=\"\",\"\",'All Bill Data Entry'!N183)","v":""},"",{"$f":"IF('All Bill Data Entry'!U183=\"\",\"\",'All Bill Data Entry'!U183)","v":""},{"$f":"IF('All Bill Data Entry'!B183=\"\",\"\",'All Bill Data Entry'!B183)","v":""},"",{"$f":"IF('All Bill Data Entry'!X183=\"\",\"\",'All Bill Data Entry'!X183)","v":""},"",{"$f":"IF('All Bill Data Entry'!D183=\"\",\"\",'All Bill Data Entry'!D183)","v":""},"",{"$f":"IF('All Bill Data Entry'!F183=\"\",\"\",'All Bill Data Entry'!F183)","v":""},{"$f":"IF('All Bill Data Entry'!G183=\"\",\"\",'All Bill Data Entry'!G183)","v":""},{"$f":"IF('All Bill Data Entry'!H183=\"\",\"\",'All Bill Data Entry'!H183)","v":""},{"$f":"IF('All Bill Data Entry'!J183=\"\",\"\",'All Bill Data Entry'!J183)","v":""},{"$f":"IF('All Bill Data Entry'!K183=\"\",\"\",'All Bill Data Entry'!K183)","v":""},{"$f":"IF('All Bill Data Entry'!I183=\"\",\"\",'All Bill Data Entry'!I183)","v":""},{"$f":"IF('All Bill Data Entry'!C183=\"\",\"\",'All Bill Data Entry'!C183)","v":""},{"$f":"IF($B178=\"\",\"\",'All Bill Data Entry'!Y183)","v":""},"","",null,null,"","","",""]
["",{"$f":"IF('All Bill Data Entry'!A184=\"\",\"\",'All Bill Data Entry'!A184)","v":""},"","",{"$f":"IF('All Bill Data Entry'!L184=\"\",\"\",'All Bill Data Entry'!L184)","v":""},{"$f":"IF('All Bill Data Entry'!V184=\"\",\"\",'All Bill Data Entry'!V184)","v":""},{"$f":"IF('All Bill Data Entry'!N184=\"\",\"\",'All Bill Data Entry'!N184)","v":""},"",{"$f":"IF('All Bill Data Entry'!U184=\"\",\"\",'All Bill Data Entry'!U184)","v":""},{"$f":"IF('All Bill Data Entry'!B184=\"\",\"\",'All Bill Data Entry'!B184)","v":""},"",{"$f":"IF('All Bill Data Entry'!X184=\"\",\"\",'All Bill Data Entry'!X184)","v":""},"",{"$f":"IF('All Bill Data Entry'!D184=\"\",\"\",'All Bill Data Entry'!D184)","v":""},"",{"$f":"IF('All Bill Data Entry'!F184=\"\",\"\",'All Bill Data Entry'!F184)","v":""},{"$f":"IF('All Bill Data Entry'!G184=\"\",\"\",'All Bill Data Entry'!G184)","v":""},{"$f":"IF('All Bill Data Entry'!H184=\"\",\"\",'All Bill Data Entry'!H184)","v":""},{"$f":"IF('All Bill Data Entry'!J184=\"\",\"\",'All Bill Data Entry'!J184)","v":""},{"$f":"IF('All Bill Data Entry'!K184=\"\",\"\",'All Bill Data Entry'!K184)","v":""},{"$f":"IF('All Bill Data Entry'!I184=\"\",\"\",'All Bill Data Entry'!I184)","v":""},{"$f":"IF('All Bill Data Entry'!C184=\"\",\"\",'All Bill Data Entry'!C184)","v":""},{"$f":"IF($B179=\"\",\"\",'All Bill Data Entry'!Y184)","v":""},"","",null,null,"","","",""]
["",{"$f":"IF('All Bill Data Entry'!A185=\"\",\"\",'All Bill Data Entry'!A185)","v":""},"","",{"$f":"IF('All Bill Data Entry'!L185=\"\",\"\",'All Bill Data Entry'!L185)","v":""},{"$f":"IF('All Bill Data Entry'!V185=\"\",\"\",'All Bill Data Entry'!V185)","v":""},{"$f":"IF('All Bill Data Entry'!N185=\"\",\"\",'All Bill Data Entry'!N185)","v":""},"",{"$f":"IF('All Bill Data Entry'!U185=\"\",\"\",'All Bill Data Entry'!U185)","v":""},{"$f":"IF('All Bill Data Entry'!B185=\"\",\"\",'All Bill Data Entry'!B185)","v":""},"",{"$f":"IF('All Bill Data Entry'!X185=\"\",\"\",'All Bill Data Entry'!X185)","v":""},"",{"$f":"IF('All Bill Data Entry'!D185=\"\",\"\",'All Bill Data Entry'!D185)","v":""},"",{"$f":"IF('All Bill Data Entry'!F185=\"\",\"\",'All Bill Data Entry'!F185)","v":""},{"$f":"IF('All Bill Data Entry'!G185=\"\",\"\",'All Bill Data Entry'!G185)","v":""},{"$f":"IF('All Bill Data Entry'!H185=\"\",\"\",'All Bill Data Entry'!H185)","v":""},{"$f":"IF('All Bill Data Entry'!J185=\"\",\"\",'All Bill Data Entry'!J185)","v":""},{"$f":"IF('All Bill Data Entry'!K185=\"\",\"\",'All Bill Data Entry'!K185)","v":""},{"$f":"IF('All Bill Data Entry'!I185=\"\",\"\",'All Bill Data Entry'!I185)","v":""},{"$f":"IF('All Bill Data Entry'!C185=\"\",\"\",'All Bill Data Entry'!C185)","v":""},{"$f":"IF($B180=\"\",\"\",'All Bill Data Entry'!Y185)","v":""},"","",null,null,"","","",""]
["",{"$f":"IF('All Bill Data Entry'!A186=\"\",\"\",'All Bill Data Entry'!A186)","v":""},"","",{"$f":"IF('All Bill Data Entry'!L186=\"\",\"\",'All Bill Data Entry'!L186)","v":""},{"$f":"IF('All Bill Data Entry'!V186=\"\",\"\",'All Bill Data Entry'!V186)","v":""},{"$f":"IF('All Bill Data Entry'!N186=\"\",\"\",'All Bill Data Entry'!N186)","v":""},"",{"$f":"IF('All Bill Data Entry'!U186=\"\",\"\",'All Bill Data Entry'!U186)","v":""},{"$f":"IF('All Bill Data Entry'!B186=\"\",\"\",'All Bill Data Entry'!B186)","v":""},"",{"$f":"IF('All Bill Data Entry'!X186=\"\",\"\",'All Bill Data Entry'!X186)","v":""},"",{"$f":"IF('All Bill Data Entry'!D186=\"\",\"\",'All Bill Data Entry'!D186)","v":""},"",{"$f":"IF('All Bill Data Entry'!F186=\"\",\"\",'All Bill Data Entry'!F186)","v":""},{"$f":"IF('All Bill Data Entry'!G186=\"\",\"\",'All Bill Data Entry'!G186)","v":""},{"$f":"IF('All Bill Data Entry'!H186=\"\",\"\",'All Bill Data Entry'!H186)","v":""},{"$f":"IF('All Bill Data Entry'!J186=\"\",\"\",'All Bill Data Entry'!J186)","v":""},{"$f":"IF('All Bill Data Entry'!K186=\"\",\"\",'All Bill Data Entry'!K186)","v":""},{"$f":"IF('All Bill Data Entry'!I186=\"\",\"\",'All Bill Data Entry'!I186)","v":""},{"$f":"IF('All Bill Data Entry'!C186=\"\",\"\",'All Bill Data Entry'!C186)","v":""},{"$f":"IF($B181=\"\",\"\",'All Bill Data Entry'!Y186)","v":""},"","",null,null,"","","",""]
["",{"$f":"IF('All Bill Data Entry'!A187=\"\",\"\",'All Bill Data Entry'!A187)","v":""},"","",{"$f":"IF('All Bill Data Entry'!L187=\"\",\"\",'All Bill Data Entry'!L187)","v":""},{"$f":"IF('All Bill Data Entry'!V187=\"\",\"\",'All Bill Data Entry'!V187)","v":""},{"$f":"IF('All Bill Data Entry'!N187=\"\",\"\",'All Bill Data Entry'!N187)","v":""},"",{"$f":"IF('All Bill Data Entry'!U187=\"\",\"\",'All Bill Data Entry'!U187)","v":""},{"$f":"IF('All Bill Data Entry'!B187=\"\",\"\",'All Bill Data Entry'!B187)","v":""},"",{"$f":"IF('All Bill Data Entry'!X187=\"\",\"\",'All Bill Data Entry'!X187)","v":""},"",{"$f":"IF('All Bill Data Entry'!D187=\"\",\"\",'All Bill Data Entry'!D187)","v":""},"",{"$f":"IF('All Bill Data Entry'!F187=\"\",\"\",'All Bill Data Entry'!F187)","v":""},{"$f":"IF('All Bill Data Entry'!G187=\"\",\"\",'All Bill Data Entry'!G187)","v":""},{"$f":"IF('All Bill Data Entry'!H187=\"\",\"\",'All Bill Data Entry'!H187)","v":""},{"$f":"IF('All Bill Data Entry'!J187=\"\",\"\",'All Bill Data Entry'!J187)","v":""},{"$f":"IF('All Bill Data Entry'!K187=\"\",\"\",'All Bill Data Entry'!K187)","v":""},{"$f":"IF('All Bill Data Entry'!I187=\"\",\"\",'All Bill Data Entry'!I187)","v":""},{"$f":"IF('All Bill Data Entry'!C187=\"\",\"\",'All Bill Data Entry'!C187)","v":""},{"$f":"IF($B182=\"\",\"\",'All Bill Data Entry'!Y187)","v":""},"","",null,null,"","","",""]
["",{"$f":"IF('All Bill Data Entry'!A188=\"\",\"\",'All Bill Data Entry'!A188)","v":""},"","",{"$f":"IF('All Bill Data Entry'!L188=\"\",\"\",'All Bill Data Entry'!L188)","v":""},{"$f":"IF('All Bill Data Entry'!V188=\"\",\"\",'All Bill Data Entry'!V188)","v":""},{"$f":"IF('All Bill Data Entry'!N188=\"\",\"\",'All Bill Data Entry'!N188)","v":""},"",{"$f":"IF('All Bill Data Entry'!U188=\"\",\"\",'All Bill Data Entry'!U188)","v":""},{"$f":"IF('All Bill Data Entry'!B188=\"\",\"\",'All Bill Data Entry'!B188)","v":""},"",{"$f":"IF('All Bill Data Entry'!X188=\"\",\"\",'All Bill Data Entry'!X188)","v":""},"",{"$f":"IF('All Bill Data Entry'!D188=\"\",\"\",'All Bill Data Entry'!D188)","v":""},"",{"$f":"IF('All Bill Data Entry'!F188=\"\",\"\",'All Bill Data Entry'!F188)","v":""},{"$f":"IF('All Bill Data Entry'!G188=\"\",\"\",'All Bill Data Entry'!G188)","v":""},{"$f":"IF('All Bill Data Entry'!H188=\"\",\"\",'All Bill Data Entry'!H188)","v":""},{"$f":"IF('All Bill Data Entry'!J188=\"\",\"\",'All Bill Data Entry'!J188)","v":""},{"$f":"IF('All Bill Data Entry'!K188=\"\",\"\",'All Bill Data Entry'!K188)","v":""},{"$f":"IF('All Bill Data Entry'!I188=\"\",\"\",'All Bill Data Entry'!I188)","v":""},{"$f":"IF('All Bill Data Entry'!C188=\"\",\"\",'All Bill Data Entry'!C188)","v":""},{"$f":"IF($B183=\"\",\"\",'All Bill Data Entry'!Y188)","v":""},"","",null,null,"","","",""]
["",{"$f":"IF('All Bill Data Entry'!A189=\"\",\"\",'All Bill Data Entry'!A189)","v":""},"","",{"$f":"IF('All Bill Data Entry'!L189=\"\",\"\",'All Bill Data Entry'!L189)","v":""},{"$f":"IF('All Bill Data Entry'!V189=\"\",\"\",'All Bill Data Entry'!V189)","v":""},{"$f":"IF('All Bill Data Entry'!N189=\"\",\"\",'All Bill Data Entry'!N189)","v":""},"",{"$f":"IF('All Bill Data Entry'!U189=\"\",\"\",'All Bill Data Entry'!U189)","v":""},{"$f":"IF('All Bill Data Entry'!B189=\"\",\"\",'All Bill Data Entry'!B189)","v":""},"",{"$f":"IF('All Bill Data Entry'!X189=\"\",\"\",'All Bill Data Entry'!X189)","v":""},"",{"$f":"IF('All Bill Data Entry'!D189=\"\",\"\",'All Bill Data Entry'!D189)","v":""},"",{"$f":"IF('All Bill Data Entry'!F189=\"\",\"\",'All Bill Data Entry'!F189)","v":""},{"$f":"IF('All Bill Data Entry'!G189=\"\",\"\",'All Bill Data Entry'!G189)","v":""},{"$f":"IF('All Bill Data Entry'!H189=\"\",\"\",'All Bill Data Entry'!H189)","v":""},{"$f":"IF('All Bill Data Entry'!J189=\"\",\"\",'All Bill Data Entry'!J189)","v":""},{"$f":"IF('All Bill Data Entry'!K189=\"\",\"\",'All Bill Data Entry'!K189)","v":""},{"$f":"IF('All Bill Data Entry'!I189=\"\",\"\",'All Bill Data Entry'!I189)","v":""},{"$f":"IF('All Bill Data Entry'!C189=\"\",\"\",'All Bill Data Entry'!C189)","v":""},{"$f":"IF($B184=\"\",\"\",'All Bill Data Entry'!Y189)","v":""},"","",null,null,"","","",""]
["",{"$f":"IF('All Bill Data Entry'!A190=\"\",\"\",'All Bill Data Entry'!A190)","v":""},"","",{"$f":"IF('All Bill Data Entry'!L190=\"\",\"\",'All Bill Data Entry'!L190)","v":""},{"$f":"IF('All Bill Data Entry'!V190=\"\",\"\",'All Bill Data Entry'!V190)","v":""},{"$f":"IF('All Bill Data Entry'!N190=\"\",\"\",'All Bill Data Entry'!N190)","v":""},"",{"$f":"IF('All Bill Data Entry'!U190=\"\",\"\",'All Bill Data Entry'!U190)","v":""},{"$f":"IF('All Bill Data Entry'!B190=\"\",\"\",'All Bill Data Entry'!B190)","v":""},"",{"$f":"IF('All Bill Data Entry'!X190=\"\",\"\",'All Bill Data Entry'!X190)","v":""},"",{"$f":"IF('All Bill Data Entry'!D190=\"\",\"\",'All Bill Data Entry'!D190)","v":""},"",{"$f":"IF('All Bill Data Entry'!F190=\"\",\"\",'All Bill Data Entry'!F190)","v":""},{"$f":"IF('All Bill Data Entry'!G190=\"\",\"\",'All Bill Data Entry'!G190)","v":""},{"$f":"IF('All Bill Data Entry'!H190=\"\",\"\",'All Bill Data Entry'!H190)","v":""},{"$f":"IF('All Bill Data Entry'!J190=\"\",\"\",'All Bill Data Entry'!J190)","v":""},{"$f":"IF('All Bill Data Entry'!K190=\"\",\"\",'All Bill Data Entry'!K190)","v":""},{"$f":"IF('All Bill Data Entry'!I190=\"\",\"\",'All Bill Data Entry'!I190)","v":""},{"$f":"IF('All Bill Data Entry'!C190=\"\",\"\",'All Bill Data Entry'!C190)","v":""},{"$f":"IF($B185=\"\",\"\",'All Bill Data Entry'!Y190)","v":""},"","",null,null,"","","",""]
["",{"$f":"IF('All Bill Data Entry'!A191=\"\",\"\",'All Bill Data Entry'!A191)","v":""},"","",{"$f":"IF('All Bill Data Entry'!L191=\"\",\"\",'All Bill Data Entry'!L191)","v":""},{"$f":"IF('All Bill Data Entry'!V191=\"\",\"\",'All Bill Data Entry'!V191)","v":""},{"$f":"IF('All Bill Data Entry'!N191=\"\",\"\",'All Bill Data Entry'!N191)","v":""},"",{"$f":"IF('All Bill Data Entry'!U191=\"\",\"\",'All Bill Data Entry'!U191)","v":""},{"$f":"IF('All Bill Data Entry'!B191=\"\",\"\",'All Bill Data Entry'!B191)","v":""},"",{"$f":"IF('All Bill Data Entry'!X191=\"\",\"\",'All Bill Data Entry'!X191)","v":""},"",{"$f":"IF('All Bill Data Entry'!D191=\"\",\"\",'All Bill Data Entry'!D191)","v":""},"",{"$f":"IF('All Bill Data Entry'!F191=\"\",\"\",'All Bill Data Entry'!F191)","v":""},{"$f":"IF('All Bill Data Entry'!G191=\"\",\"\",'All Bill Data Entry'!G191)","v":""},{"$f":"IF('All Bill Data Entry'!H191=\"\",\"\",'All Bill Data Entry'!H191)","v":""},{"$f":"IF('All Bill Data Entry'!J191=\"\",\"\",'All Bill Data Entry'!J191)","v":""},{"$f":"IF('All Bill Data Entry'!K191=\"\",\"\",'All Bill Data Entry'!K191)","v":""},{"$f":"IF('All Bill Data Entry'!I191=\"\",\"\",'All Bill Data Entry'!I191)","v":""},{"$f":"IF('All Bill Data Entry'!C191=\"\",\"\",'All Bill Data Entry'!C191)","v":""},{"$f":"IF($B186=\"\",\"\",'All Bill Data Entry'!Y191)","v":""},"","",null,null,"","","",""]
["",{"$f":"IF('All Bill Data Entry'!A192=\"\",\"\",'All Bill Data Entry'!A192)","v":""},"","",{"$f":"IF('All Bill Data Entry'!L192=\"\",\"\",'All Bill Data Entry'!L192)","v":""},{"$f":"IF('All Bill Data Entry'!V192=\"\",\"\",'All Bill Data Entry'!V192)","v":""},{"$f":"IF('All Bill Data Entry'!N192=\"\",\"\",'All Bill Data Entry'!N192)","v":""},"",{"$f":"IF('All Bill Data Entry'!U192=\"\",\"\",'All Bill Data Entry'!U192)","v":""},{"$f":"IF('All Bill Data Entry'!B192=\"\",\"\",'All Bill Data Entry'!B192)","v":""},"",{"$f":"IF('All Bill Data Entry'!X192=\"\",\"\",'All Bill Data Entry'!X192)","v":""},"",{"$f":"IF('All Bill Data Entry'!D192=\"\",\"\",'All Bill Data Entry'!D192)","v":""},"",{"$f":"IF('All Bill Data Entry'!F192=\"\",\"\",'All Bill Data Entry'!F192)","v":""},{"$f":"IF('All Bill Data Entry'!G192=\"\",\"\",'All Bill Data Entry'!G192)","v":""},{"$f":"IF('All Bill Data Entry'!H192=\"\",\"\",'All Bill Data Entry'!H192)","v":""},{"$f":"IF('All Bill Data Entry'!J192=\"\",\"\",'All Bill Data Entry'!J192)","v":""},{"$f":"IF('All Bill Data Entry'!K192=\"\",\"\",'All Bill Data Entry'!K192)","v":""},{"$f":"IF('All Bill Data Entry'!I192=\"\",\"\",'All Bill Data Entry'!I192)","v":""},{"$f":"IF('All Bill Data Entry'!C192=\"\",\"\",'All Bill Data Entry'!C192)","v":""},{"$f":"IF($B187=\"\",\"\",'All Bill Data Entry'!Y192)","v":""},"","",null,null,"","","",""]
["",{"$f":"IF('All Bill Data Entry'!A193=\"\",\"\",'All Bill Data Entry'!A193)","v":""},"","",{"$f":"IF('All Bill Data Entry'!L193=\"\",\"\",'All Bill Data Entry'!L193)","v":""},{"$f":"IF('All Bill Data Entry'!V193=\"\",\"\",'All Bill Data Entry'!V193)","v":""},{"$f":"IF('All Bill Data Entry'!N193=\"\",\"\",'All Bill Data Entry'!N193)","v":""},"",{"$f":"IF('All Bill Data Entry'!U193=\"\",\"\",'All Bill Data Entry'!U193)","v":""},{"$f":"IF('All Bill Data Entry'!B193=\"\",\"\",'All Bill Data Entry'!B193)","v":""},"",{"$f":"IF('All Bill Data Entry'!X193=\"\",\"\",'All Bill Data Entry'!X193)","v":""},"",{"$f":"IF('All Bill Data Entry'!D193=\"\",\"\",'All Bill Data Entry'!D193)","v":""},"",{"$f":"IF('All Bill Data Entry'!F193=\"\",\"\",'All Bill Data Entry'!F193)","v":""},{"$f":"IF('All Bill Data Entry'!G193=\"\",\"\",'All Bill Data Entry'!G193)","v":""},{"$f":"IF('All Bill Data Entry'!H193=\"\",\"\",'All Bill Data Entry'!H193)","v":""},{"$f":"IF('All Bill Data Entry'!J193=\"\",\"\",'All Bill Data Entry'!J193)","v":""},{"$f":"IF('All Bill Data Entry'!K193=\"\",\"\",'All Bill Data Entry'!K193)","v":""},{"$f":"IF('All Bill Data Entry'!I193=\"\",\"\",'All Bill Data Entry'!I193)","v":""},{"$f":"IF('All Bill Data Entry'!C193=\"\",\"\",'All Bill Data Entry'!C193)","v":""},{"$f":"IF($B188=\"\",\"\",'All Bill Data Entry'!Y193)","v":""},"","",null,null,"","","",""]
["",{"$f":"IF('All Bill Data Entry'!A194=\"\",\"\",'All Bill Data Entry'!A194)","v":""},"","",{"$f":"IF('All Bill Data Entry'!L194=\"\",\"\",'All Bill Data Entry'!L194)","v":""},{"$f":"IF('All Bill Data Entry'!V194=\"\",\"\",'All Bill Data Entry'!V194)","v":""},{"$f":"IF('All Bill Data Entry'!N194=\"\",\"\",'All Bill Data Entry'!N194)","v":""},"",{"$f":"IF('All Bill Data Entry'!U194=\"\",\"\",'All Bill Data Entry'!U194)","v":""},{"$f":"IF('All Bill Data Entry'!B194=\"\",\"\",'All Bill Data Entry'!B194)","v":""},"",{"$f":"IF('All Bill Data Entry'!X194=\"\",\"\",'All Bill Data Entry'!X194)","v":""},"",{"$f":"IF('All Bill Data Entry'!D194=\"\",\"\",'All Bill Data Entry'!D194)","v":""},"",{"$f":"IF('All Bill Data Entry'!F194=\"\",\"\",'All Bill Data Entry'!F194)","v":""},{"$f":"IF('All Bill Data Entry'!G194=\"\",\"\",'All Bill Data Entry'!G194)","v":""},{"$f":"IF('All Bill Data Entry'!H194=\"\",\"\",'All Bill Data Entry'!H194)","v":""},{"$f":"IF('All Bill Data Entry'!J194=\"\",\"\",'All Bill Data Entry'!J194)","v":""},{"$f":"IF('All Bill Data Entry'!K194=\"\",\"\",'All Bill Data Entry'!K194)","v":""},{"$f":"IF('All Bill Data Entry'!I194=\"\",\"\",'All Bill Data Entry'!I194)","v":""},{"$f":"IF('All Bill Data Entry'!C194=\"\",\"\",'All Bill Data Entry'!C194)","v":""},{"$f":"IF($B189=\"\",\"\",'All Bill Data Entry'!Y194)","v":""},"","",null,null,"","","",""]
["",{"$f":"IF('All Bill Data Entry'!A195=\"\",\"\",'All Bill Data Entry'!A195)","v":""},"","",{"$f":"IF('All Bill Data Entry'!L195=\"\",\"\",'All Bill Data Entry'!L195)","v":""},{"$f":"IF('All Bill Data Entry'!V195=\"\",\"\",'All Bill Data Entry'!V195)","v":""},{"$f":"IF('All Bill Data Entry'!N195=\"\",\"\",'All Bill Data Entry'!N195)","v":""},"",{"$f":"IF('All Bill Data Entry'!U195=\"\",\"\",'All Bill Data Entry'!U195)","v":""},{"$f":"IF('All Bill Data Entry'!B195=\"\",\"\",'All Bill Data Entry'!B195)","v":""},"",{"$f":"IF('All Bill Data Entry'!X195=\"\",\"\",'All Bill Data Entry'!X195)","v":""},"",{"$f":"IF('All Bill Data Entry'!D195=\"\",\"\",'All Bill Data Entry'!D195)","v":""},"",{"$f":"IF('All Bill Data Entry'!F195=\"\",\"\",'All Bill Data Entry'!F195)","v":""},{"$f":"IF('All Bill Data Entry'!G195=\"\",\"\",'All Bill Data Entry'!G195)","v":""},{"$f":"IF('All Bill Data Entry'!H195=\"\",\"\",'All Bill Data Entry'!H195)","v":""},{"$f":"IF('All Bill Data Entry'!J195=\"\",\"\",'All Bill Data Entry'!J195)","v":""},{"$f":"IF('All Bill Data Entry'!K195=\"\",\"\",'All Bill Data Entry'!K195)","v":""},{"$f":"IF('All Bill Data Entry'!I195=\"\",\"\",'All Bill Data Entry'!I195)","v":""},{"$f":"IF('All Bill Data Entry'!C195=\"\",\"\",'All Bill Data Entry'!C195)","v":""},{"$f":"IF($B190=\"\",\"\",'All Bill Data Entry'!Y195)","v":""},"","",null,null,"","","",""]
["",{"$f":"IF('All Bill Data Entry'!A196=\"\",\"\",'All Bill Data Entry'!A196)","v":""},"","",{"$f":"IF('All Bill Data Entry'!L196=\"\",\"\",'All Bill Data Entry'!L196)","v":""},{"$f":"IF('All Bill Data Entry'!V196=\"\",\"\",'All Bill Data Entry'!V196)","v":""},{"$f":"IF('All Bill Data Entry'!N196=\"\",\"\",'All Bill Data Entry'!N196)","v":""},"",{"$f":"IF('All Bill Data Entry'!U196=\"\",\"\",'All Bill Data Entry'!U196)","v":""},{"$f":"IF('All Bill Data Entry'!B196=\"\",\"\",'All Bill Data Entry'!B196)","v":""},"",{"$f":"IF('All Bill Data Entry'!X196=\"\",\"\",'All Bill Data Entry'!X196)","v":""},"",{"$f":"IF('All Bill Data Entry'!D196=\"\",\"\",'All Bill Data Entry'!D196)","v":""},"",{"$f":"IF('All Bill Data Entry'!F196=\"\",\"\",'All Bill Data Entry'!F196)","v":""},{"$f":"IF('All Bill Data Entry'!G196=\"\",\"\",'All Bill Data Entry'!G196)","v":""},{"$f":"IF('All Bill Data Entry'!H196=\"\",\"\",'All Bill Data Entry'!H196)","v":""},{"$f":"IF('All Bill Data Entry'!J196=\"\",\"\",'All Bill Data Entry'!J196)","v":""},{"$f":"IF('All Bill Data Entry'!K196=\"\",\"\",'All Bill Data Entry'!K196)","v":""},{"$f":"IF('All Bill Data Entry'!I196=\"\",\"\",'All Bill Data Entry'!I196)","v":""},{"$f":"IF('All Bill Data Entry'!C196=\"\",\"\",'All Bill Data Entry'!C196)","v":""},{"$f":"IF($B191=\"\",\"\",'All Bill Data Entry'!Y196)","v":""},"","",null,null,"","","",""]
["",{"$f":"IF('All Bill Data Entry'!A197=\"\",\"\",'All Bill Data Entry'!A197)","v":""},"","",{"$f":"IF('All Bill Data Entry'!L197=\"\",\"\",'All Bill Data Entry'!L197)","v":""},{"$f":"IF('All Bill Data Entry'!V197=\"\",\"\",'All Bill Data Entry'!V197)","v":""},{"$f":"IF('All Bill Data Entry'!N197=\"\",\"\",'All Bill Data Entry'!N197)","v":""},"",{"$f":"IF('All Bill Data Entry'!U197=\"\",\"\",'All Bill Data Entry'!U197)","v":""},{"$f":"IF('All Bill Data Entry'!B197=\"\",\"\",'All Bill Data Entry'!B197)","v":""},"",{"$f":"IF('All Bill Data Entry'!X197=\"\",\"\",'All Bill Data Entry'!X197)","v":""},"",{"$f":"IF('All Bill Data Entry'!D197=\"\",\"\",'All Bill Data Entry'!D197)","v":""},"",{"$f":"IF('All Bill Data Entry'!F197=\"\",\"\",'All Bill Data Entry'!F197)","v":""},{"$f":"IF('All Bill Data Entry'!G197=\"\",\"\",'All Bill Data Entry'!G197)","v":""},{"$f":"IF('All Bill Data Entry'!H197=\"\",\"\",'All Bill Data Entry'!H197)","v":""},{"$f":"IF('All Bill Data Entry'!J197=\"\",\"\",'All Bill Data Entry'!J197)","v":""},{"$f":"IF('All Bill Data Entry'!K197=\"\",\"\",'All Bill Data Entry'!K197)","v":""},{"$f":"IF('All Bill Data Entry'!I197=\"\",\"\",'All Bill Data Entry'!I197)","v":""},{"$f":"IF('All Bill Data Entry'!C197=\"\",\"\",'All Bill Data Entry'!C197)","v":""},{"$f":"IF($B192=\"\",\"\",'All Bill Data Entry'!Y197)","v":""},"","",null,null,"","","",""]
["",{"$f":"IF('All Bill Data Entry'!A198=\"\",\"\",'All Bill Data Entry'!A198)","v":""},"","",{"$f":"IF('All Bill Data Entry'!L198=\"\",\"\",'All Bill Data Entry'!L198)","v":""},{"$f":"IF('All Bill Data Entry'!V198=\"\",\"\",'All Bill Data Entry'!V198)","v":""},{"$f":"IF('All Bill Data Entry'!N198=\"\",\"\",'All Bill Data Entry'!N198)","v":""},"",{"$f":"IF('All Bill Data Entry'!U198=\"\",\"\",'All Bill Data Entry'!U198)","v":""},{"$f":"IF('All Bill Data Entry'!B198=\"\",\"\",'All Bill Data Entry'!B198)","v":""},"",{"$f":"IF('All Bill Data Entry'!X198=\"\",\"\",'All Bill Data Entry'!X198)","v":""},"",{"$f":"IF('All Bill Data Entry'!D198=\"\",\"\",'All Bill Data Entry'!D198)","v":""},"",{"$f":"IF('All Bill Data Entry'!F198=\"\",\"\",'All Bill Data Entry'!F198)","v":""},{"$f":"IF('All Bill Data Entry'!G198=\"\",\"\",'All Bill Data Entry'!G198)","v":""},{"$f":"IF('All Bill Data Entry'!H198=\"\",\"\",'All Bill Data Entry'!H198)","v":""},{"$f":"IF('All Bill Data Entry'!J198=\"\",\"\",'All Bill Data Entry'!J198)","v":""},{"$f":"IF('All Bill Data Entry'!K198=\"\",\"\",'All Bill Data Entry'!K198)","v":""},{"$f":"IF('All Bill Data Entry'!I198=\"\",\"\",'All Bill Data Entry'!I198)","v":""},{"$f":"IF('All Bill Data Entry'!C198=\"\",\"\",'All Bill Data Entry'!C198)","v":""},{"$f":"IF($B193=\"\",\"\",'All Bill Data Entry'!Y198)","v":""},"","",null,null,"","","",""]
["",{"$f":"IF('All Bill Data Entry'!A199=\"\",\"\",'All Bill Data Entry'!A199)","v":""},"","",{"$f":"IF('All Bill Data Entry'!L199=\"\",\"\",'All Bill Data Entry'!L199)","v":""},{"$f":"IF('All Bill Data Entry'!V199=\"\",\"\",'All Bill Data Entry'!V199)","v":""},{"$f":"IF('All Bill Data Entry'!N199=\"\",\"\",'All Bill Data Entry'!N199)","v":""},"",{"$f":"IF('All Bill Data Entry'!U199=\"\",\"\",'All Bill Data Entry'!U199)","v":""},{"$f":"IF('All Bill Data Entry'!B199=\"\",\"\",'All Bill Data Entry'!B199)","v":""},"",{"$f":"IF('All Bill Data Entry'!X199=\"\",\"\",'All Bill Data Entry'!X199)","v":""},"",{"$f":"IF('All Bill Data Entry'!D199=\"\",\"\",'All Bill Data Entry'!D199)","v":""},"",{"$f":"IF('All Bill Data Entry'!F199=\"\",\"\",'All Bill Data Entry'!F199)","v":""},{"$f":"IF('All Bill Data Entry'!G199=\"\",\"\",'All Bill Data Entry'!G199)","v":""},{"$f":"IF('All Bill Data Entry'!H199=\"\",\"\",'All Bill Data Entry'!H199)","v":""},{"$f":"IF('All Bill Data Entry'!J199=\"\",\"\",'All Bill Data Entry'!J199)","v":""},{"$f":"IF('All Bill Data Entry'!K199=\"\",\"\",'All Bill Data Entry'!K199)","v":""},{"$f":"IF('All Bill Data Entry'!I199=\"\",\"\",'All Bill Data Entry'!I199)","v":""},{"$f":"IF('All Bill Data Entry'!C199=\"\",\"\",'All Bill Data Entry'!C199)","v":""},{"$f":"IF($B194=\"\",\"\",'All Bill Data Entry'!Y199)","v":""},"","",null,null,"","","",""]
[{"$f":"IF($B195=\"\",\"\",\"L\")","v":""},{"$f":"IF('All Bill Data Entry'!A200=\"\",\"\",'All Bill Data Entry'!A200)","v":""},{"$f":"IF($B195=\"\",\"\",\"LINE\")","v":""},{"$f":"IF($B195=\"\",\"\",\"AUX01\")","v":""},{"$f":"IF('All Bill Data Entry'!L200=\"\",\"\",'All Bill Data Entry'!L200)","v":""},{"$f":"IF('All Bill Data Entry'!V200=\"\",\"\",'All Bill Data Entry'!V200)","v":""},{"$f":"IF('All Bill Data Entry'!N200=\"\",\"\",'All Bill Data Entry'!N200)","v":""},"",{"$f":"IF('All Bill Data Entry'!U200=\"\",\"\",'All Bill Data Entry'!U200)","v":""},{"$f":"IF('All Bill Data Entry'!B200=\"\",\"\",'All Bill Data Entry'!B200)","v":""},"",{"$f":"IF('All Bill Data Entry'!X200=\"\",\"\",'All Bill Data Entry'!X200)","v":""},{"$f":"IF($B195=\"\",\"\",\"REV\")","v":""},{"$f":"IF('All Bill Data Entry'!D200=\"\",\"\",'All Bill Data Entry'!D200)","v":""},{"$f":"IF($B195=\"\",\"\",\"EA\")","v":""},{"$f":"IF('All Bill Data Entry'!F200=\"\",\"\",'All Bill Data Entry'!F200)","v":""},{"$f":"IF('All Bill Data Entry'!G200=\"\",\"\",'All Bill Data Entry'!G200)","v":""},{"$f":"IF('All Bill Data Entry'!H200=\"\",\"\",'All Bill Data Entry'!H200)","v":""},{"$f":"IF('All Bill Data Entry'!J200=\"\",\"\",'All Bill Data Entry'!J200)","v":""},{"$f":"IF('All Bill Data Entry'!K200=\"\",\"\",'All Bill Data Entry'!K200)","v":""},{"$f":"IF('All Bill Data Entry'!I200=\"\",\"\",'All Bill Data Entry'!I200)","v":""},{"$f":"IF('All Bill Data Entry'!C200=\"\",\"\",'All Bill Data Entry'!C200)","v":""},{"$f":"IF($B195=\"\",\"\",'All Bill Data Entry'!Y200)","v":""},{"$f":"IF($B195=\"\",\"\",\"N\")","v":""},{"$f":"IF($B195=\"\",\"\",\"BBI\")","v":""},null,null,{"$f":"IF($B195=\"\",\"\",\"AUX01\")","v":""},{"$f":"IF($B195=\"\",\"\",\"B101\")","v":""},{"$f":"IF($B195=\"\",\"\",\"N\")","v":""},{"$f":"IF($B195=\"\",\"\",1)","v":""}]
["",{"$f":"IF('All Bill Data Entry'!A201=\"\",\"\",'All Bill Data Entry'!A201)","v":""},"","",{"$f":"IF('All Bill Data Entry'!L201=\"\",\"\",'All Bill Data Entry'!L201)","v":""},{"$f":"IF('All Bill Data Entry'!V201=\"\",\"\",'All Bill Data Entry'!V201)","v":""},{"$f":"IF('All Bill Data Entry'!N201=\"\",\"\",'All Bill Data Entry'!N201)","v":""},"",{"$f":"IF('All Bill Data Entry'!U201=\"\",\"\",'All Bill Data Entry'!U201)","v":""},{"$f":"IF('All Bill Data Entry'!B201=\"\",\"\",'All Bill Data Entry'!B201)","v":""},"",{"$f":"IF('All Bill Data Entry'!X201=\"\",\"\",'All Bill Data Entry'!X201)","v":""},"",{"$f":"IF('All Bill Data Entry'!D201=\"\",\"\",'All Bill Data Entry'!D201)","v":""},"",{"$f":"IF('All Bill Data Entry'!F201=\"\",\"\",'All Bill Data Entry'!F201)","v":""},{"$f":"IF('All Bill Data Entry'!G201=\"\",\"\",'All Bill Data Entry'!G201)","v":""},{"$f":"IF('All Bill Data Entry'!H201=\"\",\"\",'All Bill Data Entry'!H201)","v":""},{"$f":"IF('All Bill Data Entry'!J201=\"\",\"\",'All Bill Data Entry'!J201)","v":""},{"$f":"IF('All Bill Data Entry'!K201=\"\",\"\",'All Bill Data Entry'!K201)","v":""},{"$f":"IF('All Bill Data Entry'!I201=\"\",\"\",'All Bill Data Entry'!I201)","v":""},{"$f":"IF('All Bill Data Entry'!C201=\"\",\"\",'All Bill Data Entry'!C201)","v":""},{"$f":"IF($B196=\"\",\"\",'All Bill Data Entry'!Y201)","v":""},"","",null,null,"","","",""]
["",{"$f":"IF('All Bill Data Entry'!A202=\"\",\"\",'All Bill Data Entry'!A202)","v":""},"","",{"$f":"IF('All Bill Data Entry'!L202=\"\",\"\",'All Bill Data Entry'!L202)","v":""},{"$f":"IF('All Bill Data Entry'!V202=\"\",\"\",'All Bill Data Entry'!V202)","v":""},{"$f":"IF('All Bill Data Entry'!N202=\"\",\"\",'All Bill Data Entry'!N202)","v":""},{"$f":"IF(B197=\"\",\"\",\"AUXILIARY2\")","v":""},{"$f":"IF('All Bill Data Entry'!U202=\"\",\"\",'All Bill Data Entry'!U202)","v":""},{"$f":"IF('All Bill Data Entry'!B202=\"\",\"\",'All Bill Data Entry'!B202)","v":""},{"$f":"J197","v":""},{"$f":"IF('All Bill Data Entry'!X202=\"\",\"\",'All Bill Data Entry'!X202)","v":""},"",{"$f":"IF('All Bill Data Entry'!D202=\"\",\"\",'All Bill Data Entry'!D202)","v":""},"",{"$f":"IF('All Bill Data Entry'!F202=\"\",\"\",'All Bill Data Entry'!F202)","v":""},{"$f":"IF('All Bill Data Entry'!G202=\"\",\"\",'All Bill Data Entry'!G202)","v":""},{"$f":"IF('All Bill Data Entry'!H202=\"\",\"\",'All Bill Data Entry'!H202)","v":""},{"$f":"IF('All Bill Data Entry'!J202=\"\",\"\",'All Bill Data Entry'!J202)","v":""},{"$f":"IF('All Bill Data Entry'!K202=\"\",\"\",'All Bill Data Entry'!K202)","v":""},{"$f":"IF('All Bill Data Entry'!I202=\"\",\"\",'All Bill Data Entry'!I202)","v":""},{"$f":"IF('All Bill Data Entry'!C202=\"\",\"\",'All Bill Data Entry'!C202)","v":""},{"$f":"IF($B197=\"\",\"\",'All Bill Data Entry'!Y202)","v":""},"","",null,null,"","","",""]
["",{"$f":"IF('All Bill Data Entry'!A203=\"\",\"\",'All Bill Data Entry'!A203)","v":""},"","",{"$f":"IF('All Bill Data Entry'!L203=\"\",\"\",'All Bill Data Entry'!L203)","v":""},{"$f":"IF('All Bill Data Entry'!V203=\"\",\"\",'All Bill Data Entry'!V203)","v":""},{"$f":"IF('All Bill Data Entry'!N203=\"\",\"\",'All Bill Data Entry'!N203)","v":""},"",{"$f":"IF('All Bill Data Entry'!U203=\"\",\"\",'All Bill Data Entry'!U203)","v":""},{"$f":"IF('All Bill Data Entry'!B203=\"\",\"\",'All Bill Data Entry'!B203)","v":""},"",{"$f":"IF('All Bill Data Entry'!X203=\"\",\"\",'All Bill Data Entry'!X203)","v":""},"",{"$f":"IF('All Bill Data Entry'!D203=\"\",\"\",'All Bill Data Entry'!D203)","v":""},"",{"$f":"IF('All Bill Data Entry'!F203=\"\",\"\",'All Bill Data Entry'!F203)","v":""},{"$f":"IF('All Bill Data Entry'!G203=\"\",\"\",'All Bill Data Entry'!G203)","v":""},{"$f":"IF('All Bill Data Entry'!H203=\"\",\"\",'All Bill Data Entry'!H203)","v":""},{"$f":"IF('All Bill Data Entry'!J203=\"\",\"\",'All Bill Data Entry'!J203)","v":""},{"$f":"IF('All Bill Data Entry'!K203=\"\",\"\",'All Bill Data Entry'!K203)","v":""},{"$f":"IF('All Bill Data Entry'!I203=\"\",\"\",'All Bill Data Entry'!I203)","v":""},{"$f":"IF('All Bill Data Entry'!C203=\"\",\"\",'All Bill Data Entry'!C203)","v":""},{"$f":"IF($B198=\"\",\"\",'All Bill Data Entry'!Y203)","v":""},"","",null,null,"","","",""]
["",{"$f":"IF('All Bill Data Entry'!A204=\"\",\"\",'All Bill Data Entry'!A204)","v":""},"","",{"$f":"IF('All Bill Data Entry'!L204=\"\",\"\",'All Bill Data Entry'!L204)","v":""},{"$f":"IF('All Bill Data Entry'!V204=\"\",\"\",'All Bill Data Entry'!V204)","v":""},{"$f":"IF('All Bill Data Entry'!N204=\"\",\"\",'All Bill Data Entry'!N204)","v":""},"",{"$f":"IF('All Bill Data Entry'!U204=\"\",\"\",'All Bill Data Entry'!U204)","v":""},{"$f":"IF('All Bill Data Entry'!B204=\"\",\"\",'All Bill Data Entry'!B204)","v":""},"",{"$f":"IF('All Bill Data Entry'!X204=\"\",\"\",'All Bill Data Entry'!X204)","v":""},"",{"$f":"IF('All Bill Data Entry'!D204=\"\",\"\",'All Bill Data Entry'!D204)","v":""},"",{"$f":"IF('All Bill Data Entry'!F204=\"\",\"\",'All Bill Data Entry'!F204)","v":""},{"$f":"IF('All Bill Data Entry'!G204=\"\",\"\",'All Bill Data Entry'!G204)","v":""},{"$f":"IF('All Bill Data Entry'!H204=\"\",\"\",'All Bill Data Entry'!H204)","v":""},{"$f":"IF('All Bill Data Entry'!J204=\"\",\"\",'All Bill Data Entry'!J204)","v":""},{"$f":"IF('All Bill Data Entry'!K204=\"\",\"\",'All Bill Data Entry'!K204)","v":""},{"$f":"IF('All Bill Data Entry'!I204=\"\",\"\",'All Bill Data Entry'!I204)","v":""},{"$f":"IF('All Bill Data Entry'!C204=\"\",\"\",'All Bill Data Entry'!C204)","v":""},{"$f":"IF($B199=\"\",\"\",'All Bill Data Entry'!Y204)","v":""},"","",null,null,"","","",""]
["",{"$f":"IF('All Bill Data Entry'!A205=\"\",\"\",'All Bill Data Entry'!A205)","v":""},"","",{"$f":"IF('All Bill Data Entry'!L205=\"\",\"\",'All Bill Data Entry'!L205)","v":""},{"$f":"IF('All Bill Data Entry'!V205=\"\",\"\",'All Bill Data Entry'!V205)","v":""},{"$f":"IF('All Bill Data Entry'!N205=\"\",\"\",'All Bill Data Entry'!N205)","v":""},"",{"$f":"IF('All Bill Data Entry'!U205=\"\",\"\",'All Bill Data Entry'!U205)","v":""},{"$f":"IF('All Bill Data Entry'!B205=\"\",\"\",'All Bill Data Entry'!B205)","v":""},"",{"$f":"IF('All Bill Data Entry'!X205=\"\",\"\",'All Bill Data Entry'!X205)","v":""},"",{"$f":"IF('All Bill Data Entry'!D205=\"\",\"\",'All Bill Data Entry'!D205)","v":""},"",{"$f":"IF('All Bill Data Entry'!F205=\"\",\"\",'All Bill Data Entry'!F205)","v":""},{"$f":"IF('All Bill Data Entry'!G205=\"\",\"\",'All Bill Data Entry'!G205)","v":""},{"$f":"IF('All Bill Data Entry'!H205=\"\",\"\",'All Bill Data Entry'!H205)","v":""},{"$f":"IF('All Bill Data Entry'!J205=\"\",\"\",'All Bill Data Entry'!J205)","v":""},{"$f":"IF('All Bill Data Entry'!K205=\"\",\"\",'All Bill Data Entry'!K205)","v":""},{"$f":"IF('All Bill Data Entry'!I205=\"\",\"\",'All Bill Data Entry'!I205)","v":""},{"$f":"IF('All Bill Data Entry'!C205=\"\",\"\",'All Bill Data Entry'!C205)","v":""},{"$f":"IF($B200=\"\",\"\",'All Bill Data Entry'!Y205)","v":""},"","",null,null,"","","",""]
["",{"$f":"IF('All Bill Data Entry'!A206=\"\",\"\",'All Bill Data Entry'!A206)","v":""},"","",{"$f":"IF('All Bill Data Entry'!L206=\"\",\"\",'All Bill Data Entry'!L206)","v":""},{"$f":"IF('All Bill Data Entry'!V206=\"\",\"\",'All Bill Data Entry'!V206)","v":""},{"$f":"IF('All Bill Data Entry'!N206=\"\",\"\",'All Bill Data Entry'!N206)","v":""},"",{"$f":"IF('All Bill Data Entry'!U206=\"\",\"\",'All Bill Data Entry'!U206)","v":""},{"$f":"IF('All Bill Data Entry'!B206=\"\",\"\",'All Bill Data Entry'!B206)","v":""},"",{"$f":"IF('All Bill Data Entry'!X206=\"\",\"\",'All Bill Data Entry'!X206)","v":""},"",{"$f":"IF('All Bill Data Entry'!D206=\"\",\"\",'All Bill Data Entry'!D206)","v":""},"",{"$f":"IF('All Bill Data Entry'!F206=\"\",\"\",'All Bill Data Entry'!F206)","v":""},{"$f":"IF('All Bill Data Entry'!G206=\"\",\"\",'All Bill Data Entry'!G206)","v":""},{"$f":"IF('All Bill Data Entry'!H206=\"\",\"\",'All Bill Data Entry'!H206)","v":""},{"$f":"IF('All Bill Data Entry'!J206=\"\",\"\",'All Bill Data Entry'!J206)","v":""},{"$f":"IF('All Bill Data Entry'!K206=\"\",\"\",'All Bill Data Entry'!K206)","v":""},{"$f":"IF('All Bill Data Entry'!I206=\"\",\"\",'All Bill Data Entry'!I206)","v":""},{"$f":"IF('All Bill Data Entry'!C206=\"\",\"\",'All Bill Data Entry'!C206)","v":""},{"$f":"IF($B201=\"\",\"\",'All Bill Data Entry'!Y206)","v":""},"","",null,null,"","","",""]
["",{"$f":"IF('All Bill Data Entry'!A207=\"\",\"\",'All Bill Data Entry'!A207)","v":""},"","",{"$f":"IF('All Bill Data Entry'!L207=\"\",\"\",'All Bill Data Entry'!L207)","v":""},{"$f":"IF('All Bill Data Entry'!V207=\"\",\"\",'All Bill Data Entry'!V207)","v":""},{"$f":"IF('All Bill Data Entry'!N207=\"\",\"\",'All Bill Data Entry'!N207)","v":""},"",{"$f":"IF('All Bill Data Entry'!U207=\"\",\"\",'All Bill Data Entry'!U207)","v":""},{"$f":"IF('All Bill Data Entry'!B207=\"\",\"\",'All Bill Data Entry'!B207)","v":""},"",{"$f":"IF('All Bill Data Entry'!X207=\"\",\"\",'All Bill Data Entry'!X207)","v":""},"",{"$f":"IF('All Bill Data Entry'!D207=\"\",\"\",'All Bill Data Entry'!D207)","v":""},"",{"$f":"IF('All Bill Data Entry'!F207=\"\",\"\",'All Bill Data Entry'!F207)","v":""},{"$f":"IF('All Bill Data Entry'!G207=\"\",\"\",'All Bill Data Entry'!G207)","v":""},{"$f":"IF('All Bill Data Entry'!H207=\"\",\"\",'All Bill Data Entry'!H207)","v":""},{"$f":"IF('All Bill Data Entry'!J207=\"\",\"\",'All Bill Data Entry'!J207)","v":""},{"$f":"IF('All Bill Data Entry'!K207=\"\",\"\",'All Bill Data Entry'!K207)","v":""},{"$f":"IF('All Bill Data Entry'!I207=\"\",\"\",'All Bill Data Entry'!I207)","v":""},{"$f":"IF('All Bill Data Entry'!C207=\"\",\"\",'All Bill Data Entry'!C207)","v":""},{"$f":"IF($B202=\"\",\"\",'All Bill Data Entry'!Y207)","v":""},"","",null,null,"","","",""]
["",{"$f":"IF('All Bill Data Entry'!A208=\"\",\"\",'All Bill Data Entry'!A208)","v":""},"","",{"$f":"IF('All Bill Data Entry'!L208=\"\",\"\",'All Bill Data Entry'!L208)","v":""},{"$f":"IF('All Bill Data Entry'!V208=\"\",\"\",'All Bill Data Entry'!V208)","v":""},{"$f":"IF('All Bill Data Entry'!N208=\"\",\"\",'All Bill Data Entry'!N208)","v":""},"",{"$f":"IF('All Bill Data Entry'!U208=\"\",\"\",'All Bill Data Entry'!U208)","v":""},{"$f":"IF('All Bill Data Entry'!B208=\"\",\"\",'All Bill Data Entry'!B208)","v":""},"",{"$f":"IF('All Bill Data Entry'!X208=\"\",\"\",'All Bill Data Entry'!X208)","v":""},"",{"$f":"IF('All Bill Data Entry'!D208=\"\",\"\",'All Bill Data Entry'!D208)","v":""},"",{"$f":"IF('All Bill Data Entry'!F208=\"\",\"\",'All Bill Data Entry'!F208)","v":""},{"$f":"IF('All Bill Data Entry'!G208=\"\",\"\",'All Bill Data Entry'!G208)","v":""},{"$f":"IF('All Bill Data Entry'!H208=\"\",\"\",'All Bill Data Entry'!H208)","v":""},{"$f":"IF('All Bill Data Entry'!J208=\"\",\"\",'All Bill Data Entry'!J208)","v":""},{"$f":"IF('All Bill Data Entry'!K208=\"\",\"\",'All Bill Data Entry'!K208)","v":""},{"$f":"IF('All Bill Data Entry'!I208=\"\",\"\",'All Bill Data Entry'!I208)","v":""},{"$f":"IF('All Bill Data Entry'!C208=\"\",\"\",'All Bill Data Entry'!C208)","v":""},{"$f":"IF($B203=\"\",\"\",'All Bill Data Entry'!Y208)","v":""},"","",null,null,"","","",""]
["",{"$f":"IF('All Bill Data Entry'!A209=\"\",\"\",'All Bill Data Entry'!A209)","v":""},"","",{"$f":"IF('All Bill Data Entry'!L209=\"\",\"\",'All Bill Data Entry'!L209)","v":""},{"$f":"IF('All Bill Data Entry'!V209=\"\",\"\",'All Bill Data Entry'!V209)","v":""},{"$f":"IF('All Bill Data Entry'!N209=\"\",\"\",'All Bill Data Entry'!N209)","v":""},"",{"$f":"IF('All Bill Data Entry'!U209=\"\",\"\",'All Bill Data Entry'!U209)","v":""},{"$f":"IF('All Bill Data Entry'!B209=\"\",\"\",'All Bill Data Entry'!B209)","v":""},"",{"$f":"IF('All Bill Data Entry'!X209=\"\",\"\",'All Bill Data Entry'!X209)","v":""},"",{"$f":"IF('All Bill Data Entry'!D209=\"\",\"\",'All Bill Data Entry'!D209)","v":""},"",{"$f":"IF('All Bill Data Entry'!F209=\"\",\"\",'All Bill Data Entry'!F209)","v":""},{"$f":"IF('All Bill Data Entry'!G209=\"\",\"\",'All Bill Data Entry'!G209)","v":""},{"$f":"IF('All Bill Data Entry'!H209=\"\",\"\",'All Bill Data Entry'!H209)","v":""},{"$f":"IF('All Bill Data Entry'!J209=\"\",\"\",'All Bill Data Entry'!J209)","v":""},{"$f":"IF('All Bill Data Entry'!K209=\"\",\"\",'All Bill Data Entry'!K209)","v":""},{"$f":"IF('All Bill Data Entry'!I209=\"\",\"\",'All Bill Data Entry'!I209)","v":""},{"$f":"IF('All Bill Data Entry'!C209=\"\",\"\",'All Bill Data Entry'!C209)","v":""},{"$f":"IF($B204=\"\",\"\",'All Bill Data Entry'!Y209)","v":""},"","",null,null,"","","",""]
["",{"$f":"IF('All Bill Data Entry'!A210=\"\",\"\",'All Bill Data Entry'!A210)","v":""},"","",{"$f":"IF('All Bill Data Entry'!L210=\"\",\"\",'All Bill Data Entry'!L210)","v":""},{"$f":"IF('All Bill Data Entry'!V210=\"\",\"\",'All Bill Data Entry'!V210)","v":""},{"$f":"IF('All Bill Data Entry'!N210=\"\",\"\",'All Bill Data Entry'!N210)","v":""},"",{"$f":"IF('All Bill Data Entry'!U210=\"\",\"\",'All Bill Data Entry'!U210)","v":""},{"$f":"IF('All Bill Data Entry'!B210=\"\",\"\",'All Bill Data Entry'!B210)","v":""},"",{"$f":"IF('All Bill Data Entry'!X210=\"\",\"\",'All Bill Data Entry'!X210)","v":""},"",{"$f":"IF('All Bill Data Entry'!D210=\"\",\"\",'All Bill Data Entry'!D210)","v":""},"",{"$f":"IF('All Bill Data Entry'!F210=\"\",\"\",'All Bill Data Entry'!F210)","v":""},{"$f":"IF('All Bill Data Entry'!G210=\"\",\"\",'All Bill Data Entry'!G210)","v":""},{"$f":"IF('All Bill Data Entry'!H210=\"\",\"\",'All Bill Data Entry'!H210)","v":""},{"$f":"IF('All Bill Data Entry'!J210=\"\",\"\",'All Bill Data Entry'!J210)","v":""},{"$f":"IF('All Bill Data Entry'!K210=\"\",\"\",'All Bill Data Entry'!K210)","v":""},{"$f":"IF('All Bill Data Entry'!I210=\"\",\"\",'All Bill Data Entry'!I210)","v":""},{"$f":"IF('All Bill Data Entry'!C210=\"\",\"\",'All Bill Data Entry'!C210)","v":""},{"$f":"IF($B205=\"\",\"\",'All Bill Data Entry'!Y210)","v":""},"","",null,null,"","","",""]
["",{"$f":"IF('All Bill Data Entry'!A211=\"\",\"\",'All Bill Data Entry'!A211)","v":""},"","",{"$f":"IF('All Bill Data Entry'!L211=\"\",\"\",'All Bill Data Entry'!L211)","v":""},{"$f":"IF('All Bill Data Entry'!V211=\"\",\"\",'All Bill Data Entry'!V211)","v":""},{"$f":"IF('All Bill Data Entry'!N211=\"\",\"\",'All Bill Data Entry'!N211)","v":""},"",{"$f":"IF('All Bill Data Entry'!U211=\"\",\"\",'All Bill Data Entry'!U211)","v":""},{"$f":"IF('All Bill Data Entry'!B211=\"\",\"\",'All Bill Data Entry'!B211)","v":""},"",{"$f":"IF('All Bill Data Entry'!X211=\"\",\"\",'All Bill Data Entry'!X211)","v":""},"",{"$f":"IF('All Bill Data Entry'!D211=\"\",\"\",'All Bill Data Entry'!D211)","v":""},"",{"$f":"IF('All Bill Data Entry'!F211=\"\",\"\",'All Bill Data Entry'!F211)","v":""},{"$f":"IF('All Bill Data Entry'!G211=\"\",\"\",'All Bill Data Entry'!G211)","v":""},{"$f":"IF('All Bill Data Entry'!H211=\"\",\"\",'All Bill Data Entry'!H211)","v":""},{"$f":"IF('All Bill Data Entry'!J211=\"\",\"\",'All Bill Data Entry'!J211)","v":""},{"$f":"IF('All Bill Data Entry'!K211=\"\",\"\",'All Bill Data Entry'!K211)","v":""},{"$f":"IF('All Bill Data Entry'!I211=\"\",\"\",'All Bill Data Entry'!I211)","v":""},{"$f":"IF('All Bill Data Entry'!C211=\"\",\"\",'All Bill Data Entry'!C211)","v":""},{"$f":"IF($B206=\"\",\"\",'All Bill Data Entry'!Y211)","v":""},"","",null,null,"","","",""]
["",{"$f":"IF('All Bill Data Entry'!A212=\"\",\"\",'All Bill Data Entry'!A212)","v":""},"","",{"$f":"IF('All Bill Data Entry'!L212=\"\",\"\",'All Bill Data Entry'!L212)","v":""},{"$f":"IF('All Bill Data Entry'!V212=\"\",\"\",'All Bill Data Entry'!V212)","v":""},{"$f":"IF('All Bill Data Entry'!N212=\"\",\"\",'All Bill Data Entry'!N212)","v":""},"",{"$f":"IF('All Bill Data Entry'!U212=\"\",\"\",'All Bill Data Entry'!U212)","v":""},{"$f":"IF('All Bill Data Entry'!B212=\"\",\"\",'All Bill Data Entry'!B212)","v":""},"",{"$f":"IF('All Bill Data Entry'!X212=\"\",\"\",'All Bill Data Entry'!X212)","v":""},"",{"$f":"IF('All Bill Data Entry'!D212=\"\",\"\",'All Bill Data Entry'!D212)","v":""},"",{"$f":"IF('All Bill Data Entry'!F212=\"\",\"\",'All Bill Data Entry'!F212)","v":""},{"$f":"IF('All Bill Data Entry'!G212=\"\",\"\",'All Bill Data Entry'!G212)","v":""},{"$f":"IF('All Bill Data Entry'!H212=\"\",\"\",'All Bill Data Entry'!H212)","v":""},{"$f":"IF('All Bill Data Entry'!J212=\"\",\"\",'All Bill Data Entry'!J212)","v":""},{"$f":"IF('All Bill Data Entry'!K212=\"\",\"\",'All Bill Data Entry'!K212)","v":""},{"$f":"IF('All Bill Data Entry'!I212=\"\",\"\",'All Bill Data Entry'!I212)","v":""},{"$f":"IF('All Bill Data Entry'!C212=\"\",\"\",'All Bill Data Entry'!C212)","v":""},{"$f":"IF($B207=\"\",\"\",'All Bill Data Entry'!Y212)","v":""},"","",null,null,"","","",""]
["",{"$f":"IF('All Bill Data Entry'!A213=\"\",\"\",'All Bill Data Entry'!A213)","v":""},"","",{"$f":"IF('All Bill Data Entry'!L213=\"\",\"\",'All Bill Data Entry'!L213)","v":""},{"$f":"IF('All Bill Data Entry'!V213=\"\",\"\",'All Bill Data Entry'!V213)","v":""},{"$f":"IF('All Bill Data Entry'!N213=\"\",\"\",'All Bill Data Entry'!N213)","v":""},"",{"$f":"IF('All Bill Data Entry'!U213=\"\",\"\",'All Bill Data Entry'!U213)","v":""},{"$f":"IF('All Bill Data Entry'!B213=\"\",\"\",'All Bill Data Entry'!B213)","v":""},"",{"$f":"IF('All Bill Data Entry'!X213=\"\",\"\",'All Bill Data Entry'!X213)","v":""},"",{"$f":"IF('All Bill Data Entry'!D213=\"\",\"\",'All Bill Data Entry'!D213)","v":""},"",{"$f":"IF('All Bill Data Entry'!F213=\"\",\"\",'All Bill Data Entry'!F213)","v":""},{"$f":"IF('All Bill Data Entry'!G213=\"\",\"\",'All Bill Data Entry'!G213)","v":""},{"$f":"IF('All Bill Data Entry'!H213=\"\",\"\",'All Bill Data Entry'!H213)","v":""},{"$f":"IF('All Bill Data Entry'!J213=\"\",\"\",'All Bill Data Entry'!J213)","v":""},{"$f":"IF('All Bill Data Entry'!K213=\"\",\"\",'All Bill Data Entry'!K213)","v":""},{"$f":"IF('All Bill Data Entry'!I213=\"\",\"\",'All Bill Data Entry'!I213)","v":""},{"$f":"IF('All Bill Data Entry'!C213=\"\",\"\",'All Bill Data Entry'!C213)","v":""},{"$f":"IF($B208=\"\",\"\",'All Bill Data Entry'!Y213)","v":""},"","",null,null,"","","",""]
["",{"$f":"IF('All Bill Data Entry'!A214=\"\",\"\",'All Bill Data Entry'!A214)","v":""},"","",{"$f":"IF('All Bill Data Entry'!L214=\"\",\"\",'All Bill Data Entry'!L214)","v":""},{"$f":"IF('All Bill Data Entry'!V214=\"\",\"\",'All Bill Data Entry'!V214)","v":""},{"$f":"IF('All Bill Data Entry'!N214=\"\",\"\",'All Bill Data Entry'!N214)","v":""},"",{"$f":"IF('All Bill Data Entry'!U214=\"\",\"\",'All Bill Data Entry'!U214)","v":""},{"$f":"IF('All Bill Data Entry'!B214=\"\",\"\",'All Bill Data Entry'!B214)","v":""},"",{"$f":"IF('All Bill Data Entry'!X214=\"\",\"\",'All Bill Data Entry'!X214)","v":""},"",{"$f":"IF('All Bill Data Entry'!D214=\"\",\"\",'All Bill Data Entry'!D214)","v":""},"",{"$f":"IF('All Bill Data Entry'!F214=\"\",\"\",'All Bill Data Entry'!F214)","v":""},{"$f":"IF('All Bill Data Entry'!G214=\"\",\"\",'All Bill Data Entry'!G214)","v":""},{"$f":"IF('All Bill Data Entry'!H214=\"\",\"\",'All Bill Data Entry'!H214)","v":""},{"$f":"IF('All Bill Data Entry'!J214=\"\",\"\",'All Bill Data Entry'!J214)","v":""},{"$f":"IF('All Bill Data Entry'!K214=\"\",\"\",'All Bill Data Entry'!K214)","v":""},{"$f":"IF('All Bill Data Entry'!I214=\"\",\"\",'All Bill Data Entry'!I214)","v":""},{"$f":"IF('All Bill Data Entry'!C214=\"\",\"\",'All Bill Data Entry'!C214)","v":""},{"$f":"IF($B209=\"\",\"\",'All Bill Data Entry'!Y214)","v":""},"","",null,null,"","","",""]
["",{"$f":"IF('All Bill Data Entry'!A215=\"\",\"\",'All Bill Data Entry'!A215)","v":""},"","",{"$f":"IF('All Bill Data Entry'!L215=\"\",\"\",'All Bill Data Entry'!L215)","v":""},{"$f":"IF('All Bill Data Entry'!V215=\"\",\"\",'All Bill Data Entry'!V215)","v":""},{"$f":"IF('All Bill Data Entry'!N215=\"\",\"\",'All Bill Data Entry'!N215)","v":""},"",{"$f":"IF('All Bill Data Entry'!U215=\"\",\"\",'All Bill Data Entry'!U215)","v":""},{"$f":"IF('All Bill Data Entry'!B215=\"\",\"\",'All Bill Data Entry'!B215)","v":""},"",{"$f":"IF('All Bill Data Entry'!X215=\"\",\"\",'All Bill Data Entry'!X215)","v":""},"",{"$f":"IF('All Bill Data Entry'!D215=\"\",\"\",'All Bill Data Entry'!D215)","v":""},"",{"$f":"IF('All Bill Data Entry'!F215=\"\",\"\",'All Bill Data Entry'!F215)","v":""},{"$f":"IF('All Bill Data Entry'!G215=\"\",\"\",'All Bill Data Entry'!G215)","v":""},{"$f":"IF('All Bill Data Entry'!H215=\"\",\"\",'All Bill Data Entry'!H215)","v":""},{"$f":"IF('All Bill Data Entry'!J215=\"\",\"\",'All Bill Data Entry'!J215)","v":""},{"$f":"IF('All Bill Data Entry'!K215=\"\",\"\",'All Bill Data Entry'!K215)","v":""},{"$f":"IF('All Bill Data Entry'!I215=\"\",\"\",'All Bill Data Entry'!I215)","v":""},{"$f":"IF('All Bill Data Entry'!C215=\"\",\"\",'All Bill Data Entry'!C215)","v":""},{"$f":"IF($B210=\"\",\"\",'All Bill Data Entry'!Y215)","v":""},"","",null,null,"","","",""]
["",{"$f":"IF('All Bill Data Entry'!A216=\"\",\"\",'All Bill Data Entry'!A216)","v":""},"","",{"$f":"IF('All Bill Data Entry'!L216=\"\",\"\",'All Bill Data Entry'!L216)","v":""},{"$f":"IF('All Bill Data Entry'!V216=\"\",\"\",'All Bill Data Entry'!V216)","v":""},{"$f":"IF('All Bill Data Entry'!N216=\"\",\"\",'All Bill Data Entry'!N216)","v":""},"",{"$f":"IF('All Bill Data Entry'!U216=\"\",\"\",'All Bill Data Entry'!U216)","v":""},{"$f":"IF('All Bill Data Entry'!B216=\"\",\"\",'All Bill Data Entry'!B216)","v":""},"",{"$f":"IF('All Bill Data Entry'!X216=\"\",\"\",'All Bill Data Entry'!X216)","v":""},"",{"$f":"IF('All Bill Data Entry'!D216=\"\",\"\",'All Bill Data Entry'!D216)","v":""},"",{"$f":"IF('All Bill Data Entry'!F216=\"\",\"\",'All Bill Data Entry'!F216)","v":""},{"$f":"IF('All Bill Data Entry'!G216=\"\",\"\",'All Bill Data Entry'!G216)","v":""},{"$f":"IF('All Bill Data Entry'!H216=\"\",\"\",'All Bill Data Entry'!H216)","v":""},{"$f":"IF('All Bill Data Entry'!J216=\"\",\"\",'All Bill Data Entry'!J216)","v":""},{"$f":"IF('All Bill Data Entry'!K216=\"\",\"\",'All Bill Data Entry'!K216)","v":""},{"$f":"IF('All Bill Data Entry'!I216=\"\",\"\",'All Bill Data Entry'!I216)","v":""},{"$f":"IF('All Bill Data Entry'!C216=\"\",\"\",'All Bill Data Entry'!C216)","v":""},{"$f":"IF($B211=\"\",\"\",'All Bill Data Entry'!Y216)","v":""},"","",null,null,"","","",""]
["",{"$f":"IF('All Bill Data Entry'!A217=\"\",\"\",'All Bill Data Entry'!A217)","v":""},"","",{"$f":"IF('All Bill Data Entry'!L217=\"\",\"\",'All Bill Data Entry'!L217)","v":""},{"$f":"IF('All Bill Data Entry'!V217=\"\",\"\",'All Bill Data Entry'!V217)","v":""},{"$f":"IF('All Bill Data Entry'!N217=\"\",\"\",'All Bill Data Entry'!N217)","v":""},"",{"$f":"IF('All Bill Data Entry'!U217=\"\",\"\",'All Bill Data Entry'!U217)","v":""},{"$f":"IF('All Bill Data Entry'!B217=\"\",\"\",'All Bill Data Entry'!B217)","v":""},"",{"$f":"IF('All Bill Data Entry'!X217=\"\",\"\",'All Bill Data Entry'!X217)","v":""},"",{"$f":"IF('All Bill Data Entry'!D217=\"\",\"\",'All Bill Data Entry'!D217)","v":""},"",{"$f":"IF('All Bill Data Entry'!F217=\"\",\"\",'All Bill Data Entry'!F217)","v":""},{"$f":"IF('All Bill Data Entry'!G217=\"\",\"\",'All Bill Data Entry'!G217)","v":""},{"$f":"IF('All Bill Data Entry'!H217=\"\",\"\",'All Bill Data Entry'!H217)","v":""},{"$f":"IF('All Bill Data Entry'!J217=\"\",\"\",'All Bill Data Entry'!J217)","v":""},{"$f":"IF('All Bill Data Entry'!K217=\"\",\"\",'All Bill Data Entry'!K217)","v":""},{"$f":"IF('All Bill Data Entry'!I217=\"\",\"\",'All Bill Data Entry'!I217)","v":""},{"$f":"IF('All Bill Data Entry'!C217=\"\",\"\",'All Bill Data Entry'!C217)","v":""},{"$f":"IF($B212=\"\",\"\",'All Bill Data Entry'!Y217)","v":""},"","",null,null,"","","",""]
["",{"$f":"IF('All Bill Data Entry'!A218=\"\",\"\",'All Bill Data Entry'!A218)","v":""},"","",{"$f":"IF('All Bill Data Entry'!L218=\"\",\"\",'All Bill Data Entry'!L218)","v":""},{"$f":"IF('All Bill Data Entry'!V218=\"\",\"\",'All Bill Data Entry'!V218)","v":""},{"$f":"IF('All Bill Data Entry'!N218=\"\",\"\",'All Bill Data Entry'!N218)","v":""},"",{"$f":"IF('All Bill Data Entry'!U218=\"\",\"\",'All Bill Data Entry'!U218)","v":""},{"$f":"IF('All Bill Data Entry'!B218=\"\",\"\",'All Bill Data Entry'!B218)","v":""},"",{"$f":"IF('All Bill Data Entry'!X218=\"\",\"\",'All Bill Data Entry'!X218)","v":""},"",{"$f":"IF('All Bill Data Entry'!D218=\"\",\"\",'All Bill Data Entry'!D218)","v":""},"",{"$f":"IF('All Bill Data Entry'!F218=\"\",\"\",'All Bill Data Entry'!F218)","v":""},{"$f":"IF('All Bill Data Entry'!G218=\"\",\"\",'All Bill Data Entry'!G218)","v":""},{"$f":"IF('All Bill Data Entry'!H218=\"\",\"\",'All Bill Data Entry'!H218)","v":""},{"$f":"IF('All Bill Data Entry'!J218=\"\",\"\",'All Bill Data Entry'!J218)","v":""},{"$f":"IF('All Bill Data Entry'!K218=\"\",\"\",'All Bill Data Entry'!K218)","v":""},{"$f":"IF('All Bill Data Entry'!I218=\"\",\"\",'All Bill Data Entry'!I218)","v":""},{"$f":"IF('All Bill Data Entry'!C218=\"\",\"\",'All Bill Data Entry'!C218)","v":""},{"$f":"IF($B213=\"\",\"\",'All Bill Data Entry'!Y218)","v":""},"","",null,null,"","","",""]
["",{"$f":"IF('All Bill Data Entry'!A219=\"\",\"\",'All Bill Data Entry'!A219)","v":""},"","",{"$f":"IF('All Bill Data Entry'!L219=\"\",\"\",'All Bill Data Entry'!L219)","v":""},{"$f":"IF('All Bill Data Entry'!V219=\"\",\"\",'All Bill Data Entry'!V219)","v":""},{"$f":"IF('All Bill Data Entry'!N219=\"\",\"\",'All Bill Data Entry'!N219)","v":""},"",{"$f":"IF('All Bill Data Entry'!U219=\"\",\"\",'All Bill Data Entry'!U219)","v":""},{"$f":"IF('All Bill Data Entry'!B219=\"\",\"\",'All Bill Data Entry'!B219)","v":""},"",{"$f":"IF('All Bill Data Entry'!X219=\"\",\"\",'All Bill Data Entry'!X219)","v":""},"",{"$f":"IF('All Bill Data Entry'!D219=\"\",\"\",'All Bill Data Entry'!D219)","v":""},"",{"$f":"IF('All Bill Data Entry'!F219=\"\",\"\",'All Bill Data Entry'!F219)","v":""},{"$f":"IF('All Bill Data Entry'!G219=\"\",\"\",'All Bill Data Entry'!G219)","v":""},{"$f":"IF('All Bill Data Entry'!H219=\"\",\"\",'All Bill Data Entry'!H219)","v":""},{"$f":"IF('All Bill Data Entry'!J219=\"\",\"\",'All Bill Data Entry'!J219)","v":""},{"$f":"IF('All Bill Data Entry'!K219=\"\",\"\",'All Bill Data Entry'!K219)","v":""},{"$f":"IF('All Bill Data Entry'!I219=\"\",\"\",'All Bill Data Entry'!I219)","v":""},{"$f":"IF('All Bill Data Entry'!C219=\"\",\"\",'All Bill Data Entry'!C219)","v":""},{"$f":"IF($B214=\"\",\"\",'All Bill Data Entry'!Y219)","v":""},"","",null,null,"","","",""]
["",{"$f":"IF('All Bill Data Entry'!A220=\"\",\"\",'All Bill Data Entry'!A220)","v":""},"","",{"$f":"IF('All Bill Data Entry'!L220=\"\",\"\",'All Bill Data Entry'!L220)","v":""},{"$f":"IF('All Bill Data Entry'!V220=\"\",\"\",'All Bill Data Entry'!V220)","v":""},{"$f":"IF('All Bill Data Entry'!N220=\"\",\"\",'All Bill Data Entry'!N220)","v":""},"",{"$f":"IF('All Bill Data Entry'!U220=\"\",\"\",'All Bill Data Entry'!U220)","v":""},{"$f":"IF('All Bill Data Entry'!B220=\"\",\"\",'All Bill Data Entry'!B220)","v":""},"",{"$f":"IF('All Bill Data Entry'!X220=\"\",\"\",'All Bill Data Entry'!X220)","v":""},"",{"$f":"IF('All Bill Data Entry'!D220=\"\",\"\",'All Bill Data Entry'!D220)","v":""},"",{"$f":"IF('All Bill Data Entry'!F220=\"\",\"\",'All Bill Data Entry'!F220)","v":""},{"$f":"IF('All Bill Data Entry'!G220=\"\",\"\",'All Bill Data Entry'!G220)","v":""},{"$f":"IF('All Bill Data Entry'!H220=\"\",\"\",'All Bill Data Entry'!H220)","v":""},{"$f":"IF('All Bill Data Entry'!J220=\"\",\"\",'All Bill Data Entry'!J220)","v":""},{"$f":"IF('All Bill Data Entry'!K220=\"\",\"\",'All Bill Data Entry'!K220)","v":""},{"$f":"IF('All Bill Data Entry'!I220=\"\",\"\",'All Bill Data Entry'!I220)","v":""},{"$f":"IF('All Bill Data Entry'!C220=\"\",\"\",'All Bill Data Entry'!C220)","v":""},{"$f":"IF($B215=\"\",\"\",'All Bill Data Entry'!Y220)","v":""},"","",null,null,"","","",""]
["",{"$f":"IF('All Bill Data Entry'!A221=\"\",\"\",'All Bill Data Entry'!A221)","v":""},"","",{"$f":"IF('All Bill Data Entry'!L221=\"\",\"\",'All Bill Data Entry'!L221)","v":""},{"$f":"IF('All Bill Data Entry'!V221=\"\",\"\",'All Bill Data Entry'!V221)","v":""},{"$f":"IF('All Bill Data Entry'!N221=\"\",\"\",'All Bill Data Entry'!N221)","v":""},"",{"$f":"IF('All Bill Data Entry'!U221=\"\",\"\",'All Bill Data Entry'!U221)","v":""},{"$f":"IF('All Bill Data Entry'!B221=\"\",\"\",'All Bill Data Entry'!B221)","v":""},"",{"$f":"IF('All Bill Data Entry'!X221=\"\",\"\",'All Bill Data Entry'!X221)","v":""},"",{"$f":"IF('All Bill Data Entry'!D221=\"\",\"\",'All Bill Data Entry'!D221)","v":""},"",{"$f":"IF('All Bill Data Entry'!F221=\"\",\"\",'All Bill Data Entry'!F221)","v":""},{"$f":"IF('All Bill Data Entry'!G221=\"\",\"\",'All Bill Data Entry'!G221)","v":""},{"$f":"IF('All Bill Data Entry'!H221=\"\",\"\",'All Bill Data Entry'!H221)","v":""},{"$f":"IF('All Bill Data Entry'!J221=\"\",\"\",'All Bill Data Entry'!J221)","v":""},{"$f":"IF('All Bill Data Entry'!K221=\"\",\"\",'All Bill Data Entry'!K221)","v":""},{"$f":"IF('All Bill Data Entry'!I221=\"\",\"\",'All Bill Data Entry'!I221)","v":""},{"$f":"IF('All Bill Data Entry'!C221=\"\",\"\",'All Bill Data Entry'!C221)","v":""},{"$f":"IF($B216=\"\",\"\",'All Bill Data Entry'!Y221)","v":""},"","",null,null,"","","",""]
["",{"$f":"IF('All Bill Data Entry'!A222=\"\",\"\",'All Bill Data Entry'!A222)","v":""},"","",{"$f":"IF('All Bill Data Entry'!L222=\"\",\"\",'All Bill Data Entry'!L222)","v":""},{"$f":"IF('All Bill Data Entry'!V222=\"\",\"\",'All Bill Data Entry'!V222)","v":""},{"$f":"IF('All Bill Data Entry'!N222=\"\",\"\",'All Bill Data Entry'!N222)","v":""},"",{"$f":"IF('All Bill Data Entry'!U222=\"\",\"\",'All Bill Data Entry'!U222)","v":""},{"$f":"IF('All Bill Data Entry'!B222=\"\",\"\",'All Bill Data Entry'!B222)","v":""},"",{"$f":"IF('All Bill Data Entry'!X222=\"\",\"\",'All Bill Data Entry'!X222)","v":""},"",{"$f":"IF('All Bill Data Entry'!D222=\"\",\"\",'All Bill Data Entry'!D222)","v":""},"",{"$f":"IF('All Bill Data Entry'!F222=\"\",\"\",'All Bill Data Entry'!F222)","v":""},{"$f":"IF('All Bill Data Entry'!G222=\"\",\"\",'All Bill Data Entry'!G222)","v":""},{"$f":"IF('All Bill Data Entry'!H222=\"\",\"\",'All Bill Data Entry'!H222)","v":""},{"$f":"IF('All Bill Data Entry'!J222=\"\",\"\",'All Bill Data Entry'!J222)","v":""},{"$f":"IF('All Bill Data Entry'!K222=\"\",\"\",'All Bill Data Entry'!K222)","v":""},{"$f":"IF('All Bill Data Entry'!I222=\"\",\"\",'All Bill Data Entry'!I222)","v":""},{"$f":"IF('All Bill Data Entry'!C222=\"\",\"\",'All Bill Data Entry'!C222)","v":""},{"$f":"IF($B217=\"\",\"\",'All Bill Data Entry'!Y222)","v":""},"","",null,null,"","","",""]
["",{"$f":"IF('All Bill Data Entry'!A223=\"\",\"\",'All Bill Data Entry'!A223)","v":""},"","",{"$f":"IF('All Bill Data Entry'!L223=\"\",\"\",'All Bill Data Entry'!L223)","v":""},{"$f":"IF('All Bill Data Entry'!V223=\"\",\"\",'All Bill Data Entry'!V223)","v":""},{"$f":"IF('All Bill Data Entry'!N223=\"\",\"\",'All Bill Data Entry'!N223)","v":""},"",{"$f":"IF('All Bill Data Entry'!U223=\"\",\"\",'All Bill Data Entry'!U223)","v":""},{"$f":"IF('All Bill Data Entry'!B223=\"\",\"\",'All Bill Data Entry'!B223)","v":""},"",{"$f":"IF('All Bill Data Entry'!X223=\"\",\"\",'All Bill Data Entry'!X223)","v":""},"",{"$f":"IF('All Bill Data Entry'!D223=\"\",\"\",'All Bill Data Entry'!D223)","v":""},"",{"$f":"IF('All Bill Data Entry'!F223=\"\",\"\",'All Bill Data Entry'!F223)","v":""},{"$f":"IF('All Bill Data Entry'!G223=\"\",\"\",'All Bill Data Entry'!G223)","v":""},{"$f":"IF('All Bill Data Entry'!H223=\"\",\"\",'All Bill Data Entry'!H223)","v":""},{"$f":"IF('All Bill Data Entry'!J223=\"\",\"\",'All Bill Data Entry'!J223)","v":""},{"$f":"IF('All Bill Data Entry'!K223=\"\",\"\",'All Bill Data Entry'!K223)","v":""},{"$f":"IF('All Bill Data Entry'!I223=\"\",\"\",'All Bill Data Entry'!I223)","v":""},{"$f":"IF('All Bill Data Entry'!C223=\"\",\"\",'All Bill Data Entry'!C223)","v":""},{"$f":"IF($B218=\"\",\"\",'All Bill Data Entry'!Y223)","v":""},"","",null,null,"","","",""]
["",{"$f":"IF('All Bill Data Entry'!A224=\"\",\"\",'All Bill Data Entry'!A224)","v":""},"","",{"$f":"IF('All Bill Data Entry'!L224=\"\",\"\",'All Bill Data Entry'!L224)","v":""},{"$f":"IF('All Bill Data Entry'!V224=\"\",\"\",'All Bill Data Entry'!V224)","v":""},{"$f":"IF('All Bill Data Entry'!N224=\"\",\"\",'All Bill Data Entry'!N224)","v":""},"",{"$f":"IF('All Bill Data Entry'!U224=\"\",\"\",'All Bill Data Entry'!U224)","v":""},{"$f":"IF('All Bill Data Entry'!B224=\"\",\"\",'All Bill Data Entry'!B224)","v":""},"",{"$f":"IF('All Bill Data Entry'!X224=\"\",\"\",'All Bill Data Entry'!X224)","v":""},"",{"$f":"IF('All Bill Data Entry'!D224=\"\",\"\",'All Bill Data Entry'!D224)","v":""},"",{"$f":"IF('All Bill Data Entry'!F224=\"\",\"\",'All Bill Data Entry'!F224)","v":""},{"$f":"IF('All Bill Data Entry'!G224=\"\",\"\",'All Bill Data Entry'!G224)","v":""},{"$f":"IF('All Bill Data Entry'!H224=\"\",\"\",'All Bill Data Entry'!H224)","v":""},{"$f":"IF('All Bill Data Entry'!J224=\"\",\"\",'All Bill Data Entry'!J224)","v":""},{"$f":"IF('All Bill Data Entry'!K224=\"\",\"\",'All Bill Data Entry'!K224)","v":""},{"$f":"IF('All Bill Data Entry'!I224=\"\",\"\",'All Bill Data Entry'!I224)","v":""},{"$f":"IF('All Bill Data Entry'!C224=\"\",\"\",'All Bill Data Entry'!C224)","v":""},{"$f":"IF($B219=\"\",\"\",'All Bill Data Entry'!Y224)","v":""},"","",null,null,"","","",""]
["",{"$f":"IF('All Bill Data Entry'!A225=\"\",\"\",'All Bill Data Entry'!A225)","v":""},"","",{"$f":"IF('All Bill Data Entry'!L225=\"\",\"\",'All Bill Data Entry'!L225)","v":""},{"$f":"IF('All Bill Data Entry'!V225=\"\",\"\",'All Bill Data Entry'!V225)","v":""},{"$f":"IF('All Bill Data Entry'!N225=\"\",\"\",'All Bill Data Entry'!N225)","v":""},"",{"$f":"IF('All Bill Data Entry'!U225=\"\",\"\",'All Bill Data Entry'!U225)","v":""},{"$f":"IF('All Bill Data Entry'!B225=\"\",\"\",'All Bill Data Entry'!B225)","v":""},"",{"$f":"IF('All Bill Data Entry'!X225=\"\",\"\",'All Bill Data Entry'!X225)","v":""},"",{"$f":"IF('All Bill Data Entry'!D225=\"\",\"\",'All Bill Data Entry'!D225)","v":""},"",{"$f":"IF('All Bill Data Entry'!F225=\"\",\"\",'All Bill Data Entry'!F225)","v":""},{"$f":"IF('All Bill Data Entry'!G225=\"\",\"\",'All Bill Data Entry'!G225)","v":""},{"$f":"IF('All Bill Data Entry'!H225=\"\",\"\",'All Bill Data Entry'!H225)","v":""},{"$f":"IF('All Bill Data Entry'!J225=\"\",\"\",'All Bill Data Entry'!J225)","v":""},{"$f":"IF('All Bill Data Entry'!K225=\"\",\"\",'All Bill Data Entry'!K225)","v":""},{"$f":"IF('All Bill Data Entry'!I225=\"\",\"\",'All Bill Data Entry'!I225)","v":""},{"$f":"IF('All Bill Data Entry'!C225=\"\",\"\",'All Bill Data Entry'!C225)","v":""},{"$f":"IF($B220=\"\",\"\",'All Bill Data Entry'!Y225)","v":""},"","",null,null,"","","",""]
["",{"$f":"IF('All Bill Data Entry'!A226=\"\",\"\",'All Bill Data Entry'!A226)","v":""},"","",{"$f":"IF('All Bill Data Entry'!L226=\"\",\"\",'All Bill Data Entry'!L226)","v":""},{"$f":"IF('All Bill Data Entry'!V226=\"\",\"\",'All Bill Data Entry'!V226)","v":""},{"$f":"IF('All Bill Data Entry'!N226=\"\",\"\",'All Bill Data Entry'!N226)","v":""},"",{"$f":"IF('All Bill Data Entry'!U226=\"\",\"\",'All Bill Data Entry'!U226)","v":""},{"$f":"IF('All Bill Data Entry'!B226=\"\",\"\",'All Bill Data Entry'!B226)","v":""},"",{"$f":"IF('All Bill Data Entry'!X226=\"\",\"\",'All Bill Data Entry'!X226)","v":""},"",{"$f":"IF('All Bill Data Entry'!D226=\"\",\"\",'All Bill Data Entry'!D226)","v":""},"",{"$f":"IF('All Bill Data Entry'!F226=\"\",\"\",'All Bill Data Entry'!F226)","v":""},{"$f":"IF('All Bill Data Entry'!G226=\"\",\"\",'All Bill Data Entry'!G226)","v":""},{"$f":"IF('All Bill Data Entry'!H226=\"\",\"\",'All Bill Data Entry'!H226)","v":""},{"$f":"IF('All Bill Data Entry'!J226=\"\",\"\",'All Bill Data Entry'!J226)","v":""},{"$f":"IF('All Bill Data Entry'!K226=\"\",\"\",'All Bill Data Entry'!K226)","v":""},{"$f":"IF('All Bill Data Entry'!I226=\"\",\"\",'All Bill Data Entry'!I226)","v":""},{"$f":"IF('All Bill Data Entry'!C226=\"\",\"\",'All Bill Data Entry'!C226)","v":""},{"$f":"IF($B221=\"\",\"\",'All Bill Data Entry'!Y226)","v":""},"","",null,null,"","","",""]
["",{"$f":"IF('All Bill Data Entry'!A227=\"\",\"\",'All Bill Data Entry'!A227)","v":""},"","",{"$f":"IF('All Bill Data Entry'!L227=\"\",\"\",'All Bill Data Entry'!L227)","v":""},{"$f":"IF('All Bill Data Entry'!V227=\"\",\"\",'All Bill Data Entry'!V227)","v":""},{"$f":"IF('All Bill Data Entry'!N227=\"\",\"\",'All Bill Data Entry'!N227)","v":""},"",{"$f":"IF('All Bill Data Entry'!U227=\"\",\"\",'All Bill Data Entry'!U227)","v":""},{"$f":"IF('All Bill Data Entry'!B227=\"\",\"\",'All Bill Data Entry'!B227)","v":""},"",{"$f":"IF('All Bill Data Entry'!X227=\"\",\"\",'All Bill Data Entry'!X227)","v":""},"",{"$f":"IF('All Bill Data Entry'!D227=\"\",\"\",'All Bill Data Entry'!D227)","v":""},"",{"$f":"IF('All Bill Data Entry'!F227=\"\",\"\",'All Bill Data Entry'!F227)","v":""},{"$f":"IF('All Bill Data Entry'!G227=\"\",\"\",'All Bill Data Entry'!G227)","v":""},{"$f":"IF('All Bill Data Entry'!H227=\"\",\"\",'All Bill Data Entry'!H227)","v":""},{"$f":"IF('All Bill Data Entry'!J227=\"\",\"\",'All Bill Data Entry'!J227)","v":""},{"$f":"IF('All Bill Data Entry'!K227=\"\",\"\",'All Bill Data Entry'!K227)","v":""},{"$f":"IF('All Bill Data Entry'!I227=\"\",\"\",'All Bill Data Entry'!I227)","v":""},{"$f":"IF('All Bill Data Entry'!C227=\"\",\"\",'All Bill Data Entry'!C227)","v":""},{"$f":"IF($B222=\"\",\"\",'All Bill Data Entry'!Y227)","v":""},"","",null,null,"","","",""]
["",{"$f":"IF('All Bill Data Entry'!A228=\"\",\"\",'All Bill Data Entry'!A228)","v":""},"","",{"$f":"IF('All Bill Data Entry'!L228=\"\",\"\",'All Bill Data Entry'!L228)","v":""},{"$f":"IF('All Bill Data Entry'!V228=\"\",\"\",'All Bill Data Entry'!V228)","v":""},{"$f":"IF('All Bill Data Entry'!N228=\"\",\"\",'All Bill Data Entry'!N228)","v":""},"",{"$f":"IF('All Bill Data Entry'!U228=\"\",\"\",'All Bill Data Entry'!U228)","v":""},{"$f":"IF('All Bill Data Entry'!B228=\"\",\"\",'All Bill Data Entry'!B228)","v":""},"",{"$f":"IF('All Bill Data Entry'!X228=\"\",\"\",'All Bill Data Entry'!X228)","v":""},"",{"$f":"IF('All Bill Data Entry'!D228=\"\",\"\",'All Bill Data Entry'!D228)","v":""},"",{"$f":"IF('All Bill Data Entry'!F228=\"\",\"\",'All Bill Data Entry'!F228)","v":""},{"$f":"IF('All Bill Data Entry'!G228=\"\",\"\",'All Bill Data Entry'!G228)","v":""},{"$f":"IF('All Bill Data Entry'!H228=\"\",\"\",'All Bill Data Entry'!H228)","v":""},{"$f":"IF('All Bill Data Entry'!J228=\"\",\"\",'All Bill Data Entry'!J228)","v":""},{"$f":"IF('All Bill Data Entry'!K228=\"\",\"\",'All Bill Data Entry'!K228)","v":""},{"$f":"IF('All Bill Data Entry'!I228=\"\",\"\",'All Bill Data Entry'!I228)","v":""},{"$f":"IF('All Bill Data Entry'!C228=\"\",\"\",'All Bill Data Entry'!C228)","v":""},{"$f":"IF($B223=\"\",\"\",'All Bill Data Entry'!Y228)","v":""},"","",null,null,"","","",""]
["",{"$f":"IF('All Bill Data Entry'!A229=\"\",\"\",'All Bill Data Entry'!A229)","v":""},"","",{"$f":"IF('All Bill Data Entry'!L229=\"\",\"\",'All Bill Data Entry'!L229)","v":""},{"$f":"IF('All Bill Data Entry'!V229=\"\",\"\",'All Bill Data Entry'!V229)","v":""},{"$f":"IF('All Bill Data Entry'!N229=\"\",\"\",'All Bill Data Entry'!N229)","v":""},"",{"$f":"IF('All Bill Data Entry'!U229=\"\",\"\",'All Bill Data Entry'!U229)","v":""},{"$f":"IF('All Bill Data Entry'!B229=\"\",\"\",'All Bill Data Entry'!B229)","v":""},"",{"$f":"IF('All Bill Data Entry'!X229=\"\",\"\",'All Bill Data Entry'!X229)","v":""},"",{"$f":"IF('All Bill Data Entry'!D229=\"\",\"\",'All Bill Data Entry'!D229)","v":""},"",{"$f":"IF('All Bill Data Entry'!F229=\"\",\"\",'All Bill Data Entry'!F229)","v":""},{"$f":"IF('All Bill Data Entry'!G229=\"\",\"\",'All Bill Data Entry'!G229)","v":""},{"$f":"IF('All Bill Data Entry'!H229=\"\",\"\",'All Bill Data Entry'!H229)","v":""},{"$f":"IF('All Bill Data Entry'!J229=\"\",\"\",'All Bill Data Entry'!J229)","v":""},{"$f":"IF('All Bill Data Entry'!K229=\"\",\"\",'All Bill Data Entry'!K229)","v":""},{"$f":"IF('All Bill Data Entry'!I229=\"\",\"\",'All Bill Data Entry'!I229)","v":""},{"$f":"IF('All Bill Data Entry'!C229=\"\",\"\",'All Bill Data Entry'!C229)","v":""},{"$f":"IF($B224=\"\",\"\",'All Bill Data Entry'!Y229)","v":""},"","",null,null,"","","",""]
["",{"$f":"IF('All Bill Data Entry'!A230=\"\",\"\",'All Bill Data Entry'!A230)","v":""},"","",{"$f":"IF('All Bill Data Entry'!L230=\"\",\"\",'All Bill Data Entry'!L230)","v":""},{"$f":"IF('All Bill Data Entry'!V230=\"\",\"\",'All Bill Data Entry'!V230)","v":""},{"$f":"IF('All Bill Data Entry'!N230=\"\",\"\",'All Bill Data Entry'!N230)","v":""},"",{"$f":"IF('All Bill Data Entry'!U230=\"\",\"\",'All Bill Data Entry'!U230)","v":""},{"$f":"IF('All Bill Data Entry'!B230=\"\",\"\",'All Bill Data Entry'!B230)","v":""},"",{"$f":"IF('All Bill Data Entry'!X230=\"\",\"\",'All Bill Data Entry'!X230)","v":""},"",{"$f":"IF('All Bill Data Entry'!D230=\"\",\"\",'All Bill Data Entry'!D230)","v":""},"",{"$f":"IF('All Bill Data Entry'!F230=\"\",\"\",'All Bill Data Entry'!F230)","v":""},{"$f":"IF('All Bill Data Entry'!G230=\"\",\"\",'All Bill Data Entry'!G230)","v":""},{"$f":"IF('All Bill Data Entry'!H230=\"\",\"\",'All Bill Data Entry'!H230)","v":""},{"$f":"IF('All Bill Data Entry'!J230=\"\",\"\",'All Bill Data Entry'!J230)","v":""},{"$f":"IF('All Bill Data Entry'!K230=\"\",\"\",'All Bill Data Entry'!K230)","v":""},{"$f":"IF('All Bill Data Entry'!I230=\"\",\"\",'All Bill Data Entry'!I230)","v":""},{"$f":"IF('All Bill Data Entry'!C230=\"\",\"\",'All Bill Data Entry'!C230)","v":""},{"$f":"IF($B225=\"\",\"\",'All Bill Data Entry'!Y230)","v":""},"","",null,null,"","","",""]
["",{"$f":"IF('All Bill Data Entry'!A231=\"\",\"\",'All Bill Data Entry'!A231)","v":""},"","",{"$f":"IF('All Bill Data Entry'!L231=\"\",\"\",'All Bill Data Entry'!L231)","v":""},{"$f":"IF('All Bill Data Entry'!V231=\"\",\"\",'All Bill Data Entry'!V231)","v":""},{"$f":"IF('All Bill Data Entry'!N231=\"\",\"\",'All Bill Data Entry'!N231)","v":""},"",{"$f":"IF('All Bill Data Entry'!U231=\"\",\"\",'All Bill Data Entry'!U231)","v":""},{"$f":"IF('All Bill Data Entry'!B231=\"\",\"\",'All Bill Data Entry'!B231)","v":""},"",{"$f":"IF('All Bill Data Entry'!X231=\"\",\"\",'All Bill Data Entry'!X231)","v":""},"",{"$f":"IF('All Bill Data Entry'!D231=\"\",\"\",'All Bill Data Entry'!D231)","v":""},"",{"$f":"IF('All Bill Data Entry'!F231=\"\",\"\",'All Bill Data Entry'!F231)","v":""},{"$f":"IF('All Bill Data Entry'!G231=\"\",\"\",'All Bill Data Entry'!G231)","v":""},{"$f":"IF('All Bill Data Entry'!H231=\"\",\"\",'All Bill Data Entry'!H231)","v":""},{"$f":"IF('All Bill Data Entry'!J231=\"\",\"\",'All Bill Data Entry'!J231)","v":""},{"$f":"IF('All Bill Data Entry'!K231=\"\",\"\",'All Bill Data Entry'!K231)","v":""},{"$f":"IF('All Bill Data Entry'!I231=\"\",\"\",'All Bill Data Entry'!I231)","v":""},{"$f":"IF('All Bill Data Entry'!C231=\"\",\"\",'All Bill Data Entry'!C231)","v":""},{"$f":"IF($B226=\"\",\"\",'All Bill Data Entry'!Y231)","v":""},"","",null,null,"","","",""]
["",{"$f":"IF('All Bill Data Entry'!A232=\"\",\"\",'All Bill Data Entry'!A232)","v":""},"","",{"$f":"IF('All Bill Data Entry'!L232=\"\",\"\",'All Bill Data Entry'!L232)","v":""},{"$f":"IF('All Bill Data Entry'!V232=\"\",\"\",'All Bill Data Entry'!V232)","v":""},{"$f":"IF('All Bill Data Entry'!N232=\"\",\"\",'All Bill Data Entry'!N232)","v":""},"",{"$f":"IF('All Bill Data Entry'!U232=\"\",\"\",'All Bill Data Entry'!U232)","v":""},{"$f":"IF('All Bill Data Entry'!B232=\"\",\"\",'All Bill Data Entry'!B232)","v":""},"",{"$f":"IF('All Bill Data Entry'!X232=\"\",\"\",'All Bill Data Entry'!X232)","v":""},"",{"$f":"IF('All Bill Data Entry'!D232=\"\",\"\",'All Bill Data Entry'!D232)","v":""},"",{"$f":"IF('All Bill Data Entry'!F232=\"\",\"\",'All Bill Data Entry'!F232)","v":""},{"$f":"IF('All Bill Data Entry'!G232=\"\",\"\",'All Bill Data Entry'!G232)","v":""},{"$f":"IF('All Bill Data Entry'!H232=\"\",\"\",'All Bill Data Entry'!H232)","v":""},{"$f":"IF('All Bill Data Entry'!J232=\"\",\"\",'All Bill Data Entry'!J232)","v":""},{"$f":"IF('All Bill Data Entry'!K232=\"\",\"\",'All Bill Data Entry'!K232)","v":""},{"$f":"IF('All Bill Data Entry'!I232=\"\",\"\",'All Bill Data Entry'!I232)","v":""},{"$f":"IF('All Bill Data Entry'!C232=\"\",\"\",'All Bill Data Entry'!C232)","v":""},{"$f":"IF($B227=\"\",\"\",'All Bill Data Entry'!Y232)","v":""},"","",null,null,"","","",""]
["",{"$f":"IF('All Bill Data Entry'!A233=\"\",\"\",'All Bill Data Entry'!A233)","v":""},"","",{"$f":"IF('All Bill Data Entry'!L233=\"\",\"\",'All Bill Data Entry'!L233)","v":""},{"$f":"IF('All Bill Data Entry'!V233=\"\",\"\",'All Bill Data Entry'!V233)","v":""},{"$f":"IF('All Bill Data Entry'!N233=\"\",\"\",'All Bill Data Entry'!N233)","v":""},"",{"$f":"IF('All Bill Data Entry'!U233=\"\",\"\",'All Bill Data Entry'!U233)","v":""},{"$f":"IF('All Bill Data Entry'!B233=\"\",\"\",'All Bill Data Entry'!B233)","v":""},"",{"$f":"IF('All Bill Data Entry'!X233=\"\",\"\",'All Bill Data Entry'!X233)","v":""},"",{"$f":"IF('All Bill Data Entry'!D233=\"\",\"\",'All Bill Data Entry'!D233)","v":""},"",{"$f":"IF('All Bill Data Entry'!F233=\"\",\"\",'All Bill Data Entry'!F233)","v":""},{"$f":"IF('All Bill Data Entry'!G233=\"\",\"\",'All Bill Data Entry'!G233)","v":""},{"$f":"IF('All Bill Data Entry'!H233=\"\",\"\",'All Bill Data Entry'!H233)","v":""},{"$f":"IF('All Bill Data Entry'!J233=\"\",\"\",'All Bill Data Entry'!J233)","v":""},{"$f":"IF('All Bill Data Entry'!K233=\"\",\"\",'All Bill Data Entry'!K233)","v":""},{"$f":"IF('All Bill Data Entry'!I233=\"\",\"\",'All Bill Data Entry'!I233)","v":""},{"$f":"IF('All Bill Data Entry'!C233=\"\",\"\",'All Bill Data Entry'!C233)","v":""},{"$f":"IF($B228=\"\",\"\",'All Bill Data Entry'!Y233)","v":""},"","",null,null,"","","",""]
["",{"$f":"IF('All Bill Data Entry'!A234=\"\",\"\",'All Bill Data Entry'!A234)","v":""},"","",{"$f":"IF('All Bill Data Entry'!L234=\"\",\"\",'All Bill Data Entry'!L234)","v":""},{"$f":"IF('All Bill Data Entry'!V234=\"\",\"\",'All Bill Data Entry'!V234)","v":""},{"$f":"IF('All Bill Data Entry'!N234=\"\",\"\",'All Bill Data Entry'!N234)","v":""},"",{"$f":"IF('All Bill Data Entry'!U234=\"\",\"\",'All Bill Data Entry'!U234)","v":""},{"$f":"IF('All Bill Data Entry'!B234=\"\",\"\",'All Bill Data Entry'!B234)","v":""},"",{"$f":"IF('All Bill Data Entry'!X234=\"\",\"\",'All Bill Data Entry'!X234)","v":""},"",{"$f":"IF('All Bill Data Entry'!D234=\"\",\"\",'All Bill Data Entry'!D234)","v":""},"",{"$f":"IF('All Bill Data Entry'!F234=\"\",\"\",'All Bill Data Entry'!F234)","v":""},{"$f":"IF('All Bill Data Entry'!G234=\"\",\"\",'All Bill Data Entry'!G234)","v":""},{"$f":"IF('All Bill Data Entry'!H234=\"\",\"\",'All Bill Data Entry'!H234)","v":""},{"$f":"IF('All Bill Data Entry'!J234=\"\",\"\",'All Bill Data Entry'!J234)","v":""},{"$f":"IF('All Bill Data Entry'!K234=\"\",\"\",'All Bill Data Entry'!K234)","v":""},{"$f":"IF('All Bill Data Entry'!I234=\"\",\"\",'All Bill Data Entry'!I234)","v":""},{"$f":"IF('All Bill Data Entry'!C234=\"\",\"\",'All Bill Data Entry'!C234)","v":""},{"$f":"IF($B229=\"\",\"\",'All Bill Data Entry'!Y234)","v":""},"","",null,null,"","","",""]
["",{"$f":"IF('All Bill Data Entry'!A235=\"\",\"\",'All Bill Data Entry'!A235)","v":""},"","",{"$f":"IF('All Bill Data Entry'!L235=\"\",\"\",'All Bill Data Entry'!L235)","v":""},{"$f":"IF('All Bill Data Entry'!V235=\"\",\"\",'All Bill Data Entry'!V235)","v":""},{"$f":"IF('All Bill Data Entry'!N235=\"\",\"\",'All Bill Data Entry'!N235)","v":""},"",{"$f":"IF('All Bill Data Entry'!U235=\"\",\"\",'All Bill Data Entry'!U235)","v":""},{"$f":"IF('All Bill Data Entry'!B235=\"\",\"\",'All Bill Data Entry'!B235)","v":""},"",{"$f":"IF('All Bill Data Entry'!X235=\"\",\"\",'All Bill Data Entry'!X235)","v":""},"",{"$f":"IF('All Bill Data Entry'!D235=\"\",\"\",'All Bill Data Entry'!D235)","v":""},"",{"$f":"IF('All Bill Data Entry'!F235=\"\",\"\",'All Bill Data Entry'!F235)","v":""},{"$f":"IF('All Bill Data Entry'!G235=\"\",\"\",'All Bill Data Entry'!G235)","v":""},{"$f":"IF('All Bill Data Entry'!H235=\"\",\"\",'All Bill Data Entry'!H235)","v":""},{"$f":"IF('All Bill Data Entry'!J235=\"\",\"\",'All Bill Data Entry'!J235)","v":""},{"$f":"IF('All Bill Data Entry'!K235=\"\",\"\",'All Bill Data Entry'!K235)","v":""},{"$f":"IF('All Bill Data Entry'!I235=\"\",\"\",'All Bill Data Entry'!I235)","v":""},{"$f":"IF('All Bill Data Entry'!C235=\"\",\"\",'All Bill Data Entry'!C235)","v":""},{"$f":"IF($B230=\"\",\"\",'All Bill Data Entry'!Y235)","v":""},"","",null,null,"","","",""]
["",{"$f":"IF('All Bill Data Entry'!A236=\"\",\"\",'All Bill Data Entry'!A236)","v":""},"","",{"$f":"IF('All Bill Data Entry'!L236=\"\",\"\",'All Bill Data Entry'!L236)","v":""},{"$f":"IF('All Bill Data Entry'!V236=\"\",\"\",'All Bill Data Entry'!V236)","v":""},{"$f":"IF('All Bill Data Entry'!N236=\"\",\"\",'All Bill Data Entry'!N236)","v":""},"",{"$f":"IF('All Bill Data Entry'!U236=\"\",\"\",'All Bill Data Entry'!U236)","v":""},{"$f":"IF('All Bill Data Entry'!B236=\"\",\"\",'All Bill Data Entry'!B236)","v":""},"",{"$f":"IF('All Bill Data Entry'!X236=\"\",\"\",'All Bill Data Entry'!X236)","v":""},"",{"$f":"IF('All Bill Data Entry'!D236=\"\",\"\",'All Bill Data Entry'!D236)","v":""},"",{"$f":"IF('All Bill Data Entry'!F236=\"\",\"\",'All Bill Data Entry'!F236)","v":""},{"$f":"IF('All Bill Data Entry'!G236=\"\",\"\",'All Bill Data Entry'!G236)","v":""},{"$f":"IF('All Bill Data Entry'!H236=\"\",\"\",'All Bill Data Entry'!H236)","v":""},{"$f":"IF('All Bill Data Entry'!J236=\"\",\"\",'All Bill Data Entry'!J236)","v":""},{"$f":"IF('All Bill Data Entry'!K236=\"\",\"\",'All Bill Data Entry'!K236)","v":""},{"$f":"IF('All Bill Data Entry'!I236=\"\",\"\",'All Bill Data Entry'!I236)","v":""},{"$f":"IF('All Bill Data Entry'!C236=\"\",\"\",'All Bill Data Entry'!C236)","v":""},{"$f":"IF($B231=\"\",\"\",'All Bill Data Entry'!Y236)","v":""},"","",null,null,"","","",""]
["",{"$f":"IF('All Bill Data Entry'!A237=\"\",\"\",'All Bill Data Entry'!A237)","v":""},"","",{"$f":"IF('All Bill Data Entry'!L237=\"\",\"\",'All Bill Data Entry'!L237)","v":""},{"$f":"IF('All Bill Data Entry'!V237=\"\",\"\",'All Bill Data Entry'!V237)","v":""},{"$f":"IF('All Bill Data Entry'!N237=\"\",\"\",'All Bill Data Entry'!N237)","v":""},"",{"$f":"IF('All Bill Data Entry'!U237=\"\",\"\",'All Bill Data Entry'!U237)","v":""},{"$f":"IF('All Bill Data Entry'!B237=\"\",\"\",'All Bill Data Entry'!B237)","v":""},"",{"$f":"IF('All Bill Data Entry'!X237=\"\",\"\",'All Bill Data Entry'!X237)","v":""},"",{"$f":"IF('All Bill Data Entry'!D237=\"\",\"\",'All Bill Data Entry'!D237)","v":""},"",{"$f":"IF('All Bill Data Entry'!F237=\"\",\"\",'All Bill Data Entry'!F237)","v":""},{"$f":"IF('All Bill Data Entry'!G237=\"\",\"\",'All Bill Data Entry'!G237)","v":""},{"$f":"IF('All Bill Data Entry'!H237=\"\",\"\",'All Bill Data Entry'!H237)","v":""},{"$f":"IF('All Bill Data Entry'!J237=\"\",\"\",'All Bill Data Entry'!J237)","v":""},{"$f":"IF('All Bill Data Entry'!K237=\"\",\"\",'All Bill Data Entry'!K237)","v":""},{"$f":"IF('All Bill Data Entry'!I237=\"\",\"\",'All Bill Data Entry'!I237)","v":""},{"$f":"IF('All Bill Data Entry'!C237=\"\",\"\",'All Bill Data Entry'!C237)","v":""},{"$f":"IF($B232=\"\",\"\",'All Bill Data Entry'!Y237)","v":""},"","",null,null,"","","",""]
["",{"$f":"IF('All Bill Data Entry'!A238=\"\",\"\",'All Bill Data Entry'!A238)","v":""},"","",{"$f":"IF('All Bill Data Entry'!L238=\"\",\"\",'All Bill Data Entry'!L238)","v":""},{"$f":"IF('All Bill Data Entry'!V238=\"\",\"\",'All Bill Data Entry'!V238)","v":""},{"$f":"IF('All Bill Data Entry'!N238=\"\",\"\",'All Bill Data Entry'!N238)","v":""},"",{"$f":"IF('All Bill Data Entry'!U238=\"\",\"\",'All Bill Data Entry'!U238)","v":""},{"$f":"IF('All Bill Data Entry'!B238=\"\",\"\",'All Bill Data Entry'!B238)","v":""},"",{"$f":"IF('All Bill Data Entry'!X238=\"\",\"\",'All Bill Data Entry'!X238)","v":""},"",{"$f":"IF('All Bill Data Entry'!D238=\"\",\"\",'All Bill Data Entry'!D238)","v":""},"",{"$f":"IF('All Bill Data Entry'!F238=\"\",\"\",'All Bill Data Entry'!F238)","v":""},{"$f":"IF('All Bill Data Entry'!G238=\"\",\"\",'All Bill Data Entry'!G238)","v":""},{"$f":"IF('All Bill Data Entry'!H238=\"\",\"\",'All Bill Data Entry'!H238)","v":""},{"$f":"IF('All Bill Data Entry'!J238=\"\",\"\",'All Bill Data Entry'!J238)","v":""},{"$f":"IF('All Bill Data Entry'!K238=\"\",\"\",'All Bill Data Entry'!K238)","v":""},{"$f":"IF('All Bill Data Entry'!I238=\"\",\"\",'All Bill Data Entry'!I238)","v":""},{"$f":"IF('All Bill Data Entry'!C238=\"\",\"\",'All Bill Data Entry'!C238)","v":""},{"$f":"IF($B233=\"\",\"\",'All Bill Data Entry'!Y238)","v":""},"","",null,null,"","","",""]
["",{"$f":"IF('All Bill Data Entry'!A239=\"\",\"\",'All Bill Data Entry'!A239)","v":""},"","",{"$f":"IF('All Bill Data Entry'!L239=\"\",\"\",'All Bill Data Entry'!L239)","v":""},{"$f":"IF('All Bill Data Entry'!V239=\"\",\"\",'All Bill Data Entry'!V239)","v":""},{"$f":"IF('All Bill Data Entry'!N239=\"\",\"\",'All Bill Data Entry'!N239)","v":""},"",{"$f":"IF('All Bill Data Entry'!U239=\"\",\"\",'All Bill Data Entry'!U239)","v":""},{"$f":"IF('All Bill Data Entry'!B239=\"\",\"\",'All Bill Data Entry'!B239)","v":""},"",{"$f":"IF('All Bill Data Entry'!X239=\"\",\"\",'All Bill Data Entry'!X239)","v":""},"",{"$f":"IF('All Bill Data Entry'!D239=\"\",\"\",'All Bill Data Entry'!D239)","v":""},"",{"$f":"IF('All Bill Data Entry'!F239=\"\",\"\",'All Bill Data Entry'!F239)","v":""},{"$f":"IF('All Bill Data Entry'!G239=\"\",\"\",'All Bill Data Entry'!G239)","v":""},{"$f":"IF('All Bill Data Entry'!H239=\"\",\"\",'All Bill Data Entry'!H239)","v":""},{"$f":"IF('All Bill Data Entry'!J239=\"\",\"\",'All Bill Data Entry'!J239)","v":""},{"$f":"IF('All Bill Data Entry'!K239=\"\",\"\",'All Bill Data Entry'!K239)","v":""},{"$f":"IF('All Bill Data Entry'!I239=\"\",\"\",'All Bill Data Entry'!I239)","v":""},{"$f":"IF('All Bill Data Entry'!C239=\"\",\"\",'All Bill Data Entry'!C239)","v":""},{"$f":"IF($B234=\"\",\"\",'All Bill Data Entry'!Y239)","v":""},"","",null,null,"","","",""]
["",{"$f":"IF('All Bill Data Entry'!A240=\"\",\"\",'All Bill Data Entry'!A240)","v":""},"","",{"$f":"IF('All Bill Data Entry'!L240=\"\",\"\",'All Bill Data Entry'!L240)","v":""},{"$f":"IF('All Bill Data Entry'!V240=\"\",\"\",'All Bill Data Entry'!V240)","v":""},{"$f":"IF('All Bill Data Entry'!N240=\"\",\"\",'All Bill Data Entry'!N240)","v":""},"",{"$f":"IF('All Bill Data Entry'!U240=\"\",\"\",'All Bill Data Entry'!U240)","v":""},{"$f":"IF('All Bill Data Entry'!B240=\"\",\"\",'All Bill Data Entry'!B240)","v":""},"",{"$f":"IF('All Bill Data Entry'!X240=\"\",\"\",'All Bill Data Entry'!X240)","v":""},"",{"$f":"IF('All Bill Data Entry'!D240=\"\",\"\",'All Bill Data Entry'!D240)","v":""},"",{"$f":"IF('All Bill Data Entry'!F240=\"\",\"\",'All Bill Data Entry'!F240)","v":""},{"$f":"IF('All Bill Data Entry'!G240=\"\",\"\",'All Bill Data Entry'!G240)","v":""},{"$f":"IF('All Bill Data Entry'!H240=\"\",\"\",'All Bill Data Entry'!H240)","v":""},{"$f":"IF('All Bill Data Entry'!J240=\"\",\"\",'All Bill Data Entry'!J240)","v":""},{"$f":"IF('All Bill Data Entry'!K240=\"\",\"\",'All Bill Data Entry'!K240)","v":""},{"$f":"IF('All Bill Data Entry'!I240=\"\",\"\",'All Bill Data Entry'!I240)","v":""},{"$f":"IF('All Bill Data Entry'!C240=\"\",\"\",'All Bill Data Entry'!C240)","v":""},{"$f":"IF($B235=\"\",\"\",'All Bill Data Entry'!Y240)","v":""},"","",null,null,"","","",""]
["",{"$f":"IF('All Bill Data Entry'!A241=\"\",\"\",'All Bill Data Entry'!A241)","v":""},"","",{"$f":"IF('All Bill Data Entry'!L241=\"\",\"\",'All Bill Data Entry'!L241)","v":""},{"$f":"IF('All Bill Data Entry'!V241=\"\",\"\",'All Bill Data Entry'!V241)","v":""},{"$f":"IF('All Bill Data Entry'!N241=\"\",\"\",'All Bill Data Entry'!N241)","v":""},"",{"$f":"IF('All Bill Data Entry'!U241=\"\",\"\",'All Bill Data Entry'!U241)","v":""},{"$f":"IF('All Bill Data Entry'!B241=\"\",\"\",'All Bill Data Entry'!B241)","v":""},"",{"$f":"IF('All Bill Data Entry'!X241=\"\",\"\",'All Bill Data Entry'!X241)","v":""},"",{"$f":"IF('All Bill Data Entry'!D241=\"\",\"\",'All Bill Data Entry'!D241)","v":""},"",{"$f":"IF('All Bill Data Entry'!F241=\"\",\"\",'All Bill Data Entry'!F241)","v":""},{"$f":"IF('All Bill Data Entry'!G241=\"\",\"\",'All Bill Data Entry'!G241)","v":""},{"$f":"IF('All Bill Data Entry'!H241=\"\",\"\",'All Bill Data Entry'!H241)","v":""},{"$f":"IF('All Bill Data Entry'!J241=\"\",\"\",'All Bill Data Entry'!J241)","v":""},{"$f":"IF('All Bill Data Entry'!K241=\"\",\"\",'All Bill Data Entry'!K241)","v":""},{"$f":"IF('All Bill Data Entry'!I241=\"\",\"\",'All Bill Data Entry'!I241)","v":""},{"$f":"IF('All Bill Data Entry'!C241=\"\",\"\",'All Bill Data Entry'!C241)","v":""},{"$f":"IF($B236=\"\",\"\",'All Bill Data Entry'!Y241)","v":""},"","",null,null,"","","",""]
["",{"$f":"IF('All Bill Data Entry'!A242=\"\",\"\",'All Bill Data Entry'!A242)","v":""},"","",{"$f":"IF('All Bill Data Entry'!L242=\"\",\"\",'All Bill Data Entry'!L242)","v":""},{"$f":"IF('All Bill Data Entry'!V242=\"\",\"\",'All Bill Data Entry'!V242)","v":""},{"$f":"IF('All Bill Data Entry'!N242=\"\",\"\",'All Bill Data Entry'!N242)","v":""},"",{"$f":"IF('All Bill Data Entry'!U242=\"\",\"\",'All Bill Data Entry'!U242)","v":""},{"$f":"IF('All Bill Data Entry'!B242=\"\",\"\",'All Bill Data Entry'!B242)","v":""},"",{"$f":"IF('All Bill Data Entry'!X242=\"\",\"\",'All Bill Data Entry'!X242)","v":""},"",{"$f":"IF('All Bill Data Entry'!D242=\"\",\"\",'All Bill Data Entry'!D242)","v":""},"",{"$f":"IF('All Bill Data Entry'!F242=\"\",\"\",'All Bill Data Entry'!F242)","v":""},{"$f":"IF('All Bill Data Entry'!G242=\"\",\"\",'All Bill Data Entry'!G242)","v":""},{"$f":"IF('All Bill Data Entry'!H242=\"\",\"\",'All Bill Data Entry'!H242)","v":""},{"$f":"IF('All Bill Data Entry'!J242=\"\",\"\",'All Bill Data Entry'!J242)","v":""},{"$f":"IF('All Bill Data Entry'!K242=\"\",\"\",'All Bill Data Entry'!K242)","v":""},{"$f":"IF('All Bill Data Entry'!I242=\"\",\"\",'All Bill Data Entry'!I242)","v":""},{"$f":"IF('All Bill Data Entry'!C242=\"\",\"\",'All Bill Data Entry'!C242)","v":""},{"$f":"IF($B237=\"\",\"\",'All Bill Data Entry'!Y242)","v":""},"","",null,null,"","","",""]
["",{"$f":"IF('All Bill Data Entry'!A243=\"\",\"\",'All Bill Data Entry'!A243)","v":""},"","",{"$f":"IF('All Bill Data Entry'!L243=\"\",\"\",'All Bill Data Entry'!L243)","v":""},{"$f":"IF('All Bill Data Entry'!V243=\"\",\"\",'All Bill Data Entry'!V243)","v":""},{"$f":"IF('All Bill Data Entry'!N243=\"\",\"\",'All Bill Data Entry'!N243)","v":""},"",{"$f":"IF('All Bill Data Entry'!U243=\"\",\"\",'All Bill Data Entry'!U243)","v":""},{"$f":"IF('All Bill Data Entry'!B243=\"\",\"\",'All Bill Data Entry'!B243)","v":""},"",{"$f":"IF('All Bill Data Entry'!X243=\"\",\"\",'All Bill Data Entry'!X243)","v":""},"",{"$f":"IF('All Bill Data Entry'!D243=\"\",\"\",'All Bill Data Entry'!D243)","v":""},"",{"$f":"IF('All Bill Data Entry'!F243=\"\",\"\",'All Bill Data Entry'!F243)","v":""},{"$f":"IF('All Bill Data Entry'!G243=\"\",\"\",'All Bill Data Entry'!G243)","v":""},{"$f":"IF('All Bill Data Entry'!H243=\"\",\"\",'All Bill Data Entry'!H243)","v":""},{"$f":"IF('All Bill Data Entry'!J243=\"\",\"\",'All Bill Data Entry'!J243)","v":""},{"$f":"IF('All Bill Data Entry'!K243=\"\",\"\",'All Bill Data Entry'!K243)","v":""},{"$f":"IF('All Bill Data Entry'!I243=\"\",\"\",'All Bill Data Entry'!I243)","v":""},{"$f":"IF('All Bill Data Entry'!C243=\"\",\"\",'All Bill Data Entry'!C243)","v":""},{"$f":"IF($B238=\"\",\"\",'All Bill Data Entry'!Y243)","v":""},"","",null,null,"","","",""]
["",{"$f":"IF('All Bill Data Entry'!A244=\"\",\"\",'All Bill Data Entry'!A244)","v":""},"","",{"$f":"IF('All Bill Data Entry'!L244=\"\",\"\",'All Bill Data Entry'!L244)","v":""},{"$f":"IF('All Bill Data Entry'!V244=\"\",\"\",'All Bill Data Entry'!V244)","v":""},{"$f":"IF('All Bill Data Entry'!N244=\"\",\"\",'All Bill Data Entry'!N244)","v":""},"",{"$f":"IF('All Bill Data Entry'!U244=\"\",\"\",'All Bill Data Entry'!U244)","v":""},{"$f":"IF('All Bill Data Entry'!B244=\"\",\"\",'All Bill Data Entry'!B244)","v":""},"",{"$f":"IF('All Bill Data Entry'!X244=\"\",\"\",'All Bill Data Entry'!X244)","v":""},"",{"$f":"IF('All Bill Data Entry'!D244=\"\",\"\",'All Bill Data Entry'!D244)","v":""},"",{"$f":"IF('All Bill Data Entry'!F244=\"\",\"\",'All Bill Data Entry'!F244)","v":""},{"$f":"IF('All Bill Data Entry'!G244=\"\",\"\",'All Bill Data Entry'!G244)","v":""},{"$f":"IF('All Bill Data Entry'!H244=\"\",\"\",'All Bill Data Entry'!H244)","v":""},{"$f":"IF('All Bill Data Entry'!J244=\"\",\"\",'All Bill Data Entry'!J244)","v":""},{"$f":"IF('All Bill Data Entry'!K244=\"\",\"\",'All Bill Data Entry'!K244)","v":""},{"$f":"IF('All Bill Data Entry'!I244=\"\",\"\",'All Bill Data Entry'!I244)","v":""},{"$f":"IF('All Bill Data Entry'!C244=\"\",\"\",'All Bill Data Entry'!C244)","v":""},{"$f":"IF($B239=\"\",\"\",'All Bill Data Entry'!Y244)","v":""},"","",null,null,"","","",""]
["",{"$f":"IF('All Bill Data Entry'!A245=\"\",\"\",'All Bill Data Entry'!A245)","v":""},"","",{"$f":"IF('All Bill Data Entry'!L245=\"\",\"\",'All Bill Data Entry'!L245)","v":""},{"$f":"IF('All Bill Data Entry'!V245=\"\",\"\",'All Bill Data Entry'!V245)","v":""},{"$f":"IF('All Bill Data Entry'!N245=\"\",\"\",'All Bill Data Entry'!N245)","v":""},"",{"$f":"IF('All Bill Data Entry'!U245=\"\",\"\",'All Bill Data Entry'!U245)","v":""},{"$f":"IF('All Bill Data Entry'!B245=\"\",\"\",'All Bill Data Entry'!B245)","v":""},"",{"$f":"IF('All Bill Data Entry'!X245=\"\",\"\",'All Bill Data Entry'!X245)","v":""},"",{"$f":"IF('All Bill Data Entry'!D245=\"\",\"\",'All Bill Data Entry'!D245)","v":""},"",{"$f":"IF('All Bill Data Entry'!F245=\"\",\"\",'All Bill Data Entry'!F245)","v":""},{"$f":"IF('All Bill Data Entry'!G245=\"\",\"\",'All Bill Data Entry'!G245)","v":""},{"$f":"IF('All Bill Data Entry'!H245=\"\",\"\",'All Bill Data Entry'!H245)","v":""},{"$f":"IF('All Bill Data Entry'!J245=\"\",\"\",'All Bill Data Entry'!J245)","v":""},{"$f":"IF('All Bill Data Entry'!K245=\"\",\"\",'All Bill Data Entry'!K245)","v":""},{"$f":"IF('All Bill Data Entry'!I245=\"\",\"\",'All Bill Data Entry'!I245)","v":""},{"$f":"IF('All Bill Data Entry'!C245=\"\",\"\",'All Bill Data Entry'!C245)","v":""},{"$f":"IF($B240=\"\",\"\",'All Bill Data Entry'!Y245)","v":""},"","",null,null,"","","",""]
["",{"$f":"IF('All Bill Data Entry'!A246=\"\",\"\",'All Bill Data Entry'!A246)","v":""},"","",{"$f":"IF('All Bill Data Entry'!L246=\"\",\"\",'All Bill Data Entry'!L246)","v":""},{"$f":"IF('All Bill Data Entry'!V246=\"\",\"\",'All Bill Data Entry'!V246)","v":""},{"$f":"IF('All Bill Data Entry'!N246=\"\",\"\",'All Bill Data Entry'!N246)","v":""},"",{"$f":"IF('All Bill Data Entry'!U246=\"\",\"\",'All Bill Data Entry'!U246)","v":""},{"$f":"IF('All Bill Data Entry'!B246=\"\",\"\",'All Bill Data Entry'!B246)","v":""},"",{"$f":"IF('All Bill Data Entry'!X246=\"\",\"\",'All Bill Data Entry'!X246)","v":""},"",{"$f":"IF('All Bill Data Entry'!D246=\"\",\"\",'All Bill Data Entry'!D246)","v":""},"",{"$f":"IF('All Bill Data Entry'!F246=\"\",\"\",'All Bill Data Entry'!F246)","v":""},{"$f":"IF('All Bill Data Entry'!G246=\"\",\"\",'All Bill Data Entry'!G246)","v":""},{"$f":"IF('All Bill Data Entry'!H246=\"\",\"\",'All Bill Data Entry'!H246)","v":""},{"$f":"IF('All Bill Data Entry'!J246=\"\",\"\",'All Bill Data Entry'!J246)","v":""},{"$f":"IF('All Bill Data Entry'!K246=\"\",\"\",'All Bill Data Entry'!K246)","v":""},{"$f":"IF('All Bill Data Entry'!I246=\"\",\"\",'All Bill Data Entry'!I246)","v":""},{"$f":"IF('All Bill Data Entry'!C246=\"\",\"\",'All Bill Data Entry'!C246)","v":""},{"$f":"IF($B241=\"\",\"\",'All Bill Data Entry'!Y246)","v":""},"","",null,null,"","","",""]
["",{"$f":"IF('All Bill Data Entry'!A247=\"\",\"\",'All Bill Data Entry'!A247)","v":""},"","",{"$f":"IF('All Bill Data Entry'!L247=\"\",\"\",'All Bill Data Entry'!L247)","v":""},{"$f":"IF('All Bill Data Entry'!V247=\"\",\"\",'All Bill Data Entry'!V247)","v":""},{"$f":"IF('All Bill Data Entry'!N247=\"\",\"\",'All Bill Data Entry'!N247)","v":""},"",{"$f":"IF('All Bill Data Entry'!U247=\"\",\"\",'All Bill Data Entry'!U247)","v":""},{"$f":"IF('All Bill Data Entry'!B247=\"\",\"\",'All Bill Data Entry'!B247)","v":""},"",{"$f":"IF('All Bill Data Entry'!X247=\"\",\"\",'All Bill Data Entry'!X247)","v":""},"",{"$f":"IF('All Bill Data Entry'!D247=\"\",\"\",'All Bill Data Entry'!D247)","v":""},"",{"$f":"IF('All Bill Data Entry'!F247=\"\",\"\",'All Bill Data Entry'!F247)","v":""},{"$f":"IF('All Bill Data Entry'!G247=\"\",\"\",'All Bill Data Entry'!G247)","v":""},{"$f":"IF('All Bill Data Entry'!H247=\"\",\"\",'All Bill Data Entry'!H247)","v":""},{"$f":"IF('All Bill Data Entry'!J247=\"\",\"\",'All Bill Data Entry'!J247)","v":""},{"$f":"IF('All Bill Data Entry'!K247=\"\",\"\",'All Bill Data Entry'!K247)","v":""},{"$f":"IF('All Bill Data Entry'!I247=\"\",\"\",'All Bill Data Entry'!I247)","v":""},{"$f":"IF('All Bill Data Entry'!C247=\"\",\"\",'All Bill Data Entry'!C247)","v":""},{"$f":"IF($B242=\"\",\"\",'All Bill Data Entry'!Y247)","v":""},"","",null,null,"","","",""]
["",{"$f":"IF('All Bill Data Entry'!A248=\"\",\"\",'All Bill Data Entry'!A248)","v":""},"","",{"$f":"IF('All Bill Data Entry'!L248=\"\",\"\",'All Bill Data Entry'!L248)","v":""},{"$f":"IF('All Bill Data Entry'!V248=\"\",\"\",'All Bill Data Entry'!V248)","v":""},{"$f":"IF('All Bill Data Entry'!N248=\"\",\"\",'All Bill Data Entry'!N248)","v":""},"",{"$f":"IF('All Bill Data Entry'!U248=\"\",\"\",'All Bill Data Entry'!U248)","v":""},{"$f":"IF('All Bill Data Entry'!B248=\"\",\"\",'All Bill Data Entry'!B248)","v":""},"",{"$f":"IF('All Bill Data Entry'!X248=\"\",\"\",'All Bill Data Entry'!X248)","v":""},"",{"$f":"IF('All Bill Data Entry'!D248=\"\",\"\",'All Bill Data Entry'!D248)","v":""},"",{"$f":"IF('All Bill Data Entry'!F248=\"\",\"\",'All Bill Data Entry'!F248)","v":""},{"$f":"IF('All Bill Data Entry'!G248=\"\",\"\",'All Bill Data Entry'!G248)","v":""},{"$f":"IF('All Bill Data Entry'!H248=\"\",\"\",'All Bill Data Entry'!H248)","v":""},{"$f":"IF('All Bill Data Entry'!J248=\"\",\"\",'All Bill Data Entry'!J248)","v":""},{"$f":"IF('All Bill Data Entry'!K248=\"\",\"\",'All Bill Data Entry'!K248)","v":""},{"$f":"IF('All Bill Data Entry'!I248=\"\",\"\",'All Bill Data Entry'!I248)","v":""},{"$f":"IF('All Bill Data Entry'!C248=\"\",\"\",'All Bill Data Entry'!C248)","v":""},{"$f":"IF($B243=\"\",\"\",'All Bill Data Entry'!Y248)","v":""},"","",null,null,"","","",""]
["",{"$f":"IF('All Bill Data Entry'!A249=\"\",\"\",'All Bill Data Entry'!A249)","v":""},"","",{"$f":"IF('All Bill Data Entry'!L249=\"\",\"\",'All Bill Data Entry'!L249)","v":""},{"$f":"IF('All Bill Data Entry'!V249=\"\",\"\",'All Bill Data Entry'!V249)","v":""},{"$f":"IF('All Bill Data Entry'!N249=\"\",\"\",'All Bill Data Entry'!N249)","v":""},"",{"$f":"IF('All Bill Data Entry'!U249=\"\",\"\",'All Bill Data Entry'!U249)","v":""},{"$f":"IF('All Bill Data Entry'!B249=\"\",\"\",'All Bill Data Entry'!B249)","v":""},"",{"$f":"IF('All Bill Data Entry'!X249=\"\",\"\",'All Bill Data Entry'!X249)","v":""},"",{"$f":"IF('All Bill Data Entry'!D249=\"\",\"\",'All Bill Data Entry'!D249)","v":""},"",{"$f":"IF('All Bill Data Entry'!F249=\"\",\"\",'All Bill Data Entry'!F249)","v":""},{"$f":"IF('All Bill Data Entry'!G249=\"\",\"\",'All Bill Data Entry'!G249)","v":""},{"$f":"IF('All Bill Data Entry'!H249=\"\",\"\",'All Bill Data Entry'!H249)","v":""},{"$f":"IF('All Bill Data Entry'!J249=\"\",\"\",'All Bill Data Entry'!J249)","v":""},{"$f":"IF('All Bill Data Entry'!K249=\"\",\"\",'All Bill Data Entry'!K249)","v":""},{"$f":"IF('All Bill Data Entry'!I249=\"\",\"\",'All Bill Data Entry'!I249)","v":""},{"$f":"IF('All Bill Data Entry'!C249=\"\",\"\",'All Bill Data Entry'!C249)","v":""},{"$f":"IF($B244=\"\",\"\",'All Bill Data Entry'!Y249)","v":""},"","",null,null,"","","",""]
["",{"$f":"IF('All Bill Data Entry'!A250=\"\",\"\",'All Bill Data Entry'!A250)","v":""},"","",{"$f":"IF('All Bill Data Entry'!L250=\"\",\"\",'All Bill Data Entry'!L250)","v":""},{"$f":"IF('All Bill Data Entry'!V250=\"\",\"\",'All Bill Data Entry'!V250)","v":""},{"$f":"IF('All Bill Data Entry'!N250=\"\",\"\",'All Bill Data Entry'!N250)","v":""},"",{"$f":"IF('All Bill Data Entry'!U250=\"\",\"\",'All Bill Data Entry'!U250)","v":""},{"$f":"IF('All Bill Data Entry'!B250=\"\",\"\",'All Bill Data Entry'!B250)","v":""},"",{"$f":"IF('All Bill Data Entry'!X250=\"\",\"\",'All Bill Data Entry'!X250)","v":""},"",{"$f":"IF('All Bill Data Entry'!D250=\"\",\"\",'All Bill Data Entry'!D250)","v":""},"",{"$f":"IF('All Bill Data Entry'!F250=\"\",\"\",'All Bill Data Entry'!F250)","v":""},{"$f":"IF('All Bill Data Entry'!G250=\"\",\"\",'All Bill Data Entry'!G250)","v":""},{"$f":"IF('All Bill Data Entry'!H250=\"\",\"\",'All Bill Data Entry'!H250)","v":""},{"$f":"IF('All Bill Data Entry'!J250=\"\",\"\",'All Bill Data Entry'!J250)","v":""},{"$f":"IF('All Bill Data Entry'!K250=\"\",\"\",'All Bill Data Entry'!K250)","v":""},{"$f":"IF('All Bill Data Entry'!I250=\"\",\"\",'All Bill Data Entry'!I250)","v":""},{"$f":"IF('All Bill Data Entry'!C250=\"\",\"\",'All Bill Data Entry'!C250)","v":""},{"$f":"IF($B245=\"\",\"\",'All Bill Data Entry'!Y250)","v":""},"","",null,null,"","","",""]
["",{"$f":"IF('All Bill Data Entry'!A251=\"\",\"\",'All Bill Data Entry'!A251)","v":""},"","",{"$f":"IF('All Bill Data Entry'!L251=\"\",\"\",'All Bill Data Entry'!L251)","v":""},{"$f":"IF('All Bill Data Entry'!V251=\"\",\"\",'All Bill Data Entry'!V251)","v":""},{"$f":"IF('All Bill Data Entry'!N251=\"\",\"\",'All Bill Data Entry'!N251)","v":""},"",{"$f":"IF('All Bill Data Entry'!U251=\"\",\"\",'All Bill Data Entry'!U251)","v":""},{"$f":"IF('All Bill Data Entry'!B251=\"\",\"\",'All Bill Data Entry'!B251)","v":""},"",{"$f":"IF('All Bill Data Entry'!X251=\"\",\"\",'All Bill Data Entry'!X251)","v":""},"",{"$f":"IF('All Bill Data Entry'!D251=\"\",\"\",'All Bill Data Entry'!D251)","v":""},"",{"$f":"IF('All Bill Data Entry'!F251=\"\",\"\",'All Bill Data Entry'!F251)","v":""},{"$f":"IF('All Bill Data Entry'!G251=\"\",\"\",'All Bill Data Entry'!G251)","v":""},{"$f":"IF('All Bill Data Entry'!H251=\"\",\"\",'All Bill Data Entry'!H251)","v":""},{"$f":"IF('All Bill Data Entry'!J251=\"\",\"\",'All Bill Data Entry'!J251)","v":""},{"$f":"IF('All Bill Data Entry'!K251=\"\",\"\",'All Bill Data Entry'!K251)","v":""},{"$f":"IF('All Bill Data Entry'!I251=\"\",\"\",'All Bill Data Entry'!I251)","v":""},{"$f":"IF('All Bill Data Entry'!C251=\"\",\"\",'All Bill Data Entry'!C251)","v":""},{"$f":"IF($B246=\"\",\"\",'All Bill Data Entry'!Y251)","v":""},"","",null,null,"","","",""]
["",{"$f":"IF('All Bill Data Entry'!A252=\"\",\"\",'All Bill Data Entry'!A252)","v":""},"","",{"$f":"IF('All Bill Data Entry'!L252=\"\",\"\",'All Bill Data Entry'!L252)","v":""},{"$f":"IF('All Bill Data Entry'!V252=\"\",\"\",'All Bill Data Entry'!V252)","v":""},{"$f":"IF('All Bill Data Entry'!N252=\"\",\"\",'All Bill Data Entry'!N252)","v":""},"",{"$f":"IF('All Bill Data Entry'!U252=\"\",\"\",'All Bill Data Entry'!U252)","v":""},{"$f":"IF('All Bill Data Entry'!B252=\"\",\"\",'All Bill Data Entry'!B252)","v":""},"",{"$f":"IF('All Bill Data Entry'!X252=\"\",\"\",'All Bill Data Entry'!X252)","v":""},"",{"$f":"IF('All Bill Data Entry'!D252=\"\",\"\",'All Bill Data Entry'!D252)","v":""},"",{"$f":"IF('All Bill Data Entry'!F252=\"\",\"\",'All Bill Data Entry'!F252)","v":""},{"$f":"IF('All Bill Data Entry'!G252=\"\",\"\",'All Bill Data Entry'!G252)","v":""},{"$f":"IF('All Bill Data Entry'!H252=\"\",\"\",'All Bill Data Entry'!H252)","v":""},{"$f":"IF('All Bill Data Entry'!J252=\"\",\"\",'All Bill Data Entry'!J252)","v":""},{"$f":"IF('All Bill Data Entry'!K252=\"\",\"\",'All Bill Data Entry'!K252)","v":""},{"$f":"IF('All Bill Data Entry'!I252=\"\",\"\",'All Bill Data Entry'!I252)","v":""},{"$f":"IF('All Bill Data Entry'!C252=\"\",\"\",'All Bill Data Entry'!C252)","v":""},{"$f":"IF($B247=\"\",\"\",'All Bill Data Entry'!Y252)","v":""},"","",null,null,"","","",""]
["",{"$f":"IF('All Bill Data Entry'!A253=\"\",\"\",'All Bill Data Entry'!A253)","v":""},"","",{"$f":"IF('All Bill Data Entry'!L253=\"\",\"\",'All Bill Data Entry'!L253)","v":""},{"$f":"IF('All Bill Data Entry'!V253=\"\",\"\",'All Bill Data Entry'!V253)","v":""},{"$f":"IF('All Bill Data Entry'!N253=\"\",\"\",'All Bill Data Entry'!N253)","v":""},"",{"$f":"IF('All Bill Data Entry'!U253=\"\",\"\",'All Bill Data Entry'!U253)","v":""},{"$f":"IF('All Bill Data Entry'!B253=\"\",\"\",'All Bill Data Entry'!B253)","v":""},"",{"$f":"IF('All Bill Data Entry'!X253=\"\",\"\",'All Bill Data Entry'!X253)","v":""},"",{"$f":"IF('All Bill Data Entry'!D253=\"\",\"\",'All Bill Data Entry'!D253)","v":""},"",{"$f":"IF('All Bill Data Entry'!F253=\"\",\"\",'All Bill Data Entry'!F253)","v":""},{"$f":"IF('All Bill Data Entry'!G253=\"\",\"\",'All Bill Data Entry'!G253)","v":""},{"$f":"IF('All Bill Data Entry'!H253=\"\",\"\",'All Bill Data Entry'!H253)","v":""},{"$f":"IF('All Bill Data Entry'!J253=\"\",\"\",'All Bill Data Entry'!J253)","v":""},{"$f":"IF('All Bill Data Entry'!K253=\"\",\"\",'All Bill Data Entry'!K253)","v":""},{"$f":"IF('All Bill Data Entry'!I253=\"\",\"\",'All Bill Data Entry'!I253)","v":""},{"$f":"IF('All Bill Data Entry'!C253=\"\",\"\",'All Bill Data Entry'!C253)","v":""},{"$f":"IF($B248=\"\",\"\",'All Bill Data Entry'!Y253)","v":""},"","",null,null,"","","",""]
["",{"$f":"IF('All Bill Data Entry'!A254=\"\",\"\",'All Bill Data Entry'!A254)","v":""},"","",{"$f":"IF('All Bill Data Entry'!L254=\"\",\"\",'All Bill Data Entry'!L254)","v":""},{"$f":"IF('All Bill Data Entry'!V254=\"\",\"\",'All Bill Data Entry'!V254)","v":""},{"$f":"IF('All Bill Data Entry'!N254=\"\",\"\",'All Bill Data Entry'!N254)","v":""},"",{"$f":"IF('All Bill Data Entry'!U254=\"\",\"\",'All Bill Data Entry'!U254)","v":""},{"$f":"IF('All Bill Data Entry'!B254=\"\",\"\",'All Bill Data Entry'!B254)","v":""},"",{"$f":"IF('All Bill Data Entry'!X254=\"\",\"\",'All Bill Data Entry'!X254)","v":""},"",{"$f":"IF('All Bill Data Entry'!D254=\"\",\"\",'All Bill Data Entry'!D254)","v":""},"",{"$f":"IF('All Bill Data Entry'!F254=\"\",\"\",'All Bill Data Entry'!F254)","v":""},{"$f":"IF('All Bill Data Entry'!G254=\"\",\"\",'All Bill Data Entry'!G254)","v":""},{"$f":"IF('All Bill Data Entry'!H254=\"\",\"\",'All Bill Data Entry'!H254)","v":""},{"$f":"IF('All Bill Data Entry'!J254=\"\",\"\",'All Bill Data Entry'!J254)","v":""},{"$f":"IF('All Bill Data Entry'!K254=\"\",\"\",'All Bill Data Entry'!K254)","v":""},{"$f":"IF('All Bill Data Entry'!I254=\"\",\"\",'All Bill Data Entry'!I254)","v":""},{"$f":"IF('All Bill Data Entry'!C254=\"\",\"\",'All Bill Data Entry'!C254)","v":""},{"$f":"IF($B249=\"\",\"\",'All Bill Data Entry'!Y254)","v":""},"","",null,null,"","","",""]
["",{"$f":"IF('All Bill Data Entry'!A255=\"\",\"\",'All Bill Data Entry'!A255)","v":""},"","",{"$f":"IF('All Bill Data Entry'!L255=\"\",\"\",'All Bill Data Entry'!L255)","v":""},{"$f":"IF('All Bill Data Entry'!V255=\"\",\"\",'All Bill Data Entry'!V255)","v":""},{"$f":"IF('All Bill Data Entry'!N255=\"\",\"\",'All Bill Data Entry'!N255)","v":""},"",{"$f":"IF('All Bill Data Entry'!U255=\"\",\"\",'All Bill Data Entry'!U255)","v":""},{"$f":"IF('All Bill Data Entry'!B255=\"\",\"\",'All Bill Data Entry'!B255)","v":""},"",{"$f":"IF('All Bill Data Entry'!X255=\"\",\"\",'All Bill Data Entry'!X255)","v":""},"",{"$f":"IF('All Bill Data Entry'!D255=\"\",\"\",'All Bill Data Entry'!D255)","v":""},"",{"$f":"IF('All Bill Data Entry'!F255=\"\",\"\",'All Bill Data Entry'!F255)","v":""},{"$f":"IF('All Bill Data Entry'!G255=\"\",\"\",'All Bill Data Entry'!G255)","v":""},{"$f":"IF('All Bill Data Entry'!H255=\"\",\"\",'All Bill Data Entry'!H255)","v":""},{"$f":"IF('All Bill Data Entry'!J255=\"\",\"\",'All Bill Data Entry'!J255)","v":""},{"$f":"IF('All Bill Data Entry'!K255=\"\",\"\",'All Bill Data Entry'!K255)","v":""},{"$f":"IF('All Bill Data Entry'!I255=\"\",\"\",'All Bill Data Entry'!I255)","v":""},{"$f":"IF('All Bill Data Entry'!C255=\"\",\"\",'All Bill Data Entry'!C255)","v":""},{"$f":"IF($B250=\"\",\"\",'All Bill Data Entry'!Y255)","v":""},"","",null,null,"","","",""]
["",{"$f":"IF('All Bill Data Entry'!A256=\"\",\"\",'All Bill Data Entry'!A256)","v":""},"","",{"$f":"IF('All Bill Data Entry'!L256=\"\",\"\",'All Bill Data Entry'!L256)","v":""},{"$f":"IF('All Bill Data Entry'!V256=\"\",\"\",'All Bill Data Entry'!V256)","v":""},{"$f":"IF('All Bill Data Entry'!N256=\"\",\"\",'All Bill Data Entry'!N256)","v":""},"",{"$f":"IF('All Bill Data Entry'!U256=\"\",\"\",'All Bill Data Entry'!U256)","v":""},{"$f":"IF('All Bill Data Entry'!B256=\"\",\"\",'All Bill Data Entry'!B256)","v":""},"",{"$f":"IF('All Bill Data Entry'!X256=\"\",\"\",'All Bill Data Entry'!X256)","v":""},"",{"$f":"IF('All Bill Data Entry'!D256=\"\",\"\",'All Bill Data Entry'!D256)","v":""},"",{"$f":"IF('All Bill Data Entry'!F256=\"\",\"\",'All Bill Data Entry'!F256)","v":""},{"$f":"IF('All Bill Data Entry'!G256=\"\",\"\",'All Bill Data Entry'!G256)","v":""},{"$f":"IF('All Bill Data Entry'!H256=\"\",\"\",'All Bill Data Entry'!H256)","v":""},{"$f":"IF('All Bill Data Entry'!J256=\"\",\"\",'All Bill Data Entry'!J256)","v":""},{"$f":"IF('All Bill Data Entry'!K256=\"\",\"\",'All Bill Data Entry'!K256)","v":""},{"$f":"IF('All Bill Data Entry'!I256=\"\",\"\",'All Bill Data Entry'!I256)","v":""},{"$f":"IF('All Bill Data Entry'!C256=\"\",\"\",'All Bill Data Entry'!C256)","v":""},{"$f":"IF($B251=\"\",\"\",'All Bill Data Entry'!Y256)","v":""},"","",null,null,"","","",""]
["",{"$f":"IF('All Bill Data Entry'!A257=\"\",\"\",'All Bill Data Entry'!A257)","v":""},"","",{"$f":"IF('All Bill Data Entry'!L257=\"\",\"\",'All Bill Data Entry'!L257)","v":""},{"$f":"IF('All Bill Data Entry'!V257=\"\",\"\",'All Bill Data Entry'!V257)","v":""},{"$f":"IF('All Bill Data Entry'!N257=\"\",\"\",'All Bill Data Entry'!N257)","v":""},"",{"$f":"IF('All Bill Data Entry'!U257=\"\",\"\",'All Bill Data Entry'!U257)","v":""},{"$f":"IF('All Bill Data Entry'!B257=\"\",\"\",'All Bill Data Entry'!B257)","v":""},"",{"$f":"IF('All Bill Data Entry'!X257=\"\",\"\",'All Bill Data Entry'!X257)","v":""},"",{"$f":"IF('All Bill Data Entry'!D257=\"\",\"\",'All Bill Data Entry'!D257)","v":""},"",{"$f":"IF('All Bill Data Entry'!F257=\"\",\"\",'All Bill Data Entry'!F257)","v":""},{"$f":"IF('All Bill Data Entry'!G257=\"\",\"\",'All Bill Data Entry'!G257)","v":""},{"$f":"IF('All Bill Data Entry'!H257=\"\",\"\",'All Bill Data Entry'!H257)","v":""},{"$f":"IF('All Bill Data Entry'!J257=\"\",\"\",'All Bill Data Entry'!J257)","v":""},{"$f":"IF('All Bill Data Entry'!K257=\"\",\"\",'All Bill Data Entry'!K257)","v":""},{"$f":"IF('All Bill Data Entry'!I257=\"\",\"\",'All Bill Data Entry'!I257)","v":""},{"$f":"IF('All Bill Data Entry'!C257=\"\",\"\",'All Bill Data Entry'!C257)","v":""},{"$f":"IF($B252=\"\",\"\",'All Bill Data Entry'!Y257)","v":""},"","",null,null,"","","",""]
["",{"$f":"IF('All Bill Data Entry'!A258=\"\",\"\",'All Bill Data Entry'!A258)","v":""},"","",{"$f":"IF('All Bill Data Entry'!L258=\"\",\"\",'All Bill Data Entry'!L258)","v":""},{"$f":"IF('All Bill Data Entry'!V258=\"\",\"\",'All Bill Data Entry'!V258)","v":""},{"$f":"IF('All Bill Data Entry'!N258=\"\",\"\",'All Bill Data Entry'!N258)","v":""},"",{"$f":"IF('All Bill Data Entry'!U258=\"\",\"\",'All Bill Data Entry'!U258)","v":""},{"$f":"IF('All Bill Data Entry'!B258=\"\",\"\",'All Bill Data Entry'!B258)","v":""},"",{"$f":"IF('All Bill Data Entry'!X258=\"\",\"\",'All Bill Data Entry'!X258)","v":""},"",{"$f":"IF('All Bill Data Entry'!D258=\"\",\"\",'All Bill Data Entry'!D258)","v":""},"",{"$f":"IF('All Bill Data Entry'!F258=\"\",\"\",'All Bill Data Entry'!F258)","v":""},{"$f":"IF('All Bill Data Entry'!G258=\"\",\"\",'All Bill Data Entry'!G258)","v":""},{"$f":"IF('All Bill Data Entry'!H258=\"\",\"\",'All Bill Data Entry'!H258)","v":""},{"$f":"IF('All Bill Data Entry'!J258=\"\",\"\",'All Bill Data Entry'!J258)","v":""},{"$f":"IF('All Bill Data Entry'!K258=\"\",\"\",'All Bill Data Entry'!K258)","v":""},{"$f":"IF('All Bill Data Entry'!I258=\"\",\"\",'All Bill Data Entry'!I258)","v":""},{"$f":"IF('All Bill Data Entry'!C258=\"\",\"\",'All Bill Data Entry'!C258)","v":""},{"$f":"IF($B253=\"\",\"\",'All Bill Data Entry'!Y258)","v":""},"","",null,null,"","","",""]
["",{"$f":"IF('All Bill Data Entry'!A259=\"\",\"\",'All Bill Data Entry'!A259)","v":""},"","",{"$f":"IF('All Bill Data Entry'!L259=\"\",\"\",'All Bill Data Entry'!L259)","v":""},{"$f":"IF('All Bill Data Entry'!V259=\"\",\"\",'All Bill Data Entry'!V259)","v":""},{"$f":"IF('All Bill Data Entry'!N259=\"\",\"\",'All Bill Data Entry'!N259)","v":""},"",{"$f":"IF('All Bill Data Entry'!U259=\"\",\"\",'All Bill Data Entry'!U259)","v":""},{"$f":"IF('All Bill Data Entry'!B259=\"\",\"\",'All Bill Data Entry'!B259)","v":""},"",{"$f":"IF('All Bill Data Entry'!X259=\"\",\"\",'All Bill Data Entry'!X259)","v":""},"",{"$f":"IF('All Bill Data Entry'!D259=\"\",\"\",'All Bill Data Entry'!D259)","v":""},"",{"$f":"IF('All Bill Data Entry'!F259=\"\",\"\",'All Bill Data Entry'!F259)","v":""},{"$f":"IF('All Bill Data Entry'!G259=\"\",\"\",'All Bill Data Entry'!G259)","v":""},{"$f":"IF('All Bill Data Entry'!H259=\"\",\"\",'All Bill Data Entry'!H259)","v":""},{"$f":"IF('All Bill Data Entry'!J259=\"\",\"\",'All Bill Data Entry'!J259)","v":""},{"$f":"IF('All Bill Data Entry'!K259=\"\",\"\",'All Bill Data Entry'!K259)","v":""},{"$f":"IF('All Bill Data Entry'!I259=\"\",\"\",'All Bill Data Entry'!I259)","v":""},{"$f":"IF('All Bill Data Entry'!C259=\"\",\"\",'All Bill Data Entry'!C259)","v":""},{"$f":"IF($B254=\"\",\"\",'All Bill Data Entry'!Y259)","v":""},"","",null,null,"","","",""]
["",{"$f":"IF('All Bill Data Entry'!A260=\"\",\"\",'All Bill Data Entry'!A260)","v":""},"","",{"$f":"IF('All Bill Data Entry'!L260=\"\",\"\",'All Bill Data Entry'!L260)","v":""},{"$f":"IF('All Bill Data Entry'!V260=\"\",\"\",'All Bill Data Entry'!V260)","v":""},{"$f":"IF('All Bill Data Entry'!N260=\"\",\"\",'All Bill Data Entry'!N260)","v":""},"",{"$f":"IF('All Bill Data Entry'!U260=\"\",\"\",'All Bill Data Entry'!U260)","v":""},{"$f":"IF('All Bill Data Entry'!B260=\"\",\"\",'All Bill Data Entry'!B260)","v":""},"",{"$f":"IF('All Bill Data Entry'!X260=\"\",\"\",'All Bill Data Entry'!X260)","v":""},"",{"$f":"IF('All Bill Data Entry'!D260=\"\",\"\",'All Bill Data Entry'!D260)","v":""},"",{"$f":"IF('All Bill Data Entry'!F260=\"\",\"\",'All Bill Data Entry'!F260)","v":""},{"$f":"IF('All Bill Data Entry'!G260=\"\",\"\",'All Bill Data Entry'!G260)","v":""},{"$f":"IF('All Bill Data Entry'!H260=\"\",\"\",'All Bill Data Entry'!H260)","v":""},{"$f":"IF('All Bill Data Entry'!J260=\"\",\"\",'All Bill Data Entry'!J260)","v":""},{"$f":"IF('All Bill Data Entry'!K260=\"\",\"\",'All Bill Data Entry'!K260)","v":""},{"$f":"IF('All Bill Data Entry'!I260=\"\",\"\",'All Bill Data Entry'!I260)","v":""},{"$f":"IF('All Bill Data Entry'!C260=\"\",\"\",'All Bill Data Entry'!C260)","v":""},{"$f":"IF($B255=\"\",\"\",'All Bill Data Entry'!Y260)","v":""},"","",null,null,"","","",""]
["",{"$f":"IF('All Bill Data Entry'!A261=\"\",\"\",'All Bill Data Entry'!A261)","v":""},"","",{"$f":"IF('All Bill Data Entry'!L261=\"\",\"\",'All Bill Data Entry'!L261)","v":""},{"$f":"IF('All Bill Data Entry'!V261=\"\",\"\",'All Bill Data Entry'!V261)","v":""},{"$f":"IF('All Bill Data Entry'!N261=\"\",\"\",'All Bill Data Entry'!N261)","v":""},"",{"$f":"IF('All Bill Data Entry'!U261=\"\",\"\",'All Bill Data Entry'!U261)","v":""},{"$f":"IF('All Bill Data Entry'!B261=\"\",\"\",'All Bill Data Entry'!B261)","v":""},"",{"$f":"IF('All Bill Data Entry'!X261=\"\",\"\",'All Bill Data Entry'!X261)","v":""},"",{"$f":"IF('All Bill Data Entry'!D261=\"\",\"\",'All Bill Data Entry'!D261)","v":""},"",{"$f":"IF('All Bill Data Entry'!F261=\"\",\"\",'All Bill Data Entry'!F261)","v":""},{"$f":"IF('All Bill Data Entry'!G261=\"\",\"\",'All Bill Data Entry'!G261)","v":""},{"$f":"IF('All Bill Data Entry'!H261=\"\",\"\",'All Bill Data Entry'!H261)","v":""},{"$f":"IF('All Bill Data Entry'!J261=\"\",\"\",'All Bill Data Entry'!J261)","v":""},{"$f":"IF('All Bill Data Entry'!K261=\"\",\"\",'All Bill Data Entry'!K261)","v":""},{"$f":"IF('All Bill Data Entry'!I261=\"\",\"\",'All Bill Data Entry'!I261)","v":""},{"$f":"IF('All Bill Data Entry'!C261=\"\",\"\",'All Bill Data Entry'!C261)","v":""},{"$f":"IF($B256=\"\",\"\",'All Bill Data Entry'!Y261)","v":""},"","",null,null,"","","",""]
["",{"$f":"IF('All Bill Data Entry'!A262=\"\",\"\",'All Bill Data Entry'!A262)","v":""},"","",{"$f":"IF('All Bill Data Entry'!L262=\"\",\"\",'All Bill Data Entry'!L262)","v":""},{"$f":"IF('All Bill Data Entry'!V262=\"\",\"\",'All Bill Data Entry'!V262)","v":""},{"$f":"IF('All Bill Data Entry'!N262=\"\",\"\",'All Bill Data Entry'!N262)","v":""},"",{"$f":"IF('All Bill Data Entry'!U262=\"\",\"\",'All Bill Data Entry'!U262)","v":""},{"$f":"IF('All Bill Data Entry'!B262=\"\",\"\",'All Bill Data Entry'!B262)","v":""},"",{"$f":"IF('All Bill Data Entry'!X262=\"\",\"\",'All Bill Data Entry'!X262)","v":""},"",{"$f":"IF('All Bill Data Entry'!D262=\"\",\"\",'All Bill Data Entry'!D262)","v":""},"",{"$f":"IF('All Bill Data Entry'!F262=\"\",\"\",'All Bill Data Entry'!F262)","v":""},{"$f":"IF('All Bill Data Entry'!G262=\"\",\"\",'All Bill Data Entry'!G262)","v":""},{"$f":"IF('All Bill Data Entry'!H262=\"\",\"\",'All Bill Data Entry'!H262)","v":""},{"$f":"IF('All Bill Data Entry'!J262=\"\",\"\",'All Bill Data Entry'!J262)","v":""},{"$f":"IF('All Bill Data Entry'!K262=\"\",\"\",'All Bill Data Entry'!K262)","v":""},{"$f":"IF('All Bill Data Entry'!I262=\"\",\"\",'All Bill Data Entry'!I262)","v":""},{"$f":"IF('All Bill Data Entry'!C262=\"\",\"\",'All Bill Data Entry'!C262)","v":""},{"$f":"IF($B257=\"\",\"\",'All Bill Data Entry'!Y262)","v":""},"","",null,null,"","","",""]
["",{"$f":"IF('All Bill Data Entry'!A263=\"\",\"\",'All Bill Data Entry'!A263)","v":""},"","",{"$f":"IF('All Bill Data Entry'!L263=\"\",\"\",'All Bill Data Entry'!L263)","v":""},{"$f":"IF('All Bill Data Entry'!V263=\"\",\"\",'All Bill Data Entry'!V263)","v":""},{"$f":"IF('All Bill Data Entry'!N263=\"\",\"\",'All Bill Data Entry'!N263)","v":""},"",{"$f":"IF('All Bill Data Entry'!U263=\"\",\"\",'All Bill Data Entry'!U263)","v":""},{"$f":"IF('All Bill Data Entry'!B263=\"\",\"\",'All Bill Data Entry'!B263)","v":""},"",{"$f":"IF('All Bill Data Entry'!X263=\"\",\"\",'All Bill Data Entry'!X263)","v":""},"",{"$f":"IF('All Bill Data Entry'!D263=\"\",\"\",'All Bill Data Entry'!D263)","v":""},"",{"$f":"IF('All Bill Data Entry'!F263=\"\",\"\",'All Bill Data Entry'!F263)","v":""},{"$f":"IF('All Bill Data Entry'!G263=\"\",\"\",'All Bill Data Entry'!G263)","v":""},{"$f":"IF('All Bill Data Entry'!H263=\"\",\"\",'All Bill Data Entry'!H263)","v":""},{"$f":"IF('All Bill Data Entry'!J263=\"\",\"\",'All Bill Data Entry'!J263)","v":""},{"$f":"IF('All Bill Data Entry'!K263=\"\",\"\",'All Bill Data Entry'!K263)","v":""},{"$f":"IF('All Bill Data Entry'!I263=\"\",\"\",'All Bill Data Entry'!I263)","v":""},{"$f":"IF('All Bill Data Entry'!C263=\"\",\"\",'All Bill Data Entry'!C263)","v":""},{"$f":"IF($B258=\"\",\"\",'All Bill Data Entry'!Y263)","v":""},"","",null,null,"","","",""]
[{"$f":"IF($B259=\"\",\"\",\"L\")","v":""},{"$f":"IF('All Bill Data Entry'!A264=\"\",\"\",'All Bill Data Entry'!A264)","v":""},{"$f":"IF($B259=\"\",\"\",\"LINE\")","v":""},{"$f":"IF($B259=\"\",\"\",\"AUX01\")","v":""},{"$f":"IF('All Bill Data Entry'!L264=\"\",\"\",'All Bill Data Entry'!L264)","v":""},{"$f":"IF('All Bill Data Entry'!V264=\"\",\"\",'All Bill Data Entry'!V264)","v":""},{"$f":"IF('All Bill Data Entry'!N264=\"\",\"\",'All Bill Data Entry'!N264)","v":""},"",{"$f":"IF('All Bill Data Entry'!U264=\"\",\"\",'All Bill Data Entry'!U264)","v":""},{"$f":"IF('All Bill Data Entry'!B264=\"\",\"\",'All Bill Data Entry'!B264)","v":""},"",{"$f":"IF('All Bill Data Entry'!X264=\"\",\"\",'All Bill Data Entry'!X264)","v":""},{"$f":"IF($B259=\"\",\"\",\"REV\")","v":""},{"$f":"IF('All Bill Data Entry'!D264=\"\",\"\",'All Bill Data Entry'!D264)","v":""},{"$f":"IF($B259=\"\",\"\",\"EA\")","v":""},{"$f":"IF('All Bill Data Entry'!F264=\"\",\"\",'All Bill Data Entry'!F264)","v":""},{"$f":"IF('All Bill Data Entry'!G264=\"\",\"\",'All Bill Data Entry'!G264)","v":""},{"$f":"IF('All Bill Data Entry'!H264=\"\",\"\",'All Bill Data Entry'!H264)","v":""},{"$f":"IF('All Bill Data Entry'!J264=\"\",\"\",'All Bill Data Entry'!J264)","v":""},{"$f":"IF('All Bill Data Entry'!K264=\"\",\"\",'All Bill Data Entry'!K264)","v":""},{"$f":"IF('All Bill Data Entry'!I264=\"\",\"\",'All Bill Data Entry'!I264)","v":""},{"$f":"IF('All Bill Data Entry'!C264=\"\",\"\",'All Bill Data Entry'!C264)","v":""},{"$f":"IF($B259=\"\",\"\",'All Bill Data Entry'!Y264)","v":""},{"$f":"IF($B259=\"\",\"\",\"N\")","v":""},{"$f":"IF($B259=\"\",\"\",\"BBI\")","v":""},null,null,{"$f":"IF($B259=\"\",\"\",\"AUX01\")","v":""},{"$f":"IF($B259=\"\",\"\",\"B101\")","v":""},{"$f":"IF($B259=\"\",\"\",\"N\")","v":""},{"$f":"IF($B259=\"\",\"\",1)","v":""}]
["",{"$f":"IF('All Bill Data Entry'!A265=\"\",\"\",'All Bill Data Entry'!A265)","v":""},"","",{"$f":"IF('All Bill Data Entry'!L265=\"\",\"\",'All Bill Data Entry'!L265)","v":""},{"$f":"IF('All Bill Data Entry'!V265=\"\",\"\",'All Bill Data Entry'!V265)","v":""},{"$f":"IF('All Bill Data Entry'!N265=\"\",\"\",'All Bill Data Entry'!N265)","v":""},"",{"$f":"IF('All Bill Data Entry'!U265=\"\",\"\",'All Bill Data Entry'!U265)","v":""},{"$f":"IF('All Bill Data Entry'!B265=\"\",\"\",'All Bill Data Entry'!B265)","v":""},"",{"$f":"IF('All Bill Data Entry'!X265=\"\",\"\",'All Bill Data Entry'!X265)","v":""},"",{"$f":"IF('All Bill Data Entry'!D265=\"\",\"\",'All Bill Data Entry'!D265)","v":""},"",{"$f":"IF('All Bill Data Entry'!F265=\"\",\"\",'All Bill Data Entry'!F265)","v":""},{"$f":"IF('All Bill Data Entry'!G265=\"\",\"\",'All Bill Data Entry'!G265)","v":""},{"$f":"IF('All Bill Data Entry'!H265=\"\",\"\",'All Bill Data Entry'!H265)","v":""},{"$f":"IF('All Bill Data Entry'!J265=\"\",\"\",'All Bill Data Entry'!J265)","v":""},{"$f":"IF('All Bill Data Entry'!K265=\"\",\"\",'All Bill Data Entry'!K265)","v":""},{"$f":"IF('All Bill Data Entry'!I265=\"\",\"\",'All Bill Data Entry'!I265)","v":""},{"$f":"IF('All Bill Data Entry'!C265=\"\",\"\",'All Bill Data Entry'!C265)","v":""},{"$f":"IF($B260=\"\",\"\",'All Bill Data Entry'!Y265)","v":""},"","",null,null,"","","",""]
["",{"$f":"IF('All Bill Data Entry'!A266=\"\",\"\",'All Bill Data Entry'!A266)","v":""},"","",{"$f":"IF('All Bill Data Entry'!L266=\"\",\"\",'All Bill Data Entry'!L266)","v":""},{"$f":"IF('All Bill Data Entry'!V266=\"\",\"\",'All Bill Data Entry'!V266)","v":""},{"$f":"IF('All Bill Data Entry'!N266=\"\",\"\",'All Bill Data Entry'!N266)","v":""},{"$f":"IF(B261=\"\",\"\",\"AUXILIARY2\")","v":""},{"$f":"IF('All Bill Data Entry'!U266=\"\",\"\",'All Bill Data Entry'!U266)","v":""},{"$f":"IF('All Bill Data Entry'!B266=\"\",\"\",'All Bill Data Entry'!B266)","v":""},{"$f":"J261","v":""},{"$f":"IF('All Bill Data Entry'!X266=\"\",\"\",'All Bill Data Entry'!X266)","v":""},"",{"$f":"IF('All Bill Data Entry'!D266=\"\",\"\",'All Bill Data Entry'!D266)","v":""},"",{"$f":"IF('All Bill Data Entry'!F266=\"\",\"\",'All Bill Data Entry'!F266)","v":""},{"$f":"IF('All Bill Data Entry'!G266=\"\",\"\",'All Bill Data Entry'!G266)","v":""},{"$f":"IF('All Bill Data Entry'!H266=\"\",\"\",'All Bill Data Entry'!H266)","v":""},{"$f":"IF('All Bill Data Entry'!J266=\"\",\"\",'All Bill Data Entry'!J266)","v":""},{"$f":"IF('All Bill Data Entry'!K266=\"\",\"\",'All Bill Data Entry'!K266)","v":""},{"$f":"IF('All Bill Data Entry'!I266=\"\",\"\",'All Bill Data Entry'!I266)","v":""},{"$f":"IF('All Bill Data Entry'!C266=\"\",\"\",'All Bill Data Entry'!C266)","v":""},{"$f":"IF($B261=\"\",\"\",'All Bill Data Entry'!Y266)","v":""},"","",null,null,"","","",""]
["",{"$f":"IF('All Bill Data Entry'!A267=\"\",\"\",'All Bill Data Entry'!A267)","v":""},"","",{"$f":"IF('All Bill Data Entry'!L267=\"\",\"\",'All Bill Data Entry'!L267)","v":""},{"$f":"IF('All Bill Data Entry'!V267=\"\",\"\",'All Bill Data Entry'!V267)","v":""},{"$f":"IF('All Bill Data Entry'!N267=\"\",\"\",'All Bill Data Entry'!N267)","v":""},"",{"$f":"IF('All Bill Data Entry'!U267=\"\",\"\",'All Bill Data Entry'!U267)","v":""},{"$f":"IF('All Bill Data Entry'!B267=\"\",\"\",'All Bill Data Entry'!B267)","v":""},"",{"$f":"IF('All Bill Data Entry'!X267=\"\",\"\",'All Bill Data Entry'!X267)","v":""},"",{"$f":"IF('All Bill Data Entry'!D267=\"\",\"\",'All Bill Data Entry'!D267)","v":""},"",{"$f":"IF('All Bill Data Entry'!F267=\"\",\"\",'All Bill Data Entry'!F267)","v":""},{"$f":"IF('All Bill Data Entry'!G267=\"\",\"\",'All Bill Data Entry'!G267)","v":""},{"$f":"IF('All Bill Data Entry'!H267=\"\",\"\",'All Bill Data Entry'!H267)","v":""},{"$f":"IF('All Bill Data Entry'!J267=\"\",\"\",'All Bill Data Entry'!J267)","v":""},{"$f":"IF('All Bill Data Entry'!K267=\"\",\"\",'All Bill Data Entry'!K267)","v":""},{"$f":"IF('All Bill Data Entry'!I267=\"\",\"\",'All Bill Data Entry'!I267)","v":""},{"$f":"IF('All Bill Data Entry'!C267=\"\",\"\",'All Bill Data Entry'!C267)","v":""},{"$f":"IF($B262=\"\",\"\",'All Bill Data Entry'!Y267)","v":""},"","",null,null,"","","",""]
["",{"$f":"IF('All Bill Data Entry'!A268=\"\",\"\",'All Bill Data Entry'!A268)","v":""},"","",{"$f":"IF('All Bill Data Entry'!L268=\"\",\"\",'All Bill Data Entry'!L268)","v":""},{"$f":"IF('All Bill Data Entry'!V268=\"\",\"\",'All Bill Data Entry'!V268)","v":""},{"$f":"IF('All Bill Data Entry'!N268=\"\",\"\",'All Bill Data Entry'!N268)","v":""},"",{"$f":"IF('All Bill Data Entry'!U268=\"\",\"\",'All Bill Data Entry'!U268)","v":""},{"$f":"IF('All Bill Data Entry'!B268=\"\",\"\",'All Bill Data Entry'!B268)","v":""},"",{"$f":"IF('All Bill Data Entry'!X268=\"\",\"\",'All Bill Data Entry'!X268)","v":""},"",{"$f":"IF('All Bill Data Entry'!D268=\"\",\"\",'All Bill Data Entry'!D268)","v":""},"",{"$f":"IF('All Bill Data Entry'!F268=\"\",\"\",'All Bill Data Entry'!F268)","v":""},{"$f":"IF('All Bill Data Entry'!G268=\"\",\"\",'All Bill Data Entry'!G268)","v":""},{"$f":"IF('All Bill Data Entry'!H268=\"\",\"\",'All Bill Data Entry'!H268)","v":""},{"$f":"IF('All Bill Data Entry'!J268=\"\",\"\",'All Bill Data Entry'!J268)","v":""},{"$f":"IF('All Bill Data Entry'!K268=\"\",\"\",'All Bill Data Entry'!K268)","v":""},{"$f":"IF('All Bill Data Entry'!I268=\"\",\"\",'All Bill Data Entry'!I268)","v":""},{"$f":"IF('All Bill Data Entry'!C268=\"\",\"\",'All Bill Data Entry'!C268)","v":""},{"$f":"IF($B263=\"\",\"\",'All Bill Data Entry'!Y268)","v":""},"","",null,null,"","","",""]
["",{"$f":"IF('All Bill Data Entry'!A269=\"\",\"\",'All Bill Data Entry'!A269)","v":""},"","",{"$f":"IF('All Bill Data Entry'!L269=\"\",\"\",'All Bill Data Entry'!L269)","v":""},{"$f":"IF('All Bill Data Entry'!V269=\"\",\"\",'All Bill Data Entry'!V269)","v":""},{"$f":"IF('All Bill Data Entry'!N269=\"\",\"\",'All Bill Data Entry'!N269)","v":""},"",{"$f":"IF('All Bill Data Entry'!U269=\"\",\"\",'All Bill Data Entry'!U269)","v":""},{"$f":"IF('All Bill Data Entry'!B269=\"\",\"\",'All Bill Data Entry'!B269)","v":""},"",{"$f":"IF('All Bill Data Entry'!X269=\"\",\"\",'All Bill Data Entry'!X269)","v":""},"",{"$f":"IF('All Bill Data Entry'!D269=\"\",\"\",'All Bill Data Entry'!D269)","v":""},"",{"$f":"IF('All Bill Data Entry'!F269=\"\",\"\",'All Bill Data Entry'!F269)","v":""},{"$f":"IF('All Bill Data Entry'!G269=\"\",\"\",'All Bill Data Entry'!G269)","v":""},{"$f":"IF('All Bill Data Entry'!H269=\"\",\"\",'All Bill Data Entry'!H269)","v":""},{"$f":"IF('All Bill Data Entry'!J269=\"\",\"\",'All Bill Data Entry'!J269)","v":""},{"$f":"IF('All Bill Data Entry'!K269=\"\",\"\",'All Bill Data Entry'!K269)","v":""},{"$f":"IF('All Bill Data Entry'!I269=\"\",\"\",'All Bill Data Entry'!I269)","v":""},{"$f":"IF('All Bill Data Entry'!C269=\"\",\"\",'All Bill Data Entry'!C269)","v":""},{"$f":"IF($B264=\"\",\"\",'All Bill Data Entry'!Y269)","v":""},"","",null,null,"","","",""]
["",{"$f":"IF('All Bill Data Entry'!A270=\"\",\"\",'All Bill Data Entry'!A270)","v":""},"","",{"$f":"IF('All Bill Data Entry'!L270=\"\",\"\",'All Bill Data Entry'!L270)","v":""},{"$f":"IF('All Bill Data Entry'!V270=\"\",\"\",'All Bill Data Entry'!V270)","v":""},{"$f":"IF('All Bill Data Entry'!N270=\"\",\"\",'All Bill Data Entry'!N270)","v":""},"",{"$f":"IF('All Bill Data Entry'!U270=\"\",\"\",'All Bill Data Entry'!U270)","v":""},{"$f":"IF('All Bill Data Entry'!B270=\"\",\"\",'All Bill Data Entry'!B270)","v":""},"",{"$f":"IF('All Bill Data Entry'!X270=\"\",\"\",'All Bill Data Entry'!X270)","v":""},"",{"$f":"IF('All Bill Data Entry'!D270=\"\",\"\",'All Bill Data Entry'!D270)","v":""},"",{"$f":"IF('All Bill Data Entry'!F270=\"\",\"\",'All Bill Data Entry'!F270)","v":""},{"$f":"IF('All Bill Data Entry'!G270=\"\",\"\",'All Bill Data Entry'!G270)","v":""},{"$f":"IF('All Bill Data Entry'!H270=\"\",\"\",'All Bill Data Entry'!H270)","v":""},{"$f":"IF('All Bill Data Entry'!J270=\"\",\"\",'All Bill Data Entry'!J270)","v":""},{"$f":"IF('All Bill Data Entry'!K270=\"\",\"\",'All Bill Data Entry'!K270)","v":""},{"$f":"IF('All Bill Data Entry'!I270=\"\",\"\",'All Bill Data Entry'!I270)","v":""},{"$f":"IF('All Bill Data Entry'!C270=\"\",\"\",'All Bill Data Entry'!C270)","v":""},{"$f":"IF($B265=\"\",\"\",'All Bill Data Entry'!Y270)","v":""},"","",null,null,"","","",""]
["",{"$f":"IF('All Bill Data Entry'!A271=\"\",\"\",'All Bill Data Entry'!A271)","v":""},"","",{"$f":"IF('All Bill Data Entry'!L271=\"\",\"\",'All Bill Data Entry'!L271)","v":""},{"$f":"IF('All Bill Data Entry'!V271=\"\",\"\",'All Bill Data Entry'!V271)","v":""},{"$f":"IF('All Bill Data Entry'!N271=\"\",\"\",'All Bill Data Entry'!N271)","v":""},"",{"$f":"IF('All Bill Data Entry'!U271=\"\",\"\",'All Bill Data Entry'!U271)","v":""},{"$f":"IF('All Bill Data Entry'!B271=\"\",\"\",'All Bill Data Entry'!B271)","v":""},"",{"$f":"IF('All Bill Data Entry'!X271=\"\",\"\",'All Bill Data Entry'!X271)","v":""},"",{"$f":"IF('All Bill Data Entry'!D271=\"\",\"\",'All Bill Data Entry'!D271)","v":""},"",{"$f":"IF('All Bill Data Entry'!F271=\"\",\"\",'All Bill Data Entry'!F271)","v":""},{"$f":"IF('All Bill Data Entry'!G271=\"\",\"\",'All Bill Data Entry'!G271)","v":""},{"$f":"IF('All Bill Data Entry'!H271=\"\",\"\",'All Bill Data Entry'!H271)","v":""},{"$f":"IF('All Bill Data Entry'!J271=\"\",\"\",'All Bill Data Entry'!J271)","v":""},{"$f":"IF('All Bill Data Entry'!K271=\"\",\"\",'All Bill Data Entry'!K271)","v":""},{"$f":"IF('All Bill Data Entry'!I271=\"\",\"\",'All Bill Data Entry'!I271)","v":""},{"$f":"IF('All Bill Data Entry'!C271=\"\",\"\",'All Bill Data Entry'!C271)","v":""},{"$f":"IF($B266=\"\",\"\",'All Bill Data Entry'!Y271)","v":""},"","",null,null,"","","",""]
["",{"$f":"IF('All Bill Data Entry'!A272=\"\",\"\",'All Bill Data Entry'!A272)","v":""},"","",{"$f":"IF('All Bill Data Entry'!L272=\"\",\"\",'All Bill Data Entry'!L272)","v":""},{"$f":"IF('All Bill Data Entry'!V272=\"\",\"\",'All Bill Data Entry'!V272)","v":""},{"$f":"IF('All Bill Data Entry'!N272=\"\",\"\",'All Bill Data Entry'!N272)","v":""},"",{"$f":"IF('All Bill Data Entry'!U272=\"\",\"\",'All Bill Data Entry'!U272)","v":""},{"$f":"IF('All Bill Data Entry'!B272=\"\",\"\",'All Bill Data Entry'!B272)","v":""},"",{"$f":"IF('All Bill Data Entry'!X272=\"\",\"\",'All Bill Data Entry'!X272)","v":""},"",{"$f":"IF('All Bill Data Entry'!D272=\"\",\"\",'All Bill Data Entry'!D272)","v":""},"",{"$f":"IF('All Bill Data Entry'!F272=\"\",\"\",'All Bill Data Entry'!F272)","v":""},{"$f":"IF('All Bill Data Entry'!G272=\"\",\"\",'All Bill Data Entry'!G272)","v":""},{"$f":"IF('All Bill Data Entry'!H272=\"\",\"\",'All Bill Data Entry'!H272)","v":""},{"$f":"IF('All Bill Data Entry'!J272=\"\",\"\",'All Bill Data Entry'!J272)","v":""},{"$f":"IF('All Bill Data Entry'!K272=\"\",\"\",'All Bill Data Entry'!K272)","v":""},{"$f":"IF('All Bill Data Entry'!I272=\"\",\"\",'All Bill Data Entry'!I272)","v":""},{"$f":"IF('All Bill Data Entry'!C272=\"\",\"\",'All Bill Data Entry'!C272)","v":""},{"$f":"IF($B267=\"\",\"\",'All Bill Data Entry'!Y272)","v":""},"","",null,null,"","","",""]
["",{"$f":"IF('All Bill Data Entry'!A273=\"\",\"\",'All Bill Data Entry'!A273)","v":""},"","",{"$f":"IF('All Bill Data Entry'!L273=\"\",\"\",'All Bill Data Entry'!L273)","v":""},{"$f":"IF('All Bill Data Entry'!V273=\"\",\"\",'All Bill Data Entry'!V273)","v":""},{"$f":"IF('All Bill Data Entry'!N273=\"\",\"\",'All Bill Data Entry'!N273)","v":""},"",{"$f":"IF('All Bill Data Entry'!U273=\"\",\"\",'All Bill Data Entry'!U273)","v":""},{"$f":"IF('All Bill Data Entry'!B273=\"\",\"\",'All Bill Data Entry'!B273)","v":""},"",{"$f":"IF('All Bill Data Entry'!X273=\"\",\"\",'All Bill Data Entry'!X273)","v":""},"",{"$f":"IF('All Bill Data Entry'!D273=\"\",\"\",'All Bill Data Entry'!D273)","v":""},"",{"$f":"IF('All Bill Data Entry'!F273=\"\",\"\",'All Bill Data Entry'!F273)","v":""},{"$f":"IF('All Bill Data Entry'!G273=\"\",\"\",'All Bill Data Entry'!G273)","v":""},{"$f":"IF('All Bill Data Entry'!H273=\"\",\"\",'All Bill Data Entry'!H273)","v":""},{"$f":"IF('All Bill Data Entry'!J273=\"\",\"\",'All Bill Data Entry'!J273)","v":""},{"$f":"IF('All Bill Data Entry'!K273=\"\",\"\",'All Bill Data Entry'!K273)","v":""},{"$f":"IF('All Bill Data Entry'!I273=\"\",\"\",'All Bill Data Entry'!I273)","v":""},{"$f":"IF('All Bill Data Entry'!C273=\"\",\"\",'All Bill Data Entry'!C273)","v":""},{"$f":"IF($B268=\"\",\"\",'All Bill Data Entry'!Y273)","v":""},"","",null,null,"","","",""]
["",{"$f":"IF('All Bill Data Entry'!A274=\"\",\"\",'All Bill Data Entry'!A274)","v":""},"","",{"$f":"IF('All Bill Data Entry'!L274=\"\",\"\",'All Bill Data Entry'!L274)","v":""},{"$f":"IF('All Bill Data Entry'!V274=\"\",\"\",'All Bill Data Entry'!V274)","v":""},{"$f":"IF('All Bill Data Entry'!N274=\"\",\"\",'All Bill Data Entry'!N274)","v":""},"",{"$f":"IF('All Bill Data Entry'!U274=\"\",\"\",'All Bill Data Entry'!U274)","v":""},{"$f":"IF('All Bill Data Entry'!B274=\"\",\"\",'All Bill Data Entry'!B274)","v":""},"",{"$f":"IF('All Bill Data Entry'!X274=\"\",\"\",'All Bill Data Entry'!X274)","v":""},"",{"$f":"IF('All Bill Data Entry'!D274=\"\",\"\",'All Bill Data Entry'!D274)","v":""},"",{"$f":"IF('All Bill Data Entry'!F274=\"\",\"\",'All Bill Data Entry'!F274)","v":""},{"$f":"IF('All Bill Data Entry'!G274=\"\",\"\",'All Bill Data Entry'!G274)","v":""},{"$f":"IF('All Bill Data Entry'!H274=\"\",\"\",'All Bill Data Entry'!H274)","v":""},{"$f":"IF('All Bill Data Entry'!J274=\"\",\"\",'All Bill Data Entry'!J274)","v":""},{"$f":"IF('All Bill Data Entry'!K274=\"\",\"\",'All Bill Data Entry'!K274)","v":""},{"$f":"IF('All Bill Data Entry'!I274=\"\",\"\",'All Bill Data Entry'!I274)","v":""},{"$f":"IF('All Bill Data Entry'!C274=\"\",\"\",'All Bill Data Entry'!C274)","v":""},{"$f":"IF($B269=\"\",\"\",'All Bill Data Entry'!Y274)","v":""},"","",null,null,"","","",""]
["",{"$f":"IF('All Bill Data Entry'!A275=\"\",\"\",'All Bill Data Entry'!A275)","v":""},"","",{"$f":"IF('All Bill Data Entry'!L275=\"\",\"\",'All Bill Data Entry'!L275)","v":""},{"$f":"IF('All Bill Data Entry'!V275=\"\",\"\",'All Bill Data Entry'!V275)","v":""},{"$f":"IF('All Bill Data Entry'!N275=\"\",\"\",'All Bill Data Entry'!N275)","v":""},"",{"$f":"IF('All Bill Data Entry'!U275=\"\",\"\",'All Bill Data Entry'!U275)","v":""},{"$f":"IF('All Bill Data Entry'!B275=\"\",\"\",'All Bill Data Entry'!B275)","v":""},"",{"$f":"IF('All Bill Data Entry'!X275=\"\",\"\",'All Bill Data Entry'!X275)","v":""},"",{"$f":"IF('All Bill Data Entry'!D275=\"\",\"\",'All Bill Data Entry'!D275)","v":""},"",{"$f":"IF('All Bill Data Entry'!F275=\"\",\"\",'All Bill Data Entry'!F275)","v":""},{"$f":"IF('All Bill Data Entry'!G275=\"\",\"\",'All Bill Data Entry'!G275)","v":""},{"$f":"IF('All Bill Data Entry'!H275=\"\",\"\",'All Bill Data Entry'!H275)","v":""},{"$f":"IF('All Bill Data Entry'!J275=\"\",\"\",'All Bill Data Entry'!J275)","v":""},{"$f":"IF('All Bill Data Entry'!K275=\"\",\"\",'All Bill Data Entry'!K275)","v":""},{"$f":"IF('All Bill Data Entry'!I275=\"\",\"\",'All Bill Data Entry'!I275)","v":""},{"$f":"IF('All Bill Data Entry'!C275=\"\",\"\",'All Bill Data Entry'!C275)","v":""},{"$f":"IF($B270=\"\",\"\",'All Bill Data Entry'!Y275)","v":""},"","",null,null,"","","",""]
["",{"$f":"IF('All Bill Data Entry'!A276=\"\",\"\",'All Bill Data Entry'!A276)","v":""},"","",{"$f":"IF('All Bill Data Entry'!L276=\"\",\"\",'All Bill Data Entry'!L276)","v":""},{"$f":"IF('All Bill Data Entry'!V276=\"\",\"\",'All Bill Data Entry'!V276)","v":""},{"$f":"IF('All Bill Data Entry'!N276=\"\",\"\",'All Bill Data Entry'!N276)","v":""},"",{"$f":"IF('All Bill Data Entry'!U276=\"\",\"\",'All Bill Data Entry'!U276)","v":""},{"$f":"IF('All Bill Data Entry'!B276=\"\",\"\",'All Bill Data Entry'!B276)","v":""},"",{"$f":"IF('All Bill Data Entry'!X276=\"\",\"\",'All Bill Data Entry'!X276)","v":""},"",{"$f":"IF('All Bill Data Entry'!D276=\"\",\"\",'All Bill Data Entry'!D276)","v":""},"",{"$f":"IF('All Bill Data Entry'!F276=\"\",\"\",'All Bill Data Entry'!F276)","v":""},{"$f":"IF('All Bill Data Entry'!G276=\"\",\"\",'All Bill Data Entry'!G276)","v":""},{"$f":"IF('All Bill Data Entry'!H276=\"\",\"\",'All Bill Data Entry'!H276)","v":""},{"$f":"IF('All Bill Data Entry'!J276=\"\",\"\",'All Bill Data Entry'!J276)","v":""},{"$f":"IF('All Bill Data Entry'!K276=\"\",\"\",'All Bill Data Entry'!K276)","v":""},{"$f":"IF('All Bill Data Entry'!I276=\"\",\"\",'All Bill Data Entry'!I276)","v":""},{"$f":"IF('All Bill Data Entry'!C276=\"\",\"\",'All Bill Data Entry'!C276)","v":""},{"$f":"IF($B271=\"\",\"\",'All Bill Data Entry'!Y276)","v":""},"","",null,null,"","","",""]
["",{"$f":"IF('All Bill Data Entry'!A277=\"\",\"\",'All Bill Data Entry'!A277)","v":""},"","",{"$f":"IF('All Bill Data Entry'!L277=\"\",\"\",'All Bill Data Entry'!L277)","v":""},{"$f":"IF('All Bill Data Entry'!V277=\"\",\"\",'All Bill Data Entry'!V277)","v":""},{"$f":"IF('All Bill Data Entry'!N277=\"\",\"\",'All Bill Data Entry'!N277)","v":""},"",{"$f":"IF('All Bill Data Entry'!U277=\"\",\"\",'All Bill Data Entry'!U277)","v":""},{"$f":"IF('All Bill Data Entry'!B277=\"\",\"\",'All Bill Data Entry'!B277)","v":""},"",{"$f":"IF('All Bill Data Entry'!X277=\"\",\"\",'All Bill Data Entry'!X277)","v":""},"",{"$f":"IF('All Bill Data Entry'!D277=\"\",\"\",'All Bill Data Entry'!D277)","v":""},"",{"$f":"IF('All Bill Data Entry'!F277=\"\",\"\",'All Bill Data Entry'!F277)","v":""},{"$f":"IF('All Bill Data Entry'!G277=\"\",\"\",'All Bill Data Entry'!G277)","v":""},{"$f":"IF('All Bill Data Entry'!H277=\"\",\"\",'All Bill Data Entry'!H277)","v":""},{"$f":"IF('All Bill Data Entry'!J277=\"\",\"\",'All Bill Data Entry'!J277)","v":""},{"$f":"IF('All Bill Data Entry'!K277=\"\",\"\",'All Bill Data Entry'!K277)","v":""},{"$f":"IF('All Bill Data Entry'!I277=\"\",\"\",'All Bill Data Entry'!I277)","v":""},{"$f":"IF('All Bill Data Entry'!C277=\"\",\"\",'All Bill Data Entry'!C277)","v":""},{"$f":"IF($B272=\"\",\"\",'All Bill Data Entry'!Y277)","v":""},"","",null,null,"","","",""]
["",{"$f":"IF('All Bill Data Entry'!A278=\"\",\"\",'All Bill Data Entry'!A278)","v":""},"","",{"$f":"IF('All Bill Data Entry'!L278=\"\",\"\",'All Bill Data Entry'!L278)","v":""},{"$f":"IF('All Bill Data Entry'!V278=\"\",\"\",'All Bill Data Entry'!V278)","v":""},{"$f":"IF('All Bill Data Entry'!N278=\"\",\"\",'All Bill Data Entry'!N278)","v":""},"",{"$f":"IF('All Bill Data Entry'!U278=\"\",\"\",'All Bill Data Entry'!U278)","v":""},{"$f":"IF('All Bill Data Entry'!B278=\"\",\"\",'All Bill Data Entry'!B278)","v":""},"",{"$f":"IF('All Bill Data Entry'!X278=\"\",\"\",'All Bill Data Entry'!X278)","v":""},"",{"$f":"IF('All Bill Data Entry'!D278=\"\",\"\",'All Bill Data Entry'!D278)","v":""},"",{"$f":"IF('All Bill Data Entry'!F278=\"\",\"\",'All Bill Data Entry'!F278)","v":""},{"$f":"IF('All Bill Data Entry'!G278=\"\",\"\",'All Bill Data Entry'!G278)","v":""},{"$f":"IF('All Bill Data Entry'!H278=\"\",\"\",'All Bill Data Entry'!H278)","v":""},{"$f":"IF('All Bill Data Entry'!J278=\"\",\"\",'All Bill Data Entry'!J278)","v":""},{"$f":"IF('All Bill Data Entry'!K278=\"\",\"\",'All Bill Data Entry'!K278)","v":""},{"$f":"IF('All Bill Data Entry'!I278=\"\",\"\",'All Bill Data Entry'!I278)","v":""},{"$f":"IF('All Bill Data Entry'!C278=\"\",\"\",'All Bill Data Entry'!C278)","v":""},{"$f":"IF($B273=\"\",\"\",'All Bill Data Entry'!Y278)","v":""},"","",null,null,"","","",""]
["",{"$f":"IF('All Bill Data Entry'!A279=\"\",\"\",'All Bill Data Entry'!A279)","v":""},"","",{"$f":"IF('All Bill Data Entry'!L279=\"\",\"\",'All Bill Data Entry'!L279)","v":""},{"$f":"IF('All Bill Data Entry'!V279=\"\",\"\",'All Bill Data Entry'!V279)","v":""},{"$f":"IF('All Bill Data Entry'!N279=\"\",\"\",'All Bill Data Entry'!N279)","v":""},"",{"$f":"IF('All Bill Data Entry'!U279=\"\",\"\",'All Bill Data Entry'!U279)","v":""},{"$f":"IF('All Bill Data Entry'!B279=\"\",\"\",'All Bill Data Entry'!B279)","v":""},"",{"$f":"IF('All Bill Data Entry'!X279=\"\",\"\",'All Bill Data Entry'!X279)","v":""},"",{"$f":"IF('All Bill Data Entry'!D279=\"\",\"\",'All Bill Data Entry'!D279)","v":""},"",{"$f":"IF('All Bill Data Entry'!F279=\"\",\"\",'All Bill Data Entry'!F279)","v":""},{"$f":"IF('All Bill Data Entry'!G279=\"\",\"\",'All Bill Data Entry'!G279)","v":""},{"$f":"IF('All Bill Data Entry'!H279=\"\",\"\",'All Bill Data Entry'!H279)","v":""},{"$f":"IF('All Bill Data Entry'!J279=\"\",\"\",'All Bill Data Entry'!J279)","v":""},{"$f":"IF('All Bill Data Entry'!K279=\"\",\"\",'All Bill Data Entry'!K279)","v":""},{"$f":"IF('All Bill Data Entry'!I279=\"\",\"\",'All Bill Data Entry'!I279)","v":""},{"$f":"IF('All Bill Data Entry'!C279=\"\",\"\",'All Bill Data Entry'!C279)","v":""},{"$f":"IF($B274=\"\",\"\",'All Bill Data Entry'!Y279)","v":""},"","",null,null,"","","",""]
["",{"$f":"IF('All Bill Data Entry'!A280=\"\",\"\",'All Bill Data Entry'!A280)","v":""},"","",{"$f":"IF('All Bill Data Entry'!L280=\"\",\"\",'All Bill Data Entry'!L280)","v":""},{"$f":"IF('All Bill Data Entry'!V280=\"\",\"\",'All Bill Data Entry'!V280)","v":""},{"$f":"IF('All Bill Data Entry'!N280=\"\",\"\",'All Bill Data Entry'!N280)","v":""},"",{"$f":"IF('All Bill Data Entry'!U280=\"\",\"\",'All Bill Data Entry'!U280)","v":""},{"$f":"IF('All Bill Data Entry'!B280=\"\",\"\",'All Bill Data Entry'!B280)","v":""},"",{"$f":"IF('All Bill Data Entry'!X280=\"\",\"\",'All Bill Data Entry'!X280)","v":""},"",{"$f":"IF('All Bill Data Entry'!D280=\"\",\"\",'All Bill Data Entry'!D280)","v":""},"",{"$f":"IF('All Bill Data Entry'!F280=\"\",\"\",'All Bill Data Entry'!F280)","v":""},{"$f":"IF('All Bill Data Entry'!G280=\"\",\"\",'All Bill Data Entry'!G280)","v":""},{"$f":"IF('All Bill Data Entry'!H280=\"\",\"\",'All Bill Data Entry'!H280)","v":""},{"$f":"IF('All Bill Data Entry'!J280=\"\",\"\",'All Bill Data Entry'!J280)","v":""},{"$f":"IF('All Bill Data Entry'!K280=\"\",\"\",'All Bill Data Entry'!K280)","v":""},{"$f":"IF('All Bill Data Entry'!I280=\"\",\"\",'All Bill Data Entry'!I280)","v":""},{"$f":"IF('All Bill Data Entry'!C280=\"\",\"\",'All Bill Data Entry'!C280)","v":""},{"$f":"IF($B275=\"\",\"\",'All Bill Data Entry'!Y280)","v":""},"","",null,null,"","","",""]
["",{"$f":"IF('All Bill Data Entry'!A281=\"\",\"\",'All Bill Data Entry'!A281)","v":""},"","",{"$f":"IF('All Bill Data Entry'!L281=\"\",\"\",'All Bill Data Entry'!L281)","v":""},{"$f":"IF('All Bill Data Entry'!V281=\"\",\"\",'All Bill Data Entry'!V281)","v":""},{"$f":"IF('All Bill Data Entry'!N281=\"\",\"\",'All Bill Data Entry'!N281)","v":""},"",{"$f":"IF('All Bill Data Entry'!U281=\"\",\"\",'All Bill Data Entry'!U281)","v":""},{"$f":"IF('All Bill Data Entry'!B281=\"\",\"\",'All Bill Data Entry'!B281)","v":""},"",{"$f":"IF('All Bill Data Entry'!X281=\"\",\"\",'All Bill Data Entry'!X281)","v":""},"",{"$f":"IF('All Bill Data Entry'!D281=\"\",\"\",'All Bill Data Entry'!D281)","v":""},"",{"$f":"IF('All Bill Data Entry'!F281=\"\",\"\",'All Bill Data Entry'!F281)","v":""},{"$f":"IF('All Bill Data Entry'!G281=\"\",\"\",'All Bill Data Entry'!G281)","v":""},{"$f":"IF('All Bill Data Entry'!H281=\"\",\"\",'All Bill Data Entry'!H281)","v":""},{"$f":"IF('All Bill Data Entry'!J281=\"\",\"\",'All Bill Data Entry'!J281)","v":""},{"$f":"IF('All Bill Data Entry'!K281=\"\",\"\",'All Bill Data Entry'!K281)","v":""},{"$f":"IF('All Bill Data Entry'!I281=\"\",\"\",'All Bill Data Entry'!I281)","v":""},{"$f":"IF('All Bill Data Entry'!C281=\"\",\"\",'All Bill Data Entry'!C281)","v":""},{"$f":"IF($B276=\"\",\"\",'All Bill Data Entry'!Y281)","v":""},"","",null,null,"","","",""]
["",{"$f":"IF('All Bill Data Entry'!A282=\"\",\"\",'All Bill Data Entry'!A282)","v":""},"","",{"$f":"IF('All Bill Data Entry'!L282=\"\",\"\",'All Bill Data Entry'!L282)","v":""},{"$f":"IF('All Bill Data Entry'!V282=\"\",\"\",'All Bill Data Entry'!V282)","v":""},{"$f":"IF('All Bill Data Entry'!N282=\"\",\"\",'All Bill Data Entry'!N282)","v":""},"",{"$f":"IF('All Bill Data Entry'!U282=\"\",\"\",'All Bill Data Entry'!U282)","v":""},{"$f":"IF('All Bill Data Entry'!B282=\"\",\"\",'All Bill Data Entry'!B282)","v":""},"",{"$f":"IF('All Bill Data Entry'!X282=\"\",\"\",'All Bill Data Entry'!X282)","v":""},"",{"$f":"IF('All Bill Data Entry'!D282=\"\",\"\",'All Bill Data Entry'!D282)","v":""},"",{"$f":"IF('All Bill Data Entry'!F282=\"\",\"\",'All Bill Data Entry'!F282)","v":""},{"$f":"IF('All Bill Data Entry'!G282=\"\",\"\",'All Bill Data Entry'!G282)","v":""},{"$f":"IF('All Bill Data Entry'!H282=\"\",\"\",'All Bill Data Entry'!H282)","v":""},{"$f":"IF('All Bill Data Entry'!J282=\"\",\"\",'All Bill Data Entry'!J282)","v":""},{"$f":"IF('All Bill Data Entry'!K282=\"\",\"\",'All Bill Data Entry'!K282)","v":""},{"$f":"IF('All Bill Data Entry'!I282=\"\",\"\",'All Bill Data Entry'!I282)","v":""},{"$f":"IF('All Bill Data Entry'!C282=\"\",\"\",'All Bill Data Entry'!C282)","v":""},{"$f":"IF($B277=\"\",\"\",'All Bill Data Entry'!Y282)","v":""},"","",null,null,"","","",""]
["",{"$f":"IF('All Bill Data Entry'!A283=\"\",\"\",'All Bill Data Entry'!A283)","v":""},"","",{"$f":"IF('All Bill Data Entry'!L283=\"\",\"\",'All Bill Data Entry'!L283)","v":""},{"$f":"IF('All Bill Data Entry'!V283=\"\",\"\",'All Bill Data Entry'!V283)","v":""},{"$f":"IF('All Bill Data Entry'!N283=\"\",\"\",'All Bill Data Entry'!N283)","v":""},"",{"$f":"IF('All Bill Data Entry'!U283=\"\",\"\",'All Bill Data Entry'!U283)","v":""},{"$f":"IF('All Bill Data Entry'!B283=\"\",\"\",'All Bill Data Entry'!B283)","v":""},"",{"$f":"IF('All Bill Data Entry'!X283=\"\",\"\",'All Bill Data Entry'!X283)","v":""},"",{"$f":"IF('All Bill Data Entry'!D283=\"\",\"\",'All Bill Data Entry'!D283)","v":""},"",{"$f":"IF('All Bill Data Entry'!F283=\"\",\"\",'All Bill Data Entry'!F283)","v":""},{"$f":"IF('All Bill Data Entry'!G283=\"\",\"\",'All Bill Data Entry'!G283)","v":""},{"$f":"IF('All Bill Data Entry'!H283=\"\",\"\",'All Bill Data Entry'!H283)","v":""},{"$f":"IF('All Bill Data Entry'!J283=\"\",\"\",'All Bill Data Entry'!J283)","v":""},{"$f":"IF('All Bill Data Entry'!K283=\"\",\"\",'All Bill Data Entry'!K283)","v":""},{"$f":"IF('All Bill Data Entry'!I283=\"\",\"\",'All Bill Data Entry'!I283)","v":""},{"$f":"IF('All Bill Data Entry'!C283=\"\",\"\",'All Bill Data Entry'!C283)","v":""},{"$f":"IF($B278=\"\",\"\",'All Bill Data Entry'!Y283)","v":""},"","",null,null,"","","",""]
["",{"$f":"IF('All Bill Data Entry'!A284=\"\",\"\",'All Bill Data Entry'!A284)","v":""},"","",{"$f":"IF('All Bill Data Entry'!L284=\"\",\"\",'All Bill Data Entry'!L284)","v":""},{"$f":"IF('All Bill Data Entry'!V284=\"\",\"\",'All Bill Data Entry'!V284)","v":""},{"$f":"IF('All Bill Data Entry'!N284=\"\",\"\",'All Bill Data Entry'!N284)","v":""},"",{"$f":"IF('All Bill Data Entry'!U284=\"\",\"\",'All Bill Data Entry'!U284)","v":""},{"$f":"IF('All Bill Data Entry'!B284=\"\",\"\",'All Bill Data Entry'!B284)","v":""},"",{"$f":"IF('All Bill Data Entry'!X284=\"\",\"\",'All Bill Data Entry'!X284)","v":""},"",{"$f":"IF('All Bill Data Entry'!D284=\"\",\"\",'All Bill Data Entry'!D284)","v":""},"",{"$f":"IF('All Bill Data Entry'!F284=\"\",\"\",'All Bill Data Entry'!F284)","v":""},{"$f":"IF('All Bill Data Entry'!G284=\"\",\"\",'All Bill Data Entry'!G284)","v":""},{"$f":"IF('All Bill Data Entry'!H284=\"\",\"\",'All Bill Data Entry'!H284)","v":""},{"$f":"IF('All Bill Data Entry'!J284=\"\",\"\",'All Bill Data Entry'!J284)","v":""},{"$f":"IF('All Bill Data Entry'!K284=\"\",\"\",'All Bill Data Entry'!K284)","v":""},{"$f":"IF('All Bill Data Entry'!I284=\"\",\"\",'All Bill Data Entry'!I284)","v":""},{"$f":"IF('All Bill Data Entry'!C284=\"\",\"\",'All Bill Data Entry'!C284)","v":""},{"$f":"IF($B279=\"\",\"\",'All Bill Data Entry'!Y284)","v":""},"","",null,null,"","","",""]
["",{"$f":"IF('All Bill Data Entry'!A285=\"\",\"\",'All Bill Data Entry'!A285)","v":""},"","",{"$f":"IF('All Bill Data Entry'!L285=\"\",\"\",'All Bill Data Entry'!L285)","v":""},{"$f":"IF('All Bill Data Entry'!V285=\"\",\"\",'All Bill Data Entry'!V285)","v":""},{"$f":"IF('All Bill Data Entry'!N285=\"\",\"\",'All Bill Data Entry'!N285)","v":""},"",{"$f":"IF('All Bill Data Entry'!U285=\"\",\"\",'All Bill Data Entry'!U285)","v":""},{"$f":"IF('All Bill Data Entry'!B285=\"\",\"\",'All Bill Data Entry'!B285)","v":""},"",{"$f":"IF('All Bill Data Entry'!X285=\"\",\"\",'All Bill Data Entry'!X285)","v":""},"",{"$f":"IF('All Bill Data Entry'!D285=\"\",\"\",'All Bill Data Entry'!D285)","v":""},"",{"$f":"IF('All Bill Data Entry'!F285=\"\",\"\",'All Bill Data Entry'!F285)","v":""},{"$f":"IF('All Bill Data Entry'!G285=\"\",\"\",'All Bill Data Entry'!G285)","v":""},{"$f":"IF('All Bill Data Entry'!H285=\"\",\"\",'All Bill Data Entry'!H285)","v":""},{"$f":"IF('All Bill Data Entry'!J285=\"\",\"\",'All Bill Data Entry'!J285)","v":""},{"$f":"IF('All Bill Data Entry'!K285=\"\",\"\",'All Bill Data Entry'!K285)","v":""},{"$f":"IF('All Bill Data Entry'!I285=\"\",\"\",'All Bill Data Entry'!I285)","v":""},{"$f":"IF('All Bill Data Entry'!C285=\"\",\"\",'All Bill Data Entry'!C285)","v":""},{"$f":"IF($B280=\"\",\"\",'All Bill Data Entry'!Y285)","v":""},"","",null,null,"","","",""]
["",{"$f":"IF('All Bill Data Entry'!A286=\"\",\"\",'All Bill Data Entry'!A286)","v":""},"","",{"$f":"IF('All Bill Data Entry'!L286=\"\",\"\",'All Bill Data Entry'!L286)","v":""},{"$f":"IF('All Bill Data Entry'!V286=\"\",\"\",'All Bill Data Entry'!V286)","v":""},{"$f":"IF('All Bill Data Entry'!N286=\"\",\"\",'All Bill Data Entry'!N286)","v":""},"",{"$f":"IF('All Bill Data Entry'!U286=\"\",\"\",'All Bill Data Entry'!U286)","v":""},{"$f":"IF('All Bill Data Entry'!B286=\"\",\"\",'All Bill Data Entry'!B286)","v":""},"",{"$f":"IF('All Bill Data Entry'!X286=\"\",\"\",'All Bill Data Entry'!X286)","v":""},"",{"$f":"IF('All Bill Data Entry'!D286=\"\",\"\",'All Bill Data Entry'!D286)","v":""},"",{"$f":"IF('All Bill Data Entry'!F286=\"\",\"\",'All Bill Data Entry'!F286)","v":""},{"$f":"IF('All Bill Data Entry'!G286=\"\",\"\",'All Bill Data Entry'!G286)","v":""},{"$f":"IF('All Bill Data Entry'!H286=\"\",\"\",'All Bill Data Entry'!H286)","v":""},{"$f":"IF('All Bill Data Entry'!J286=\"\",\"\",'All Bill Data Entry'!J286)","v":""},{"$f":"IF('All Bill Data Entry'!K286=\"\",\"\",'All Bill Data Entry'!K286)","v":""},{"$f":"IF('All Bill Data Entry'!I286=\"\",\"\",'All Bill Data Entry'!I286)","v":""},{"$f":"IF('All Bill Data Entry'!C286=\"\",\"\",'All Bill Data Entry'!C286)","v":""},{"$f":"IF($B281=\"\",\"\",'All Bill Data Entry'!Y286)","v":""},"","",null,null,"","","",""]
["",{"$f":"IF('All Bill Data Entry'!A287=\"\",\"\",'All Bill Data Entry'!A287)","v":""},"","",{"$f":"IF('All Bill Data Entry'!L287=\"\",\"\",'All Bill Data Entry'!L287)","v":""},{"$f":"IF('All Bill Data Entry'!V287=\"\",\"\",'All Bill Data Entry'!V287)","v":""},{"$f":"IF('All Bill Data Entry'!N287=\"\",\"\",'All Bill Data Entry'!N287)","v":""},"",{"$f":"IF('All Bill Data Entry'!U287=\"\",\"\",'All Bill Data Entry'!U287)","v":""},{"$f":"IF('All Bill Data Entry'!B287=\"\",\"\",'All Bill Data Entry'!B287)","v":""},"",{"$f":"IF('All Bill Data Entry'!X287=\"\",\"\",'All Bill Data Entry'!X287)","v":""},"",{"$f":"IF('All Bill Data Entry'!D287=\"\",\"\",'All Bill Data Entry'!D287)","v":""},"",{"$f":"IF('All Bill Data Entry'!F287=\"\",\"\",'All Bill Data Entry'!F287)","v":""},{"$f":"IF('All Bill Data Entry'!G287=\"\",\"\",'All Bill Data Entry'!G287)","v":""},{"$f":"IF('All Bill Data Entry'!H287=\"\",\"\",'All Bill Data Entry'!H287)","v":""},{"$f":"IF('All Bill Data Entry'!J287=\"\",\"\",'All Bill Data Entry'!J287)","v":""},{"$f":"IF('All Bill Data Entry'!K287=\"\",\"\",'All Bill Data Entry'!K287)","v":""},{"$f":"IF('All Bill Data Entry'!I287=\"\",\"\",'All Bill Data Entry'!I287)","v":""},{"$f":"IF('All Bill Data Entry'!C287=\"\",\"\",'All Bill Data Entry'!C287)","v":""},{"$f":"IF($B282=\"\",\"\",'All Bill Data Entry'!Y287)","v":""},"","",null,null,"","","",""]
["",{"$f":"IF('All Bill Data Entry'!A288=\"\",\"\",'All Bill Data Entry'!A288)","v":""},"","",{"$f":"IF('All Bill Data Entry'!L288=\"\",\"\",'All Bill Data Entry'!L288)","v":""},{"$f":"IF('All Bill Data Entry'!V288=\"\",\"\",'All Bill Data Entry'!V288)","v":""},{"$f":"IF('All Bill Data Entry'!N288=\"\",\"\",'All Bill Data Entry'!N288)","v":""},"",{"$f":"IF('All Bill Data Entry'!U288=\"\",\"\",'All Bill Data Entry'!U288)","v":""},{"$f":"IF('All Bill Data Entry'!B288=\"\",\"\",'All Bill Data Entry'!B288)","v":""},"",{"$f":"IF('All Bill Data Entry'!X288=\"\",\"\",'All Bill Data Entry'!X288)","v":""},"",{"$f":"IF('All Bill Data Entry'!D288=\"\",\"\",'All Bill Data Entry'!D288)","v":""},"",{"$f":"IF('All Bill Data Entry'!F288=\"\",\"\",'All Bill Data Entry'!F288)","v":""},{"$f":"IF('All Bill Data Entry'!G288=\"\",\"\",'All Bill Data Entry'!G288)","v":""},{"$f":"IF('All Bill Data Entry'!H288=\"\",\"\",'All Bill Data Entry'!H288)","v":""},{"$f":"IF('All Bill Data Entry'!J288=\"\",\"\",'All Bill Data Entry'!J288)","v":""},{"$f":"IF('All Bill Data Entry'!K288=\"\",\"\",'All Bill Data Entry'!K288)","v":""},{"$f":"IF('All Bill Data Entry'!I288=\"\",\"\",'All Bill Data Entry'!I288)","v":""},{"$f":"IF('All Bill Data Entry'!C288=\"\",\"\",'All Bill Data Entry'!C288)","v":""},{"$f":"IF($B283=\"\",\"\",'All Bill Data Entry'!Y288)","v":""},"","",null,null,"","","",""]
["",{"$f":"IF('All Bill Data Entry'!A289=\"\",\"\",'All Bill Data Entry'!A289)","v":""},"","",{"$f":"IF('All Bill Data Entry'!L289=\"\",\"\",'All Bill Data Entry'!L289)","v":""},{"$f":"IF('All Bill Data Entry'!V289=\"\",\"\",'All Bill Data Entry'!V289)","v":""},{"$f":"IF('All Bill Data Entry'!N289=\"\",\"\",'All Bill Data Entry'!N289)","v":""},"",{"$f":"IF('All Bill Data Entry'!U289=\"\",\"\",'All Bill Data Entry'!U289)","v":""},{"$f":"IF('All Bill Data Entry'!B289=\"\",\"\",'All Bill Data Entry'!B289)","v":""},"",{"$f":"IF('All Bill Data Entry'!X289=\"\",\"\",'All Bill Data Entry'!X289)","v":""},"",{"$f":"IF('All Bill Data Entry'!D289=\"\",\"\",'All Bill Data Entry'!D289)","v":""},"",{"$f":"IF('All Bill Data Entry'!F289=\"\",\"\",'All Bill Data Entry'!F289)","v":""},{"$f":"IF('All Bill Data Entry'!G289=\"\",\"\",'All Bill Data Entry'!G289)","v":""},{"$f":"IF('All Bill Data Entry'!H289=\"\",\"\",'All Bill Data Entry'!H289)","v":""},{"$f":"IF('All Bill Data Entry'!J289=\"\",\"\",'All Bill Data Entry'!J289)","v":""},{"$f":"IF('All Bill Data Entry'!K289=\"\",\"\",'All Bill Data Entry'!K289)","v":""},{"$f":"IF('All Bill Data Entry'!I289=\"\",\"\",'All Bill Data Entry'!I289)","v":""},{"$f":"IF('All Bill Data Entry'!C289=\"\",\"\",'All Bill Data Entry'!C289)","v":""},{"$f":"IF($B284=\"\",\"\",'All Bill Data Entry'!Y289)","v":""},"","",null,null,"","","",""]
["",{"$f":"IF('All Bill Data Entry'!A290=\"\",\"\",'All Bill Data Entry'!A290)","v":""},"","",{"$f":"IF('All Bill Data Entry'!L290=\"\",\"\",'All Bill Data Entry'!L290)","v":""},{"$f":"IF('All Bill Data Entry'!V290=\"\",\"\",'All Bill Data Entry'!V290)","v":""},{"$f":"IF('All Bill Data Entry'!N290=\"\",\"\",'All Bill Data Entry'!N290)","v":""},"",{"$f":"IF('All Bill Data Entry'!U290=\"\",\"\",'All Bill Data Entry'!U290)","v":""},{"$f":"IF('All Bill Data Entry'!B290=\"\",\"\",'All Bill Data Entry'!B290)","v":""},"",{"$f":"IF('All Bill Data Entry'!X290=\"\",\"\",'All Bill Data Entry'!X290)","v":""},"",{"$f":"IF('All Bill Data Entry'!D290=\"\",\"\",'All Bill Data Entry'!D290)","v":""},"",{"$f":"IF('All Bill Data Entry'!F290=\"\",\"\",'All Bill Data Entry'!F290)","v":""},{"$f":"IF('All Bill Data Entry'!G290=\"\",\"\",'All Bill Data Entry'!G290)","v":""},{"$f":"IF('All Bill Data Entry'!H290=\"\",\"\",'All Bill Data Entry'!H290)","v":""},{"$f":"IF('All Bill Data Entry'!J290=\"\",\"\",'All Bill Data Entry'!J290)","v":""},{"$f":"IF('All Bill Data Entry'!K290=\"\",\"\",'All Bill Data Entry'!K290)","v":""},{"$f":"IF('All Bill Data Entry'!I290=\"\",\"\",'All Bill Data Entry'!I290)","v":""},{"$f":"IF('All Bill Data Entry'!C290=\"\",\"\",'All Bill Data Entry'!C290)","v":""},{"$f":"IF($B285=\"\",\"\",'All Bill Data Entry'!Y290)","v":""},"","",null,null,"","","",""]
["",{"$f":"IF('All Bill Data Entry'!A291=\"\",\"\",'All Bill Data Entry'!A291)","v":""},"","",{"$f":"IF('All Bill Data Entry'!L291=\"\",\"\",'All Bill Data Entry'!L291)","v":""},{"$f":"IF('All Bill Data Entry'!V291=\"\",\"\",'All Bill Data Entry'!V291)","v":""},{"$f":"IF('All Bill Data Entry'!N291=\"\",\"\",'All Bill Data Entry'!N291)","v":""},"",{"$f":"IF('All Bill Data Entry'!U291=\"\",\"\",'All Bill Data Entry'!U291)","v":""},{"$f":"IF('All Bill Data Entry'!B291=\"\",\"\",'All Bill Data Entry'!B291)","v":""},"",{"$f":"IF('All Bill Data Entry'!X291=\"\",\"\",'All Bill Data Entry'!X291)","v":""},"",{"$f":"IF('All Bill Data Entry'!D291=\"\",\"\",'All Bill Data Entry'!D291)","v":""},"",{"$f":"IF('All Bill Data Entry'!F291=\"\",\"\",'All Bill Data Entry'!F291)","v":""},{"$f":"IF('All Bill Data Entry'!G291=\"\",\"\",'All Bill Data Entry'!G291)","v":""},{"$f":"IF('All Bill Data Entry'!H291=\"\",\"\",'All Bill Data Entry'!H291)","v":""},{"$f":"IF('All Bill Data Entry'!J291=\"\",\"\",'All Bill Data Entry'!J291)","v":""},{"$f":"IF('All Bill Data Entry'!K291=\"\",\"\",'All Bill Data Entry'!K291)","v":""},{"$f":"IF('All Bill Data Entry'!I291=\"\",\"\",'All Bill Data Entry'!I291)","v":""},{"$f":"IF('All Bill Data Entry'!C291=\"\",\"\",'All Bill Data Entry'!C291)","v":""},{"$f":"IF($B286=\"\",\"\",'All Bill Data Entry'!Y291)","v":""},"","",null,null,"","","",""]
["",{"$f":"IF('All Bill Data Entry'!A292=\"\",\"\",'All Bill Data Entry'!A292)","v":""},"","",{"$f":"IF('All Bill Data Entry'!L292=\"\",\"\",'All Bill Data Entry'!L292)","v":""},{"$f":"IF('All Bill Data Entry'!V292=\"\",\"\",'All Bill Data Entry'!V292)","v":""},{"$f":"IF('All Bill Data Entry'!N292=\"\",\"\",'All Bill Data Entry'!N292)","v":""},"",{"$f":"IF('All Bill Data Entry'!U292=\"\",\"\",'All Bill Data Entry'!U292)","v":""},{"$f":"IF('All Bill Data Entry'!B292=\"\",\"\",'All Bill Data Entry'!B292)","v":""},"",{"$f":"IF('All Bill Data Entry'!X292=\"\",\"\",'All Bill Data Entry'!X292)","v":""},"",{"$f":"IF('All Bill Data Entry'!D292=\"\",\"\",'All Bill Data Entry'!D292)","v":""},"",{"$f":"IF('All Bill Data Entry'!F292=\"\",\"\",'All Bill Data Entry'!F292)","v":""},{"$f":"IF('All Bill Data Entry'!G292=\"\",\"\",'All Bill Data Entry'!G292)","v":""},{"$f":"IF('All Bill Data Entry'!H292=\"\",\"\",'All Bill Data Entry'!H292)","v":""},{"$f":"IF('All Bill Data Entry'!J292=\"\",\"\",'All Bill Data Entry'!J292)","v":""},{"$f":"IF('All Bill Data Entry'!K292=\"\",\"\",'All Bill Data Entry'!K292)","v":""},{"$f":"IF('All Bill Data Entry'!I292=\"\",\"\",'All Bill Data Entry'!I292)","v":""},{"$f":"IF('All Bill Data Entry'!C292=\"\",\"\",'All Bill Data Entry'!C292)","v":""},{"$f":"IF($B287=\"\",\"\",'All Bill Data Entry'!Y292)","v":""},"","",null,null,"","","",""]
["",{"$f":"IF('All Bill Data Entry'!A293=\"\",\"\",'All Bill Data Entry'!A293)","v":""},"","",{"$f":"IF('All Bill Data Entry'!L293=\"\",\"\",'All Bill Data Entry'!L293)","v":""},{"$f":"IF('All Bill Data Entry'!V293=\"\",\"\",'All Bill Data Entry'!V293)","v":""},{"$f":"IF('All Bill Data Entry'!N293=\"\",\"\",'All Bill Data Entry'!N293)","v":""},"",{"$f":"IF('All Bill Data Entry'!U293=\"\",\"\",'All Bill Data Entry'!U293)","v":""},{"$f":"IF('All Bill Data Entry'!B293=\"\",\"\",'All Bill Data Entry'!B293)","v":""},"",{"$f":"IF('All Bill Data Entry'!X293=\"\",\"\",'All Bill Data Entry'!X293)","v":""},"",{"$f":"IF('All Bill Data Entry'!D293=\"\",\"\",'All Bill Data Entry'!D293)","v":""},"",{"$f":"IF('All Bill Data Entry'!F293=\"\",\"\",'All Bill Data Entry'!F293)","v":""},{"$f":"IF('All Bill Data Entry'!G293=\"\",\"\",'All Bill Data Entry'!G293)","v":""},{"$f":"IF('All Bill Data Entry'!H293=\"\",\"\",'All Bill Data Entry'!H293)","v":""},{"$f":"IF('All Bill Data Entry'!J293=\"\",\"\",'All Bill Data Entry'!J293)","v":""},{"$f":"IF('All Bill Data Entry'!K293=\"\",\"\",'All Bill Data Entry'!K293)","v":""},{"$f":"IF('All Bill Data Entry'!I293=\"\",\"\",'All Bill Data Entry'!I293)","v":""},{"$f":"IF('All Bill Data Entry'!C293=\"\",\"\",'All Bill Data Entry'!C293)","v":""},{"$f":"IF($B288=\"\",\"\",'All Bill Data Entry'!Y293)","v":""},"","",null,null,"","","",""]
["",{"$f":"IF('All Bill Data Entry'!A294=\"\",\"\",'All Bill Data Entry'!A294)","v":""},"","",{"$f":"IF('All Bill Data Entry'!L294=\"\",\"\",'All Bill Data Entry'!L294)","v":""},{"$f":"IF('All Bill Data Entry'!V294=\"\",\"\",'All Bill Data Entry'!V294)","v":""},{"$f":"IF('All Bill Data Entry'!N294=\"\",\"\",'All Bill Data Entry'!N294)","v":""},"",{"$f":"IF('All Bill Data Entry'!U294=\"\",\"\",'All Bill Data Entry'!U294)","v":""},{"$f":"IF('All Bill Data Entry'!B294=\"\",\"\",'All Bill Data Entry'!B294)","v":""},"",{"$f":"IF('All Bill Data Entry'!X294=\"\",\"\",'All Bill Data Entry'!X294)","v":""},"",{"$f":"IF('All Bill Data Entry'!D294=\"\",\"\",'All Bill Data Entry'!D294)","v":""},"",{"$f":"IF('All Bill Data Entry'!F294=\"\",\"\",'All Bill Data Entry'!F294)","v":""},{"$f":"IF('All Bill Data Entry'!G294=\"\",\"\",'All Bill Data Entry'!G294)","v":""},{"$f":"IF('All Bill Data Entry'!H294=\"\",\"\",'All Bill Data Entry'!H294)","v":""},{"$f":"IF('All Bill Data Entry'!J294=\"\",\"\",'All Bill Data Entry'!J294)","v":""},{"$f":"IF('All Bill Data Entry'!K294=\"\",\"\",'All Bill Data Entry'!K294)","v":""},{"$f":"IF('All Bill Data Entry'!I294=\"\",\"\",'All Bill Data Entry'!I294)","v":""},{"$f":"IF('All Bill Data Entry'!C294=\"\",\"\",'All Bill Data Entry'!C294)","v":""},{"$f":"IF($B289=\"\",\"\",'All Bill Data Entry'!Y294)","v":""},"","",null,null,"","","",""]
["",{"$f":"IF('All Bill Data Entry'!A295=\"\",\"\",'All Bill Data Entry'!A295)","v":""},"","",{"$f":"IF('All Bill Data Entry'!L295=\"\",\"\",'All Bill Data Entry'!L295)","v":""},{"$f":"IF('All Bill Data Entry'!V295=\"\",\"\",'All Bill Data Entry'!V295)","v":""},{"$f":"IF('All Bill Data Entry'!N295=\"\",\"\",'All Bill Data Entry'!N295)","v":""},"",{"$f":"IF('All Bill Data Entry'!U295=\"\",\"\",'All Bill Data Entry'!U295)","v":""},{"$f":"IF('All Bill Data Entry'!B295=\"\",\"\",'All Bill Data Entry'!B295)","v":""},"",{"$f":"IF('All Bill Data Entry'!X295=\"\",\"\",'All Bill Data Entry'!X295)","v":""},"",{"$f":"IF('All Bill Data Entry'!D295=\"\",\"\",'All Bill Data Entry'!D295)","v":""},"",{"$f":"IF('All Bill Data Entry'!F295=\"\",\"\",'All Bill Data Entry'!F295)","v":""},{"$f":"IF('All Bill Data Entry'!G295=\"\",\"\",'All Bill Data Entry'!G295)","v":""},{"$f":"IF('All Bill Data Entry'!H295=\"\",\"\",'All Bill Data Entry'!H295)","v":""},{"$f":"IF('All Bill Data Entry'!J295=\"\",\"\",'All Bill Data Entry'!J295)","v":""},{"$f":"IF('All Bill Data Entry'!K295=\"\",\"\",'All Bill Data Entry'!K295)","v":""},{"$f":"IF('All Bill Data Entry'!I295=\"\",\"\",'All Bill Data Entry'!I295)","v":""},{"$f":"IF('All Bill Data Entry'!C295=\"\",\"\",'All Bill Data Entry'!C295)","v":""},{"$f":"IF($B290=\"\",\"\",'All Bill Data Entry'!Y295)","v":""},"","",null,null,"","","",""]
["",{"$f":"IF('All Bill Data Entry'!A296=\"\",\"\",'All Bill Data Entry'!A296)","v":""},"","",{"$f":"IF('All Bill Data Entry'!L296=\"\",\"\",'All Bill Data Entry'!L296)","v":""},{"$f":"IF('All Bill Data Entry'!V296=\"\",\"\",'All Bill Data Entry'!V296)","v":""},{"$f":"IF('All Bill Data Entry'!N296=\"\",\"\",'All Bill Data Entry'!N296)","v":""},"",{"$f":"IF('All Bill Data Entry'!U296=\"\",\"\",'All Bill Data Entry'!U296)","v":""},{"$f":"IF('All Bill Data Entry'!B296=\"\",\"\",'All Bill Data Entry'!B296)","v":""},"",{"$f":"IF('All Bill Data Entry'!X296=\"\",\"\",'All Bill Data Entry'!X296)","v":""},"",{"$f":"IF('All Bill Data Entry'!D296=\"\",\"\",'All Bill Data Entry'!D296)","v":""},"",{"$f":"IF('All Bill Data Entry'!F296=\"\",\"\",'All Bill Data Entry'!F296)","v":""},{"$f":"IF('All Bill Data Entry'!G296=\"\",\"\",'All Bill Data Entry'!G296)","v":""},{"$f":"IF('All Bill Data Entry'!H296=\"\",\"\",'All Bill Data Entry'!H296)","v":""},{"$f":"IF('All Bill Data Entry'!J296=\"\",\"\",'All Bill Data Entry'!J296)","v":""},{"$f":"IF('All Bill Data Entry'!K296=\"\",\"\",'All Bill Data Entry'!K296)","v":""},{"$f":"IF('All Bill Data Entry'!I296=\"\",\"\",'All Bill Data Entry'!I296)","v":""},{"$f":"IF('All Bill Data Entry'!C296=\"\",\"\",'All Bill Data Entry'!C296)","v":""},{"$f":"IF($B291=\"\",\"\",'All Bill Data Entry'!Y296)","v":""},"","",null,null,"","","",""]
["",{"$f":"IF('All Bill Data Entry'!A297=\"\",\"\",'All Bill Data Entry'!A297)","v":""},"","",{"$f":"IF('All Bill Data Entry'!L297=\"\",\"\",'All Bill Data Entry'!L297)","v":""},{"$f":"IF('All Bill Data Entry'!V297=\"\",\"\",'All Bill Data Entry'!V297)","v":""},{"$f":"IF('All Bill Data Entry'!N297=\"\",\"\",'All Bill Data Entry'!N297)","v":""},"",{"$f":"IF('All Bill Data Entry'!U297=\"\",\"\",'All Bill Data Entry'!U297)","v":""},{"$f":"IF('All Bill Data Entry'!B297=\"\",\"\",'All Bill Data Entry'!B297)","v":""},"",{"$f":"IF('All Bill Data Entry'!X297=\"\",\"\",'All Bill Data Entry'!X297)","v":""},"",{"$f":"IF('All Bill Data Entry'!D297=\"\",\"\",'All Bill Data Entry'!D297)","v":""},"",{"$f":"IF('All Bill Data Entry'!F297=\"\",\"\",'All Bill Data Entry'!F297)","v":""},{"$f":"IF('All Bill Data Entry'!G297=\"\",\"\",'All Bill Data Entry'!G297)","v":""},{"$f":"IF('All Bill Data Entry'!H297=\"\",\"\",'All Bill Data Entry'!H297)","v":""},{"$f":"IF('All Bill Data Entry'!J297=\"\",\"\",'All Bill Data Entry'!J297)","v":""},{"$f":"IF('All Bill Data Entry'!K297=\"\",\"\",'All Bill Data Entry'!K297)","v":""},{"$f":"IF('All Bill Data Entry'!I297=\"\",\"\",'All Bill Data Entry'!I297)","v":""},{"$f":"IF('All Bill Data Entry'!C297=\"\",\"\",'All Bill Data Entry'!C297)","v":""},{"$f":"IF($B292=\"\",\"\",'All Bill Data Entry'!Y297)","v":""},"","",null,null,"","","",""]
["",{"$f":"IF('All Bill Data Entry'!A298=\"\",\"\",'All Bill Data Entry'!A298)","v":""},"","",{"$f":"IF('All Bill Data Entry'!L298=\"\",\"\",'All Bill Data Entry'!L298)","v":""},{"$f":"IF('All Bill Data Entry'!V298=\"\",\"\",'All Bill Data Entry'!V298)","v":""},{"$f":"IF('All Bill Data Entry'!N298=\"\",\"\",'All Bill Data Entry'!N298)","v":""},"",{"$f":"IF('All Bill Data Entry'!U298=\"\",\"\",'All Bill Data Entry'!U298)","v":""},{"$f":"IF('All Bill Data Entry'!B298=\"\",\"\",'All Bill Data Entry'!B298)","v":""},"",{"$f":"IF('All Bill Data Entry'!X298=\"\",\"\",'All Bill Data Entry'!X298)","v":""},"",{"$f":"IF('All Bill Data Entry'!D298=\"\",\"\",'All Bill Data Entry'!D298)","v":""},"",{"$f":"IF('All Bill Data Entry'!F298=\"\",\"\",'All Bill Data Entry'!F298)","v":""},{"$f":"IF('All Bill Data Entry'!G298=\"\",\"\",'All Bill Data Entry'!G298)","v":""},{"$f":"IF('All Bill Data Entry'!H298=\"\",\"\",'All Bill Data Entry'!H298)","v":""},{"$f":"IF('All Bill Data Entry'!J298=\"\",\"\",'All Bill Data Entry'!J298)","v":""},{"$f":"IF('All Bill Data Entry'!K298=\"\",\"\",'All Bill Data Entry'!K298)","v":""},{"$f":"IF('All Bill Data Entry'!I298=\"\",\"\",'All Bill Data Entry'!I298)","v":""},{"$f":"IF('All Bill Data Entry'!C298=\"\",\"\",'All Bill Data Entry'!C298)","v":""},{"$f":"IF($B293=\"\",\"\",'All Bill Data Entry'!Y298)","v":""},"","",null,null,"","","",""]
["",{"$f":"IF('All Bill Data Entry'!A299=\"\",\"\",'All Bill Data Entry'!A299)","v":""},"","",{"$f":"IF('All Bill Data Entry'!L299=\"\",\"\",'All Bill Data Entry'!L299)","v":""},{"$f":"IF('All Bill Data Entry'!V299=\"\",\"\",'All Bill Data Entry'!V299)","v":""},{"$f":"IF('All Bill Data Entry'!N299=\"\",\"\",'All Bill Data Entry'!N299)","v":""},"",{"$f":"IF('All Bill Data Entry'!U299=\"\",\"\",'All Bill Data Entry'!U299)","v":""},{"$f":"IF('All Bill Data Entry'!B299=\"\",\"\",'All Bill Data Entry'!B299)","v":""},"",{"$f":"IF('All Bill Data Entry'!X299=\"\",\"\",'All Bill Data Entry'!X299)","v":""},"",{"$f":"IF('All Bill Data Entry'!D299=\"\",\"\",'All Bill Data Entry'!D299)","v":""},"",{"$f":"IF('All Bill Data Entry'!F299=\"\",\"\",'All Bill Data Entry'!F299)","v":""},{"$f":"IF('All Bill Data Entry'!G299=\"\",\"\",'All Bill Data Entry'!G299)","v":""},{"$f":"IF('All Bill Data Entry'!H299=\"\",\"\",'All Bill Data Entry'!H299)","v":""},{"$f":"IF('All Bill Data Entry'!J299=\"\",\"\",'All Bill Data Entry'!J299)","v":""},{"$f":"IF('All Bill Data Entry'!K299=\"\",\"\",'All Bill Data Entry'!K299)","v":""},{"$f":"IF('All Bill Data Entry'!I299=\"\",\"\",'All Bill Data Entry'!I299)","v":""},{"$f":"IF('All Bill Data Entry'!C299=\"\",\"\",'All Bill Data Entry'!C299)","v":""},{"$f":"IF($B294=\"\",\"\",'All Bill Data Entry'!Y299)","v":""},"","",null,null,"","","",""]
["",{"$f":"IF('All Bill Data Entry'!A300=\"\",\"\",'All Bill Data Entry'!A300)","v":""},"","",{"$f":"IF('All Bill Data Entry'!L300=\"\",\"\",'All Bill Data Entry'!L300)","v":""},{"$f":"IF('All Bill Data Entry'!V300=\"\",\"\",'All Bill Data Entry'!V300)","v":""},{"$f":"IF('All Bill Data Entry'!N300=\"\",\"\",'All Bill Data Entry'!N300)","v":""},"",{"$f":"IF('All Bill Data Entry'!U300=\"\",\"\",'All Bill Data Entry'!U300)","v":""},{"$f":"IF('All Bill Data Entry'!B300=\"\",\"\",'All Bill Data Entry'!B300)","v":""},"",{"$f":"IF('All Bill Data Entry'!X300=\"\",\"\",'All Bill Data Entry'!X300)","v":""},"",{"$f":"IF('All Bill Data Entry'!D300=\"\",\"\",'All Bill Data Entry'!D300)","v":""},"",{"$f":"IF('All Bill Data Entry'!F300=\"\",\"\",'All Bill Data Entry'!F300)","v":""},{"$f":"IF('All Bill Data Entry'!G300=\"\",\"\",'All Bill Data Entry'!G300)","v":""},{"$f":"IF('All Bill Data Entry'!H300=\"\",\"\",'All Bill Data Entry'!H300)","v":""},{"$f":"IF('All Bill Data Entry'!J300=\"\",\"\",'All Bill Data Entry'!J300)","v":""},{"$f":"IF('All Bill Data Entry'!K300=\"\",\"\",'All Bill Data Entry'!K300)","v":""},{"$f":"IF('All Bill Data Entry'!I300=\"\",\"\",'All Bill Data Entry'!I300)","v":""},{"$f":"IF('All Bill Data Entry'!C300=\"\",\"\",'All Bill Data Entry'!C300)","v":""},{"$f":"IF($B295=\"\",\"\",'All Bill Data Entry'!Y300)","v":""},"","",null,null,"","","",""]
["",{"$f":"IF('All Bill Data Entry'!A301=\"\",\"\",'All Bill Data Entry'!A301)","v":""},"","",{"$f":"IF('All Bill Data Entry'!L301=\"\",\"\",'All Bill Data Entry'!L301)","v":""},{"$f":"IF('All Bill Data Entry'!V301=\"\",\"\",'All Bill Data Entry'!V301)","v":""},{"$f":"IF('All Bill Data Entry'!N301=\"\",\"\",'All Bill Data Entry'!N301)","v":""},"",{"$f":"IF('All Bill Data Entry'!U301=\"\",\"\",'All Bill Data Entry'!U301)","v":""},{"$f":"IF('All Bill Data Entry'!B301=\"\",\"\",'All Bill Data Entry'!B301)","v":""},"",{"$f":"IF('All Bill Data Entry'!X301=\"\",\"\",'All Bill Data Entry'!X301)","v":""},"",{"$f":"IF('All Bill Data Entry'!D301=\"\",\"\",'All Bill Data Entry'!D301)","v":""},"",{"$f":"IF('All Bill Data Entry'!F301=\"\",\"\",'All Bill Data Entry'!F301)","v":""},{"$f":"IF('All Bill Data Entry'!G301=\"\",\"\",'All Bill Data Entry'!G301)","v":""},{"$f":"IF('All Bill Data Entry'!H301=\"\",\"\",'All Bill Data Entry'!H301)","v":""},{"$f":"IF('All Bill Data Entry'!J301=\"\",\"\",'All Bill Data Entry'!J301)","v":""},{"$f":"IF('All Bill Data Entry'!K301=\"\",\"\",'All Bill Data Entry'!K301)","v":""},{"$f":"IF('All Bill Data Entry'!I301=\"\",\"\",'All Bill Data Entry'!I301)","v":""},{"$f":"IF('All Bill Data Entry'!C301=\"\",\"\",'All Bill Data Entry'!C301)","v":""},{"$f":"IF($B296=\"\",\"\",'All Bill Data Entry'!Y301)","v":""},"","",null,null,"","","",""]
["",{"$f":"IF('All Bill Data Entry'!A302=\"\",\"\",'All Bill Data Entry'!A302)","v":""},"","",{"$f":"IF('All Bill Data Entry'!L302=\"\",\"\",'All Bill Data Entry'!L302)","v":""},{"$f":"IF('All Bill Data Entry'!V302=\"\",\"\",'All Bill Data Entry'!V302)","v":""},{"$f":"IF('All Bill Data Entry'!N302=\"\",\"\",'All Bill Data Entry'!N302)","v":""},"",{"$f":"IF('All Bill Data Entry'!U302=\"\",\"\",'All Bill Data Entry'!U302)","v":""},{"$f":"IF('All Bill Data Entry'!B302=\"\",\"\",'All Bill Data Entry'!B302)","v":""},"",{"$f":"IF('All Bill Data Entry'!X302=\"\",\"\",'All Bill Data Entry'!X302)","v":""},"",{"$f":"IF('All Bill Data Entry'!D302=\"\",\"\",'All Bill Data Entry'!D302)","v":""},"",{"$f":"IF('All Bill Data Entry'!F302=\"\",\"\",'All Bill Data Entry'!F302)","v":""},{"$f":"IF('All Bill Data Entry'!G302=\"\",\"\",'All Bill Data Entry'!G302)","v":""},{"$f":"IF('All Bill Data Entry'!H302=\"\",\"\",'All Bill Data Entry'!H302)","v":""},{"$f":"IF('All Bill Data Entry'!J302=\"\",\"\",'All Bill Data Entry'!J302)","v":""},{"$f":"IF('All Bill Data Entry'!K302=\"\",\"\",'All Bill Data Entry'!K302)","v":""},{"$f":"IF('All Bill Data Entry'!I302=\"\",\"\",'All Bill Data Entry'!I302)","v":""},{"$f":"IF('All Bill Data Entry'!C302=\"\",\"\",'All Bill Data Entry'!C302)","v":""},{"$f":"IF($B297=\"\",\"\",'All Bill Data Entry'!Y302)","v":""},"","",null,null,"","","",""]
["",{"$f":"IF('All Bill Data Entry'!A303=\"\",\"\",'All Bill Data Entry'!A303)","v":""},"","",{"$f":"IF('All Bill Data Entry'!L303=\"\",\"\",'All Bill Data Entry'!L303)","v":""},{"$f":"IF('All Bill Data Entry'!V303=\"\",\"\",'All Bill Data Entry'!V303)","v":""},{"$f":"IF('All Bill Data Entry'!N303=\"\",\"\",'All Bill Data Entry'!N303)","v":""},"",{"$f":"IF('All Bill Data Entry'!U303=\"\",\"\",'All Bill Data Entry'!U303)","v":""},{"$f":"IF('All Bill Data Entry'!B303=\"\",\"\",'All Bill Data Entry'!B303)","v":""},"",{"$f":"IF('All Bill Data Entry'!X303=\"\",\"\",'All Bill Data Entry'!X303)","v":""},"",{"$f":"IF('All Bill Data Entry'!D303=\"\",\"\",'All Bill Data Entry'!D303)","v":""},"",{"$f":"IF('All Bill Data Entry'!F303=\"\",\"\",'All Bill Data Entry'!F303)","v":""},{"$f":"IF('All Bill Data Entry'!G303=\"\",\"\",'All Bill Data Entry'!G303)","v":""},{"$f":"IF('All Bill Data Entry'!H303=\"\",\"\",'All Bill Data Entry'!H303)","v":""},{"$f":"IF('All Bill Data Entry'!J303=\"\",\"\",'All Bill Data Entry'!J303)","v":""},{"$f":"IF('All Bill Data Entry'!K303=\"\",\"\",'All Bill Data Entry'!K303)","v":""},{"$f":"IF('All Bill Data Entry'!I303=\"\",\"\",'All Bill Data Entry'!I303)","v":""},{"$f":"IF('All Bill Data Entry'!C303=\"\",\"\",'All Bill Data Entry'!C303)","v":""},{"$f":"IF($B298=\"\",\"\",'All Bill Data Entry'!Y303)","v":""},"","",null,null,"","","",""]
["",{"$f":"IF('All Bill Data Entry'!A304=\"\",\"\",'All Bill Data Entry'!A304)","v":""},"","",{"$f":"IF('All Bill Data Entry'!L304=\"\",\"\",'All Bill Data Entry'!L304)","v":""},{"$f":"IF('All Bill Data Entry'!V304=\"\",\"\",'All Bill Data Entry'!V304)","v":""},{"$f":"IF('All Bill Data Entry'!N304=\"\",\"\",'All Bill Data Entry'!N304)","v":""},"",{"$f":"IF('All Bill Data Entry'!U304=\"\",\"\",'All Bill Data Entry'!U304)","v":""},{"$f":"IF('All Bill Data Entry'!B304=\"\",\"\",'All Bill Data Entry'!B304)","v":""},"",{"$f":"IF('All Bill Data Entry'!X304=\"\",\"\",'All Bill Data Entry'!X304)","v":""},"",{"$f":"IF('All Bill Data Entry'!D304=\"\",\"\",'All Bill Data Entry'!D304)","v":""},"",{"$f":"IF('All Bill Data Entry'!F304=\"\",\"\",'All Bill Data Entry'!F304)","v":""},{"$f":"IF('All Bill Data Entry'!G304=\"\",\"\",'All Bill Data Entry'!G304)","v":""},{"$f":"IF('All Bill Data Entry'!H304=\"\",\"\",'All Bill Data Entry'!H304)","v":""},{"$f":"IF('All Bill Data Entry'!J304=\"\",\"\",'All Bill Data Entry'!J304)","v":""},{"$f":"IF('All Bill Data Entry'!K304=\"\",\"\",'All Bill Data Entry'!K304)","v":""},{"$f":"IF('All Bill Data Entry'!I304=\"\",\"\",'All Bill Data Entry'!I304)","v":""},{"$f":"IF('All Bill Data Entry'!C304=\"\",\"\",'All Bill Data Entry'!C304)","v":""},{"$f":"IF($B299=\"\",\"\",'All Bill Data Entry'!Y304)","v":""},"","",null,null,"","","",""]
["",{"$f":"IF('All Bill Data Entry'!A305=\"\",\"\",'All Bill Data Entry'!A305)","v":""},"","",{"$f":"IF('All Bill Data Entry'!L305=\"\",\"\",'All Bill Data Entry'!L305)","v":""},{"$f":"IF('All Bill Data Entry'!V305=\"\",\"\",'All Bill Data Entry'!V305)","v":""},{"$f":"IF('All Bill Data Entry'!N305=\"\",\"\",'All Bill Data Entry'!N305)","v":""},"",{"$f":"IF('All Bill Data Entry'!U305=\"\",\"\",'All Bill Data Entry'!U305)","v":""},{"$f":"IF('All Bill Data Entry'!B305=\"\",\"\",'All Bill Data Entry'!B305)","v":""},"",{"$f":"IF('All Bill Data Entry'!X305=\"\",\"\",'All Bill Data Entry'!X305)","v":""},"",{"$f":"IF('All Bill Data Entry'!D305=\"\",\"\",'All Bill Data Entry'!D305)","v":""},"",{"$f":"IF('All Bill Data Entry'!F305=\"\",\"\",'All Bill Data Entry'!F305)","v":""},{"$f":"IF('All Bill Data Entry'!G305=\"\",\"\",'All Bill Data Entry'!G305)","v":""},{"$f":"IF('All Bill Data Entry'!H305=\"\",\"\",'All Bill Data Entry'!H305)","v":""},{"$f":"IF('All Bill Data Entry'!J305=\"\",\"\",'All Bill Data Entry'!J305)","v":""},{"$f":"IF('All Bill Data Entry'!K305=\"\",\"\",'All Bill Data Entry'!K305)","v":""},{"$f":"IF('All Bill Data Entry'!I305=\"\",\"\",'All Bill Data Entry'!I305)","v":""},{"$f":"IF('All Bill Data Entry'!C305=\"\",\"\",'All Bill Data Entry'!C305)","v":""},{"$f":"IF($B300=\"\",\"\",'All Bill Data Entry'!Y305)","v":""},"","",null,null,"","","",""]
["",{"$f":"IF('All Bill Data Entry'!A306=\"\",\"\",'All Bill Data Entry'!A306)","v":""},"","",{"$f":"IF('All Bill Data Entry'!L306=\"\",\"\",'All Bill Data Entry'!L306)","v":""},{"$f":"IF('All Bill Data Entry'!V306=\"\",\"\",'All Bill Data Entry'!V306)","v":""},{"$f":"IF('All Bill Data Entry'!N306=\"\",\"\",'All Bill Data Entry'!N306)","v":""},"",{"$f":"IF('All Bill Data Entry'!U306=\"\",\"\",'All Bill Data Entry'!U306)","v":""},{"$f":"IF('All Bill Data Entry'!B306=\"\",\"\",'All Bill Data Entry'!B306)","v":""},"",{"$f":"IF('All Bill Data Entry'!X306=\"\",\"\",'All Bill Data Entry'!X306)","v":""},"",{"$f":"IF('All Bill Data Entry'!D306=\"\",\"\",'All Bill Data Entry'!D306)","v":""},"",{"$f":"IF('All Bill Data Entry'!F306=\"\",\"\",'All Bill Data Entry'!F306)","v":""},{"$f":"IF('All Bill Data Entry'!G306=\"\",\"\",'All Bill Data Entry'!G306)","v":""},{"$f":"IF('All Bill Data Entry'!H306=\"\",\"\",'All Bill Data Entry'!H306)","v":""},{"$f":"IF('All Bill Data Entry'!J306=\"\",\"\",'All Bill Data Entry'!J306)","v":""},{"$f":"IF('All Bill Data Entry'!K306=\"\",\"\",'All Bill Data Entry'!K306)","v":""},{"$f":"IF('All Bill Data Entry'!I306=\"\",\"\",'All Bill Data Entry'!I306)","v":""},{"$f":"IF('All Bill Data Entry'!C306=\"\",\"\",'All Bill Data Entry'!C306)","v":""},{"$f":"IF($B301=\"\",\"\",'All Bill Data Entry'!Y306)","v":""},"","",null,null,"","","",""]

{"sheet":"NOTE","index":4,"n_rows":301,"n_cols":5,"rows_kept":301,"cut":false,"hidden":true,"merged":[]}
["NH","INTFC_LINE_NUM","TRANS_TYPE_BI","TRANS_TYPE_BI_SEQ","TEXT254"]
[{"$f":"IF($B2=\"\",\"\",\"N\")","v":""},{"$f":"IF(E2=\"\",\"\",'All Bill Data Entry'!A7)","v":""},{"$f":"IF($B2=\"\",\"\",\"NOTE\")","v":""},{"$f":"IF($B2=\"\",\"\",1)","v":""},{"$f":"IF('All Bill Data Entry'!E7=\"\",\"\",'All Bill Data Entry'!E7)","v":""}]
[{"$f":"IF($B3=\"\",\"\",\"N\")","v":""},{"$f":"IF(E3=\"\",\"\",'All Bill Data Entry'!A8)","v":""},{"$f":"IF($B3=\"\",\"\",\"NOTE\")","v":""},{"$f":"IF($B3=\"\",\"\",1)","v":""},{"$f":"IF('All Bill Data Entry'!E8=\"\",\"\",'All Bill Data Entry'!E8)","v":""}]
["",{"$f":"IF(E4=\"\",\"\",'All Bill Data Entry'!A9)","v":""},"","",{"$f":"IF('All Bill Data Entry'!E9=\"\",\"\",'All Bill Data Entry'!E9)","v":""}]
["",{"$f":"IF(E5=\"\",\"\",'All Bill Data Entry'!A10)","v":""},"","",{"$f":"IF('All Bill Data Entry'!E10=\"\",\"\",'All Bill Data Entry'!E10)","v":""}]
["",{"$f":"IF(E6=\"\",\"\",'All Bill Data Entry'!A11)","v":""},"","",{"$f":"IF('All Bill Data Entry'!E11=\"\",\"\",'All Bill Data Entry'!E11)","v":""}]
["",{"$f":"IF(E7=\"\",\"\",'All Bill Data Entry'!A12)","v":""},"","",{"$f":"IF('All Bill Data Entry'!E12=\"\",\"\",'All Bill Data Entry'!E12)","v":""}]
["",{"$f":"IF(E8=\"\",\"\",'All Bill Data Entry'!A13)","v":""},"","",{"$f":"IF('All Bill Data Entry'!E13=\"\",\"\",'All Bill Data Entry'!E13)","v":""}]
["",{"$f":"IF(E9=\"\",\"\",'All Bill Data Entry'!A14)","v":""},"","",{"$f":"IF('All Bill Data Entry'!E14=\"\",\"\",'All Bill Data Entry'!E14)","v":""}]
["",{"$f":"IF(E10=\"\",\"\",'All Bill Data Entry'!A15)","v":""},"","",{"$f":"IF('All Bill Data Entry'!E15=\"\",\"\",'All Bill Data Entry'!E15)","v":""}]
["",{"$f":"IF(E11=\"\",\"\",'All Bill Data Entry'!A16)","v":""},"","",{"$f":"IF('All Bill Data Entry'!E16=\"\",\"\",'All Bill Data Entry'!E16)","v":""}]
["",{"$f":"IF(E12=\"\",\"\",'All Bill Data Entry'!A17)","v":""},"","",{"$f":"IF('All Bill Data Entry'!E17=\"\",\"\",'All Bill Data Entry'!E17)","v":""}]
["",{"$f":"IF(E13=\"\",\"\",'All Bill Data Entry'!A18)","v":""},"","",{"$f":"IF('All Bill Data Entry'!E18=\"\",\"\",'All Bill Data Entry'!E18)","v":""}]
["",{"$f":"IF(E14=\"\",\"\",'All Bill Data Entry'!A19)","v":""},"","",{"$f":"IF('All Bill Data Entry'!E19=\"\",\"\",'All Bill Data Entry'!E19)","v":""}]
["",{"$f":"IF(E15=\"\",\"\",'All Bill Data Entry'!A20)","v":""},"","",{"$f":"IF('All Bill Data Entry'!E20=\"\",\"\",'All Bill Data Entry'!E20)","v":""}]
["",{"$f":"IF(E16=\"\",\"\",'All Bill Data Entry'!A21)","v":""},"","",{"$f":"IF('All Bill Data Entry'!E21=\"\",\"\",'All Bill Data Entry'!E21)","v":""}]
["",{"$f":"IF(E17=\"\",\"\",'All Bill Data Entry'!A22)","v":""},"","",{"$f":"IF('All Bill Data Entry'!E22=\"\",\"\",'All Bill Data Entry'!E22)","v":""}]
["",{"$f":"IF(E18=\"\",\"\",'All Bill Data Entry'!A23)","v":""},"","",{"$f":"IF('All Bill Data Entry'!E23=\"\",\"\",'All Bill Data Entry'!E23)","v":""}]
["",{"$f":"IF(E19=\"\",\"\",'All Bill Data Entry'!A24)","v":""},"","",{"$f":"IF('All Bill Data Entry'!E24=\"\",\"\",'All Bill Data Entry'!E24)","v":""}]
["",{"$f":"IF(E20=\"\",\"\",'All Bill Data Entry'!A25)","v":""},"","",{"$f":"IF('All Bill Data Entry'!E25=\"\",\"\",'All Bill Data Entry'!E25)","v":""}]
["",{"$f":"IF(E21=\"\",\"\",'All Bill Data Entry'!A26)","v":""},"","",{"$f":"IF('All Bill Data Entry'!E26=\"\",\"\",'All Bill Data Entry'!E26)","v":""}]
["",{"$f":"IF(E22=\"\",\"\",'All Bill Data Entry'!A27)","v":""},"","",{"$f":"IF('All Bill Data Entry'!E27=\"\",\"\",'All Bill Data Entry'!E27)","v":""}]
["",{"$f":"IF(E23=\"\",\"\",'All Bill Data Entry'!A28)","v":""},"","",{"$f":"IF('All Bill Data Entry'!E28=\"\",\"\",'All Bill Data Entry'!E28)","v":""}]
["",{"$f":"IF(E24=\"\",\"\",'All Bill Data Entry'!A29)","v":""},"","",{"$f":"IF('All Bill Data Entry'!E29=\"\",\"\",'All Bill Data Entry'!E29)","v":""}]
["",{"$f":"IF(E25=\"\",\"\",'All Bill Data Entry'!A30)","v":""},"","",{"$f":"IF('All Bill Data Entry'!E30=\"\",\"\",'All Bill Data Entry'!E30)","v":""}]
["",{"$f":"IF(E26=\"\",\"\",'All Bill Data Entry'!A31)","v":""},"","",{"$f":"IF('All Bill Data Entry'!E31=\"\",\"\",'All Bill Data Entry'!E31)","v":""}]
["",{"$f":"IF(E27=\"\",\"\",'All Bill Data Entry'!A32)","v":""},"","",{"$f":"IF('All Bill Data Entry'!E32=\"\",\"\",'All Bill Data Entry'!E32)","v":""}]
["",{"$f":"IF(E28=\"\",\"\",'All Bill Data Entry'!A33)","v":""},"","",{"$f":"IF('All Bill Data Entry'!E33=\"\",\"\",'All Bill Data Entry'!E33)","v":""}]
["",{"$f":"IF(E29=\"\",\"\",'All Bill Data Entry'!A34)","v":""},"","",{"$f":"IF('All Bill Data Entry'!E34=\"\",\"\",'All Bill Data Entry'!E34)","v":""}]
["",{"$f":"IF(E30=\"\",\"\",'All Bill Data Entry'!A35)","v":""},"","",{"$f":"IF('All Bill Data Entry'!E35=\"\",\"\",'All Bill Data Entry'!E35)","v":""}]
["",{"$f":"IF(E31=\"\",\"\",'All Bill Data Entry'!A36)","v":""},"","",{"$f":"IF('All Bill Data Entry'!E36=\"\",\"\",'All Bill Data Entry'!E36)","v":""}]
["",{"$f":"IF(E32=\"\",\"\",'All Bill Data Entry'!A37)","v":""},"","",{"$f":"IF('All Bill Data Entry'!E37=\"\",\"\",'All Bill Data Entry'!E37)","v":""}]
["",{"$f":"IF(E33=\"\",\"\",'All Bill Data Entry'!A38)","v":""},"","",{"$f":"IF('All Bill Data Entry'!E38=\"\",\"\",'All Bill Data Entry'!E38)","v":""}]
["",{"$f":"IF(E34=\"\",\"\",'All Bill Data Entry'!A39)","v":""},"","",{"$f":"IF('All Bill Data Entry'!E39=\"\",\"\",'All Bill Data Entry'!E39)","v":""}]
["",{"$f":"IF(E35=\"\",\"\",'All Bill Data Entry'!A40)","v":""},"","",{"$f":"IF('All Bill Data Entry'!E40=\"\",\"\",'All Bill Data Entry'!E40)","v":""}]
["",{"$f":"IF(E36=\"\",\"\",'All Bill Data Entry'!A41)","v":""},"","",{"$f":"IF('All Bill Data Entry'!E41=\"\",\"\",'All Bill Data Entry'!E41)","v":""}]
["",{"$f":"IF(E37=\"\",\"\",'All Bill Data Entry'!A42)","v":""},"","",{"$f":"IF('All Bill Data Entry'!E42=\"\",\"\",'All Bill Data Entry'!E42)","v":""}]
["",{"$f":"IF(E38=\"\",\"\",'All Bill Data Entry'!A43)","v":""},"","",{"$f":"IF('All Bill Data Entry'!E43=\"\",\"\",'All Bill Data Entry'!E43)","v":""}]
["",{"$f":"IF(E39=\"\",\"\",'All Bill Data Entry'!A44)","v":""},"","",{"$f":"IF('All Bill Data Entry'!E44=\"\",\"\",'All Bill Data Entry'!E44)","v":""}]
["",{"$f":"IF(E40=\"\",\"\",'All Bill Data Entry'!A45)","v":""},"","",{"$f":"IF('All Bill Data Entry'!E45=\"\",\"\",'All Bill Data Entry'!E45)","v":""}]
["",{"$f":"IF(E41=\"\",\"\",'All Bill Data Entry'!A46)","v":""},"","",{"$f":"IF('All Bill Data Entry'!E46=\"\",\"\",'All Bill Data Entry'!E46)","v":""}]
["",{"$f":"IF(E42=\"\",\"\",'All Bill Data Entry'!A47)","v":""},"","",{"$f":"IF('All Bill Data Entry'!E47=\"\",\"\",'All Bill Data Entry'!E47)","v":""}]
["",{"$f":"IF(E43=\"\",\"\",'All Bill Data Entry'!A48)","v":""},"","",{"$f":"IF('All Bill Data Entry'!E48=\"\",\"\",'All Bill Data Entry'!E48)","v":""}]
["",{"$f":"IF(E44=\"\",\"\",'All Bill Data Entry'!A49)","v":""},"","",{"$f":"IF('All Bill Data Entry'!E49=\"\",\"\",'All Bill Data Entry'!E49)","v":""}]
["",{"$f":"IF(E45=\"\",\"\",'All Bill Data Entry'!A50)","v":""},"","",{"$f":"IF('All Bill Data Entry'!E50=\"\",\"\",'All Bill Data Entry'!E50)","v":""}]
["",{"$f":"IF(E46=\"\",\"\",'All Bill Data Entry'!A51)","v":""},"","",{"$f":"IF('All Bill Data Entry'!E51=\"\",\"\",'All Bill Data Entry'!E51)","v":""}]
["",{"$f":"IF(E47=\"\",\"\",'All Bill Data Entry'!A52)","v":""},"","",{"$f":"IF('All Bill Data Entry'!E52=\"\",\"\",'All Bill Data Entry'!E52)","v":""}]
["",{"$f":"IF(E48=\"\",\"\",'All Bill Data Entry'!A53)","v":""},"","",{"$f":"IF('All Bill Data Entry'!E53=\"\",\"\",'All Bill Data Entry'!E53)","v":""}]
["",{"$f":"IF(E49=\"\",\"\",'All Bill Data Entry'!A54)","v":""},"","",{"$f":"IF('All Bill Data Entry'!E54=\"\",\"\",'All Bill Data Entry'!E54)","v":""}]
["",{"$f":"IF(E50=\"\",\"\",'All Bill Data Entry'!A55)","v":""},"","",{"$f":"IF('All Bill Data Entry'!E55=\"\",\"\",'All Bill Data Entry'!E55)","v":""}]
["",{"$f":"IF(E51=\"\",\"\",'All Bill Data Entry'!A56)","v":""},"","",{"$f":"IF('All Bill Data Entry'!E56=\"\",\"\",'All Bill Data Entry'!E56)","v":""}]
["",{"$f":"IF(E52=\"\",\"\",'All Bill Data Entry'!A57)","v":""},"","",{"$f":"IF('All Bill Data Entry'!E57=\"\",\"\",'All Bill Data Entry'!E57)","v":""}]
["",{"$f":"IF(E53=\"\",\"\",'All Bill Data Entry'!A58)","v":""},"","",{"$f":"IF('All Bill Data Entry'!E58=\"\",\"\",'All Bill Data Entry'!E58)","v":""}]
["",{"$f":"IF(E54=\"\",\"\",'All Bill Data Entry'!A59)","v":""},"","",{"$f":"IF('All Bill Data Entry'!E59=\"\",\"\",'All Bill Data Entry'!E59)","v":""}]
["",{"$f":"IF(E55=\"\",\"\",'All Bill Data Entry'!A60)","v":""},"","",{"$f":"IF('All Bill Data Entry'!E60=\"\",\"\",'All Bill Data Entry'!E60)","v":""}]
["",{"$f":"IF(E56=\"\",\"\",'All Bill Data Entry'!A61)","v":""},"","",{"$f":"IF('All Bill Data Entry'!E61=\"\",\"\",'All Bill Data Entry'!E61)","v":""}]
["",{"$f":"IF(E57=\"\",\"\",'All Bill Data Entry'!A62)","v":""},"","",{"$f":"IF('All Bill Data Entry'!E62=\"\",\"\",'All Bill Data Entry'!E62)","v":""}]
["",{"$f":"IF(E58=\"\",\"\",'All Bill Data Entry'!A63)","v":""},"","",{"$f":"IF('All Bill Data Entry'!E63=\"\",\"\",'All Bill Data Entry'!E63)","v":""}]
["",{"$f":"IF(E59=\"\",\"\",'All Bill Data Entry'!A64)","v":""},"","",{"$f":"IF('All Bill Data Entry'!E64=\"\",\"\",'All Bill Data Entry'!E64)","v":""}]
["",{"$f":"IF(E60=\"\",\"\",'All Bill Data Entry'!A65)","v":""},"","",{"$f":"IF('All Bill Data Entry'!E65=\"\",\"\",'All Bill Data Entry'!E65)","v":""}]
["",{"$f":"IF(E61=\"\",\"\",'All Bill Data Entry'!A66)","v":""},"","",{"$f":"IF('All Bill Data Entry'!E66=\"\",\"\",'All Bill Data Entry'!E66)","v":""}]
["",{"$f":"IF(E62=\"\",\"\",'All Bill Data Entry'!A67)","v":""},"","",{"$f":"IF('All Bill Data Entry'!E67=\"\",\"\",'All Bill Data Entry'!E67)","v":""}]
["",{"$f":"IF(E63=\"\",\"\",'All Bill Data Entry'!A68)","v":""},"","",{"$f":"IF('All Bill Data Entry'!E68=\"\",\"\",'All Bill Data Entry'!E68)","v":""}]
["",{"$f":"IF(E64=\"\",\"\",'All Bill Data Entry'!A69)","v":""},"","",{"$f":"IF('All Bill Data Entry'!E69=\"\",\"\",'All Bill Data Entry'!E69)","v":""}]
["",{"$f":"IF(E65=\"\",\"\",'All Bill Data Entry'!A70)","v":""},"","",{"$f":"IF('All Bill Data Entry'!E70=\"\",\"\",'All Bill Data Entry'!E70)","v":""}]
["",{"$f":"IF(E66=\"\",\"\",'All Bill Data Entry'!A71)","v":""},"","",{"$f":"IF('All Bill Data Entry'!E71=\"\",\"\",'All Bill Data Entry'!E71)","v":""}]
[{"$f":"IF($B67=\"\",\"\",\"N\")","v":""},{"$f":"IF(E67=\"\",\"\",'All Bill Data Entry'!A72)","v":""},{"$f":"IF($B67=\"\",\"\",\"NOTE\")","v":""},{"$f":"IF($B67=\"\",\"\",1)","v":""},{"$f":"IF('All Bill Data Entry'!E72=\"\",\"\",'All Bill Data Entry'!E72)","v":""}]
["",{"$f":"IF(E68=\"\",\"\",'All Bill Data Entry'!A73)","v":""},"","",{"$f":"IF('All Bill Data Entry'!E73=\"\",\"\",'All Bill Data Entry'!E73)","v":""}]
["",{"$f":"IF(E69=\"\",\"\",'All Bill Data Entry'!A74)","v":""},"","",{"$f":"IF('All Bill Data Entry'!E74=\"\",\"\",'All Bill Data Entry'!E74)","v":""}]
["",{"$f":"IF(E70=\"\",\"\",'All Bill Data Entry'!A75)","v":""},"","",{"$f":"IF('All Bill Data Entry'!E75=\"\",\"\",'All Bill Data Entry'!E75)","v":""}]
["",{"$f":"IF(E71=\"\",\"\",'All Bill Data Entry'!A76)","v":""},"","",{"$f":"IF('All Bill Data Entry'!E76=\"\",\"\",'All Bill Data Entry'!E76)","v":""}]
["",{"$f":"IF(E72=\"\",\"\",'All Bill Data Entry'!A77)","v":""},"","",{"$f":"IF('All Bill Data Entry'!E77=\"\",\"\",'All Bill Data Entry'!E77)","v":""}]
["",{"$f":"IF(E73=\"\",\"\",'All Bill Data Entry'!A78)","v":""},"","",{"$f":"IF('All Bill Data Entry'!E78=\"\",\"\",'All Bill Data Entry'!E78)","v":""}]
["",{"$f":"IF(E74=\"\",\"\",'All Bill Data Entry'!A79)","v":""},"","",{"$f":"IF('All Bill Data Entry'!E79=\"\",\"\",'All Bill Data Entry'!E79)","v":""}]
["",{"$f":"IF(E75=\"\",\"\",'All Bill Data Entry'!A80)","v":""},"","",{"$f":"IF('All Bill Data Entry'!E80=\"\",\"\",'All Bill Data Entry'!E80)","v":""}]
["",{"$f":"IF(E76=\"\",\"\",'All Bill Data Entry'!A81)","v":""},"","",{"$f":"IF('All Bill Data Entry'!E81=\"\",\"\",'All Bill Data Entry'!E81)","v":""}]
["",{"$f":"IF(E77=\"\",\"\",'All Bill Data Entry'!A82)","v":""},"","",{"$f":"IF('All Bill Data Entry'!E82=\"\",\"\",'All Bill Data Entry'!E82)","v":""}]
["",{"$f":"IF(E78=\"\",\"\",'All Bill Data Entry'!A83)","v":""},"","",{"$f":"IF('All Bill Data Entry'!E83=\"\",\"\",'All Bill Data Entry'!E83)","v":""}]
["",{"$f":"IF(E79=\"\",\"\",'All Bill Data Entry'!A84)","v":""},"","",{"$f":"IF('All Bill Data Entry'!E84=\"\",\"\",'All Bill Data Entry'!E84)","v":""}]
["",{"$f":"IF(E80=\"\",\"\",'All Bill Data Entry'!A85)","v":""},"","",{"$f":"IF('All Bill Data Entry'!E85=\"\",\"\",'All Bill Data Entry'!E85)","v":""}]
["",{"$f":"IF(E81=\"\",\"\",'All Bill Data Entry'!A86)","v":""},"","",{"$f":"IF('All Bill Data Entry'!E86=\"\",\"\",'All Bill Data Entry'!E86)","v":""}]
["",{"$f":"IF(E82=\"\",\"\",'All Bill Data Entry'!A87)","v":""},"","",{"$f":"IF('All Bill Data Entry'!E87=\"\",\"\",'All Bill Data Entry'!E87)","v":""}]
["",{"$f":"IF(E83=\"\",\"\",'All Bill Data Entry'!A88)","v":""},"","",{"$f":"IF('All Bill Data Entry'!E88=\"\",\"\",'All Bill Data Entry'!E88)","v":""}]
["",{"$f":"IF(E84=\"\",\"\",'All Bill Data Entry'!A89)","v":""},"","",{"$f":"IF('All Bill Data Entry'!E89=\"\",\"\",'All Bill Data Entry'!E89)","v":""}]
["",{"$f":"IF(E85=\"\",\"\",'All Bill Data Entry'!A90)","v":""},"","",{"$f":"IF('All Bill Data Entry'!E90=\"\",\"\",'All Bill Data Entry'!E90)","v":""}]
["",{"$f":"IF(E86=\"\",\"\",'All Bill Data Entry'!A91)","v":""},"","",{"$f":"IF('All Bill Data Entry'!E91=\"\",\"\",'All Bill Data Entry'!E91)","v":""}]
["",{"$f":"IF(E87=\"\",\"\",'All Bill Data Entry'!A92)","v":""},"","",{"$f":"IF('All Bill Data Entry'!E92=\"\",\"\",'All Bill Data Entry'!E92)","v":""}]
["",{"$f":"IF(E88=\"\",\"\",'All Bill Data Entry'!A93)","v":""},"","",{"$f":"IF('All Bill Data Entry'!E93=\"\",\"\",'All Bill Data Entry'!E93)","v":""}]
["",{"$f":"IF(E89=\"\",\"\",'All Bill Data Entry'!A94)","v":""},"","",{"$f":"IF('All Bill Data Entry'!E94=\"\",\"\",'All Bill Data Entry'!E94)","v":""}]
["",{"$f":"IF(E90=\"\",\"\",'All Bill Data Entry'!A95)","v":""},"","",{"$f":"IF('All Bill Data Entry'!E95=\"\",\"\",'All Bill Data Entry'!E95)","v":""}]
["",{"$f":"IF(E91=\"\",\"\",'All Bill Data Entry'!A96)","v":""},"","",{"$f":"IF('All Bill Data Entry'!E96=\"\",\"\",'All Bill Data Entry'!E96)","v":""}]
["",{"$f":"IF(E92=\"\",\"\",'All Bill Data Entry'!A97)","v":""},"","",{"$f":"IF('All Bill Data Entry'!E97=\"\",\"\",'All Bill Data Entry'!E97)","v":""}]
["",{"$f":"IF(E93=\"\",\"\",'All Bill Data Entry'!A98)","v":""},"","",{"$f":"IF('All Bill Data Entry'!E98=\"\",\"\",'All Bill Data Entry'!E98)","v":""}]
["",{"$f":"IF(E94=\"\",\"\",'All Bill Data Entry'!A99)","v":""},"","",{"$f":"IF('All Bill Data Entry'!E99=\"\",\"\",'All Bill Data Entry'!E99)","v":""}]
["",{"$f":"IF(E95=\"\",\"\",'All Bill Data Entry'!A100)","v":""},"","",{"$f":"IF('All Bill Data Entry'!E100=\"\",\"\",'All Bill Data Entry'!E100)","v":""}]
["",{"$f":"IF(E96=\"\",\"\",'All Bill Data Entry'!A101)","v":""},"","",{"$f":"IF('All Bill Data Entry'!E101=\"\",\"\",'All Bill Data Entry'!E101)","v":""}]
["",{"$f":"IF(E97=\"\",\"\",'All Bill Data Entry'!A102)","v":""},"","",{"$f":"IF('All Bill Data Entry'!E102=\"\",\"\",'All Bill Data Entry'!E102)","v":""}]
["",{"$f":"IF(E98=\"\",\"\",'All Bill Data Entry'!A103)","v":""},"","",{"$f":"IF('All Bill Data Entry'!E103=\"\",\"\",'All Bill Data Entry'!E103)","v":""}]
["",{"$f":"IF(E99=\"\",\"\",'All Bill Data Entry'!A104)","v":""},"","",{"$f":"IF('All Bill Data Entry'!E104=\"\",\"\",'All Bill Data Entry'!E104)","v":""}]
["",{"$f":"IF(E100=\"\",\"\",'All Bill Data Entry'!A105)","v":""},"","",{"$f":"IF('All Bill Data Entry'!E105=\"\",\"\",'All Bill Data Entry'!E105)","v":""}]
["",{"$f":"IF(E101=\"\",\"\",'All Bill Data Entry'!A106)","v":""},"","",{"$f":"IF('All Bill Data Entry'!E106=\"\",\"\",'All Bill Data Entry'!E106)","v":""}]
["",{"$f":"IF(E102=\"\",\"\",'All Bill Data Entry'!A107)","v":""},"","",{"$f":"IF('All Bill Data Entry'!E107=\"\",\"\",'All Bill Data Entry'!E107)","v":""}]
["",{"$f":"IF(E103=\"\",\"\",'All Bill Data Entry'!A108)","v":""},"","",{"$f":"IF('All Bill Data Entry'!E108=\"\",\"\",'All Bill Data Entry'!E108)","v":""}]
["",{"$f":"IF(E104=\"\",\"\",'All Bill Data Entry'!A109)","v":""},"","",{"$f":"IF('All Bill Data Entry'!E109=\"\",\"\",'All Bill Data Entry'!E109)","v":""}]
["",{"$f":"IF(E105=\"\",\"\",'All Bill Data Entry'!A110)","v":""},"","",{"$f":"IF('All Bill Data Entry'!E110=\"\",\"\",'All Bill Data Entry'!E110)","v":""}]
["",{"$f":"IF(E106=\"\",\"\",'All Bill Data Entry'!A111)","v":""},"","",{"$f":"IF('All Bill Data Entry'!E111=\"\",\"\",'All Bill Data Entry'!E111)","v":""}]
["",{"$f":"IF(E107=\"\",\"\",'All Bill Data Entry'!A112)","v":""},"","",{"$f":"IF('All Bill Data Entry'!E112=\"\",\"\",'All Bill Data Entry'!E112)","v":""}]
["",{"$f":"IF(E108=\"\",\"\",'All Bill Data Entry'!A113)","v":""},"","",{"$f":"IF('All Bill Data Entry'!E113=\"\",\"\",'All Bill Data Entry'!E113)","v":""}]
["",{"$f":"IF(E109=\"\",\"\",'All Bill Data Entry'!A114)","v":""},"","",{"$f":"IF('All Bill Data Entry'!E114=\"\",\"\",'All Bill Data Entry'!E114)","v":""}]
["",{"$f":"IF(E110=\"\",\"\",'All Bill Data Entry'!A115)","v":""},"","",{"$f":"IF('All Bill Data Entry'!E115=\"\",\"\",'All Bill Data Entry'!E115)","v":""}]
["",{"$f":"IF(E111=\"\",\"\",'All Bill Data Entry'!A116)","v":""},"","",{"$f":"IF('All Bill Data Entry'!E116=\"\",\"\",'All Bill Data Entry'!E116)","v":""}]
["",{"$f":"IF(E112=\"\",\"\",'All Bill Data Entry'!A117)","v":""},"","",{"$f":"IF('All Bill Data Entry'!E117=\"\",\"\",'All Bill Data Entry'!E117)","v":""}]
["",{"$f":"IF(E113=\"\",\"\",'All Bill Data Entry'!A118)","v":""},"","",{"$f":"IF('All Bill Data Entry'!E118=\"\",\"\",'All Bill Data Entry'!E118)","v":""}]
["",{"$f":"IF(E114=\"\",\"\",'All Bill Data Entry'!A119)","v":""},"","",{"$f":"IF('All Bill Data Entry'!E119=\"\",\"\",'All Bill Data Entry'!E119)","v":""}]
["",{"$f":"IF(E115=\"\",\"\",'All Bill Data Entry'!A120)","v":""},"","",{"$f":"IF('All Bill Data Entry'!E120=\"\",\"\",'All Bill Data Entry'!E120)","v":""}]
["",{"$f":"IF(E116=\"\",\"\",'All Bill Data Entry'!A121)","v":""},"","",{"$f":"IF('All Bill Data Entry'!E121=\"\",\"\",'All Bill Data Entry'!E121)","v":""}]
["",{"$f":"IF(E117=\"\",\"\",'All Bill Data Entry'!A122)","v":""},"","",{"$f":"IF('All Bill Data Entry'!E122=\"\",\"\",'All Bill Data Entry'!E122)","v":""}]
["",{"$f":"IF(E118=\"\",\"\",'All Bill Data Entry'!A123)","v":""},"","",{"$f":"IF('All Bill Data Entry'!E123=\"\",\"\",'All Bill Data Entry'!E123)","v":""}]
["",{"$f":"IF(E119=\"\",\"\",'All Bill Data Entry'!A124)","v":""},"","",{"$f":"IF('All Bill Data Entry'!E124=\"\",\"\",'All Bill Data Entry'!E124)","v":""}]
["",{"$f":"IF(E120=\"\",\"\",'All Bill Data Entry'!A125)","v":""},"","",{"$f":"IF('All Bill Data Entry'!E125=\"\",\"\",'All Bill Data Entry'!E125)","v":""}]
["",{"$f":"IF(E121=\"\",\"\",'All Bill Data Entry'!A126)","v":""},"","",{"$f":"IF('All Bill Data Entry'!E126=\"\",\"\",'All Bill Data Entry'!E126)","v":""}]
["",{"$f":"IF(E122=\"\",\"\",'All Bill Data Entry'!A127)","v":""},"","",{"$f":"IF('All Bill Data Entry'!E127=\"\",\"\",'All Bill Data Entry'!E127)","v":""}]
["",{"$f":"IF(E123=\"\",\"\",'All Bill Data Entry'!A128)","v":""},"","",{"$f":"IF('All Bill Data Entry'!E128=\"\",\"\",'All Bill Data Entry'!E128)","v":""}]
["",{"$f":"IF(E124=\"\",\"\",'All Bill Data Entry'!A129)","v":""},"","",{"$f":"IF('All Bill Data Entry'!E129=\"\",\"\",'All Bill Data Entry'!E129)","v":""}]
["",{"$f":"IF(E125=\"\",\"\",'All Bill Data Entry'!A130)","v":""},"","",{"$f":"IF('All Bill Data Entry'!E130=\"\",\"\",'All Bill Data Entry'!E130)","v":""}]
["",{"$f":"IF(E126=\"\",\"\",'All Bill Data Entry'!A131)","v":""},"","",{"$f":"IF('All Bill Data Entry'!E131=\"\",\"\",'All Bill Data Entry'!E131)","v":""}]
["",{"$f":"IF(E127=\"\",\"\",'All Bill Data Entry'!A132)","v":""},"","",{"$f":"IF('All Bill Data Entry'!E132=\"\",\"\",'All Bill Data Entry'!E132)","v":""}]
["",{"$f":"IF(E128=\"\",\"\",'All Bill Data Entry'!A133)","v":""},"","",{"$f":"IF('All Bill Data Entry'!E133=\"\",\"\",'All Bill Data Entry'!E133)","v":""}]
["",{"$f":"IF(E129=\"\",\"\",'All Bill Data Entry'!A134)","v":""},"","",{"$f":"IF('All Bill Data Entry'!E134=\"\",\"\",'All Bill Data Entry'!E134)","v":""}]
["",{"$f":"IF(E130=\"\",\"\",'All Bill Data Entry'!A135)","v":""},"","",{"$f":"IF('All Bill Data Entry'!E135=\"\",\"\",'All Bill Data Entry'!E135)","v":""}]
[{"$f":"IF($B131=\"\",\"\",\"N\")","v":""},{"$f":"IF(E131=\"\",\"\",'All Bill Data Entry'!A136)","v":""},{"$f":"IF($B131=\"\",\"\",\"NOTE\")","v":""},{"$f":"IF($B131=\"\",\"\",1)","v":""},{"$f":"IF('All Bill Data Entry'!E136=\"\",\"\",'All Bill Data Entry'!E136)","v":""}]
["",{"$f":"IF(E132=\"\",\"\",'All Bill Data Entry'!A137)","v":""},"","",{"$f":"IF('All Bill Data Entry'!E137=\"\",\"\",'All Bill Data Entry'!E137)","v":""}]
["",{"$f":"IF(E133=\"\",\"\",'All Bill Data Entry'!A138)","v":""},"","",{"$f":"IF('All Bill Data Entry'!E138=\"\",\"\",'All Bill Data Entry'!E138)","v":""}]
["",{"$f":"IF(E134=\"\",\"\",'All Bill Data Entry'!A139)","v":""},"","",{"$f":"IF('All Bill Data Entry'!E139=\"\",\"\",'All Bill Data Entry'!E139)","v":""}]
["",{"$f":"IF(E135=\"\",\"\",'All Bill Data Entry'!A140)","v":""},"","",{"$f":"IF('All Bill Data Entry'!E140=\"\",\"\",'All Bill Data Entry'!E140)","v":""}]
["",{"$f":"IF(E136=\"\",\"\",'All Bill Data Entry'!A141)","v":""},"","",{"$f":"IF('All Bill Data Entry'!E141=\"\",\"\",'All Bill Data Entry'!E141)","v":""}]
["",{"$f":"IF(E137=\"\",\"\",'All Bill Data Entry'!A142)","v":""},"","",{"$f":"IF('All Bill Data Entry'!E142=\"\",\"\",'All Bill Data Entry'!E142)","v":""}]
["",{"$f":"IF(E138=\"\",\"\",'All Bill Data Entry'!A143)","v":""},"","",{"$f":"IF('All Bill Data Entry'!E143=\"\",\"\",'All Bill Data Entry'!E143)","v":""}]
["",{"$f":"IF(E139=\"\",\"\",'All Bill Data Entry'!A144)","v":""},"","",{"$f":"IF('All Bill Data Entry'!E144=\"\",\"\",'All Bill Data Entry'!E144)","v":""}]
["",{"$f":"IF(E140=\"\",\"\",'All Bill Data Entry'!A145)","v":""},"","",{"$f":"IF('All Bill Data Entry'!E145=\"\",\"\",'All Bill Data Entry'!E145)","v":""}]
["",{"$f":"IF(E141=\"\",\"\",'All Bill Data Entry'!A146)","v":""},"","",{"$f":"IF('All Bill Data Entry'!E146=\"\",\"\",'All Bill Data Entry'!E146)","v":""}]
["",{"$f":"IF(E142=\"\",\"\",'All Bill Data Entry'!A147)","v":""},"","",{"$f":"IF('All Bill Data Entry'!E147=\"\",\"\",'All Bill Data Entry'!E147)","v":""}]
["",{"$f":"IF(E143=\"\",\"\",'All Bill Data Entry'!A148)","v":""},"","",{"$f":"IF('All Bill Data Entry'!E148=\"\",\"\",'All Bill Data Entry'!E148)","v":""}]
["",{"$f":"IF(E144=\"\",\"\",'All Bill Data Entry'!A149)","v":""},"","",{"$f":"IF('All Bill Data Entry'!E149=\"\",\"\",'All Bill Data Entry'!E149)","v":""}]
["",{"$f":"IF(E145=\"\",\"\",'All Bill Data Entry'!A150)","v":""},"","",{"$f":"IF('All Bill Data Entry'!E150=\"\",\"\",'All Bill Data Entry'!E150)","v":""}]
["",{"$f":"IF(E146=\"\",\"\",'All Bill Data Entry'!A151)","v":""},"","",{"$f":"IF('All Bill Data Entry'!E151=\"\",\"\",'All Bill Data Entry'!E151)","v":""}]
["",{"$f":"IF(E147=\"\",\"\",'All Bill Data Entry'!A152)","v":""},"","",{"$f":"IF('All Bill Data Entry'!E152=\"\",\"\",'All Bill Data Entry'!E152)","v":""}]
["",{"$f":"IF(E148=\"\",\"\",'All Bill Data Entry'!A153)","v":""},"","",{"$f":"IF('All Bill Data Entry'!E153=\"\",\"\",'All Bill Data Entry'!E153)","v":""}]
["",{"$f":"IF(E149=\"\",\"\",'All Bill Data Entry'!A154)","v":""},"","",{"$f":"IF('All Bill Data Entry'!E154=\"\",\"\",'All Bill Data Entry'!E154)","v":""}]
["",{"$f":"IF(E150=\"\",\"\",'All Bill Data Entry'!A155)","v":""},"","",{"$f":"IF('All Bill Data Entry'!E155=\"\",\"\",'All Bill Data Entry'!E155)","v":""}]
["",{"$f":"IF(E151=\"\",\"\",'All Bill Data Entry'!A156)","v":""},"","",{"$f":"IF('All Bill Data Entry'!E156=\"\",\"\",'All Bill Data Entry'!E156)","v":""}]
["",{"$f":"IF(E152=\"\",\"\",'All Bill Data Entry'!A157)","v":""},"","",{"$f":"IF('All Bill Data Entry'!E157=\"\",\"\",'All Bill Data Entry'!E157)","v":""}]
["",{"$f":"IF(E153=\"\",\"\",'All Bill Data Entry'!A158)","v":""},"","",{"$f":"IF('All Bill Data Entry'!E158=\"\",\"\",'All Bill Data Entry'!E158)","v":""}]
["",{"$f":"IF(E154=\"\",\"\",'All Bill Data Entry'!A159)","v":""},"","",{"$f":"IF('All Bill Data Entry'!E159=\"\",\"\",'All Bill Data Entry'!E159)","v":""}]
["",{"$f":"IF(E155=\"\",\"\",'All Bill Data Entry'!A160)","v":""},"","",{"$f":"IF('All Bill Data Entry'!E160=\"\",\"\",'All Bill Data Entry'!E160)","v":""}]
["",{"$f":"IF(E156=\"\",\"\",'All Bill Data Entry'!A161)","v":""},"","",{"$f":"IF('All Bill Data Entry'!E161=\"\",\"\",'All Bill Data Entry'!E161)","v":""}]
["",{"$f":"IF(E157=\"\",\"\",'All Bill Data Entry'!A162)","v":""},"","",{"$f":"IF('All Bill Data Entry'!E162=\"\",\"\",'All Bill Data Entry'!E162)","v":""}]
["",{"$f":"IF(E158=\"\",\"\",'All Bill Data Entry'!A163)","v":""},"","",{"$f":"IF('All Bill Data Entry'!E163=\"\",\"\",'All Bill Data Entry'!E163)","v":""}]
["",{"$f":"IF(E159=\"\",\"\",'All Bill Data Entry'!A164)","v":""},"","",{"$f":"IF('All Bill Data Entry'!E164=\"\",\"\",'All Bill Data Entry'!E164)","v":""}]
["",{"$f":"IF(E160=\"\",\"\",'All Bill Data Entry'!A165)","v":""},"","",{"$f":"IF('All Bill Data Entry'!E165=\"\",\"\",'All Bill Data Entry'!E165)","v":""}]
["",{"$f":"IF(E161=\"\",\"\",'All Bill Data Entry'!A166)","v":""},"","",{"$f":"IF('All Bill Data Entry'!E166=\"\",\"\",'All Bill Data Entry'!E166)","v":""}]
["",{"$f":"IF(E162=\"\",\"\",'All Bill Data Entry'!A167)","v":""},"","",{"$f":"IF('All Bill Data Entry'!E167=\"\",\"\",'All Bill Data Entry'!E167)","v":""}]
["",{"$f":"IF(E163=\"\",\"\",'All Bill Data Entry'!A168)","v":""},"","",{"$f":"IF('All Bill Data Entry'!E168=\"\",\"\",'All Bill Data Entry'!E168)","v":""}]
["",{"$f":"IF(E164=\"\",\"\",'All Bill Data Entry'!A169)","v":""},"","",{"$f":"IF('All Bill Data Entry'!E169=\"\",\"\",'All Bill Data Entry'!E169)","v":""}]
["",{"$f":"IF(E165=\"\",\"\",'All Bill Data Entry'!A170)","v":""},"","",{"$f":"IF('All Bill Data Entry'!E170=\"\",\"\",'All Bill Data Entry'!E170)","v":""}]
["",{"$f":"IF(E166=\"\",\"\",'All Bill Data Entry'!A171)","v":""},"","",{"$f":"IF('All Bill Data Entry'!E171=\"\",\"\",'All Bill Data Entry'!E171)","v":""}]
["",{"$f":"IF(E167=\"\",\"\",'All Bill Data Entry'!A172)","v":""},"","",{"$f":"IF('All Bill Data Entry'!E172=\"\",\"\",'All Bill Data Entry'!E172)","v":""}]
["",{"$f":"IF(E168=\"\",\"\",'All Bill Data Entry'!A173)","v":""},"","",{"$f":"IF('All Bill Data Entry'!E173=\"\",\"\",'All Bill Data Entry'!E173)","v":""}]
["",{"$f":"IF(E169=\"\",\"\",'All Bill Data Entry'!A174)","v":""},"","",{"$f":"IF('All Bill Data Entry'!E174=\"\",\"\",'All Bill Data Entry'!E174)","v":""}]
["",{"$f":"IF(E170=\"\",\"\",'All Bill Data Entry'!A175)","v":""},"","",{"$f":"IF('All Bill Data Entry'!E175=\"\",\"\",'All Bill Data Entry'!E175)","v":""}]
["",{"$f":"IF(E171=\"\",\"\",'All Bill Data Entry'!A176)","v":""},"","",{"$f":"IF('All Bill Data Entry'!E176=\"\",\"\",'All Bill Data Entry'!E176)","v":""}]
["",{"$f":"IF(E172=\"\",\"\",'All Bill Data Entry'!A177)","v":""},"","",{"$f":"IF('All Bill Data Entry'!E177=\"\",\"\",'All Bill Data Entry'!E177)","v":""}]
["",{"$f":"IF(E173=\"\",\"\",'All Bill Data Entry'!A178)","v":""},"","",{"$f":"IF('All Bill Data Entry'!E178=\"\",\"\",'All Bill Data Entry'!E178)","v":""}]
["",{"$f":"IF(E174=\"\",\"\",'All Bill Data Entry'!A179)","v":""},"","",{"$f":"IF('All Bill Data Entry'!E179=\"\",\"\",'All Bill Data Entry'!E179)","v":""}]
["",{"$f":"IF(E175=\"\",\"\",'All Bill Data Entry'!A180)","v":""},"","",{"$f":"IF('All Bill Data Entry'!E180=\"\",\"\",'All Bill Data Entry'!E180)","v":""}]
["",{"$f":"IF(E176=\"\",\"\",'All Bill Data Entry'!A181)","v":""},"","",{"$f":"IF('All Bill Data Entry'!E181=\"\",\"\",'All Bill Data Entry'!E181)","v":""}]
["",{"$f":"IF(E177=\"\",\"\",'All Bill Data Entry'!A182)","v":""},"","",{"$f":"IF('All Bill Data Entry'!E182=\"\",\"\",'All Bill Data Entry'!E182)","v":""}]
["",{"$f":"IF(E178=\"\",\"\",'All Bill Data Entry'!A183)","v":""},"","",{"$f":"IF('All Bill Data Entry'!E183=\"\",\"\",'All Bill Data Entry'!E183)","v":""}]
["",{"$f":"IF(E179=\"\",\"\",'All Bill Data Entry'!A184)","v":""},"","",{"$f":"IF('All Bill Data Entry'!E184=\"\",\"\",'All Bill Data Entry'!E184)","v":""}]
["",{"$f":"IF(E180=\"\",\"\",'All Bill Data Entry'!A185)","v":""},"","",{"$f":"IF('All Bill Data Entry'!E185=\"\",\"\",'All Bill Data Entry'!E185)","v":""}]
["",{"$f":"IF(E181=\"\",\"\",'All Bill Data Entry'!A186)","v":""},"","",{"$f":"IF('All Bill Data Entry'!E186=\"\",\"\",'All Bill Data Entry'!E186)","v":""}]
["",{"$f":"IF(E182=\"\",\"\",'All Bill Data Entry'!A187)","v":""},"","",{"$f":"IF('All Bill Data Entry'!E187=\"\",\"\",'All Bill Data Entry'!E187)","v":""}]
["",{"$f":"IF(E183=\"\",\"\",'All Bill Data Entry'!A188)","v":""},"","",{"$f":"IF('All Bill Data Entry'!E188=\"\",\"\",'All Bill Data Entry'!E188)","v":""}]
["",{"$f":"IF(E184=\"\",\"\",'All Bill Data Entry'!A189)","v":""},"","",{"$f":"IF('All Bill Data Entry'!E189=\"\",\"\",'All Bill Data Entry'!E189)","v":""}]
["",{"$f":"IF(E185=\"\",\"\",'All Bill Data Entry'!A190)","v":""},"","",{"$f":"IF('All Bill Data Entry'!E190=\"\",\"\",'All Bill Data Entry'!E190)","v":""}]
["",{"$f":"IF(E186=\"\",\"\",'All Bill Data Entry'!A191)","v":""},"","",{"$f":"IF('All Bill Data Entry'!E191=\"\",\"\",'All Bill Data Entry'!E191)","v":""}]
["",{"$f":"IF(E187=\"\",\"\",'All Bill Data Entry'!A192)","v":""},"","",{"$f":"IF('All Bill Data Entry'!E192=\"\",\"\",'All Bill Data Entry'!E192)","v":""}]
["",{"$f":"IF(E188=\"\",\"\",'All Bill Data Entry'!A193)","v":""},"","",{"$f":"IF('All Bill Data Entry'!E193=\"\",\"\",'All Bill Data Entry'!E193)","v":""}]
["",{"$f":"IF(E189=\"\",\"\",'All Bill Data Entry'!A194)","v":""},"","",{"$f":"IF('All Bill Data Entry'!E194=\"\",\"\",'All Bill Data Entry'!E194)","v":""}]
["",{"$f":"IF(E190=\"\",\"\",'All Bill Data Entry'!A195)","v":""},"","",{"$f":"IF('All Bill Data Entry'!E195=\"\",\"\",'All Bill Data Entry'!E195)","v":""}]
["",{"$f":"IF(E191=\"\",\"\",'All Bill Data Entry'!A196)","v":""},"","",{"$f":"IF('All Bill Data Entry'!E196=\"\",\"\",'All Bill Data Entry'!E196)","v":""}]
["",{"$f":"IF(E192=\"\",\"\",'All Bill Data Entry'!A197)","v":""},"","",{"$f":"IF('All Bill Data Entry'!E197=\"\",\"\",'All Bill Data Entry'!E197)","v":""}]
["",{"$f":"IF(E193=\"\",\"\",'All Bill Data Entry'!A198)","v":""},"","",{"$f":"IF('All Bill Data Entry'!E198=\"\",\"\",'All Bill Data Entry'!E198)","v":""}]
["",{"$f":"IF(E194=\"\",\"\",'All Bill Data Entry'!A199)","v":""},"","",{"$f":"IF('All Bill Data Entry'!E199=\"\",\"\",'All Bill Data Entry'!E199)","v":""}]
[{"$f":"IF($B195=\"\",\"\",\"N\")","v":""},{"$f":"IF(E195=\"\",\"\",'All Bill Data Entry'!A200)","v":""},{"$f":"IF($B195=\"\",\"\",\"NOTE\")","v":""},{"$f":"IF($B195=\"\",\"\",1)","v":""},{"$f":"IF('All Bill Data Entry'!E200=\"\",\"\",'All Bill Data Entry'!E200)","v":""}]
["",{"$f":"IF(E196=\"\",\"\",'All Bill Data Entry'!A201)","v":""},"","",{"$f":"IF('All Bill Data Entry'!E201=\"\",\"\",'All Bill Data Entry'!E201)","v":""}]
["",{"$f":"IF(E197=\"\",\"\",'All Bill Data Entry'!A202)","v":""},"","",{"$f":"IF('All Bill Data Entry'!E202=\"\",\"\",'All Bill Data Entry'!E202)","v":""}]
["",{"$f":"IF(E198=\"\",\"\",'All Bill Data Entry'!A203)","v":""},"","",{"$f":"IF('All Bill Data Entry'!E203=\"\",\"\",'All Bill Data Entry'!E203)","v":""}]
["",{"$f":"IF(E199=\"\",\"\",'All Bill Data Entry'!A204)","v":""},"","",{"$f":"IF('All Bill Data Entry'!E204=\"\",\"\",'All Bill Data Entry'!E204)","v":""}]
["",{"$f":"IF(E200=\"\",\"\",'All Bill Data Entry'!A205)","v":""},"","",{"$f":"IF('All Bill Data Entry'!E205=\"\",\"\",'All Bill Data Entry'!E205)","v":""}]
["",{"$f":"IF(E201=\"\",\"\",'All Bill Data Entry'!A206)","v":""},"","",{"$f":"IF('All Bill Data Entry'!E206=\"\",\"\",'All Bill Data Entry'!E206)","v":""}]
["",{"$f":"IF(E202=\"\",\"\",'All Bill Data Entry'!A207)","v":""},"","",{"$f":"IF('All Bill Data Entry'!E207=\"\",\"\",'All Bill Data Entry'!E207)","v":""}]
["",{"$f":"IF(E203=\"\",\"\",'All Bill Data Entry'!A208)","v":""},"","",{"$f":"IF('All Bill Data Entry'!E208=\"\",\"\",'All Bill Data Entry'!E208)","v":""}]
["",{"$f":"IF(E204=\"\",\"\",'All Bill Data Entry'!A209)","v":""},"","",{"$f":"IF('All Bill Data Entry'!E209=\"\",\"\",'All Bill Data Entry'!E209)","v":""}]
["",{"$f":"IF(E205=\"\",\"\",'All Bill Data Entry'!A210)","v":""},"","",{"$f":"IF('All Bill Data Entry'!E210=\"\",\"\",'All Bill Data Entry'!E210)","v":""}]
["",{"$f":"IF(E206=\"\",\"\",'All Bill Data Entry'!A211)","v":""},"","",{"$f":"IF('All Bill Data Entry'!E211=\"\",\"\",'All Bill Data Entry'!E211)","v":""}]
["",{"$f":"IF(E207=\"\",\"\",'All Bill Data Entry'!A212)","v":""},"","",{"$f":"IF('All Bill Data Entry'!E212=\"\",\"\",'All Bill Data Entry'!E212)","v":""}]
["",{"$f":"IF(E208=\"\",\"\",'All Bill Data Entry'!A213)","v":""},"","",{"$f":"IF('All Bill Data Entry'!E213=\"\",\"\",'All Bill Data Entry'!E213)","v":""}]
["",{"$f":"IF(E209=\"\",\"\",'All Bill Data Entry'!A214)","v":""},"","",{"$f":"IF('All Bill Data Entry'!E214=\"\",\"\",'All Bill Data Entry'!E214)","v":""}]
["",{"$f":"IF(E210=\"\",\"\",'All Bill Data Entry'!A215)","v":""},"","",{"$f":"IF('All Bill Data Entry'!E215=\"\",\"\",'All Bill Data Entry'!E215)","v":""}]
["",{"$f":"IF(E211=\"\",\"\",'All Bill Data Entry'!A216)","v":""},"","",{"$f":"IF('All Bill Data Entry'!E216=\"\",\"\",'All Bill Data Entry'!E216)","v":""}]
["",{"$f":"IF(E212=\"\",\"\",'All Bill Data Entry'!A217)","v":""},"","",{"$f":"IF('All Bill Data Entry'!E217=\"\",\"\",'All Bill Data Entry'!E217)","v":""}]
["",{"$f":"IF(E213=\"\",\"\",'All Bill Data Entry'!A218)","v":""},"","",{"$f":"IF('All Bill Data Entry'!E218=\"\",\"\",'All Bill Data Entry'!E218)","v":""}]
["",{"$f":"IF(E214=\"\",\"\",'All Bill Data Entry'!A219)","v":""},"","",{"$f":"IF('All Bill Data Entry'!E219=\"\",\"\",'All Bill Data Entry'!E219)","v":""}]
["",{"$f":"IF(E215=\"\",\"\",'All Bill Data Entry'!A220)","v":""},"","",{"$f":"IF('All Bill Data Entry'!E220=\"\",\"\",'All Bill Data Entry'!E220)","v":""}]
["",{"$f":"IF(E216=\"\",\"\",'All Bill Data Entry'!A221)","v":""},"","",{"$f":"IF('All Bill Data Entry'!E221=\"\",\"\",'All Bill Data Entry'!E221)","v":""}]
["",{"$f":"IF(E217=\"\",\"\",'All Bill Data Entry'!A222)","v":""},"","",{"$f":"IF('All Bill Data Entry'!E222=\"\",\"\",'All Bill Data Entry'!E222)","v":""}]
["",{"$f":"IF(E218=\"\",\"\",'All Bill Data Entry'!A223)","v":""},"","",{"$f":"IF('All Bill Data Entry'!E223=\"\",\"\",'All Bill Data Entry'!E223)","v":""}]
["",{"$f":"IF(E219=\"\",\"\",'All Bill Data Entry'!A224)","v":""},"","",{"$f":"IF('All Bill Data Entry'!E224=\"\",\"\",'All Bill Data Entry'!E224)","v":""}]
["",{"$f":"IF(E220=\"\",\"\",'All Bill Data Entry'!A225)","v":""},"","",{"$f":"IF('All Bill Data Entry'!E225=\"\",\"\",'All Bill Data Entry'!E225)","v":""}]
["",{"$f":"IF(E221=\"\",\"\",'All Bill Data Entry'!A226)","v":""},"","",{"$f":"IF('All Bill Data Entry'!E226=\"\",\"\",'All Bill Data Entry'!E226)","v":""}]
["",{"$f":"IF(E222=\"\",\"\",'All Bill Data Entry'!A227)","v":""},"","",{"$f":"IF('All Bill Data Entry'!E227=\"\",\"\",'All Bill Data Entry'!E227)","v":""}]
["",{"$f":"IF(E223=\"\",\"\",'All Bill Data Entry'!A228)","v":""},"","",{"$f":"IF('All Bill Data Entry'!E228=\"\",\"\",'All Bill Data Entry'!E228)","v":""}]
["",{"$f":"IF(E224=\"\",\"\",'All Bill Data Entry'!A229)","v":""},"","",{"$f":"IF('All Bill Data Entry'!E229=\"\",\"\",'All Bill Data Entry'!E229)","v":""}]
["",{"$f":"IF(E225=\"\",\"\",'All Bill Data Entry'!A230)","v":""},"","",{"$f":"IF('All Bill Data Entry'!E230=\"\",\"\",'All Bill Data Entry'!E230)","v":""}]
["",{"$f":"IF(E226=\"\",\"\",'All Bill Data Entry'!A231)","v":""},"","",{"$f":"IF('All Bill Data Entry'!E231=\"\",\"\",'All Bill Data Entry'!E231)","v":""}]
["",{"$f":"IF(E227=\"\",\"\",'All Bill Data Entry'!A232)","v":""},"","",{"$f":"IF('All Bill Data Entry'!E232=\"\",\"\",'All Bill Data Entry'!E232)","v":""}]
["",{"$f":"IF(E228=\"\",\"\",'All Bill Data Entry'!A233)","v":""},"","",{"$f":"IF('All Bill Data Entry'!E233=\"\",\"\",'All Bill Data Entry'!E233)","v":""}]
["",{"$f":"IF(E229=\"\",\"\",'All Bill Data Entry'!A234)","v":""},"","",{"$f":"IF('All Bill Data Entry'!E234=\"\",\"\",'All Bill Data Entry'!E234)","v":""}]
["",{"$f":"IF(E230=\"\",\"\",'All Bill Data Entry'!A235)","v":""},"","",{"$f":"IF('All Bill Data Entry'!E235=\"\",\"\",'All Bill Data Entry'!E235)","v":""}]
["",{"$f":"IF(E231=\"\",\"\",'All Bill Data Entry'!A236)","v":""},"","",{"$f":"IF('All Bill Data Entry'!E236=\"\",\"\",'All Bill Data Entry'!E236)","v":""}]
["",{"$f":"IF(E232=\"\",\"\",'All Bill Data Entry'!A237)","v":""},"","",{"$f":"IF('All Bill Data Entry'!E237=\"\",\"\",'All Bill Data Entry'!E237)","v":""}]
["",{"$f":"IF(E233=\"\",\"\",'All Bill Data Entry'!A238)","v":""},"","",{"$f":"IF('All Bill Data Entry'!E238=\"\",\"\",'All Bill Data Entry'!E238)","v":""}]
["",{"$f":"IF(E234=\"\",\"\",'All Bill Data Entry'!A239)","v":""},"","",{"$f":"IF('All Bill Data Entry'!E239=\"\",\"\",'All Bill Data Entry'!E239)","v":""}]
["",{"$f":"IF(E235=\"\",\"\",'All Bill Data Entry'!A240)","v":""},"","",{"$f":"IF('All Bill Data Entry'!E240=\"\",\"\",'All Bill Data Entry'!E240)","v":""}]
["",{"$f":"IF(E236=\"\",\"\",'All Bill Data Entry'!A241)","v":""},"","",{"$f":"IF('All Bill Data Entry'!E241=\"\",\"\",'All Bill Data Entry'!E241)","v":""}]
["",{"$f":"IF(E237=\"\",\"\",'All Bill Data Entry'!A242)","v":""},"","",{"$f":"IF('All Bill Data Entry'!E242=\"\",\"\",'All Bill Data Entry'!E242)","v":""}]
["",{"$f":"IF(E238=\"\",\"\",'All Bill Data Entry'!A243)","v":""},"","",{"$f":"IF('All Bill Data Entry'!E243=\"\",\"\",'All Bill Data Entry'!E243)","v":""}]
["",{"$f":"IF(E239=\"\",\"\",'All Bill Data Entry'!A244)","v":""},"","",{"$f":"IF('All Bill Data Entry'!E244=\"\",\"\",'All Bill Data Entry'!E244)","v":""}]
["",{"$f":"IF(E240=\"\",\"\",'All Bill Data Entry'!A245)","v":""},"","",{"$f":"IF('All Bill Data Entry'!E245=\"\",\"\",'All Bill Data Entry'!E245)","v":""}]
["",{"$f":"IF(E241=\"\",\"\",'All Bill Data Entry'!A246)","v":""},"","",{"$f":"IF('All Bill Data Entry'!E246=\"\",\"\",'All Bill Data Entry'!E246)","v":""}]
["",{"$f":"IF(E242=\"\",\"\",'All Bill Data Entry'!A247)","v":""},"","",{"$f":"IF('All Bill Data Entry'!E247=\"\",\"\",'All Bill Data Entry'!E247)","v":""}]
["",{"$f":"IF(E243=\"\",\"\",'All Bill Data Entry'!A248)","v":""},"","",{"$f":"IF('All Bill Data Entry'!E248=\"\",\"\",'All Bill Data Entry'!E248)","v":""}]
["",{"$f":"IF(E244=\"\",\"\",'All Bill Data Entry'!A249)","v":""},"","",{"$f":"IF('All Bill Data Entry'!E249=\"\",\"\",'All Bill Data Entry'!E249)","v":""}]
["",{"$f":"IF(E245=\"\",\"\",'All Bill Data Entry'!A250)","v":""},"","",{"$f":"IF('All Bill Data Entry'!E250=\"\",\"\",'All Bill Data Entry'!E250)","v":""}]
["",{"$f":"IF(E246=\"\",\"\",'All Bill Data Entry'!A251)","v":""},"","",{"$f":"IF('All Bill Data Entry'!E251=\"\",\"\",'All Bill Data Entry'!E251)","v":""}]
["",{"$f":"IF(E247=\"\",\"\",'All Bill Data Entry'!A252)","v":""},"","",{"$f":"IF('All Bill Data Entry'!E252=\"\",\"\",'All Bill Data Entry'!E252)","v":""}]
["",{"$f":"IF(E248=\"\",\"\",'All Bill Data Entry'!A253)","v":""},"","",{"$f":"IF('All Bill Data Entry'!E253=\"\",\"\",'All Bill Data Entry'!E253)","v":""}]
["",{"$f":"IF(E249=\"\",\"\",'All Bill Data Entry'!A254)","v":""},"","",{"$f":"IF('All Bill Data Entry'!E254=\"\",\"\",'All Bill Data Entry'!E254)","v":""}]
["",{"$f":"IF(E250=\"\",\"\",'All Bill Data Entry'!A255)","v":""},"","",{"$f":"IF('All Bill Data Entry'!E255=\"\",\"\",'All Bill Data Entry'!E255)","v":""}]
["",{"$f":"IF(E251=\"\",\"\",'All Bill Data Entry'!A256)","v":""},"","",{"$f":"IF('All Bill Data Entry'!E256=\"\",\"\",'All Bill Data Entry'!E256)","v":""}]
["",{"$f":"IF(E252=\"\",\"\",'All Bill Data Entry'!A257)","v":""},"","",{"$f":"IF('All Bill Data Entry'!E257=\"\",\"\",'All Bill Data Entry'!E257)","v":""}]
["",{"$f":"IF(E253=\"\",\"\",'All Bill Data Entry'!A258)","v":""},"","",{"$f":"IF('All Bill Data Entry'!E258=\"\",\"\",'All Bill Data Entry'!E258)","v":""}]
["",{"$f":"IF(E254=\"\",\"\",'All Bill Data Entry'!A259)","v":""},"","",{"$f":"IF('All Bill Data Entry'!E259=\"\",\"\",'All Bill Data Entry'!E259)","v":""}]
["",{"$f":"IF(E255=\"\",\"\",'All Bill Data Entry'!A260)","v":""},"","",{"$f":"IF('All Bill Data Entry'!E260=\"\",\"\",'All Bill Data Entry'!E260)","v":""}]
["",{"$f":"IF(E256=\"\",\"\",'All Bill Data Entry'!A261)","v":""},"","",{"$f":"IF('All Bill Data Entry'!E261=\"\",\"\",'All Bill Data Entry'!E261)","v":""}]
["",{"$f":"IF(E257=\"\",\"\",'All Bill Data Entry'!A262)","v":""},"","",{"$f":"IF('All Bill Data Entry'!E262=\"\",\"\",'All Bill Data Entry'!E262)","v":""}]
["",{"$f":"IF(E258=\"\",\"\",'All Bill Data Entry'!A263)","v":""},"","",{"$f":"IF('All Bill Data Entry'!E263=\"\",\"\",'All Bill Data Entry'!E263)","v":""}]
[{"$f":"IF($B259=\"\",\"\",\"N\")","v":""},{"$f":"IF(E259=\"\",\"\",'All Bill Data Entry'!A264)","v":""},{"$f":"IF($B259=\"\",\"\",\"NOTE\")","v":""},{"$f":"IF($B259=\"\",\"\",1)","v":""},{"$f":"IF('All Bill Data Entry'!E264=\"\",\"\",'All Bill Data Entry'!E264)","v":""}]
["",{"$f":"IF(E260=\"\",\"\",'All Bill Data Entry'!A265)","v":""},"","",{"$f":"IF('All Bill Data Entry'!E265=\"\",\"\",'All Bill Data Entry'!E265)","v":""}]
["",{"$f":"IF(E261=\"\",\"\",'All Bill Data Entry'!A266)","v":""},"","",{"$f":"IF('All Bill Data Entry'!E266=\"\",\"\",'All Bill Data Entry'!E266)","v":""}]
["",{"$f":"IF(E262=\"\",\"\",'All Bill Data Entry'!A267)","v":""},"","",{"$f":"IF('All Bill Data Entry'!E267=\"\",\"\",'All Bill Data Entry'!E267)","v":""}]
["",{"$f":"IF(E263=\"\",\"\",'All Bill Data Entry'!A268)","v":""},"","",{"$f":"IF('All Bill Data Entry'!E268=\"\",\"\",'All Bill Data Entry'!E268)","v":""}]
["",{"$f":"IF(E264=\"\",\"\",'All Bill Data Entry'!A269)","v":""},"","",{"$f":"IF('All Bill Data Entry'!E269=\"\",\"\",'All Bill Data Entry'!E269)","v":""}]
["",{"$f":"IF(E265=\"\",\"\",'All Bill Data Entry'!A270)","v":""},"","",{"$f":"IF('All Bill Data Entry'!E270=\"\",\"\",'All Bill Data Entry'!E270)","v":""}]
["",{"$f":"IF(E266=\"\",\"\",'All Bill Data Entry'!A271)","v":""},"","",{"$f":"IF('All Bill Data Entry'!E271=\"\",\"\",'All Bill Data Entry'!E271)","v":""}]
["",{"$f":"IF(E267=\"\",\"\",'All Bill Data Entry'!A272)","v":""},"","",{"$f":"IF('All Bill Data Entry'!E272=\"\",\"\",'All Bill Data Entry'!E272)","v":""}]
["",{"$f":"IF(E268=\"\",\"\",'All Bill Data Entry'!A273)","v":""},"","",{"$f":"IF('All Bill Data Entry'!E273=\"\",\"\",'All Bill Data Entry'!E273)","v":""}]
["",{"$f":"IF(E269=\"\",\"\",'All Bill Data Entry'!A274)","v":""},"","",{"$f":"IF('All Bill Data Entry'!E274=\"\",\"\",'All Bill Data Entry'!E274)","v":""}]
["",{"$f":"IF(E270=\"\",\"\",'All Bill Data Entry'!A275)","v":""},"","",{"$f":"IF('All Bill Data Entry'!E275=\"\",\"\",'All Bill Data Entry'!E275)","v":""}]
["",{"$f":"IF(E271=\"\",\"\",'All Bill Data Entry'!A276)","v":""},"","",{"$f":"IF('All Bill Data Entry'!E276=\"\",\"\",'All Bill Data Entry'!E276)","v":""}]
["",{"$f":"IF(E272=\"\",\"\",'All Bill Data Entry'!A277)","v":""},"","",{"$f":"IF('All Bill Data Entry'!E277=\"\",\"\",'All Bill Data Entry'!E277)","v":""}]
["",{"$f":"IF(E273=\"\",\"\",'All Bill Data Entry'!A278)","v":""},"","",{"$f":"IF('All Bill Data Entry'!E278=\"\",\"\",'All Bill Data Entry'!E278)","v":""}]
["",{"$f":"IF(E274=\"\",\"\",'All Bill Data Entry'!A279)","v":""},"","",{"$f":"IF('All Bill Data Entry'!E279=\"\",\"\",'All Bill Data Entry'!E279)","v":""}]
["",{"$f":"IF(E275=\"\",\"\",'All Bill Data Entry'!A280)","v":""},"","",{"$f":"IF('All Bill Data Entry'!E280=\"\",\"\",'All Bill Data Entry'!E280)","v":""}]
["",{"$f":"IF(E276=\"\",\"\",'All Bill Data Entry'!A281)","v":""},"","",{"$f":"IF('All Bill Data Entry'!E281=\"\",\"\",'All Bill Data Entry'!E281)","v":""}]
["",{"$f":"IF(E277=\"\",\"\",'All Bill Data Entry'!A282)","v":""},"","",{"$f":"IF('All Bill Data Entry'!E282=\"\",\"\",'All Bill Data Entry'!E282)","v":""}]
["",{"$f":"IF(E278=\"\",\"\",'All Bill Data Entry'!A283)","v":""},"","",{"$f":"IF('All Bill Data Entry'!E283=\"\",\"\",'All Bill Data Entry'!E283)","v":""}]
["",{"$f":"IF(E279=\"\",\"\",'All Bill Data Entry'!A284)","v":""},"","",{"$f":"IF('All Bill Data Entry'!E284=\"\",\"\",'All Bill Data Entry'!E284)","v":""}]
["",{"$f":"IF(E280=\"\",\"\",'All Bill Data Entry'!A285)","v":""},"","",{"$f":"IF('All Bill Data Entry'!E285=\"\",\"\",'All Bill Data Entry'!E285)","v":""}]
["",{"$f":"IF(E281=\"\",\"\",'All Bill Data Entry'!A286)","v":""},"","",{"$f":"IF('All Bill Data Entry'!E286=\"\",\"\",'All Bill Data Entry'!E286)","v":""}]
["",{"$f":"IF(E282=\"\",\"\",'All Bill Data Entry'!A287)","v":""},"","",{"$f":"IF('All Bill Data Entry'!E287=\"\",\"\",'All Bill Data Entry'!E287)","v":""}]
["",{"$f":"IF(E283=\"\",\"\",'All Bill Data Entry'!A288)","v":""},"","",{"$f":"IF('All Bill Data Entry'!E288=\"\",\"\",'All Bill Data Entry'!E288)","v":""}]
["",{"$f":"IF(E284=\"\",\"\",'All Bill Data Entry'!A289)","v":""},"","",{"$f":"IF('All Bill Data Entry'!E289=\"\",\"\",'All Bill Data Entry'!E289)","v":""}]
["",{"$f":"IF(E285=\"\",\"\",'All Bill Data Entry'!A290)","v":""},"","",{"$f":"IF('All Bill Data Entry'!E290=\"\",\"\",'All Bill Data Entry'!E290)","v":""}]
["",{"$f":"IF(E286=\"\",\"\",'All Bill Data Entry'!A291)","v":""},"","",{"$f":"IF('All Bill Data Entry'!E291=\"\",\"\",'All Bill Data Entry'!E291)","v":""}]
["",{"$f":"IF(E287=\"\",\"\",'All Bill Data Entry'!A292)","v":""},"","",{"$f":"IF('All Bill Data Entry'!E292=\"\",\"\",'All Bill Data Entry'!E292)","v":""}]
["",{"$f":"IF(E288=\"\",\"\",'All Bill Data Entry'!A293)","v":""},"","",{"$f":"IF('All Bill Data Entry'!E293=\"\",\"\",'All Bill Data Entry'!E293)","v":""}]
["",{"$f":"IF(E289=\"\",\"\",'All Bill Data Entry'!A294)","v":""},"","",{"$f":"IF('All Bill Data Entry'!E294=\"\",\"\",'All Bill Data Entry'!E294)","v":""}]
["",{"$f":"IF(E290=\"\",\"\",'All Bill Data Entry'!A295)","v":""},"","",{"$f":"IF('All Bill Data Entry'!E295=\"\",\"\",'All Bill Data Entry'!E295)","v":""}]
["",{"$f":"IF(E291=\"\",\"\",'All Bill Data Entry'!A296)","v":""},"","",{"$f":"IF('All Bill Data Entry'!E296=\"\",\"\",'All Bill Data Entry'!E296)","v":""}]
["",{"$f":"IF(E292=\"\",\"\",'All Bill Data Entry'!A297)","v":""},"","",{"$f":"IF('All Bill Data Entry'!E297=\"\",\"\",'All Bill Data Entry'!E297)","v":""}]
["",{"$f":"IF(E293=\"\",\"\",'All Bill Data Entry'!A298)","v":""},"","",{"$f":"IF('All Bill Data Entry'!E298=\"\",\"\",'All Bill Data Entry'!E298)","v":""}]
["",{"$f":"IF(E294=\"\",\"\",'All Bill Data Entry'!A299)","v":""},"","",{"$f":"IF('All Bill Data Entry'!E299=\"\",\"\",'All Bill Data Entry'!E299)","v":""}]
["",{"$f":"IF(E295=\"\",\"\",'All Bill Data Entry'!A300)","v":""},"","",{"$f":"IF('All Bill Data Entry'!E300=\"\",\"\",'All Bill Data Entry'!E300)","v":""}]
["",{"$f":"IF(E296=\"\",\"\",'All Bill Data Entry'!A301)","v":""},"","",{"$f":"IF('All Bill Data Entry'!E301=\"\",\"\",'All Bill Data Entry'!E301)","v":""}]
["",{"$f":"IF(E297=\"\",\"\",'All Bill Data Entry'!A302)","v":""},"","",{"$f":"IF('All Bill Data Entry'!E302=\"\",\"\",'All Bill Data Entry'!E302)","v":""}]
["",{"$f":"IF(E298=\"\",\"\",'All Bill Data Entry'!A303)","v":""},"","",{"$f":"IF('All Bill Data Entry'!E303=\"\",\"\",'All Bill Data Entry'!E303)","v":""}]
["",{"$f":"IF(E299=\"\",\"\",'All Bill Data Entry'!A304)","v":""},"","",{"$f":"IF('All Bill Data Entry'!E304=\"\",\"\",'All Bill Data Entry'!E304)","v":""}]
["",{"$f":"IF(E300=\"\",\"\",'All Bill Data Entry'!A305)","v":""},"","",{"$f":"IF('All Bill Data Entry'!E305=\"\",\"\",'All Bill Data Entry'!E305)","v":""}]
["",{"$f":"IF(E301=\"\",\"\",'All Bill Data Entry'!A306)","v":""},"","",{"$f":"IF('All Bill Data Entry'!E306=\"\",\"\",'All Bill Data Entry'!E306)","v":""}]

{"sheet":"NOTELNK","index":5,"n_rows":301,"n_cols":9,"rows_kept":301,"cut":false,"hidden":true,"merged":[]}
["LH","INTFC_LINE_NUM","TRANS_TYPE_BI","TRANS_TYPE_BI_SEQ","BUSINESS_UNIT","INTERNAL_FLAG","HDR_OR_LINE_NOTE","STD_NOTE_FLAG","STD_NOTE_CD"]
[{"$f":"IFERROR(IF($B2=\"\",\"\",\"L\"),\"\")","v":""},{"$f":"IFERROR(IF(NOTE!B2=\"\",\"\",NOTE!B2),\"\")","v":""},{"$f":"IFERROR(IF($B2=\"\",\"\",\"NOTE\"),\"\")","v":""},{"$f":"IFERROR(IF($B2=\"\",\"\",1),\"\")","v":""},{"$f":"IFERROR(IF($B2=\"\",\"\",\"AUX01\"),\"\")","v":""},{"$f":"IFERROR(IF($B2=\"\",\"\",\"N\"),\"\")","v":""},{"$f":"IFERROR(IF($B2=\"\",\"\",\"L\"),\"\")","v":""},{"$f":"IFERROR(IF($B2=\"\",\"\",\"N\"),\"\")","v":""}]
[{"$f":"IFERROR(IF($B3=\"\",\"\",\"L\"),\"\")","v":""},{"$f":"IFERROR(IF(NOTE!B3=\"\",\"\",NOTE!B3),\"\")","v":""},{"$f":"IFERROR(IF($B3=\"\",\"\",\"NOTE\"),\"\")","v":""},{"$f":"IFERROR(IF($B3=\"\",\"\",1),\"\")","v":""},{"$f":"IFERROR(IF($B3=\"\",\"\",\"AUX01\"),\"\")","v":""},{"$f":"IFERROR(IF($B3=\"\",\"\",\"N\"),\"\")","v":""},{"$f":"IFERROR(IF($B3=\"\",\"\",\"L\"),\"\")","v":""},{"$f":"IFERROR(IF($B3=\"\",\"\",\"N\"),\"\")","v":""}]
["",{"$f":"IFERROR(IF(NOTE!B4=\"\",\"\",NOTE!B4),\"\")","v":""},"","","","","",""]
["",{"$f":"IFERROR(IF(NOTE!B5=\"\",\"\",NOTE!B5),\"\")","v":""},"","","","","",""]
["",{"$f":"IFERROR(IF(NOTE!B6=\"\",\"\",NOTE!B6),\"\")","v":""},"","","","","",""]
["",{"$f":"IFERROR(IF(NOTE!B7=\"\",\"\",NOTE!B7),\"\")","v":""},"","","","","",""]
["",{"$f":"IFERROR(IF(NOTE!B8=\"\",\"\",NOTE!B8),\"\")","v":""},"","","","","",""]
["",{"$f":"IFERROR(IF(NOTE!B9=\"\",\"\",NOTE!B9),\"\")","v":""},"","","","","",""]
["",{"$f":"IFERROR(IF(NOTE!B10=\"\",\"\",NOTE!B10),\"\")","v":""},"","","","","",""]
["",{"$f":"IFERROR(IF(NOTE!B11=\"\",\"\",NOTE!B11),\"\")","v":""},"","","","","",""]
["",{"$f":"IFERROR(IF(NOTE!B12=\"\",\"\",NOTE!B12),\"\")","v":""},"","","","","",""]
["",{"$f":"IFERROR(IF(NOTE!B13=\"\",\"\",NOTE!B13),\"\")","v":""},"","","","","",""]
["",{"$f":"IFERROR(IF(NOTE!B14=\"\",\"\",NOTE!B14),\"\")","v":""},"","","","","",""]
["",{"$f":"IFERROR(IF(NOTE!B15=\"\",\"\",NOTE!B15),\"\")","v":""},"","","","","",""]
["",{"$f":"IFERROR(IF(NOTE!B16=\"\",\"\",NOTE!B16),\"\")","v":""},"","","","","",""]
["",{"$f":"IFERROR(IF(NOTE!B17=\"\",\"\",NOTE!B17),\"\")","v":""},"","","","","",""]
["",{"$f":"IFERROR(IF(NOTE!B18=\"\",\"\",NOTE!B18),\"\")","v":""},"","","","","",""]
["",{"$f":"IFERROR(IF(NOTE!B19=\"\",\"\",NOTE!B19),\"\")","v":""},"","","","","",""]
["",{"$f":"IFERROR(IF(NOTE!B20=\"\",\"\",NOTE!B20),\"\")","v":""},"","","","","",""]
["",{"$f":"IFERROR(IF(NOTE!B21=\"\",\"\",NOTE!B21),\"\")","v":""},"","","","","",""]
["",{"$f":"IFERROR(IF(NOTE!B22=\"\",\"\",NOTE!B22),\"\")","v":""},"","","","","",""]
["",{"$f":"IFERROR(IF(NOTE!B23=\"\",\"\",NOTE!B23),\"\")","v":""},"","","","","",""]
["",{"$f":"IFERROR(IF(NOTE!B24=\"\",\"\",NOTE!B24),\"\")","v":""},"","","","","",""]
["",{"$f":"IFERROR(IF(NOTE!B25=\"\",\"\",NOTE!B25),\"\")","v":""},"","","","","",""]
["",{"$f":"IFERROR(IF(NOTE!B26=\"\",\"\",NOTE!B26),\"\")","v":""},"","","","","",""]
["",{"$f":"IFERROR(IF(NOTE!B27=\"\",\"\",NOTE!B27),\"\")","v":""},"","","","","",""]
["",{"$f":"IFERROR(IF(NOTE!B28=\"\",\"\",NOTE!B28),\"\")","v":""},"","","","","",""]
["",{"$f":"IFERROR(IF(NOTE!B29=\"\",\"\",NOTE!B29),\"\")","v":""},"","","","","",""]
["",{"$f":"IFERROR(IF(NOTE!B30=\"\",\"\",NOTE!B30),\"\")","v":""},"","","","","",""]
["",{"$f":"IFERROR(IF(NOTE!B31=\"\",\"\",NOTE!B31),\"\")","v":""},"","","","","",""]
["",{"$f":"IFERROR(IF(NOTE!B32=\"\",\"\",NOTE!B32),\"\")","v":""},"","","","","",""]
["",{"$f":"IFERROR(IF(NOTE!B33=\"\",\"\",NOTE!B33),\"\")","v":""},"","","","","",""]
["",{"$f":"IFERROR(IF(NOTE!B34=\"\",\"\",NOTE!B34),\"\")","v":""},"","","","","",""]
["",{"$f":"IFERROR(IF(NOTE!B35=\"\",\"\",NOTE!B35),\"\")","v":""},"","","","","",""]
["",{"$f":"IFERROR(IF(NOTE!B36=\"\",\"\",NOTE!B36),\"\")","v":""},"","","","","",""]
["",{"$f":"IFERROR(IF(NOTE!B37=\"\",\"\",NOTE!B37),\"\")","v":""},"","","","","",""]
["",{"$f":"IFERROR(IF(NOTE!B38=\"\",\"\",NOTE!B38),\"\")","v":""},"","","","","",""]
["",{"$f":"IFERROR(IF(NOTE!B39=\"\",\"\",NOTE!B39),\"\")","v":""},"","","","","",""]
["",{"$f":"IFERROR(IF(NOTE!B40=\"\",\"\",NOTE!B40),\"\")","v":""},"","","","","",""]
["",{"$f":"IFERROR(IF(NOTE!B41=\"\",\"\",NOTE!B41),\"\")","v":""},"","","","","",""]
["",{"$f":"IFERROR(IF(NOTE!B42=\"\",\"\",NOTE!B42),\"\")","v":""},"","","","","",""]
["",{"$f":"IFERROR(IF(NOTE!B43=\"\",\"\",NOTE!B43),\"\")","v":""},"","","","","",""]
["",{"$f":"IFERROR(IF(NOTE!B44=\"\",\"\",NOTE!B44),\"\")","v":""},"","","","","",""]
["",{"$f":"IFERROR(IF(NOTE!B45=\"\",\"\",NOTE!B45),\"\")","v":""},"","","","","",""]
["",{"$f":"IFERROR(IF(NOTE!B46=\"\",\"\",NOTE!B46),\"\")","v":""},"","","","","",""]
["",{"$f":"IFERROR(IF(NOTE!B47=\"\",\"\",NOTE!B47),\"\")","v":""},"","","","","",""]
["",{"$f":"IFERROR(IF(NOTE!B48=\"\",\"\",NOTE!B48),\"\")","v":""},"","","","","",""]
["",{"$f":"IFERROR(IF(NOTE!B49=\"\",\"\",NOTE!B49),\"\")","v":""},"","","","","",""]
["",{"$f":"IFERROR(IF(NOTE!B50=\"\",\"\",NOTE!B50),\"\")","v":""},"","","","","",""]
["",{"$f":"IFERROR(IF(NOTE!B51=\"\",\"\",NOTE!B51),\"\")","v":""},"","","","","",""]
["",{"$f":"IFERROR(IF(NOTE!B52=\"\",\"\",NOTE!B52),\"\")","v":""},"","","","","",""]
["",{"$f":"IFERROR(IF(NOTE!B53=\"\",\"\",NOTE!B53),\"\")","v":""},"","","","","",""]
["",{"$f":"IFERROR(IF(NOTE!B54=\"\",\"\",NOTE!B54),\"\")","v":""},"","","","","",""]
["",{"$f":"IFERROR(IF(NOTE!B55=\"\",\"\",NOTE!B55),\"\")","v":""},"","","","","",""]
["",{"$f":"IFERROR(IF(NOTE!B56=\"\",\"\",NOTE!B56),\"\")","v":""},"","","","","",""]
["",{"$f":"IFERROR(IF(NOTE!B57=\"\",\"\",NOTE!B57),\"\")","v":""},"","","","","",""]
["",{"$f":"IFERROR(IF(NOTE!B58=\"\",\"\",NOTE!B58),\"\")","v":""},"","","","","",""]
["",{"$f":"IFERROR(IF(NOTE!B59=\"\",\"\",NOTE!B59),\"\")","v":""},"","","","","",""]
["",{"$f":"IFERROR(IF(NOTE!B60=\"\",\"\",NOTE!B60),\"\")","v":""},"","","","","",""]
["",{"$f":"IFERROR(IF(NOTE!B61=\"\",\"\",NOTE!B61),\"\")","v":""},"","","","","",""]
["",{"$f":"IFERROR(IF(NOTE!B62=\"\",\"\",NOTE!B62),\"\")","v":""},"","","","","",""]
["",{"$f":"IFERROR(IF(NOTE!B63=\"\",\"\",NOTE!B63),\"\")","v":""},"","","","","",""]
["",{"$f":"IFERROR(IF(NOTE!B64=\"\",\"\",NOTE!B64),\"\")","v":""},"","","","","",""]
["",{"$f":"IFERROR(IF(NOTE!B65=\"\",\"\",NOTE!B65),\"\")","v":""},"","","","","",""]
["",{"$f":"IFERROR(IF(NOTE!B66=\"\",\"\",NOTE!B66),\"\")","v":""},"","","","","",""]
[{"$f":"IFERROR(IF($B67=\"\",\"\",\"L\"),\"\")","v":""},{"$f":"IFERROR(IF(NOTE!B67=\"\",\"\",NOTE!B67),\"\")","v":""},{"$f":"IFERROR(IF($B67=\"\",\"\",\"NOTE\"),\"\")","v":""},{"$f":"IFERROR(IF($B67=\"\",\"\",1),\"\")","v":""},{"$f":"IFERROR(IF($B67=\"\",\"\",\"AUX01\"),\"\")","v":""},{"$f":"IFERROR(IF($B67=\"\",\"\",\"N\"),\"\")","v":""},{"$f":"IFERROR(IF($B67=\"\",\"\",\"L\"),\"\")","v":""},{"$f":"IFERROR(IF($B67=\"\",\"\",\"N\"),\"\")","v":""}]
["",{"$f":"IFERROR(IF(NOTE!B68=\"\",\"\",NOTE!B68),\"\")","v":""},"","","","","",""]
["",{"$f":"IFERROR(IF(NOTE!B69=\"\",\"\",NOTE!B69),\"\")","v":""},"","","","","",""]
["",{"$f":"IFERROR(IF(NOTE!B70=\"\",\"\",NOTE!B70),\"\")","v":""},"","","","","",""]
["",{"$f":"IFERROR(IF(NOTE!B71=\"\",\"\",NOTE!B71),\"\")","v":""},"","","","","",""]
["",{"$f":"IFERROR(IF(NOTE!B72=\"\",\"\",NOTE!B72),\"\")","v":""},"","","","","",""]
["",{"$f":"IFERROR(IF(NOTE!B73=\"\",\"\",NOTE!B73),\"\")","v":""},"","","","","",""]
["",{"$f":"IFERROR(IF(NOTE!B74=\"\",\"\",NOTE!B74),\"\")","v":""},"","","","","",""]
["",{"$f":"IFERROR(IF(NOTE!B75=\"\",\"\",NOTE!B75),\"\")","v":""},"","","","","",""]
["",{"$f":"IFERROR(IF(NOTE!B76=\"\",\"\",NOTE!B76),\"\")","v":""},"","","","","",""]
["",{"$f":"IFERROR(IF(NOTE!B77=\"\",\"\",NOTE!B77),\"\")","v":""},"","","","","",""]
["",{"$f":"IFERROR(IF(NOTE!B78=\"\",\"\",NOTE!B78),\"\")","v":""},"","","","","",""]
["",{"$f":"IFERROR(IF(NOTE!B79=\"\",\"\",NOTE!B79),\"\")","v":""},"","","","","",""]
["",{"$f":"IFERROR(IF(NOTE!B80=\"\",\"\",NOTE!B80),\"\")","v":""},"","","","","",""]
["",{"$f":"IFERROR(IF(NOTE!B81=\"\",\"\",NOTE!B81),\"\")","v":""},"","","","","",""]
["",{"$f":"IFERROR(IF(NOTE!B82=\"\",\"\",NOTE!B82),\"\")","v":""},"","","","","",""]
["",{"$f":"IFERROR(IF(NOTE!B83=\"\",\"\",NOTE!B83),\"\")","v":""},"","","","","",""]
["",{"$f":"IFERROR(IF(NOTE!B84=\"\",\"\",NOTE!B84),\"\")","v":""},"","","","","",""]
["",{"$f":"IFERROR(IF(NOTE!B85=\"\",\"\",NOTE!B85),\"\")","v":""},"","","","","",""]
["",{"$f":"IFERROR(IF(NOTE!B86=\"\",\"\",NOTE!B86),\"\")","v":""},"","","","","",""]
["",{"$f":"IFERROR(IF(NOTE!B87=\"\",\"\",NOTE!B87),\"\")","v":""},"","","","","",""]
["",{"$f":"IFERROR(IF(NOTE!B88=\"\",\"\",NOTE!B88),\"\")","v":""},"","","","","",""]
["",{"$f":"IFERROR(IF(NOTE!B89=\"\",\"\",NOTE!B89),\"\")","v":""},"","","","","",""]
["",{"$f":"IFERROR(IF(NOTE!B90=\"\",\"\",NOTE!B90),\"\")","v":""},"","","","","",""]
["",{"$f":"IFERROR(IF(NOTE!B91=\"\",\"\",NOTE!B91),\"\")","v":""},"","","","","",""]
["",{"$f":"IFERROR(IF(NOTE!B92=\"\",\"\",NOTE!B92),\"\")","v":""},"","","","","",""]
["",{"$f":"IFERROR(IF(NOTE!B93=\"\",\"\",NOTE!B93),\"\")","v":""},"","","","","",""]
["",{"$f":"IFERROR(IF(NOTE!B94=\"\",\"\",NOTE!B94),\"\")","v":""},"","","","","",""]
["",{"$f":"IFERROR(IF(NOTE!B95=\"\",\"\",NOTE!B95),\"\")","v":""},"","","","","",""]
["",{"$f":"IFERROR(IF(NOTE!B96=\"\",\"\",NOTE!B96),\"\")","v":""},"","","","","",""]
["",{"$f":"IFERROR(IF(NOTE!B97=\"\",\"\",NOTE!B97),\"\")","v":""},"","","","","",""]
["",{"$f":"IFERROR(IF(NOTE!B98=\"\",\"\",NOTE!B98),\"\")","v":""},"","","","","",""]
["",{"$f":"IFERROR(IF(NOTE!B99=\"\",\"\",NOTE!B99),\"\")","v":""},"","","","","",""]
["",{"$f":"IFERROR(IF(NOTE!B100=\"\",\"\",NOTE!B100),\"\")","v":""},"","","","","",""]
["",{"$f":"IFERROR(IF(NOTE!B101=\"\",\"\",NOTE!B101),\"\")","v":""},"","","","","",""]
["",{"$f":"IFERROR(IF(NOTE!B102=\"\",\"\",NOTE!B102),\"\")","v":""},"","","","","",""]
["",{"$f":"IFERROR(IF(NOTE!B103=\"\",\"\",NOTE!B103),\"\")","v":""},"","","","","",""]
["",{"$f":"IFERROR(IF(NOTE!B104=\"\",\"\",NOTE!B104),\"\")","v":""},"","","","","",""]
["",{"$f":"IFERROR(IF(NOTE!B105=\"\",\"\",NOTE!B105),\"\")","v":""},"","","","","",""]
["",{"$f":"IFERROR(IF(NOTE!B106=\"\",\"\",NOTE!B106),\"\")","v":""},"","","","","",""]
["",{"$f":"IFERROR(IF(NOTE!B107=\"\",\"\",NOTE!B107),\"\")","v":""},"","","","","",""]
["",{"$f":"IFERROR(IF(NOTE!B108=\"\",\"\",NOTE!B108),\"\")","v":""},"","","","","",""]
["",{"$f":"IFERROR(IF(NOTE!B109=\"\",\"\",NOTE!B109),\"\")","v":""},"","","","","",""]
["",{"$f":"IFERROR(IF(NOTE!B110=\"\",\"\",NOTE!B110),\"\")","v":""},"","","","","",""]
["",{"$f":"IFERROR(IF(NOTE!B111=\"\",\"\",NOTE!B111),\"\")","v":""},"","","","","",""]
["",{"$f":"IFERROR(IF(NOTE!B112=\"\",\"\",NOTE!B112),\"\")","v":""},"","","","","",""]
["",{"$f":"IFERROR(IF(NOTE!B113=\"\",\"\",NOTE!B113),\"\")","v":""},"","","","","",""]
["",{"$f":"IFERROR(IF(NOTE!B114=\"\",\"\",NOTE!B114),\"\")","v":""},"","","","","",""]
["",{"$f":"IFERROR(IF(NOTE!B115=\"\",\"\",NOTE!B115),\"\")","v":""},"","","","","",""]
["",{"$f":"IFERROR(IF(NOTE!B116=\"\",\"\",NOTE!B116),\"\")","v":""},"","","","","",""]
["",{"$f":"IFERROR(IF(NOTE!B117=\"\",\"\",NOTE!B117),\"\")","v":""},"","","","","",""]
["",{"$f":"IFERROR(IF(NOTE!B118=\"\",\"\",NOTE!B118),\"\")","v":""},"","","","","",""]
["",{"$f":"IFERROR(IF(NOTE!B119=\"\",\"\",NOTE!B119),\"\")","v":""},"","","","","",""]
["",{"$f":"IFERROR(IF(NOTE!B120=\"\",\"\",NOTE!B120),\"\")","v":""},"","","","","",""]
["",{"$f":"IFERROR(IF(NOTE!B121=\"\",\"\",NOTE!B121),\"\")","v":""},"","","","","",""]
["",{"$f":"IFERROR(IF(NOTE!B122=\"\",\"\",NOTE!B122),\"\")","v":""},"","","","","",""]
["",{"$f":"IFERROR(IF(NOTE!B123=\"\",\"\",NOTE!B123),\"\")","v":""},"","","","","",""]
["",{"$f":"IFERROR(IF(NOTE!B124=\"\",\"\",NOTE!B124),\"\")","v":""},"","","","","",""]
["",{"$f":"IFERROR(IF(NOTE!B125=\"\",\"\",NOTE!B125),\"\")","v":""},"","","","","",""]
["",{"$f":"IFERROR(IF(NOTE!B126=\"\",\"\",NOTE!B126),\"\")","v":""},"","","","","",""]
["",{"$f":"IFERROR(IF(NOTE!B127=\"\",\"\",NOTE!B127),\"\")","v":""},"","","","","",""]
["",{"$f":"IFERROR(IF(NOTE!B128=\"\",\"\",NOTE!B128),\"\")","v":""},"","","","","",""]
["",{"$f":"IFERROR(IF(NOTE!B129=\"\",\"\",NOTE!B129),\"\")","v":""},"","","","","",""]
["",{"$f":"IFERROR(IF(NOTE!B130=\"\",\"\",NOTE!B130),\"\")","v":""},"","","","","",""]
[{"$f":"IFERROR(IF($B131=\"\",\"\",\"L\"),\"\")","v":""},{"$f":"IFERROR(IF(NOTE!B131=\"\",\"\",NOTE!B131),\"\")","v":""},{"$f":"IFERROR(IF($B131=\"\",\"\",\"NOTE\"),\"\")","v":""},{"$f":"IFERROR(IF($B131=\"\",\"\",1),\"\")","v":""},{"$f":"IFERROR(IF($B131=\"\",\"\",\"AUX01\"),\"\")","v":""},{"$f":"IFERROR(IF($B131=\"\",\"\",\"N\"),\"\")","v":""},{"$f":"IFERROR(IF($B131=\"\",\"\",\"L\"),\"\")","v":""},{"$f":"IFERROR(IF($B131=\"\",\"\",\"N\"),\"\")","v":""}]
["",{"$f":"IFERROR(IF(NOTE!B132=\"\",\"\",NOTE!B132),\"\")","v":""},"","","","","",""]
["",{"$f":"IFERROR(IF(NOTE!B133=\"\",\"\",NOTE!B133),\"\")","v":""},"","","","","",""]
["",{"$f":"IFERROR(IF(NOTE!B134=\"\",\"\",NOTE!B134),\"\")","v":""},"","","","","",""]
["",{"$f":"IFERROR(IF(NOTE!B135=\"\",\"\",NOTE!B135),\"\")","v":""},"","","","","",""]
["",{"$f":"IFERROR(IF(NOTE!B136=\"\",\"\",NOTE!B136),\"\")","v":""},"","","","","",""]
["",{"$f":"IFERROR(IF(NOTE!B137=\"\",\"\",NOTE!B137),\"\")","v":""},"","","","","",""]
["",{"$f":"IFERROR(IF(NOTE!B138=\"\",\"\",NOTE!B138),\"\")","v":""},"","","","","",""]
["",{"$f":"IFERROR(IF(NOTE!B139=\"\",\"\",NOTE!B139),\"\")","v":""},"","","","","",""]
["",{"$f":"IFERROR(IF(NOTE!B140=\"\",\"\",NOTE!B140),\"\")","v":""},"","","","","",""]
["",{"$f":"IFERROR(IF(NOTE!B141=\"\",\"\",NOTE!B141),\"\")","v":""},"","","","","",""]
["",{"$f":"IFERROR(IF(NOTE!B142=\"\",\"\",NOTE!B142),\"\")","v":""},"","","","","",""]
["",{"$f":"IFERROR(IF(NOTE!B143=\"\",\"\",NOTE!B143),\"\")","v":""},"","","","","",""]
["",{"$f":"IFERROR(IF(NOTE!B144=\"\",\"\",NOTE!B144),\"\")","v":""},"","","","","",""]
["",{"$f":"IFERROR(IF(NOTE!B145=\"\",\"\",NOTE!B145),\"\")","v":""},"","","","","",""]
["",{"$f":"IFERROR(IF(NOTE!B146=\"\",\"\",NOTE!B146),\"\")","v":""},"","","","","",""]
["",{"$f":"IFERROR(IF(NOTE!B147=\"\",\"\",NOTE!B147),\"\")","v":""},"","","","","",""]
["",{"$f":"IFERROR(IF(NOTE!B148=\"\",\"\",NOTE!B148),\"\")","v":""},"","","","","",""]
["",{"$f":"IFERROR(IF(NOTE!B149=\"\",\"\",NOTE!B149),\"\")","v":""},"","","","","",""]
["",{"$f":"IFERROR(IF(NOTE!B150=\"\",\"\",NOTE!B150),\"\")","v":""},"","","","","",""]
["",{"$f":"IFERROR(IF(NOTE!B151=\"\",\"\",NOTE!B151),\"\")","v":""},"","","","","",""]
["",{"$f":"IFERROR(IF(NOTE!B152=\"\",\"\",NOTE!B152),\"\")","v":""},"","","","","",""]
["",{"$f":"IFERROR(IF(NOTE!B153=\"\",\"\",NOTE!B153),\"\")","v":""},"","","","","",""]
["",{"$f":"IFERROR(IF(NOTE!B154=\"\",\"\",NOTE!B154),\"\")","v":""},"","","","","",""]
["",{"$f":"IFERROR(IF(NOTE!B155=\"\",\"\",NOTE!B155),\"\")","v":""},"","","","","",""]
["",{"$f":"IFERROR(IF(NOTE!B156=\"\",\"\",NOTE!B156),\"\")","v":""},"","","","","",""]
["",{"$f":"IFERROR(IF(NOTE!B157=\"\",\"\",NOTE!B157),\"\")","v":""},"","","","","",""]
["",{"$f":"IFERROR(IF(NOTE!B158=\"\",\"\",NOTE!B158),\"\")","v":""},"","","","","",""]
["",{"$f":"IFERROR(IF(NOTE!B159=\"\",\"\",NOTE!B159),\"\")","v":""},"","","","","",""]
["",{"$f":"IFERROR(IF(NOTE!B160=\"\",\"\",NOTE!B160),\"\")","v":""},"","","","","",""]
["",{"$f":"IFERROR(IF(NOTE!B161=\"\",\"\",NOTE!B161),\"\")","v":""},"","","","","",""]
["",{"$f":"IFERROR(IF(NOTE!B162=\"\",\"\",NOTE!B162),\"\")","v":""},"","","","","",""]
["",{"$f":"IFERROR(IF(NOTE!B163=\"\",\"\",NOTE!B163),\"\")","v":""},"","","","","",""]
["",{"$f":"IFERROR(IF(NOTE!B164=\"\",\"\",NOTE!B164),\"\")","v":""},"","","","","",""]
["",{"$f":"IFERROR(IF(NOTE!B165=\"\",\"\",NOTE!B165),\"\")","v":""},"","","","","",""]
["",{"$f":"IFERROR(IF(NOTE!B166=\"\",\"\",NOTE!B166),\"\")","v":""},"","","","","",""]
["",{"$f":"IFERROR(IF(NOTE!B167=\"\",\"\",NOTE!B167),\"\")","v":""},"","","","","",""]
["",{"$f":"IFERROR(IF(NOTE!B168=\"\",\"\",NOTE!B168),\"\")","v":""},"","","","","",""]
["",{"$f":"IFERROR(IF(NOTE!B169=\"\",\"\",NOTE!B169),\"\")","v":""},"","","","","",""]
["",{"$f":"IFERROR(IF(NOTE!B170=\"\",\"\",NOTE!B170),\"\")","v":""},"","","","","",""]
["",{"$f":"IFERROR(IF(NOTE!B171=\"\",\"\",NOTE!B171),\"\")","v":""},"","","","","",""]
["",{"$f":"IFERROR(IF(NOTE!B172=\"\",\"\",NOTE!B172),\"\")","v":""},"","","","","",""]
["",{"$f":"IFERROR(IF(NOTE!B173=\"\",\"\",NOTE!B173),\"\")","v":""},"","","","","",""]
["",{"$f":"IFERROR(IF(NOTE!B174=\"\",\"\",NOTE!B174),\"\")","v":""},"","","","","",""]
["",{"$f":"IFERROR(IF(NOTE!B175=\"\",\"\",NOTE!B175),\"\")","v":""},"","","","","",""]
["",{"$f":"IFERROR(IF(NOTE!B176=\"\",\"\",NOTE!B176),\"\")","v":""},"","","","","",""]
["",{"$f":"IFERROR(IF(NOTE!B177=\"\",\"\",NOTE!B177),\"\")","v":""},"","","","","",""]
["",{"$f":"IFERROR(IF(NOTE!B178=\"\",\"\",NOTE!B178),\"\")","v":""},"","","","","",""]
["",{"$f":"IFERROR(IF(NOTE!B179=\"\",\"\",NOTE!B179),\"\")","v":""},"","","","","",""]
["",{"$f":"IFERROR(IF(NOTE!B180=\"\",\"\",NOTE!B180),\"\")","v":""},"","","","","",""]
["",{"$f":"IFERROR(IF(NOTE!B181=\"\",\"\",NOTE!B181),\"\")","v":""},"","","","","",""]
["",{"$f":"IFERROR(IF(NOTE!B182=\"\",\"\",NOTE!B182),\"\")","v":""},"","","","","",""]
["",{"$f":"IFERROR(IF(NOTE!B183=\"\",\"\",NOTE!B183),\"\")","v":""},"","","","","",""]
["",{"$f":"IFERROR(IF(NOTE!B184=\"\",\"\",NOTE!B184),\"\")","v":""},"","","","","",""]
["",{"$f":"IFERROR(IF(NOTE!B185=\"\",\"\",NOTE!B185),\"\")","v":""},"","","","","",""]
["",{"$f":"IFERROR(IF(NOTE!B186=\"\",\"\",NOTE!B186),\"\")","v":""},"","","","","",""]
["",{"$f":"IFERROR(IF(NOTE!B187=\"\",\"\",NOTE!B187),\"\")","v":""},"","","","","",""]
["",{"$f":"IFERROR(IF(NOTE!B188=\"\",\"\",NOTE!B188),\"\")","v":""},"","","","","",""]
["",{"$f":"IFERROR(IF(NOTE!B189=\"\",\"\",NOTE!B189),\"\")","v":""},"","","","","",""]
["",{"$f":"IFERROR(IF(NOTE!B190=\"\",\"\",NOTE!B190),\"\")","v":""},"","","","","",""]
["",{"$f":"IFERROR(IF(NOTE!B191=\"\",\"\",NOTE!B191),\"\")","v":""},"","","","","",""]
["",{"$f":"IFERROR(IF(NOTE!B192=\"\",\"\",NOTE!B192),\"\")","v":""},"","","","","",""]
["",{"$f":"IFERROR(IF(NOTE!B193=\"\",\"\",NOTE!B193),\"\")","v":""},"","","","","",""]
["",{"$f":"IFERROR(IF(NOTE!B194=\"\",\"\",NOTE!B194),\"\")","v":""},"","","","","",""]
[{"$f":"IFERROR(IF($B195=\"\",\"\",\"L\"),\"\")","v":""},{"$f":"IFERROR(IF(NOTE!B195=\"\",\"\",NOTE!B195),\"\")","v":""},{"$f":"IFERROR(IF($B195=\"\",\"\",\"NOTE\"),\"\")","v":""},{"$f":"IFERROR(IF($B195=\"\",\"\",1),\"\")","v":""},{"$f":"IFERROR(IF($B195=\"\",\"\",\"AUX01\"),\"\")","v":""},{"$f":"IFERROR(IF($B195=\"\",\"\",\"N\"),\"\")","v":""},{"$f":"IFERROR(IF($B195=\"\",\"\",\"L\"),\"\")","v":""},{"$f":"IFERROR(IF($B195=\"\",\"\",\"N\"),\"\")","v":""}]
["",{"$f":"IFERROR(IF(NOTE!B196=\"\",\"\",NOTE!B196),\"\")","v":""},"","","","","",""]
["",{"$f":"IFERROR(IF(NOTE!B197=\"\",\"\",NOTE!B197),\"\")","v":""},"","","","","",""]
["",{"$f":"IFERROR(IF(NOTE!B198=\"\",\"\",NOTE!B198),\"\")","v":""},"","","","","",""]
["",{"$f":"IFERROR(IF(NOTE!B199=\"\",\"\",NOTE!B199),\"\")","v":""},"","","","","",""]
["",{"$f":"IFERROR(IF(NOTE!B200=\"\",\"\",NOTE!B200),\"\")","v":""},"","","","","",""]
["",{"$f":"IFERROR(IF(NOTE!B201=\"\",\"\",NOTE!B201),\"\")","v":""},"","","","","",""]
["",{"$f":"IFERROR(IF(NOTE!B202=\"\",\"\",NOTE!B202),\"\")","v":""},"","","","","",""]
["",{"$f":"IFERROR(IF(NOTE!B203=\"\",\"\",NOTE!B203),\"\")","v":""},"","","","","",""]
["",{"$f":"IFERROR(IF(NOTE!B204=\"\",\"\",NOTE!B204),\"\")","v":""},"","","","","",""]
["",{"$f":"IFERROR(IF(NOTE!B205=\"\",\"\",NOTE!B205),\"\")","v":""},"","","","","",""]
["",{"$f":"IFERROR(IF(NOTE!B206=\"\",\"\",NOTE!B206),\"\")","v":""},"","","","","",""]
["",{"$f":"IFERROR(IF(NOTE!B207=\"\",\"\",NOTE!B207),\"\")","v":""},"","","","","",""]
["",{"$f":"IFERROR(IF(NOTE!B208=\"\",\"\",NOTE!B208),\"\")","v":""},"","","","","",""]
["",{"$f":"IFERROR(IF(NOTE!B209=\"\",\"\",NOTE!B209),\"\")","v":""},"","","","","",""]
["",{"$f":"IFERROR(IF(NOTE!B210=\"\",\"\",NOTE!B210),\"\")","v":""},"","","","","",""]
["",{"$f":"IFERROR(IF(NOTE!B211=\"\",\"\",NOTE!B211),\"\")","v":""},"","","","","",""]
["",{"$f":"IFERROR(IF(NOTE!B212=\"\",\"\",NOTE!B212),\"\")","v":""},"","","","","",""]
["",{"$f":"IFERROR(IF(NOTE!B213=\"\",\"\",NOTE!B213),\"\")","v":""},"","","","","",""]
["",{"$f":"IFERROR(IF(NOTE!B214=\"\",\"\",NOTE!B214),\"\")","v":""},"","","","","",""]
["",{"$f":"IFERROR(IF(NOTE!B215=\"\",\"\",NOTE!B215),\"\")","v":""},"","","","","",""]
["",{"$f":"IFERROR(IF(NOTE!B216=\"\",\"\",NOTE!B216),\"\")","v":""},"","","","","",""]
["",{"$f":"IFERROR(IF(NOTE!B217=\"\",\"\",NOTE!B217),\"\")","v":""},"","","","","",""]
["",{"$f":"IFERROR(IF(NOTE!B218=\"\",\"\",NOTE!B218),\"\")","v":""},"","","","","",""]
["",{"$f":"IFERROR(IF(NOTE!B219=\"\",\"\",NOTE!B219),\"\")","v":""},"","","","","",""]
["",{"$f":"IFERROR(IF(NOTE!B220=\"\",\"\",NOTE!B220),\"\")","v":""},"","","","","",""]
["",{"$f":"IFERROR(IF(NOTE!B221=\"\",\"\",NOTE!B221),\"\")","v":""},"","","","","",""]
["",{"$f":"IFERROR(IF(NOTE!B222=\"\",\"\",NOTE!B222),\"\")","v":""},"","","","","",""]
["",{"$f":"IFERROR(IF(NOTE!B223=\"\",\"\",NOTE!B223),\"\")","v":""},"","","","","",""]
["",{"$f":"IFERROR(IF(NOTE!B224=\"\",\"\",NOTE!B224),\"\")","v":""},"","","","","",""]
["",{"$f":"IFERROR(IF(NOTE!B225=\"\",\"\",NOTE!B225),\"\")","v":""},"","","","","",""]
["",{"$f":"IFERROR(IF(NOTE!B226=\"\",\"\",NOTE!B226),\"\")","v":""},"","","","","",""]
["",{"$f":"IFERROR(IF(NOTE!B227=\"\",\"\",NOTE!B227),\"\")","v":""},"","","","","",""]
["",{"$f":"IFERROR(IF(NOTE!B228=\"\",\"\",NOTE!B228),\"\")","v":""},"","","","","",""]
["",{"$f":"IFERROR(IF(NOTE!B229=\"\",\"\",NOTE!B229),\"\")","v":""},"","","","","",""]
["",{"$f":"IFERROR(IF(NOTE!B230=\"\",\"\",NOTE!B230),\"\")","v":""},"","","","","",""]
["",{"$f":"IFERROR(IF(NOTE!B231=\"\",\"\",NOTE!B231),\"\")","v":""},"","","","","",""]
["",{"$f":"IFERROR(IF(NOTE!B232=\"\",\"\",NOTE!B232),\"\")","v":""},"","","","","",""]
["",{"$f":"IFERROR(IF(NOTE!B233=\"\",\"\",NOTE!B233),\"\")","v":""},"","","","","",""]
["",{"$f":"IFERROR(IF(NOTE!B234=\"\",\"\",NOTE!B234),\"\")","v":""},"","","","","",""]
["",{"$f":"IFERROR(IF(NOTE!B235=\"\",\"\",NOTE!B235),\"\")","v":""},"","","","","",""]
["",{"$f":"IFERROR(IF(NOTE!B236=\"\",\"\",NOTE!B236),\"\")","v":""},"","","","","",""]
["",{"$f":"IFERROR(IF(NOTE!B237=\"\",\"\",NOTE!B237),\"\")","v":""},"","","","","",""]
["",{"$f":"IFERROR(IF(NOTE!B238=\"\",\"\",NOTE!B238),\"\")","v":""},"","","","","",""]
["",{"$f":"IFERROR(IF(NOTE!B239=\"\",\"\",NOTE!B239),\"\")","v":""},"","","","","",""]
["",{"$f":"IFERROR(IF(NOTE!B240=\"\",\"\",NOTE!B240),\"\")","v":""},"","","","","",""]
["",{"$f":"IFERROR(IF(NOTE!B241=\"\",\"\",NOTE!B241),\"\")","v":""},"","","","","",""]
["",{"$f":"IFERROR(IF(NOTE!B242=\"\",\"\",NOTE!B242),\"\")","v":""},"","","","","",""]
["",{"$f":"IFERROR(IF(NOTE!B243=\"\",\"\",NOTE!B243),\"\")","v":""},"","","","","",""]
["",{"$f":"IFERROR(IF(NOTE!B244=\"\",\"\",NOTE!B244),\"\")","v":""},"","","","","",""]
["",{"$f":"IFERROR(IF(NOTE!B245=\"\",\"\",NOTE!B245),\"\")","v":""},"","","","","",""]
["",{"$f":"IFERROR(IF(NOTE!B246=\"\",\"\",NOTE!B246),\"\")","v":""},"","","","","",""]
["",{"$f":"IFERROR(IF(NOTE!B247=\"\",\"\",NOTE!B247),\"\")","v":""},"","","","","",""]
["",{"$f":"IFERROR(IF(NOTE!B248=\"\",\"\",NOTE!B248),\"\")","v":""},"","","","","",""]
["",{"$f":"IFERROR(IF(NOTE!B249=\"\",\"\",NOTE!B249),\"\")","v":""},"","","","","",""]
["",{"$f":"IFERROR(IF(NOTE!B250=\"\",\"\",NOTE!B250),\"\")","v":""},"","","","","",""]
["",{"$f":"IFERROR(IF(NOTE!B251=\"\",\"\",NOTE!B251),\"\")","v":""},"","","","","",""]
["",{"$f":"IFERROR(IF(NOTE!B252=\"\",\"\",NOTE!B252),\"\")","v":""},"","","","","",""]
["",{"$f":"IFERROR(IF(NOTE!B253=\"\",\"\",NOTE!B253),\"\")","v":""},"","","","","",""]
["",{"$f":"IFERROR(IF(NOTE!B254=\"\",\"\",NOTE!B254),\"\")","v":""},"","","","","",""]
["",{"$f":"IFERROR(IF(NOTE!B255=\"\",\"\",NOTE!B255),\"\")","v":""},"","","","","",""]
["",{"$f":"IFERROR(IF(NOTE!B256=\"\",\"\",NOTE!B256),\"\")","v":""},"","","","","",""]
["",{"$f":"IFERROR(IF(NOTE!B257=\"\",\"\",NOTE!B257),\"\")","v":""},"","","","","",""]
["",{"$f":"IFERROR(IF(NOTE!B258=\"\",\"\",NOTE!B258),\"\")","v":""},"","","","","",""]
[{"$f":"IFERROR(IF($B259=\"\",\"\",\"L\"),\"\")","v":""},{"$f":"IFERROR(IF(NOTE!B259=\"\",\"\",NOTE!B259),\"\")","v":""},{"$f":"IFERROR(IF($B259=\"\",\"\",\"NOTE\"),\"\")","v":""},{"$f":"IFERROR(IF($B259=\"\",\"\",1),\"\")","v":""},{"$f":"IFERROR(IF($B259=\"\",\"\",\"AUX01\"),\"\")","v":""},{"$f":"IFERROR(IF($B259=\"\",\"\",\"N\"),\"\")","v":""},{"$f":"IFERROR(IF($B259=\"\",\"\",\"L\"),\"\")","v":""},{"$f":"IFERROR(IF($B259=\"\",\"\",\"N\"),\"\")","v":""}]
["",{"$f":"IFERROR(IF(NOTE!B260=\"\",\"\",NOTE!B260),\"\")","v":""},"","","","","",""]
["",{"$f":"IFERROR(IF(NOTE!B261=\"\",\"\",NOTE!B261),\"\")","v":""},"","","","","",""]
["",{"$f":"IFERROR(IF(NOTE!B262=\"\",\"\",NOTE!B262),\"\")","v":""},"","","","","",""]
["",{"$f":"IFERROR(IF(NOTE!B263=\"\",\"\",NOTE!B263),\"\")","v":""},"","","","","",""]
["",{"$f":"IFERROR(IF(NOTE!B264=\"\",\"\",NOTE!B264),\"\")","v":""},"","","","","",""]
["",{"$f":"IFERROR(IF(NOTE!B265=\"\",\"\",NOTE!B265),\"\")","v":""},"","","","","",""]
["",{"$f":"IFERROR(IF(NOTE!B266=\"\",\"\",NOTE!B266),\"\")","v":""},"","","","","",""]
["",{"$f":"IFERROR(IF(NOTE!B267=\"\",\"\",NOTE!B267),\"\")","v":""},"","","","","",""]
["",{"$f":"IFERROR(IF(NOTE!B268=\"\",\"\",NOTE!B268),\"\")","v":""},"","","","","",""]
["",{"$f":"IFERROR(IF(NOTE!B269=\"\",\"\",NOTE!B269),\"\")","v":""},"","","","","",""]
["",{"$f":"IFERROR(IF(NOTE!B270=\"\",\"\",NOTE!B270),\"\")","v":""},"","","","","",""]
["",{"$f":"IFERROR(IF(NOTE!B271=\"\",\"\",NOTE!B271),\"\")","v":""},"","","","","",""]
["",{"$f":"IFERROR(IF(NOTE!B272=\"\",\"\",NOTE!B272),\"\")","v":""},"","","","","",""]
["",{"$f":"IFERROR(IF(NOTE!B273=\"\",\"\",NOTE!B273),\"\")","v":""},"","","","","",""]
["",{"$f":"IFERROR(IF(NOTE!B274=\"\",\"\",NOTE!B274),\"\")","v":""},"","","","","",""]
["",{"$f":"IFERROR(IF(NOTE!B275=\"\",\"\",NOTE!B275),\"\")","v":""},"","","","","",""]
["",{"$f":"IFERROR(IF(NOTE!B276=\"\",\"\",NOTE!B276),\"\")","v":""},"","","","","",""]
["",{"$f":"IFERROR(IF(NOTE!B277=\"\",\"\",NOTE!B277),\"\")","v":""},"","","","","",""]
["",{"$f":"IFERROR(IF(NOTE!B278=\"\",\"\",NOTE!B278),\"\")","v":""},"","","","","",""]
["",{"$f":"IFERROR(IF(NOTE!B279=\"\",\"\",NOTE!B279),\"\")","v":""},"","","","","",""]
["",{"$f":"IFERROR(IF(NOTE!B280=\"\",\"\",NOTE!B280),\"\")","v":""},"","","","","",""]
["",{"$f":"IFERROR(IF(NOTE!B281=\"\",\"\",NOTE!B281),\"\")","v":""},"","","","","",""]
["",{"$f":"IFERROR(IF(NOTE!B282=\"\",\"\",NOTE!B282),\"\")","v":""},"","","","","",""]
["",{"$f":"IFERROR(IF(NOTE!B283=\"\",\"\",NOTE!B283),\"\")","v":""},"","","","","",""]
["",{"$f":"IFERROR(IF(NOTE!B284=\"\",\"\",NOTE!B284),\"\")","v":""},"","","","","",""]
["",{"$f":"IFERROR(IF(NOTE!B285=\"\",\"\",NOTE!B285),\"\")","v":""},"","","","","",""]
["",{"$f":"IFERROR(IF(NOTE!B286=\"\",\"\",NOTE!B286),\"\")","v":""},"","","","","",""]
["",{"$f":"IFERROR(IF(NOTE!B287=\"\",\"\",NOTE!B287),\"\")","v":""},"","","","","",""]
["",{"$f":"IFERROR(IF(NOTE!B288=\"\",\"\",NOTE!B288),\"\")","v":""},"","","","","",""]
["",{"$f":"IFERROR(IF(NOTE!B289=\"\",\"\",NOTE!B289),\"\")","v":""},"","","","","",""]
["",{"$f":"IFERROR(IF(NOTE!B290=\"\",\"\",NOTE!B290),\"\")","v":""},"","","","","",""]
["",{"$f":"IFERROR(IF(NOTE!B291=\"\",\"\",NOTE!B291),\"\")","v":""},"","","","","",""]
["",{"$f":"IFERROR(IF(NOTE!B292=\"\",\"\",NOTE!B292),\"\")","v":""},"","","","","",""]
["",{"$f":"IFERROR(IF(NOTE!B293=\"\",\"\",NOTE!B293),\"\")","v":""},"","","","","",""]
["",{"$f":"IFERROR(IF(NOTE!B294=\"\",\"\",NOTE!B294),\"\")","v":""},"","","","","",""]
["",{"$f":"IFERROR(IF(NOTE!B295=\"\",\"\",NOTE!B295),\"\")","v":""},"","","","","",""]
["",{"$f":"IFERROR(IF(NOTE!B296=\"\",\"\",NOTE!B296),\"\")","v":""},"","","","","",""]
["",{"$f":"IFERROR(IF(NOTE!B297=\"\",\"\",NOTE!B297),\"\")","v":""},"","","","","",""]
["",{"$f":"IFERROR(IF(NOTE!B298=\"\",\"\",NOTE!B298),\"\")","v":""},"","","","","",""]
["",{"$f":"IFERROR(IF(NOTE!B299=\"\",\"\",NOTE!B299),\"\")","v":""},"","","","","",""]
["",{"$f":"IFERROR(IF(NOTE!B300=\"\",\"\",NOTE!B300),\"\")","v":""},"","","","","",""]
["",{"$f":"IFERROR(IF(NOTE!B301=\"\",\"\",NOTE!B301),\"\")","v":""},"","","","","",""]

{"sheet":"Export Files","index":6,"n_rows":2,"n_cols":2,"rows_kept":2,"cut":false,"hidden":false,"merged":[[1,1,7,12],[10,5,15,8]]}
[]
[null,"Instructions: By clicking the button below, your billing data will be automatically formatted and saved as .CSV files to your desktop. You may move the files from your desktop to another location on your computer (i.e. a folder) but DO NOT re-open the files in Excel. Doing so will cause a loss of data formatting and you will be unable to upload the file(s) to OMNI.\n\nIMPORTANT!: Excel will automatically close after clicking the button below. This includes any other Excel files that you may currently have open. Any unsaved changes will be lost.\n     1) Save your billing upload template (this file) before clicking the button below.\n     2) If you have any other Excel files open, close them before clicking the button below.\n     3) It may take up to 1 minute for Excel to export your files. You will receive a success message once the process is complete.\n     4) If you experience any issues, please contact ctl-auxiliaryaccounting@fsu.edu."]

{"sheet":"CUST","index":7,"n_rows":10000,"n_cols":56,"rows_kept":1125,"cut":true,"hidden":false,"merged":[],"bounds":{"rows_first":500,"rows_last":125,"rows_between":500,"halvings":2}}
["SetID","Customer","Status","Group vs Type Issue Flag","Internal Bank Not FSU Flag","Type","Cust Group","Name","Name 2","Name 3","SetID","Corporate","Bank","Address Add Seq No","Address Eff Date","Address Eff Status","Address 1","Address 2","Address 3","Address 4","City","County","St","Postal","Phone","Bill To Eff Date","Bill To Eff Status","Terms","Basis Amt","Due Days","Disc Days","Immediate Pymt","Bill By ID","Cycle ID","Bill Inq","Bill Type","Biller","Bill Authority","Collector","Inv Form","AR Dist","Pay Method","Direct Inv","Contact Sequence Num","Specialist","Contact Eff Date","Contact Eff Status","Contact Name","Location","Email ID","Comm_Method","Group","Exemption","Exempt Cat","Customer ID","Customer ID & Contact Seq"]
[null,null,null,null,null,null,null,null,null,null,null,null,null,null,null,null,null,null,null,null,null,null,null,null,null,null,null,null,null,null,null,null,null,null,null,null,null,null,null,null,null,null,null,null,null,null,null,null,null,null,null,null,null,null,{"$f":"IF($A2=\"\",\"\",$B2)","v":""},{"$f":"IF($A2=\"\",\"\",B2&AR2)","v":""}]
[null,null,null,null,null,null,null,null,null,null,null,null,null,null,null,null,null,null,null,null,null,null,null,null,null,null,null,null,null,null,null,null,null,null,null,null,null,null,null,null,null,null,null,null,null,null,null,null,null,null,null,null,null,null,{"$f":"IF($A3=\"\",\"\",$B3)","v":""},{"$f":"IF($A3=\"\",\"\",B3&AR3)","v":""}]
[null,null,null,null,null,null,null,null,null,null,null,null,null,null,null,null,null,null,null,null,null,null,null,null,null,null,null,null,null,null,null,null,null,null,null,null,null,null,null,null,null,null,null,null,null,null,null,null,null,null,null,null,null,null,"",""]
[null,null,null,null,null,null,null,null,null,null,null,null,null,null,null,null,null,null,null,null,null,null,null,null,null,null,null,null,null,null,null,null,null,null,null,null,null,null,null,null,null,null,null,null,null,null,null,null,null,null,null,null,null,null,"",""]
[null,null,null,null,null,null,null,null,null,null,null,null,null,null,null,null,null,null,null,null,null,null,null,null,null,null,null,null,null,null,null,null,null,null,null,null,null,null,null,null,null,null,null,null,null,null,null,null,null,null,null,null,null,null,"",""]
[null,null,null,null,null,null,null,null,null,null,null,null,null,null,null,null,null,null,null,null,null,null,null,null,null,null,null,null,null,null,null,null,null,null,null,null,null,null,null,null,null,null,null,null,null,null,null,null,null,null,null,null,null,null,"",""]
[null,null,null,null,null,null,null,null,null,null,null,null,null,null,null,null,null,null,null,null,null,null,null,null,null,null,null,null,null,null,null,null,null,null,null,null,null,null,null,null,null,null,null,null,null,null,null,null,null,null,null,null,null,null,"",""]
[null,null,null,null,null,null,null,null,null,null,null,null,null,null,null,null,null,null,null,null,null,null,null,null,null,null,null,null,null,null,null,null,null,null,null,null,null,null,null,null,null,null,null,null,null,null,null,null,null,null,null,null,null,null,"",""]
[null,null,null,null,null,null,null,null,null,null,null,null,null,null,null,null,null,null,null,null,null,null,null,null,null,null,null,null,null,null,null,null,null,null,null,null,null,null,null,null,null,null,null,null,null,null,null,null,null,null,null,null,null,null,"",""]
[null,null,null,null,null,null,null,null,null,null,null,null,null,null,null,null,null,null,null,null,null,null,null,null,null,null,null,null,null,null,null,null,null,null,null,null,null,null,null,null,null,null,null,null,null,null,null,null,null,null,null,null,null,null,"",""]
[null,null,null,null,null,null,null,null,null,null,null,null,null,null,null,null,null,null,null,null,null,null,null,null,null,null,null,null,null,null,null,null,null,null,null,null,null,null,null,null,null,null,null,null,null,null,null,null,null,null,null,null,null,null,"",""]
[null,null,null,null,null,null,null,null,null,null,null,null,null,null,null,null,null,null,null,null,null,null,null,null,null,null,null,null,null,null,null,null,null,null,null,null,null,null,null,null,null,null,null,null,null,null,null,null,null,null,null,null,null,null,"",""]
[null,null,null,null,null,null,null,null,null,null,null,null,null,null,null,null,null,null,null,null,null,null,null,null,null,null,null,null,null,null,null,null,null,null,null,null,null,null,null,null,null,null,null,null,null,null,null,null,null,null,null,null,null,null,"",""]
[null,null,null,null,null,null,null,null,null,null,null,null,null,null,null,null,null,null,null,null,null,null,null,null,null,null,null,null,null,null,null,null,null,null,null,null,null,null,null,null,null,null,null,null,null,null,null,null,null,null,null,null,null,null,"",""]
[null,null,null,null,null,null,null,null,null,null,null,null,null,null,null,null,null,null,null,null,null,null,null,null,null,null,null,null,null,null,null,null,null,null,null,null,null,null,null,null,null,null,null,null,null,null,null,null,null,null,null,null,null,null,"",""]
[null,null,null,null,null,null,null,null,null,null,null,null,null,null,null,null,null,null,null,null,null,null,null,null,null,null,null,null,null,null,null,null,null,null,null,null,null,null,null,null,null,null,null,null,null,null,null,null,null,null,null,null,null,null,"",""]
[null,null,null,null,null,null,null,null,null,null,null,null,null,null,null,null,null,null,null,null,null,null,null,null,null,null,null,null,null,null,null,null,null,null,null,null,null,null,null,null,null,null,null,null,null,null,null,null,null,null,null,null,null,null,"",""]
[null,null,null,null,null,null,null,null,null,null,null,null,null,null,null,null,null,null,null,null,null,null,null,null,null,null,null,null,null,null,null,null,null,null,null,null,null,null,null,null,null,null,null,null,null,null,null,null,null,null,null,null,null,null,"",""]
[null,null,null,null,null,null,null,null,null,null,null,null,null,null,null,null,null,null,null,null,null,null,null,null,null,null,null,null,null,null,null,null,null,null,null,null,null,null,null,null,null,null,null,null,null,null,null,null,null,null,null,null,null,null,"",""]
[null,null,null,null,null,null,null,null,null,null,null,null,null,null,null,null,null,null,null,null,null,null,null,null,null,null,null,null,null,null,null,null,null,null,null,null,null,null,null,null,null,null,null,null,null,null,null,null,null,null,null,null,null,null,"",""]
[null,null,null,null,null,null,null,null,null,null,null,null,null,null,null,null,null,null,null,null,null,null,null,null,null,null,null,null,null,null,null,null,null,null,null,null,null,null,null,null,null,null,null,null,null,null,null,null,null,null,null,null,null,null,"",""]
[null,null,null,null,null,null,null,null,null,null,null,null,null,null,null,null,null,null,null,null,null,null,null,null,null,null,null,null,null,null,null,null,null,null,null,null,null,null,null,null,null,null,null,null,null,null,null,null,null,null,null,null,null,null,"",""]
[null,null,null,null,null,null,null,null,null,null,null,null,null,null,null,null,null,null,null,null,null,null,null,null,null,null,null,null,null,null,null,null,null,null,null,null,null,null,null,null,null,null,null,null,null,null,null,null,null,null,null,null,null,null,"",""]
[null,null,null,null,null,null,null,null,null,null,null,null,null,null,null,null,null,null,null,null,null,null,null,null,null,null,null,null,null,null,null,null,null,null,null,null,null,null,null,null,null,null,null,null,null,null,null,null,null,null,null,null,null,null,"",""]
[null,null,null,null,null,null,null,null,null,null,null,null,null,null,null,null,null,null,null,null,null,null,null,null,null,null,null,null,null,null,null,null,null,null,null,null,null,null,null,null,null,null,null,null,null,null,null,null,null,null,null,null,null,null,"",""]
[null,null,null,null,null,null,null,null,null,null,null,null,null,null,null,null,null,null,null,null,null,null,null,null,null,null,null,null,null,null,null,null,null,null,null,null,null,null,null,null,null,null,null,null,null,null,null,null,null,null,null,null,null,null,"",""]
[null,null,null,null,null,null,null,null,null,null,null,null,null,null,null,null,null,null,null,null,null,null,null,null,null,null,null,null,null,null,null,null,null,null,null,null,null,null,null,null,null,null,null,null,null,null,null,null,null,null,null,null,null,null,"",""]
[null,null,null,null,null,null,null,null,null,null,null,null,null,null,null,null,null,null,null,null,null,null,null,null,null,null,null,null,null,null,null,null,null,null,null,null,null,null,null,null,null,null,null,null,null,null,null,null,null,null,null,null,null,null,"",""]
[null,null,null,null,null,null,null,null,null,null,null,null,null,null,null,null,null,null,null,null,null,null,null,null,null,null,null,null,null,null,null,null,null,null,null,null,null,null,null,null,null,null,null,null,null,null,null,null,null,null,null,null,null,null,"",""]
[null,null,null,null,null,null,null,null,null,null,null,null,null,null,null,null,null,null,null,null,null,null,null,null,null,null,null,null,null,null,null,null,null,null,null,null,null,null,null,null,null,null,null,null,null,null,null,null,null,null,null,null,null,null,"",""]
[null,null,null,null,null,null,null,null,null,null,null,null,null,null,null,null,null,null,null,null,null,null,null,null,null,null,null,null,null,null,null,null,null,null,null,null,null,null,null,null,null,null,null,null,null,null,null,null,null,null,null,null,null,null,"",""]
[null,null,null,null,null,null,null,null,null,null,null,null,null,null,null,null,null,null,null,null,null,null,null,null,null,null,null,null,null,null,null,null,null,null,null,null,null,null,null,null,null,null,null,null,null,null,null,null,null,null,null,null,null,null,"",""]
[null,null,null,null,null,null,null,null,null,null,null,null,null,null,null,null,null,null,null,null,null,null,null,null,null,null,null,null,null,null,null,null,null,null,null,null,null,null,null,null,null,null,null,null,null,null,null,null,null,null,null,null,null,null,"",""]
[null,null,null,null,null,null,null,null,null,null,null,null,null,null,null,null,null,null,null,null,null,null,null,null,null,null,null,null,null,null,null,null,null,null,null,null,null,null,null,null,null,null,null,null,null,null,null,null,null,null,null,null,null,null,"",""]
[null,null,null,null,null,null,null,null,null,null,null,null,null,null,null,null,null,null,null,null,null,null,null,null,null,null,null,null,null,null,null,null,null,null,null,null,null,null,null,null,null,null,null,null,null,null,null,null,null,null,null,null,null,null,"",""]
[null,null,null,null,null,null,null,null,null,null,null,null,null,null,null,null,null,null,null,null,null,null,null,null,null,null,null,null,null,null,null,null,null,null,null,null,null,null,null,null,null,null,null,null,null,null,null,null,null,null,null,null,null,null,"",""]
[null,null,null,null,null,null,null,null,null,null,null,null,null,null,null,null,null,null,null,null,null,null,null,null,null,null,null,null,null,null,null,null,null,null,null,null,null,null,null,null,null,null,null,null,null,null,null,null,null,null,null,null,null,null,"",""]
[null,null,null,null,null,null,null,null,null,null,null,null,null,null,null,null,null,null,null,null,null,null,null,null,null,null,null,null,null,null,null,null,null,null,null,null,null,null,null,null,null,null,null,null,null,null,null,null,null,null,null,null,null,null,"",""]
[null,null,null,null,null,null,null,null,null,null,null,null,null,null,null,null,null,null,null,null,null,null,null,null,null,null,null,null,null,null,null,null,null,null,null,null,null,null,null,null,null,null,null,null,null,null,null,null,null,null,null,null,null,null,"",""]
[null,null,null,null,null,null,null,null,null,null,null,null,null,null,null,null,null,null,null,null,null,null,null,null,null,null,null,null,null,null,null,null,null,null,null,null,null,null,null,null,null,null,null,null,null,null,null,null,null,null,null,null,null,null,"",""]
[null,null,null,null,null,null,null,null,null,null,null,null,null,null,null,null,null,null,null,null,null,null,null,null,null,null,null,null,null,null,null,null,null,null,null,null,null,null,null,null,null,null,null,null,null,null,null,null,null,null,null,null,null,null,"",""]
[null,null,null,null,null,null,null,null,null,null,null,null,null,null,null,null,null,null,null,null,null,null,null,null,null,null,null,null,null,null,null,null,null,null,null,null,null,null,null,null,null,null,null,null,null,null,null,null,null,null,null,null,null,null,"",""]
[null,null,null,null,null,null,null,null,null,null,null,null,null,null,null,null,null,null,null,null,null,null,null,null,null,null,null,null,null,null,null,null,null,null,null,null,null,null,null,null,null,null,null,null,null,null,null,null,null,null,null,null,null,null,"",""]
[null,null,null,null,null,null,null,null,null,null,null,null,null,null,null,null,null,null,null,null,null,null,null,null,null,null,null,null,null,null,null,null,null,null,null,null,null,null,null,null,null,null,null,null,null,null,null,null,null,null,null,null,null,null,"",""]
[null,null,null,null,null,null,null,null,null,null,null,null,null,null,null,null,null,null,null,null,null,null,null,null,null,null,null,null,null,null,null,null,null,null,null,null,null,null,null,null,null,null,null,null,null,null,null,null,null,null,null,null,null,null,"",""]
[null,null,null,null,null,null,null,null,null,null,null,null,null,null,null,null,null,null,null,null,null,null,null,null,null,null,null,null,null,null,null,null,null,null,null,null,null,null,null,null,null,null,null,null,null,null,null,null,null,null,null,null,null,null,"",""]
[null,null,null,null,null,null,null,null,null,null,null,null,null,null,null,null,null,null,null,null,null,null,null,null,null,null,null,null,null,null,null,null,null,null,null,null,null,null,null,null,null,null,null,null,null,null,null,null,null,null,null,null,null,null,"",""]
[null,null,null,null,null,null,null,null,null,null,null,null,null,null,null,null,null,null,null,null,null,null,null,null,null,null,null,null,null,null,null,null,null,null,null,null,null,null,null,null,null,null,null,null,null,null,null,null,null,null,null,null,null,null,"",""]
[null,null,null,null,null,null,null,null,null,null,null,null,null,null,null,null,null,null,null,null,null,null,null,null,null,null,null,null,null,null,null,null,null,null,null,null,null,null,null,null,null,null,null,null,null,null,null,null,null,null,null,null,null,null,"",""]
[null,null,null,null,null,null,null,null,null,null,null,null,null,null,null,null,null,null,null,null,null,null,null,null,null,null,null,null,null,null,null,null,null,null,null,null,null,null,null,null,null,null,null,null,null,null,null,null,null,null,null,null,null,null,"",""]
[null,null,null,null,null,null,null,null,null,null,null,null,null,null,null,null,null,null,null,null,null,null,null,null,null,null,null,null,null,null,null,null,null,null,null,null,null,null,null,null,null,null,null,null,null,null,null,null,null,null,null,null,null,null,"",""]
[null,null,null,null,null,null,null,null,null,null,null,null,null,null,null,null,null,null,null,null,null,null,null,null,null,null,null,null,null,null,null,null,null,null,null,null,null,null,null,null,null,null,null,null,null,null,null,null,null,null,null,null,null,null,"",""]
[null,null,null,null,null,null,null,null,null,null,null,null,null,null,null,null,null,null,null,null,null,null,null,null,null,null,null,null,null,null,null,null,null,null,null,null,null,null,null,null,null,null,null,null,null,null,null,null,null,null,null,null,null,null,"",""]
[null,null,null,null,null,null,null,null,null,null,null,null,null,null,null,null,null,null,null,null,null,null,null,null,null,null,null,null,null,null,null,null,null,null,null,null,null,null,null,null,null,null,null,null,null,null,null,null,null,null,null,null,null,null,"",""]
[null,null,null,null,null,null,null,null,null,null,null,null,null,null,null,null,null,null,null,null,null,null,null,null,null,null,null,null,null,null,null,null,null,null,null,null,null,null,null,null,null,null,null,null,null,null,null,null,null,null,null,null,null,null,"",""]
[null,null,null,null,null,null,null,null,null,null,null,null,null,null,null,null,null,null,null,null,null,null,null,null,null,null,null,null,null,null,null,null,null,null,null,null,null,null,null,null,null,null,null,null,null,null,null,null,null,null,null,null,null,null,"",""]
[null,null,null,null,null,null,null,null,null,null,null,null,null,null,null,null,null,null,null,null,null,null,null,null,null,null,null,null,null,null,null,null,null,null,null,null,null,null,null,null,null,null,null,null,null,null,null,null,null,null,null,null,null,null,"",""]
[null,null,null,null,null,null,null,null,null,null,null,null,null,null,null,null,null,null,null,null,null,null,null,null,null,null,null,null,null,null,null,null,null,null,null,null,null,null,null,null,null,null,null,null,null,null,null,null,null,null,null,null,null,null,"",""]
[null,null,null,null,null,null,null,null,null,null,null,null,null,null,null,null,null,null,null,null,null,null,null,null,null,null,null,null,null,null,null,null,null,null,null,null,null,null,null,null,null,null,null,null,null,null,null,null,null,null,null,null,null,null,"",""]
[null,null,null,null,null,null,null,null,null,null,null,null,null,null,null,null,null,null,null,null,null,null,null,null,null,null,null,null,null,null,null,null,null,null,null,null,null,null,null,null,null,null,null,null,null,null,null,null,null,null,null,null,null,null,"",""]
[null,null,null,null,null,null,null,null,null,null,null,null,null,null,null,null,null,null,null,null,null,null,null,null,null,null,null,null,null,null,null,null,null,null,null,null,null,null,null,null,null,null,null,null,null,null,null,null,null,null,null,null,null,null,"",""]
[null,null,null,null,null,null,null,null,null,null,null,null,null,null,null,null,null,null,null,null,null,null,null,null,null,null,null,null,null,null,null,null,null,null,null,null,null,null,null,null,null,null,null,null,null,null,null,null,null,null,null,null,null,null,"",""]
[null,null,null,null,null,null,null,null,null,null,null,null,null,null,null,null,null,null,null,null,null,null,null,null,null,null,null,null,null,null,null,null,null,null,null,null,null,null,null,null,null,null,null,null,null,null,null,null,null,null,null,null,null,null,"",""]
[null,null,null,null,null,null,null,null,null,null,null,null,null,null,null,null,null,null,null,null,null,null,null,null,null,null,null,null,null,null,null,null,null,null,null,null,null,null,null,null,null,null,null,null,null,null,null,null,null,null,null,null,null,null,"",""]
[null,null,null,null,null,null,null,null,null,null,null,null,null,null,null,null,null,null,null,null,null,null,null,null,null,null,null,null,null,null,null,null,null,null,null,null,null,null,null,null,null,null,null,null,null,null,null,null,null,null,null,null,null,null,"",""]
[null,null,null,null,null,null,null,null,null,null,null,null,null,null,null,null,null,null,null,null,null,null,null,null,null,null,null,null,null,null,null,null,null,null,null,null,null,null,null,null,null,null,null,null,null,null,null,null,null,null,null,null,null,null,{"$f":"IF($A67=\"\",\"\",$B67)","v":""},{"$f":"IF($A67=\"\",\"\",B67&AR67)","v":""}]
[null,null,null,null,null,null,null,null,null,null,null,null,null,null,null,null,null,null,null,null,null,null,null,null,null,null,null,null,null,null,null,null,null,null,null,null,null,null,null,null,null,null,null,null,null,null,null,null,null,null,null,null,null,null,"",""]
[null,null,null,null,null,null,null,null,null,null,null,null,null,null,null,null,null,null,null,null,null,null,null,null,null,null,null,null,null,null,null,null,null,null,null,null,null,null,null,null,null,null,null,null,null,null,null,null,null,null,null,null,null,null,"",""]
[null,null,null,null,null,null,null,null,null,null,null,null,null,null,null,null,null,null,null,null,null,null,null,null,null,null,null,null,null,null,null,null,null,null,null,null,null,null,null,null,null,null,null,null,null,null,null,null,null,null,null,null,null,null,"",""]
[null,null,null,null,null,null,null,null,null,null,null,null,null,null,null,null,null,null,null,null,null,null,null,null,null,null,null,null,null,null,null,null,null,null,null,null,null,null,null,null,null,null,null,null,null,null,null,null,null,null,null,null,null,null,"",""]
[null,null,null,null,null,null,null,null,null,null,null,null,null,null,null,null,null,null,null,null,null,null,null,null,null,null,null,null,null,null,null,null,null,null,null,null,null,null,null,null,null,null,null,null,null,null,null,null,null,null,null,null,null,null,"",""]
[null,null,null,null,null,null,null,null,null,null,null,null,null,null,null,null,null,null,null,null,null,null,null,null,null,null,null,null,null,null,null,null,null,null,null,null,null,null,null,null,null,null,null,null,null,null,null,null,null,null,null,null,null,null,"",""]
[null,null,null,null,null,null,null,null,null,null,null,null,null,null,null,null,null,null,null,null,null,null,null,null,null,null,null,null,null,null,null,null,null,null,null,null,null,null,null,null,null,null,null,null,null,null,null,null,null,null,null,null,null,null,"",""]
[null,null,null,null,null,null,null,null,null,null,null,null,null,null,null,null,null,null,null,null,null,null,null,null,null,null,null,null,null,null,null,null,null,null,null,null,null,null,null,null,null,null,null,null,null,null,null,null,null,null,null,null,null,null,"",""]
[null,null,null,null,null,null,null,null,null,null,null,null,null,null,null,null,null,null,null,null,null,null,null,null,null,null,null,null,null,null,null,null,null,null,null,null,null,null,null,null,null,null,null,null,null,null,null,null,null,null,null,null,null,null,"",""]
[null,null,null,null,null,null,null,null,null,null,null,null,null,null,null,null,null,null,null,null,null,null,null,null,null,null,null,null,null,null,null,null,null,null,null,null,null,null,null,null,null,null,null,null,null,null,null,null,null,null,null,null,null,null,"",""]
[null,null,null,null,null,null,null,null,null,null,null,null,null,null,null,null,null,null,null,null,null,null,null,null,null,null,null,null,null,null,null,null,null,null,null,null,null,null,null,null,null,null,null,null,null,null,null,null,null,null,null,null,null,null,"",""]
[null,null,null,null,null,null,null,null,null,null,null,null,null,null,null,null,null,null,null,null,null,null,null,null,null,null,null,null,null,null,null,null,null,null,null,null,null,null,null,null,null,null,null,null,null,null,null,null,null,null,null,null,null,null,"",""]
[null,null,null,null,null,null,null,null,null,null,null,null,null,null,null,null,null,null,null,null,null,null,null,null,null,null,null,null,null,null,null,null,null,null,null,null,null,null,null,null,null,null,null,null,null,null,null,null,null,null,null,null,null,null,"",""]
[null,null,null,null,null,null,null,null,null,null,null,null,null,null,null,null,null,null,null,null,null,null,null,null,null,null,null,null,null,null,null,null,null,null,null,null,null,null,null,null,null,null,null,null,null,null,null,null,null,null,null,null,null,null,"",""]
[null,null,null,null,null,null,null,null,null,null,null,null,null,null,null,null,null,null,null,null,null,null,null,null,null,null,null,null,null,null,null,null,null,null,null,null,null,null,null,null,null,null,null,null,null,null,null,null,null,null,null,null,null,null,"",""]
[null,null,null,null,null,null,null,null,null,null,null,null,null,null,null,null,null,null,null,null,null,null,null,null,null,null,null,null,null,null,null,null,null,null,null,null,null,null,null,null,null,null,null,null,null,null,null,null,null,null,null,null,null,null,"",""]
[null,null,null,null,null,null,null,null,null,null,null,null,null,null,null,null,null,null,null,null,null,null,null,null,null,null,null,null,null,null,null,null,null,null,null,null,null,null,null,null,null,null,null,null,null,null,null,null,null,null,null,null,null,null,"",""]
[null,null,null,null,null,null,null,null,null,null,null,null,null,null,null,null,null,null,null,null,null,null,null,null,null,null,null,null,null,null,null,null,null,null,null,null,null,null,null,null,null,null,null,null,null,null,null,null,null,null,null,null,null,null,"",""]
[null,null,null,null,null,null,null,null,null,null,null,null,null,null,null,null,null,null,null,null,null,null,null,null,null,null,null,null,null,null,null,null,null,null,null,null,null,null,null,null,null,null,null,null,null,null,null,null,null,null,null,null,null,null,"",""]
[null,null,null,null,null,null,null,null,null,null,null,null,null,null,null,null,null,null,null,null,null,null,null,null,null,null,null,null,null,null,null,null,null,null,null,null,null,null,null,null,null,null,null,null,null,null,null,null,null,null,null,null,null,null,"",""]
[null,null,null,null,null,null,null,null,null,null,null,null,null,null,null,null,null,null,null,null,null,null,null,null,null,null,null,null,null,null,null,null,null,null,null,null,null,null,null,null,null,null,null,null,null,null,null,null,null,null,null,null,null,null,"",""]
[null,null,null,null,null,null,null,null,null,null,null,null,null,null,null,null,null,null,null,null,null,null,null,null,null,null,null,null,null,null,null,null,null,null,null,null,null,null,null,null,null,null,null,null,null,null,null,null,null,null,null,null,null,null,"",""]
[null,null,null,null,null,null,null,null,null,null,null,null,null,null,null,null,null,null,null,null,null,null,null,null,null,null,null,null,null,null,null,null,null,null,null,null,null,null,null,null,null,null,null,null,null,null,null,null,null,null,null,null,null,null,"",""]
[null,null,null,null,null,null,null,null,null,null,null,null,null,null,null,null,null,null,null,null,null,null,null,null,null,null,null,null,null,null,null,null,null,null,null,null,null,null,null,null,null,null,null,null,null,null,null,null,null,null,null,null,null,null,"",""]
[null,null,null,null,null,null,null,null,null,null,null,null,null,null,null,null,null,null,null,null,null,null,null,null,null,null,null,null,null,null,null,null,null,null,null,null,null,null,null,null,null,null,null,null,null,null,null,null,null,null,null,null,null,null,"",""]
[null,null,null,null,null,null,null,null,null,null,null,null,null,null,null,null,null,null,null,null,null,null,null,null,null,null,null,null,null,null,null,null,null,null,null,null,null,null,null,null,null,null,null,null,null,null,null,null,null,null,null,null,null,null,"",""]
[null,null,null,null,null,null,null,null,null,null,null,null,null,null,null,null,null,null,null,null,null,null,null,null,null,null,null,null,null,null,null,null,null,null,null,null,null,null,null,null,null,null,null,null,null,null,null,null,null,null,null,null,null,null,"",""]
[null,null,null,null,null,null,null,null,null,null,null,null,null,null,null,null,null,null,null,null,null,null,null,null,null,null,null,null,null,null,null,null,null,null,null,null,null,null,null,null,null,null,null,null,null,null,null,null,null,null,null,null,null,null,"",""]
[null,null,null,null,null,null,null,null,null,null,null,null,null,null,null,null,null,null,null,null,null,null,null,null,null,null,null,null,null,null,null,null,null,null,null,null,null,null,null,null,null,null,null,null,null,null,null,null,null,null,null,null,null,null,"",""]
[null,null,null,null,null,null,null,null,null,null,null,null,null,null,null,null,null,null,null,null,null,null,null,null,null,null,null,null,null,null,null,null,null,null,null,null,null,null,null,null,null,null,null,null,null,null,null,null,null,null,null,null,null,null,"",""]
[null,null,null,null,null,null,null,null,null,null,null,null,null,null,null,null,null,null,null,null,null,null,null,null,null,null,null,null,null,null,null,null,null,null,null,null,null,null,null,null,null,null,null,null,null,null,null,null,null,null,null,null,null,null,"",""]
[null,null,null,null,null,null,null,null,null,null,null,null,null,null,null,null,null,null,null,null,null,null,null,null,null,null,null,null,null,null,null,null,null,null,null,null,null,null,null,null,null,null,null,null,null,null,null,null,null,null,null,null,null,null,"",""]
[null,null,null,null,null,null,null,null,null,null,null,null,null,null,null,null,null,null,null,null,null,null,null,null,null,null,null,null,null,null,null,null,null,null,null,null,null,null,null,null,null,null,null,null,null,null,null,null,null,null,null,null,null,null,"",""]
[null,null,null,null,null,null,null,null,null,null,null,null,null,null,null,null,null,null,null,null,null,null,null,null,null,null,null,null,null,null,null,null,null,null,null,null,null,null,null,null,null,null,null,null,null,null,null,null,null,null,null,null,null,null,"",""]
[null,null,null,null,null,null,null,null,null,null,null,null,null,null,null,null,null,null,null,null,null,null,null,null,null,null,null,null,null,null,null,null,null,null,null,null,null,null,null,null,null,null,null,null,null,null,null,null,null,null,null,null,null,null,"",""]
[null,null,null,null,null,null,null,null,null,null,null,null,null,null,null,null,null,null,null,null,null,null,null,null,null,null,null,null,null,null,null,null,null,null,null,null,null,null,null,null,null,null,null,null,null,null,null,null,null,null,null,null,null,null,"",""]
[null,null,null,null,null,null,null,null,null,null,null,null,null,null,null,null,null,null,null,null,null,null,null,null,null,null,null,null,null,null,null,null,null,null,null,null,null,null,null,null,null,null,null,null,null,null,null,null,null,null,null,null,null,null,"",""]
[null,null,null,null,null,null,null,null,null,null,null,null,null,null,null,null,null,null,null,null,null,null,null,null,null,null,null,null,null,null,null,null,null,null,null,null,null,null,null,null,null,null,null,null,null,null,null,null,null,null,null,null,null,null,"",""]
[null,null,null,null,null,null,null,null,null,null,null,null,null,null,null,null,null,null,null,null,null,null,null,null,null,null,null,null,null,null,null,null,null,null,null,null,null,null,null,null,null,null,null,null,null,null,null,null,null,null,null,null,null,null,"",""]
[null,null,null,null,null,null,null,null,null,null,null,null,null,null,null,null,null,null,null,null,null,null,null,null,null,null,null,null,null,null,null,null,null,null,null,null,null,null,null,null,null,null,null,null,null,null,null,null,null,null,null,null,null,null,"",""]
[null,null,null,null,null,null,null,null,null,null,null,null,null,null,null,null,null,null,null,null,null,null,null,null,null,null,null,null,null,null,null,null,null,null,null,null,null,null,null,null,null,null,null,null,null,null,null,null,null,null,null,null,null,null,"",""]
[null,null,null,null,null,null,null,null,null,null,null,null,null,null,null,null,null,null,null,null,null,null,null,null,null,null,null,null,null,null,null,null,null,null,null,null,null,null,null,null,null,null,null,null,null,null,null,null,null,null,null,null,null,null,"",""]
[null,null,null,null,null,null,null,null,null,null,null,null,null,null,null,null,null,null,null,null,null,null,null,null,null,null,null,null,null,null,null,null,null,null,null,null,null,null,null,null,null,null,null,null,null,null,null,null,null,null,null,null,null,null,"",""]
[null,null,null,null,null,null,null,null,null,null,null,null,null,null,null,null,null,null,null,null,null,null,null,null,null,null,null,null,null,null,null,null,null,null,null,null,null,null,null,null,null,null,null,null,null,null,null,null,null,null,null,null,null,null,"",""]
[null,null,null,null,null,null,null,null,null,null,null,null,null,null,null,null,null,null,null,null,null,null,null,null,null,null,null,null,null,null,null,null,null,null,null,null,null,null,null,null,null,null,null,null,null,null,null,null,null,null,null,null,null,null,"",""]
[null,null,null,null,null,null,null,null,null,null,null,null,null,null,null,null,null,null,null,null,null,null,null,null,null,null,null,null,null,null,null,null,null,null,null,null,null,null,null,null,null,null,null,null,null,null,null,null,null,null,null,null,null,null,"",""]
[null,null,null,null,null,null,null,null,null,null,null,null,null,null,null,null,null,null,null,null,null,null,null,null,null,null,null,null,null,null,null,null,null,null,null,null,null,null,null,null,null,null,null,null,null,null,null,null,null,null,null,null,null,null,"",""]
[null,null,null,null,null,null,null,null,null,null,null,null,null,null,null,null,null,null,null,null,null,null,null,null,null,null,null,null,null,null,null,null,null,null,null,null,null,null,null,null,null,null,null,null,null,null,null,null,null,null,null,null,null,null,"",""]
[null,null,null,null,null,null,null,null,null,null,null,null,null,null,null,null,null,null,null,null,null,null,null,null,null,null,null,null,null,null,null,null,null,null,null,null,null,null,null,null,null,null,null,null,null,null,null,null,null,null,null,null,null,null,"",""]
[null,null,null,null,null,null,null,null,null,null,null,null,null,null,null,null,null,null,null,null,null,null,null,null,null,null,null,null,null,null,null,null,null,null,null,null,null,null,null,null,null,null,null,null,null,null,null,null,null,null,null,null,null,null,"",""]
[null,null,null,null,null,null,null,null,null,null,null,null,null,null,null,null,null,null,null,null,null,null,null,null,null,null,null,null,null,null,null,null,null,null,null,null,null,null,null,null,null,null,null,null,null,null,null,null,null,null,null,null,null,null,"",""]
[null,null,null,null,null,null,null,null,null,null,null,null,null,null,null,null,null,null,null,null,null,null,null,null,null,null,null,null,null,null,null,null,null,null,null,null,null,null,null,null,null,null,null,null,null,null,null,null,null,null,null,null,null,null,"",""]
[null,null,null,null,null,null,null,null,null,null,null,null,null,null,null,null,null,null,null,null,null,null,null,null,null,null,null,null,null,null,null,null,null,null,null,null,null,null,null,null,null,null,null,null,null,null,null,null,null,null,null,null,null,null,"",""]
[null,null,null,null,null,null,null,null,null,null,null,null,null,null,null,null,null,null,null,null,null,null,null,null,null,null,null,null,null,null,null,null,null,null,null,null,null,null,null,null,null,null,null,null,null,null,null,null,null,null,null,null,null,null,"",""]
[null,null,null,null,null,null,null,null,null,null,null,null,null,null,null,null,null,null,null,null,null,null,null,null,null,null,null,null,null,null,null,null,null,null,null,null,null,null,null,null,null,null,null,null,null,null,null,null,null,null,null,null,null,null,"",""]
[null,null,null,null,null,null,null,null,null,null,null,null,null,null,null,null,null,null,null,null,null,null,null,null,null,null,null,null,null,null,null,null,null,null,null,null,null,null,null,null,null,null,null,null,null,null,null,null,null,null,null,null,null,null,"",""]
[null,null,null,null,null,null,null,null,null,null,null,null,null,null,null,null,null,null,null,null,null,null,null,null,null,null,null,null,null,null,null,null,null,null,null,null,null,null,null,null,null,null,null,null,null,null,null,null,null,null,null,null,null,null,"",""]
[null,null,null,null,null,null,null,null,null,null,null,null,null,null,null,null,null,null,null,null,null,null,null,null,null,null,null,null,null,null,null,null,null,null,null,null,null,null,null,null,null,null,null,null,null,null,null,null,null,null,null,null,null,null,"",""]
[null,null,null,null,null,null,null,null,null,null,null,null,null,null,null,null,null,null,null,null,null,null,null,null,null,null,null,null,null,null,null,null,null,null,null,null,null,null,null,null,null,null,null,null,null,null,null,null,null,null,null,null,null,null,"",""]
[null,null,null,null,null,null,null,null,null,null,null,null,null,null,null,null,null,null,null,null,null,null,null,null,null,null,null,null,null,null,null,null,null,null,null,null,null,null,null,null,null,null,null,null,null,null,null,null,null,null,null,null,null,null,"",""]
[null,null,null,null,null,null,null,null,null,null,null,null,null,null,null,null,null,null,null,null,null,null,null,null,null,null,null,null,null,null,null,null,null,null,null,null,null,null,null,null,null,null,null,null,null,null,null,null,null,null,null,null,null,null,"",""]
[null,null,null,null,null,null,null,null,null,null,null,null,null,null,null,null,null,null,null,null,null,null,null,null,null,null,null,null,null,null,null,null,null,null,null,null,null,null,null,null,null,null,null,null,null,null,null,null,null,null,null,null,null,null,"",""]
[null,null,null,null,null,null,null,null,null,null,null,null,null,null,null,null,null,null,null,null,null,null,null,null,null,null,null,null,null,null,null,null,null,null,null,null,null,null,null,null,null,null,null,null,null,null,null,null,null,null,null,null,null,null,"",""]
[null,null,null,null,null,null,null,null,null,null,null,null,null,null,null,null,null,null,null,null,null,null,null,null,null,null,null,null,null,null,null,null,null,null,null,null,null,null,null,null,null,null,null,null,null,null,null,null,null,null,null,null,null,null,{"$f":"IF($A131=\"\",\"\",$B131)","v":""},{"$f":"IF($A131=\"\",\"\",B131&AR131)","v":""}]
[null,null,null,null,null,null,null,null,null,null,null,null,null,null,null,null,null,null,null,null,null,null,null,null,null,null,null,null,null,null,null,null,null,null,null,null,null,null,null,null,null,null,null,null,null,null,null,null,null,null,null,null,null,null,"",""]
[null,null,null,null,null,null,null,null,null,null,null,null,null,null,null,null,null,null,null,null,null,null,null,null,null,null,null,null,null,null,null,null,null,null,null,null,null,null,null,null,null,null,null,null,null,null,null,null,null,null,null,null,null,null,"",""]
[null,null,null,null,null,null,null,null,null,null,null,null,null,null,null,null,null,null,null,null,null,null,null,null,null,null,null,null,null,null,null,null,null,null,null,null,null,null,null,null,null,null,null,null,null,null,null,null,null,null,null,null,null,null,"",""]
[null,null,null,null,null,null,null,null,null,null,null,null,null,null,null,null,null,null,null,null,null,null,null,null,null,null,null,null,null,null,null,null,null,null,null,null,null,null,null,null,null,null,null,null,null,null,null,null,null,null,null,null,null,null,"",""]
[null,null,null,null,null,null,null,null,null,null,null,null,null,null,null,null,null,null,null,null,null,null,null,null,null,null,null,null,null,null,null,null,null,null,null,null,null,null,null,null,null,null,null,null,null,null,null,null,null,null,null,null,null,null,"",""]
[null,null,null,null,null,null,null,null,null,null,null,null,null,null,null,null,null,null,null,null,null,null,null,null,null,null,null,null,null,null,null,null,null,null,null,null,null,null,null,null,null,null,null,null,null,null,null,null,null,null,null,null,null,null,"",""]
[null,null,null,null,null,null,null,null,null,null,null,null,null,null,null,null,null,null,null,null,null,null,null,null,null,null,null,null,null,null,null,null,null,null,null,null,null,null,null,null,null,null,null,null,null,null,null,null,null,null,null,null,null,null,"",""]
[null,null,null,null,null,null,null,null,null,null,null,null,null,null,null,null,null,null,null,null,null,null,null,null,null,null,null,null,null,null,null,null,null,null,null,null,null,null,null,null,null,null,null,null,null,null,null,null,null,null,null,null,null,null,"",""]
[null,null,null,null,null,null,null,null,null,null,null,null,null,null,null,null,null,null,null,null,null,null,null,null,null,null,null,null,null,null,null,null,null,null,null,null,null,null,null,null,null,null,null,null,null,null,null,null,null,null,null,null,null,null,"",""]
[null,null,null,null,null,null,null,null,null,null,null,null,null,null,null,null,null,null,null,null,null,null,null,null,null,null,null,null,null,null,null,null,null,null,null,null,null,null,null,null,null,null,null,null,null,null,null,null,null,null,null,null,null,null,"",""]
[null,null,null,null,null,null,null,null,null,null,null,null,null,null,null,null,null,null,null,null,null,null,null,null,null,null,null,null,null,null,null,null,null,null,null,null,null,null,null,null,null,null,null,null,null,null,null,null,null,null,null,null,null,null,"",""]
[null,null,null,null,null,null,null,null,null,null,null,null,null,null,null,null,null,null,null,null,null,null,null,null,null,null,null,null,null,null,null,null,null,null,null,null,null,null,null,null,null,null,null,null,null,null,null,null,null,null,null,null,null,null,"",""]
[null,null,null,null,null,null,null,null,null,null,null,null,null,null,null,null,null,null,null,null,null,null,null,null,null,null,null,null,null,null,null,null,null,null,null,null,null,null,null,null,null,null,null,null,null,null,null,null,null,null,null,null,null,null,"",""]
[null,null,null,null,null,null,null,null,null,null,null,null,null,null,null,null,null,null,null,null,null,null,null,null,null,null,null,null,null,null,null,null,null,null,null,null,null,null,null,null,null,null,null,null,null,null,null,null,null,null,null,null,null,null,"",""]
[null,null,null,null,null,null,null,null,null,null,null,null,null,null,null,null,null,null,null,null,null,null,null,null,null,null,null,null,null,null,null,null,null,null,null,null,null,null,null,null,null,null,null,null,null,null,null,null,null,null,null,null,null,null,"",""]
[null,null,null,null,null,null,null,null,null,null,null,null,null,null,null,null,null,null,null,null,null,null,null,null,null,null,null,null,null,null,null,null,null,null,null,null,null,null,null,null,null,null,null,null,null,null,null,null,null,null,null,null,null,null,"",""]
[null,null,null,null,null,null,null,null,null,null,null,null,null,null,null,null,null,null,null,null,null,null,null,null,null,null,null,null,null,null,null,null,null,null,null,null,null,null,null,null,null,null,null,null,null,null,null,null,null,null,null,null,null,null,"",""]
[null,null,null,null,null,null,null,null,null,null,null,null,null,null,null,null,null,null,null,null,null,null,null,null,null,null,null,null,null,null,null,null,null,null,null,null,null,null,null,null,null,null,null,null,null,null,null,null,null,null,null,null,null,null,"",""]
[null,null,null,null,null,null,null,null,null,null,null,null,null,null,null,null,null,null,null,null,null,null,null,null,null,null,null,null,null,null,null,null,null,null,null,null,null,null,null,null,null,null,null,null,null,null,null,null,null,null,null,null,null,null,"",""]
[null,null,null,null,null,null,null,null,null,null,null,null,null,null,null,null,null,null,null,null,null,null,null,null,null,null,null,null,null,null,null,null,null,null,null,null,null,null,null,null,null,null,null,null,null,null,null,null,null,null,null,null,null,null,"",""]
[null,null,null,null,null,null,null,null,null,null,null,null,null,null,null,null,null,null,null,null,null,null,null,null,null,null,null,null,null,null,null,null,null,null,null,null,null,null,null,null,null,null,null,null,null,null,null,null,null,null,null,null,null,null,"",""]
[null,null,null,null,null,null,null,null,null,null,null,null,null,null,null,null,null,null,null,null,null,null,null,null,null,null,null,null,null,null,null,null,null,null,null,null,null,null,null,null,null,null,null,null,null,null,null,null,null,null,null,null,null,null,"",""]
[null,null,null,null,null,null,null,null,null,null,null,null,null,null,null,null,null,null,null,null,null,null,null,null,null,null,null,null,null,null,null,null,null,null,null,null,null,null,null,null,null,null,null,null,null,null,null,null,null,null,null,null,null,null,"",""]
[null,null,null,null,null,null,null,null,null,null,null,null,null,null,null,null,null,null,null,null,null,null,null,null,null,null,null,null,null,null,null,null,null,null,null,null,null,null,null,null,null,null,null,null,null,null,null,null,null,null,null,null,null,null,"",""]
[null,null,null,null,null,null,null,null,null,null,null,null,null,null,null,null,null,null,null,null,null,null,null,null,null,null,null,null,null,null,null,null,null,null,null,null,null,null,null,null,null,null,null,null,null,null,null,null,null,null,null,null,null,null,"",""]
[null,null,null,null,null,null,null,null,null,null,null,null,null,null,null,null,null,null,null,null,null,null,null,null,null,null,null,null,null,null,null,null,null,null,null,null,null,null,null,null,null,null,null,null,null,null,null,null,null,null,null,null,null,null,"",""]
[null,null,null,null,null,null,null,null,null,null,null,null,null,null,null,null,null,null,null,null,null,null,null,null,null,null,null,null,null,null,null,null,null,null,null,null,null,null,null,null,null,null,null,null,null,null,null,null,null,null,null,null,null,null,"",""]
[null,null,null,null,null,null,null,null,null,null,null,null,null,null,null,null,null,null,null,null,null,null,null,null,null,null,null,null,null,null,null,null,null,null,null,null,null,null,null,null,null,null,null,null,null,null,null,null,null,null,null,null,null,null,"",""]
[null,null,null,null,null,null,null,null,null,null,null,null,null,null,null,null,null,null,null,null,null,null,null,null,null,null,null,null,null,null,null,null,null,null,null,null,null,null,null,null,null,null,null,null,null,null,null,null,null,null,null,null,null,null,"",""]
[null,null,null,null,null,null,null,null,null,null,null,null,null,null,null,null,null,null,null,null,null,null,null,null,null,null,null,null,null,null,null,null,null,null,null,null,null,null,null,null,null,null,null,null,null,null,null,null,null,null,null,null,null,null,"",""]
[null,null,null,null,null,null,null,null,null,null,null,null,null,null,null,null,null,null,null,null,null,null,null,null,null,null,null,null,null,null,null,null,null,null,null,null,null,null,null,null,null,null,null,null,null,null,null,null,null,null,null,null,null,null,"",""]
[null,null,null,null,null,null,null,null,null,null,null,null,null,null,null,null,null,null,null,null,null,null,null,null,null,null,null,null,null,null,null,null,null,null,null,null,null,null,null,null,null,null,null,null,null,null,null,null,null,null,null,null,null,null,"",""]
[null,null,null,null,null,null,null,null,null,null,null,null,null,null,null,null,null,null,null,null,null,null,null,null,null,null,null,null,null,null,null,null,null,null,null,null,null,null,null,null,null,null,null,null,null,null,null,null,null,null,null,null,null,null,"",""]
[null,null,null,null,null,null,null,null,null,null,null,null,null,null,null,null,null,null,null,null,null,null,null,null,null,null,null,null,null,null,null,null,null,null,null,null,null,null,null,null,null,null,null,null,null,null,null,null,null,null,null,null,null,null,"",""]
[null,null,null,null,null,null,null,null,null,null,null,null,null,null,null,null,null,null,null,null,null,null,null,null,null,null,null,null,null,null,null,null,null,null,null,null,null,null,null,null,null,null,null,null,null,null,null,null,null,null,null,null,null,null,"",""]
[null,null,null,null,null,null,null,null,null,null,null,null,null,null,null,null,null,null,null,null,null,null,null,null,null,null,null,null,null,null,null,null,null,null,null,null,null,null,null,null,null,null,null,null,null,null,null,null,null,null,null,null,null,null,"",""]
[null,null,null,null,null,null,null,null,null,null,null,null,null,null,null,null,null,null,null,null,null,null,null,null,null,null,null,null,null,null,null,null,null,null,null,null,null,null,null,null,null,null,null,null,null,null,null,null,null,null,null,null,null,null,"",""]
[null,null,null,null,null,null,null,null,null,null,null,null,null,null,null,null,null,null,null,null,null,null,null,null,null,null,null,null,null,null,null,null,null,null,null,null,null,null,null,null,null,null,null,null,null,null,null,null,null,null,null,null,null,null,"",""]
[null,null,null,null,null,null,null,null,null,null,null,null,null,null,null,null,null,null,null,null,null,null,null,null,null,null,null,null,null,null,null,null,null,null,null,null,null,null,null,null,null,null,null,null,null,null,null,null,null,null,null,null,null,null,"",""]
[null,null,null,null,null,null,null,null,null,null,null,null,null,null,null,null,null,null,null,null,null,null,null,null,null,null,null,null,null,null,null,null,null,null,null,null,null,null,null,null,null,null,null,null,null,null,null,null,null,null,null,null,null,null,"",""]
[null,null,null,null,null,null,null,null,null,null,null,null,null,null,null,null,null,null,null,null,null,null,null,null,null,null,null,null,null,null,null,null,null,null,null,null,null,null,null,null,null,null,null,null,null,null,null,null,null,null,null,null,null,null,"",""]
[null,null,null,null,null,null,null,null,null,null,null,null,null,null,null,null,null,null,null,null,null,null,null,null,null,null,null,null,null,null,null,null,null,null,null,null,null,null,null,null,null,null,null,null,null,null,null,null,null,null,null,null,null,null,"",""]
[null,null,null,null,null,null,null,null,null,null,null,null,null,null,null,null,null,null,null,null,null,null,null,null,null,null,null,null,null,null,null,null,null,null,null,null,null,null,null,null,null,null,null,null,null,null,null,null,null,null,null,null,null,null,"",""]
[null,null,null,null,null,null,null,null,null,null,null,null,null,null,null,null,null,null,null,null,null,null,null,null,null,null,null,null,null,null,null,null,null,null,null,null,null,null,null,null,null,null,null,null,null,null,null,null,null,null,null,null,null,null,"",""]
[null,null,null,null,null,null,null,null,null,null,null,null,null,null,null,null,null,null,null,null,null,null,null,null,null,null,null,null,null,null,null,null,null,null,null,null,null,null,null,null,null,null,null,null,null,null,null,null,null,null,null,null,null,null,"",""]
[null,null,null,null,null,null,null,null,null,null,null,null,null,null,null,null,null,null,null,null,null,null,null,null,null,null,null,null,null,null,null,null,null,null,null,null,null,null,null,null,null,null,null,null,null,null,null,null,null,null,null,null,null,null,"",""]
[null,null,null,null,null,null,null,null,null,null,null,null,null,null,null,null,null,null,null,null,null,null,null,null,null,null,null,null,null,null,null,null,null,null,null,null,null,null,null,null,null,null,null,null,null,null,null,null,null,null,null,null,null,null,"",""]
[null,null,null,null,null,null,null,null,null,null,null,null,null,null,null,null,null,null,null,null,null,null,null,null,null,null,null,null,null,null,null,null,null,null,null,null,null,null,null,null,null,null,null,null,null,null,null,null,null,null,null,null,null,null,"",""]
[null,null,null,null,null,null,null,null,null,null,null,null,null,null,null,null,null,null,null,null,null,null,null,null,null,null,null,null,null,null,null,null,null,null,null,null,null,null,null,null,null,null,null,null,null,null,null,null,null,null,null,null,null,null,"",""]
[null,null,null,null,null,null,null,null,null,null,null,null,null,null,null,null,null,null,null,null,null,null,null,null,null,null,null,null,null,null,null,null,null,null,null,null,null,null,null,null,null,null,null,null,null,null,null,null,null,null,null,null,null,null,"",""]
[null,null,null,null,null,null,null,null,null,null,null,null,null,null,null,null,null,null,null,null,null,null,null,null,null,null,null,null,null,null,null,null,null,null,null,null,null,null,null,null,null,null,null,null,null,null,null,null,null,null,null,null,null,null,"",""]
[null,null,null,null,null,null,null,null,null,null,null,null,null,null,null,null,null,null,null,null,null,null,null,null,null,null,null,null,null,null,null,null,null,null,null,null,null,null,null,null,null,null,null,null,null,null,null,null,null,null,null,null,null,null,"",""]
[null,null,null,null,null,null,null,null,null,null,null,null,null,null,null,null,null,null,null,null,null,null,null,null,null,null,null,null,null,null,null,null,null,null,null,null,null,null,null,null,null,null,null,null,null,null,null,null,null,null,null,null,null,null,"",""]
[null,null,null,null,null,null,null,null,null,null,null,null,null,null,null,null,null,null,null,null,null,null,null,null,null,null,null,null,null,null,null,null,null,null,null,null,null,null,null,null,null,null,null,null,null,null,null,null,null,null,null,null,null,null,"",""]
[null,null,null,null,null,null,null,null,null,null,null,null,null,null,null,null,null,null,null,null,null,null,null,null,null,null,null,null,null,null,null,null,null,null,null,null,null,null,null,null,null,null,null,null,null,null,null,null,null,null,null,null,null,null,"",""]
[null,null,null,null,null,null,null,null,null,null,null,null,null,null,null,null,null,null,null,null,null,null,null,null,null,null,null,null,null,null,null,null,null,null,null,null,null,null,null,null,null,null,null,null,null,null,null,null,null,null,null,null,null,null,"",""]
[null,null,null,null,null,null,null,null,null,null,null,null,null,null,null,null,null,null,null,null,null,null,null,null,null,null,null,null,null,null,null,null,null,null,null,null,null,null,null,null,null,null,null,null,null,null,null,null,null,null,null,null,null,null,"",""]
[null,null,null,null,null,null,null,null,null,null,null,null,null,null,null,null,null,null,null,null,null,null,null,null,null,null,null,null,null,null,null,null,null,null,null,null,null,null,null,null,null,null,null,null,null,null,null,null,null,null,null,null,null,null,"",""]
[null,null,null,null,null,null,null,null,null,null,null,null,null,null,null,null,null,null,null,null,null,null,null,null,null,null,null,null,null,null,null,null,null,null,null,null,null,null,null,null,null,null,null,null,null,null,null,null,null,null,null,null,null,null,"",""]
[null,null,null,null,null,null,null,null,null,null,null,null,null,null,null,null,null,null,null,null,null,null,null,null,null,null,null,null,null,null,null,null,null,null,null,null,null,null,null,null,null,null,null,null,null,null,null,null,null,null,null,null,null,null,"",""]
[null,null,null,null,null,null,null,null,null,null,null,null,null,null,null,null,null,null,null,null,null,null,null,null,null,null,null,null,null,null,null,null,null,null,null,null,null,null,null,null,null,null,null,null,null,null,null,null,null,null,null,null,null,null,"",""]
[null,null,null,null,null,null,null,null,null,null,null,null,null,null,null,null,null,null,null,null,null,null,null,null,null,null,null,null,null,null,null,null,null,null,null,null,null,null,null,null,null,null,null,null,null,null,null,null,null,null,null,null,null,null,"",""]
[null,null,null,null,null,null,null,null,null,null,null,null,null,null,null,null,null,null,null,null,null,null,null,null,null,null,null,null,null,null,null,null,null,null,null,null,null,null,null,null,null,null,null,null,null,null,null,null,null,null,null,null,null,null,"",""]
[null,null,null,null,null,null,null,null,null,null,null,null,null,null,null,null,null,null,null,null,null,null,null,null,null,null,null,null,null,null,null,null,null,null,null,null,null,null,null,null,null,null,null,null,null,null,null,null,null,null,null,null,null,null,{"$f":"IF($A195=\"\",\"\",$B195)","v":""},{"$f":"IF($A195=\"\",\"\",B195&AR195)","v":""}]
[null,null,null,null,null,null,null,null,null,null,null,null,null,null,null,null,null,null,null,null,null,null,null,null,null,null,null,null,null,null,null,null,null,null,null,null,null,null,null,null,null,null,null,null,null,null,null,null,null,null,null,null,null,null,"",""]
[null,null,null,null,null,null,null,null,null,null,null,null,null,null,null,null,null,null,null,null,null,null,null,null,null,null,null,null,null,null,null,null,null,null,null,null,null,null,null,null,null,null,null,null,null,null,null,null,null,null,null,null,null,null,"",""]
[null,null,null,null,null,null,null,null,null,null,null,null,null,null,null,null,null,null,null,null,null,null,null,null,null,null,null,null,null,null,null,null,null,null,null,null,null,null,null,null,null,null,null,null,null,null,null,null,null,null,null,null,null,null,"",""]
[null,null,null,null,null,null,null,null,null,null,null,null,null,null,null,null,null,null,null,null,null,null,null,null,null,null,null,null,null,null,null,null,null,null,null,null,null,null,null,null,null,null,null,null,null,null,null,null,null,null,null,null,null,null,"",""]
[null,null,null,null,null,null,null,null,null,null,null,null,null,null,null,null,null,null,null,null,null,null,null,null,null,null,null,null,null,null,null,null,null,null,null,null,null,null,null,null,null,null,null,null,null,null,null,null,null,null,null,null,null,null,"",""]
[null,null,null,null,null,null,null,null,null,null,null,null,null,null,null,null,null,null,null,null,null,null,null,null,null,null,null,null,null,null,null,null,null,null,null,null,null,null,null,null,null,null,null,null,null,null,null,null,null,null,null,null,null,null,"",""]
[null,null,null,null,null,null,null,null,null,null,null,null,null,null,null,null,null,null,null,null,null,null,null,null,null,null,null,null,null,null,null,null,null,null,null,null,null,null,null,null,null,null,null,null,null,null,null,null,null,null,null,null,null,null,"",""]
[null,null,null,null,null,null,null,null,null,null,null,null,null,null,null,null,null,null,null,null,null,null,null,null,null,null,null,null,null,null,null,null,null,null,null,null,null,null,null,null,null,null,null,null,null,null,null,null,null,null,null,null,null,null,"",""]
[null,null,null,null,null,null,null,null,null,null,null,null,null,null,null,null,null,null,null,null,null,null,null,null,null,null,null,null,null,null,null,null,null,null,null,null,null,null,null,null,null,null,null,null,null,null,null,null,null,null,null,null,null,null,"",""]
[null,null,null,null,null,null,null,null,null,null,null,null,null,null,null,null,null,null,null,null,null,null,null,null,null,null,null,null,null,null,null,null,null,null,null,null,null,null,null,null,null,null,null,null,null,null,null,null,null,null,null,null,null,null,"",""]
[null,null,null,null,null,null,null,null,null,null,null,null,null,null,null,null,null,null,null,null,null,null,null,null,null,null,null,null,null,null,null,null,null,null,null,null,null,null,null,null,null,null,null,null,null,null,null,null,null,null,null,null,null,null,"",""]
[null,null,null,null,null,null,null,null,null,null,null,null,null,null,null,null,null,null,null,null,null,null,null,null,null,null,null,null,null,null,null,null,null,null,null,null,null,null,null,null,null,null,null,null,null,null,null,null,null,null,null,null,null,null,"",""]
[null,null,null,null,null,null,null,null,null,null,null,null,null,null,null,null,null,null,null,null,null,null,null,null,null,null,null,null,null,null,null,null,null,null,null,null,null,null,null,null,null,null,null,null,null,null,null,null,null,null,null,null,null,null,"",""]
[null,null,null,null,null,null,null,null,null,null,null,null,null,null,null,null,null,null,null,null,null,null,null,null,null,null,null,null,null,null,null,null,null,null,null,null,null,null,null,null,null,null,null,null,null,null,null,null,null,null,null,null,null,null,"",""]
[null,null,null,null,null,null,null,null,null,null,null,null,null,null,null,null,null,null,null,null,null,null,null,null,null,null,null,null,null,null,null,null,null,null,null,null,null,null,null,null,null,null,null,null,null,null,null,null,null,null,null,null,null,null,"",""]
[null,null,null,null,null,null,null,null,null,null,null,null,null,null,null,null,null,null,null,null,null,null,null,null,null,null,null,null,null,null,null,null,null,null,null,null,null,null,null,null,null,null,null,null,null,null,null,null,null,null,null,null,null,null,"",""]
[null,null,null,null,null,null,null,null,null,null,null,null,null,null,null,null,null,null,null,null,null,null,null,null,null,null,null,null,null,null,null,null,null,null,null,null,null,null,null,null,null,null,null,null,null,null,null,null,null,null,null,null,null,null,"",""]
[null,null,null,null,null,null,null,null,null,null,null,null,null,null,null,null,null,null,null,null,null,null,null,null,null,null,null,null,null,null,null,null,null,null,null,null,null,null,null,null,null,null,null,null,null,null,null,null,null,null,null,null,null,null,"",""]
[null,null,null,null,null,null,null,null,null,null,null,null,null,null,null,null,null,null,null,null,null,null,null,null,null,null,null,null,null,null,null,null,null,null,null,null,null,null,null,null,null,null,null,null,null,null,null,null,null,null,null,null,null,null,"",""]
[null,null,null,null,null,null,null,null,null,null,null,null,null,null,null,null,null,null,null,null,null,null,null,null,null,null,null,null,null,null,null,null,null,null,null,null,null,null,null,null,null,null,null,null,null,null,null,null,null,null,null,null,null,null,"",""]
[null,null,null,null,null,null,null,null,null,null,null,null,null,null,null,null,null,null,null,null,null,null,null,null,null,null,null,null,null,null,null,null,null,null,null,null,null,null,null,null,null,null,null,null,null,null,null,null,null,null,null,null,null,null,"",""]
[null,null,null,null,null,null,null,null,null,null,null,null,null,null,null,null,null,null,null,null,null,null,null,null,null,null,null,null,null,null,null,null,null,null,null,null,null,null,null,null,null,null,null,null,null,null,null,null,null,null,null,null,null,null,"",""]
[null,null,null,null,null,null,null,null,null,null,null,null,null,null,null,null,null,null,null,null,null,null,null,null,null,null,null,null,null,null,null,null,null,null,null,null,null,null,null,null,null,null,null,null,null,null,null,null,null,null,null,null,null,null,"",""]
[null,null,null,null,null,null,null,null,null,null,null,null,null,null,null,null,null,null,null,null,null,null,null,null,null,null,null,null,null,null,null,null,null,null,null,null,null,null,null,null,null,null,null,null,null,null,null,null,null,null,null,null,null,null,"",""]
[null,null,null,null,null,null,null,null,null,null,null,null,null,null,null,null,null,null,null,null,null,null,null,null,null,null,null,null,null,null,null,null,null,null,null,null,null,null,null,null,null,null,null,null,null,null,null,null,null,null,null,null,null,null,"",""]
[null,null,null,null,null,null,null,null,null,null,null,null,null,null,null,null,null,null,null,null,null,null,null,null,null,null,null,null,null,null,null,null,null,null,null,null,null,null,null,null,null,null,null,null,null,null,null,null,null,null,null,null,null,null,"",""]
[null,null,null,null,null,null,null,null,null,null,null,null,null,null,null,null,null,null,null,null,null,null,null,null,null,null,null,null,null,null,null,null,null,null,null,null,null,null,null,null,null,null,null,null,null,null,null,null,null,null,null,null,null,null,"",""]
[null,null,null,null,null,null,null,null,null,null,null,null,null,null,null,null,null,null,null,null,null,null,null,null,null,null,null,null,null,null,null,null,null,null,null,null,null,null,null,null,null,null,null,null,null,null,null,null,null,null,null,null,null,null,"",""]
[null,null,null,null,null,null,null,null,null,null,null,null,null,null,null,null,null,null,null,null,null,null,null,null,null,null,null,null,null,null,null,null,null,null,null,null,null,null,null,null,null,null,null,null,null,null,null,null,null,null,null,null,null,null,"",""]
[null,null,null,null,null,null,null,null,null,null,null,null,null,null,null,null,null,null,null,null,null,null,null,null,null,null,null,null,null,null,null,null,null,null,null,null,null,null,null,null,null,null,null,null,null,null,null,null,null,null,null,null,null,null,"",""]
[null,null,null,null,null,null,null,null,null,null,null,null,null,null,null,null,null,null,null,null,null,null,null,null,null,null,null,null,null,null,null,null,null,null,null,null,null,null,null,null,null,null,null,null,null,null,null,null,null,null,null,null,null,null,"",""]
[null,null,null,null,null,null,null,null,null,null,null,null,null,null,null,null,null,null,null,null,null,null,null,null,null,null,null,null,null,null,null,null,null,null,null,null,null,null,null,null,null,null,null,null,null,null,null,null,null,null,null,null,null,null,"",""]
[null,null,null,null,null,null,null,null,null,null,null,null,null,null,null,null,null,null,null,null,null,null,null,null,null,null,null,null,null,null,null,null,null,null,null,null,null,null,null,null,null,null,null,null,null,null,null,null,null,null,null,null,null,null,"",""]
[null,null,null,null,null,null,null,null,null,null,null,null,null,null,null,null,null,null,null,null,null,null,null,null,null,null,null,null,null,null,null,null,null,null,null,null,null,null,null,null,null,null,null,null,null,null,null,null,null,null,null,null,null,null,"",""]
[null,null,null,null,null,null,null,null,null,null,null,null,null,null,null,null,null,null,null,null,null,null,null,null,null,null,null,null,null,null,null,null,null,null,null,null,null,null,null,null,null,null,null,null,null,null,null,null,null,null,null,null,null,null,"",""]
[null,null,null,null,null,null,null,null,null,null,null,null,null,null,null,null,null,null,null,null,null,null,null,null,null,null,null,null,null,null,null,null,null,null,null,null,null,null,null,null,null,null,null,null,null,null,null,null,null,null,null,null,null,null,"",""]
[null,null,null,null,null,null,null,null,null,null,null,null,null,null,null,null,null,null,null,null,null,null,null,null,null,null,null,null,null,null,null,null,null,null,null,null,null,null,null,null,null,null,null,null,null,null,null,null,null,null,null,null,null,null,"",""]
[null,null,null,null,null,null,null,null,null,null,null,null,null,null,null,null,null,null,null,null,null,null,null,null,null,null,null,null,null,null,null,null,null,null,null,null,null,null,null,null,null,null,null,null,null,null,null,null,null,null,null,null,null,null,"",""]
[null,null,null,null,null,null,null,null,null,null,null,null,null,null,null,null,null,null,null,null,null,null,null,null,null,null,null,null,null,null,null,null,null,null,null,null,null,null,null,null,null,null,null,null,null,null,null,null,null,null,null,null,null,null,"",""]
[null,null,null,null,null,null,null,null,null,null,null,null,null,null,null,null,null,null,null,null,null,null,null,null,null,null,null,null,null,null,null,null,null,null,null,null,null,null,null,null,null,null,null,null,null,null,null,null,null,null,null,null,null,null,"",""]
[null,null,null,null,null,null,null,null,null,null,null,null,null,null,null,null,null,null,null,null,null,null,null,null,null,null,null,null,null,null,null,null,null,null,null,null,null,null,null,null,null,null,null,null,null,null,null,null,null,null,null,null,null,null,"",""]
[null,null,null,null,null,null,null,null,null,null,null,null,null,null,null,null,null,null,null,null,null,null,null,null,null,null,null,null,null,null,null,null,null,null,null,null,null,null,null,null,null,null,null,null,null,null,null,null,null,null,null,null,null,null,"",""]
[null,null,null,null,null,null,null,null,null,null,null,null,null,null,null,null,null,null,null,null,null,null,null,null,null,null,null,null,null,null,null,null,null,null,null,null,null,null,null,null,null,null,null,null,null,null,null,null,null,null,null,null,null,null,"",""]
[null,null,null,null,null,null,null,null,null,null,null,null,null,null,null,null,null,null,null,null,null,null,null,null,null,null,null,null,null,null,null,null,null,null,null,null,null,null,null,null,null,null,null,null,null,null,null,null,null,null,null,null,null,null,"",""]
[null,null,null,null,null,null,null,null,null,null,null,null,null,null,null,null,null,null,null,null,null,null,null,null,null,null,null,null,null,null,null,null,null,null,null,null,null,null,null,null,null,null,null,null,null,null,null,null,null,null,null,null,null,null,"",""]
[null,null,null,null,null,null,null,null,null,null,null,null,null,null,null,null,null,null,null,null,null,null,null,null,null,null,null,null,null,null,null,null,null,null,null,null,null,null,null,null,null,null,null,null,null,null,null,null,null,null,null,null,null,null,"",""]
[null,null,null,null,null,null,null,null,null,null,null,null,null,null,null,null,null,null,null,null,null,null,null,null,null,null,null,null,null,null,null,null,null,null,null,null,null,null,null,null,null,null,null,null,null,null,null,null,null,null,null,null,null,null,"",""]
[null,null,null,null,null,null,null,null,null,null,null,null,null,null,null,null,null,null,null,null,null,null,null,null,null,null,null,null,null,null,null,null,null,null,null,null,null,null,null,null,null,null,null,null,null,null,null,null,null,null,null,null,null,null,"",""]
[null,null,null,null,null,null,null,null,null,null,null,null,null,null,null,null,null,null,null,null,null,null,null,null,null,null,null,null,null,null,null,null,null,null,null,null,null,null,null,null,null,null,null,null,null,null,null,null,null,null,null,null,null,null,"",""]
[null,null,null,null,null,null,null,null,null,null,null,null,null,null,null,null,null,null,null,null,null,null,null,null,null,null,null,null,null,null,null,null,null,null,null,null,null,null,null,null,null,null,null,null,null,null,null,null,null,null,null,null,null,null,"",""]
[null,null,null,null,null,null,null,null,null,null,null,null,null,null,null,null,null,null,null,null,null,null,null,null,null,null,null,null,null,null,null,null,null,null,null,null,null,null,null,null,null,null,null,null,null,null,null,null,null,null,null,null,null,null,"",""]
[null,null,null,null,null,null,null,null,null,null,null,null,null,null,null,null,null,null,null,null,null,null,null,null,null,null,null,null,null,null,null,null,null,null,null,null,null,null,null,null,null,null,null,null,null,null,null,null,null,null,null,null,null,null,"",""]
[null,null,null,null,null,null,null,null,null,null,null,null,null,null,null,null,null,null,null,null,null,null,null,null,null,null,null,null,null,null,null,null,null,null,null,null,null,null,null,null,null,null,null,null,null,null,null,null,null,null,null,null,null,null,"",""]
[null,null,null,null,null,null,null,null,null,null,null,null,null,null,null,null,null,null,null,null,null,null,null,null,null,null,null,null,null,null,null,null,null,null,null,null,null,null,null,null,null,null,null,null,null,null,null,null,null,null,null,null,null,null,"",""]
[null,null,null,null,null,null,null,null,null,null,null,null,null,null,null,null,null,null,null,null,null,null,null,null,null,null,null,null,null,null,null,null,null,null,null,null,null,null,null,null,null,null,null,null,null,null,null,null,null,null,null,null,null,null,"",""]
[null,null,null,null,null,null,null,null,null,null,null,null,null,null,null,null,null,null,null,null,null,null,null,null,null,null,null,null,null,null,null,null,null,null,null,null,null,null,null,null,null,null,null,null,null,null,null,null,null,null,null,null,null,null,"",""]
[null,null,null,null,null,null,null,null,null,null,null,null,null,null,null,null,null,null,null,null,null,null,null,null,null,null,null,null,null,null,null,null,null,null,null,null,null,null,null,null,null,null,null,null,null,null,null,null,null,null,null,null,null,null,"",""]
[null,null,null,null,null,null,null,null,null,null,null,null,null,null,null,null,null,null,null,null,null,null,null,null,null,null,null,null,null,null,null,null,null,null,null,null,null,null,null,null,null,null,null,null,null,null,null,null,null,null,null,null,null,null,"",""]
[null,null,null,null,null,null,null,null,null,null,null,null,null,null,null,null,null,null,null,null,null,null,null,null,null,null,null,null,null,null,null,null,null,null,null,null,null,null,null,null,null,null,null,null,null,null,null,null,null,null,null,null,null,null,"",""]
[null,null,null,null,null,null,null,null,null,null,null,null,null,null,null,null,null,null,null,null,null,null,null,null,null,null,null,null,null,null,null,null,null,null,null,null,null,null,null,null,null,null,null,null,null,null,null,null,null,null,null,null,null,null,"",""]
[null,null,null,null,null,null,null,null,null,null,null,null,null,null,null,null,null,null,null,null,null,null,null,null,null,null,null,null,null,null,null,null,null,null,null,null,null,null,null,null,null,null,null,null,null,null,null,null,null,null,null,null,null,null,"",""]
[null,null,null,null,null,null,null,null,null,null,null,null,null,null,null,null,null,null,null,null,null,null,null,null,null,null,null,null,null,null,null,null,null,null,null,null,null,null,null,null,null,null,null,null,null,null,null,null,null,null,null,null,null,null,"",""]
[null,null,null,null,null,null,null,null,null,null,null,null,null,null,null,null,null,null,null,null,null,null,null,null,null,null,null,null,null,null,null,null,null,null,null,null,null,null,null,null,null,null,null,null,null,null,null,null,null,null,null,null,null,null,"",""]
[null,null,null,null,null,null,null,null,null,null,null,null,null,null,null,null,null,null,null,null,null,null,null,null,null,null,null,null,null,null,null,null,null,null,null,null,null,null,null,null,null,null,null,null,null,null,null,null,null,null,null,null,null,null,{"$f":"IF($A259=\"\",\"\",$B259)","v":""},{"$f":"IF($A259=\"\",\"\",B259&AR259)","v":""}]
[null,null,null,null,null,null,null,null,null,null,null,null,null,null,null,null,null,null,null,null,null,null,null,null,null,null,null,null,null,null,null,null,null,null,null,null,null,null,null,null,null,null,null,null,null,null,null,null,null,null,null,null,null,null,"",""]
[null,null,null,null,null,null,null,null,null,null,null,null,null,null,null,null,null,null,null,null,null,null,null,null,null,null,null,null,null,null,null,null,null,null,null,null,null,null,null,null,null,null,null,null,null,null,null,null,null,null,null,null,null,null,"",""]
[null,null,null,null,null,null,null,null,null,null,null,null,null,null,null,null,null,null,null,null,null,null,null,null,null,null,null,null,null,null,null,null,null,null,null,null,null,null,null,null,null,null,null,null,null,null,null,null,null,null,null,null,null,null,"",""]
[null,null,null,null,null,null,null,null,null,null,null,null,null,null,null,null,null,null,null,null,null,null,null,null,null,null,null,null,null,null,null,null,null,null,null,null,null,null,null,null,null,null,null,null,null,null,null,null,null,null,null,null,null,null,"",""]
[null,null,null,null,null,null,null,null,null,null,null,null,null,null,null,null,null,null,null,null,null,null,null,null,null,null,null,null,null,null,null,null,null,null,null,null,null,null,null,null,null,null,null,null,null,null,null,null,null,null,null,null,null,null,"",""]
[null,null,null,null,null,null,null,null,null,null,null,null,null,null,null,null,null,null,null,null,null,null,null,null,null,null,null,null,null,null,null,null,null,null,null,null,null,null,null,null,null,null,null,null,null,null,null,null,null,null,null,null,null,null,"",""]
[null,null,null,null,null,null,null,null,null,null,null,null,null,null,null,null,null,null,null,null,null,null,null,null,null,null,null,null,null,null,null,null,null,null,null,null,null,null,null,null,null,null,null,null,null,null,null,null,null,null,null,null,null,null,"",""]
[null,null,null,null,null,null,null,null,null,null,null,null,null,null,null,null,null,null,null,null,null,null,null,null,null,null,null,null,null,null,null,null,null,null,null,null,null,null,null,null,null,null,null,null,null,null,null,null,null,null,null,null,null,null,"",""]
[null,null,null,null,null,null,null,null,null,null,null,null,null,null,null,null,null,null,null,null,null,null,null,null,null,null,null,null,null,null,null,null,null,null,null,null,null,null,null,null,null,null,null,null,null,null,null,null,null,null,null,null,null,null,"",""]
[null,null,null,null,null,null,null,null,null,null,null,null,null,null,null,null,null,null,null,null,null,null,null,null,null,null,null,null,null,null,null,null,null,null,null,null,null,null,null,null,null,null,null,null,null,null,null,null,null,null,null,null,null,null,"",""]
[null,null,null,null,null,null,null,null,null,null,null,null,null,null,null,null,null,null,null,null,null,null,null,null,null,null,null,null,null,null,null,null,null,null,null,null,null,null,null,null,null,null,null,null,null,null,null,null,null,null,null,null,null,null,"",""]
[null,null,null,null,null,null,null,null,null,null,null,null,null,null,null,null,null,null,null,null,null,null,null,null,null,null,null,null,null,null,null,null,null,null,null,null,null,null,null,null,null,null,null,null,null,null,null,null,null,null,null,null,null,null,"",""]
[null,null,null,null,null,null,null,null,null,null,null,null,null,null,null,null,null,null,null,null,null,null,null,null,null,null,null,null,null,null,null,null,null,null,null,null,null,null,null,null,null,null,null,null,null,null,null,null,null,null,null,null,null,null,"",""]
[null,null,null,null,null,null,null,null,null,null,null,null,null,null,null,null,null,null,null,null,null,null,null,null,null,null,null,null,null,null,null,null,null,null,null,null,null,null,null,null,null,null,null,null,null,null,null,null,null,null,null,null,null,null,"",""]
[null,null,null,null,null,null,null,null,null,null,null,null,null,null,null,null,null,null,null,null,null,null,null,null,null,null,null,null,null,null,null,null,null,null,null,null,null,null,null,null,null,null,null,null,null,null,null,null,null,null,null,null,null,null,"",""]
[null,null,null,null,null,null,null,null,null,null,null,null,null,null,null,null,null,null,null,null,null,null,null,null,null,null,null,null,null,null,null,null,null,null,null,null,null,null,null,null,null,null,null,null,null,null,null,null,null,null,null,null,null,null,"",""]
[null,null,null,null,null,null,null,null,null,null,null,null,null,null,null,null,null,null,null,null,null,null,null,null,null,null,null,null,null,null,null,null,null,null,null,null,null,null,null,null,null,null,null,null,null,null,null,null,null,null,null,null,null,null,"",""]
[null,null,null,null,null,null,null,null,null,null,null,null,null,null,null,null,null,null,null,null,null,null,null,null,null,null,null,null,null,null,null,null,null,null,null,null,null,null,null,null,null,null,null,null,null,null,null,null,null,null,null,null,null,null,"",""]
[null,null,null,null,null,null,null,null,null,null,null,null,null,null,null,null,null,null,null,null,null,null,null,null,null,null,null,null,null,null,null,null,null,null,null,null,null,null,null,null,null,null,null,null,null,null,null,null,null,null,null,null,null,null,"",""]
[null,null,null,null,null,null,null,null,null,null,null,null,null,null,null,null,null,null,null,null,null,null,null,null,null,null,null,null,null,null,null,null,null,null,null,null,null,null,null,null,null,null,null,null,null,null,null,null,null,null,null,null,null,null,"",""]
[null,null,null,null,null,null,null,null,null,null,null,null,null,null,null,null,null,null,null,null,null,null,null,null,null,null,null,null,null,null,null,null,null,null,null,null,null,null,null,null,null,null,null,null,null,null,null,null,null,null,null,null,null,null,"",""]
[null,null,null,null,null,null,null,null,null,null,null,null,null,null,null,null,null,null,null,null,null,null,null,null,null,null,null,null,null,null,null,null,null,null,null,null,null,null,null,null,null,null,null,null,null,null,null,null,null,null,null,null,null,null,"",""]
[null,null,null,null,null,null,null,null,null,null,null,null,null,null,null,null,null,null,null,null,null,null,null,null,null,null,null,null,null,null,null,null,null,null,null,null,null,null,null,null,null,null,null,null,null,null,null,null,null,null,null,null,null,null,"",""]
[null,null,null,null,null,null,null,null,null,null,null,null,null,null,null,null,null,null,null,null,null,null,null,null,null,null,null,null,null,null,null,null,null,null,null,null,null,null,null,null,null,null,null,null,null,null,null,null,null,null,null,null,null,null,"",""]
[null,null,null,null,null,null,null,null,null,null,null,null,null,null,null,null,null,null,null,null,null,null,null,null,null,null,null,null,null,null,null,null,null,null,null,null,null,null,null,null,null,null,null,null,null,null,null,null,null,null,null,null,null,null,"",""]
[null,null,null,null,null,null,null,null,null,null,null,null,null,null,null,null,null,null,null,null,null,null,null,null,null,null,null,null,null,null,null,null,null,null,null,null,null,null,null,null,null,null,null,null,null,null,null,null,null,null,null,null,null,null,"",""]
[null,null,null,null,null,null,null,null,null,null,null,null,null,null,null,null,null,null,null,null,null,null,null,null,null,null,null,null,null,null,null,null,null,null,null,null,null,null,null,null,null,null,null,null,null,null,null,null,null,null,null,null,null,null,"",""]
[null,null,null,null,null,null,null,null,null,null,null,null,null,null,null,null,null,null,null,null,null,null,null,null,null,null,null,null,null,null,null,null,null,null,null,null,null,null,null,null,null,null,null,null,null,null,null,null,null,null,null,null,null,null,"",""]
[null,null,null,null,null,null,null,null,null,null,null,null,null,null,null,null,null,null,null,null,null,null,null,null,null,null,null,null,null,null,null,null,null,null,null,null,null,null,null,null,null,null,null,null,null,null,null,null,null,null,null,null,null,null,"",""]
[null,null,null,null,null,null,null,null,null,null,null,null,null,null,null,null,null,null,null,null,null,null,null,null,null,null,null,null,null,null,null,null,null,null,null,null,null,null,null,null,null,null,null,null,null,null,null,null,null,null,null,null,null,null,"",""]
[null,null,null,null,null,null,null,null,null,null,null,null,null,null,null,null,null,null,null,null,null,null,null,null,null,null,null,null,null,null,null,null,null,null,null,null,null,null,null,null,null,null,null,null,null,null,null,null,null,null,null,null,null,null,"",""]
[null,null,null,null,null,null,null,null,null,null,null,null,null,null,null,null,null,null,null,null,null,null,null,null,null,null,null,null,null,null,null,null,null,null,null,null,null,null,null,null,null,null,null,null,null,null,null,null,null,null,null,null,null,null,"",""]
[null,null,null,null,null,null,null,null,null,null,null,null,null,null,null,null,null,null,null,null,null,null,null,null,null,null,null,null,null,null,null,null,null,null,null,null,null,null,null,null,null,null,null,null,null,null,null,null,null,null,null,null,null,null,"",""]
[null,null,null,null,null,null,null,null,null,null,null,null,null,null,null,null,null,null,null,null,null,null,null,null,null,null,null,null,null,null,null,null,null,null,null,null,null,null,null,null,null,null,null,null,null,null,null,null,null,null,null,null,null,null,"",""]
[null,null,null,null,null,null,null,null,null,null,null,null,null,null,null,null,null,null,null,null,null,null,null,null,null,null,null,null,null,null,null,null,null,null,null,null,null,null,null,null,null,null,null,null,null,null,null,null,null,null,null,null,null,null,"",""]
[null,null,null,null,null,null,null,null,null,null,null,null,null,null,null,null,null,null,null,null,null,null,null,null,null,null,null,null,null,null,null,null,null,null,null,null,null,null,null,null,null,null,null,null,null,null,null,null,null,null,null,null,null,null,"",""]
[null,null,null,null,null,null,null,null,null,null,null,null,null,null,null,null,null,null,null,null,null,null,null,null,null,null,null,null,null,null,null,null,null,null,null,null,null,null,null,null,null,null,null,null,null,null,null,null,null,null,null,null,null,null,"",""]
[null,null,null,null,null,null,null,null,null,null,null,null,null,null,null,null,null,null,null,null,null,null,null,null,null,null,null,null,null,null,null,null,null,null,null,null,null,null,null,null,null,null,null,null,null,null,null,null,null,null,null,null,null,null,"",""]
[null,null,null,null,null,null,null,null,null,null,null,null,null,null,null,null,null,null,null,null,null,null,null,null,null,null,null,null,null,null,null,null,null,null,null,null,null,null,null,null,null,null,null,null,null,null,null,null,null,null,null,null,null,null,"",""]
[null,null,null,null,null,null,null,null,null,null,null,null,null,null,null,null,null,null,null,null,null,null,null,null,null,null,null,null,null,null,null,null,null,null,null,null,null,null,null,null,null,null,null,null,null,null,null,null,null,null,null,null,null,null,"",""]
[null,null,null,null,null,null,null,null,null,null,null,null,null,null,null,null,null,null,null,null,null,null,null,null,null,null,null,null,null,null,null,null,null,null,null,null,null,null,null,null,null,null,null,null,null,null,null,null,null,null,null,null,null,null,"",""]
[null,null,null,null,null,null,null,null,null,null,null,null,null,null,null,null,null,null,null,null,null,null,null,null,null,null,null,null,null,null,null,null,null,null,null,null,null,null,null,null,null,null,null,null,null,null,null,null,null,null,null,null,null,null,"",""]
[null,null,null,null,null,null,null,null,null,null,null,null,null,null,null,null,null,null,null,null,null,null,null,null,null,null,null,null,null,null,null,null,null,null,null,null,null,null,null,null,null,null,null,null,null,null,null,null,null,null,null,null,null,null,"",""]
[null,null,null,null,null,null,null,null,null,null,null,null,null,null,null,null,null,null,null,null,null,null,null,null,null,null,null,null,null,null,null,null,null,null,null,null,null,null,null,null,null,null,null,null,null,null,null,null,null,null,null,null,null,null,"",""]
[null,null,null,null,null,null,null,null,null,null,null,null,null,null,null,null,null,null,null,null,null,null,null,null,null,null,null,null,null,null,null,null,null,null,null,null,null,null,null,null,null,null,null,null,null,null,null,null,null,null,null,null,null,null,"",""]
[null,null,null,null,null,null,null,null,null,null,null,null,null,null,null,null,null,null,null,null,null,null,null,null,null,null,null,null,null,null,null,null,null,null,null,null,null,null,null,null,null,null,null,null,null,null,null,null,null,null,null,null,null,null,"",""]
[null,null,null,null,null,null,null,null,null,null,null,null,null,null,null,null,null,null,null,null,null,null,null,null,null,null,null,null,null,null,null,null,null,null,null,null,null,null,null,null,null,null,null,null,null,null,null,null,null,null,null,null,null,null,"",""]
[null,null,null,null,null,null,null,null,null,null,null,null,null,null,null,null,null,null,null,null,null,null,null,null,null,null,null,null,null,null,null,null,null,null,null,null,null,null,null,null,null,null,null,null,null,null,null,null,null,null,null,null,null,null,"",""]
[null,null,null,null,null,null,null,null,null,null,null,null,null,null,null,null,null,null,null,null,null,null,null,null,null,null,null,null,null,null,null,null,null,null,null,null,null,null,null,null,null,null,null,null,null,null,null,null,null,null,null,null,null,null,"",""]
[null,null,null,null,null,null,null,null,null,null,null,null,null,null,null,null,null,null,null,null,null,null,null,null,null,null,null,null,null,null,null,null,null,null,null,null,null,null,null,null,null,null,null,null,null,null,null,null,null,null,null,null,null,null,"",""]
[null,null,null,null,null,null,null,null,null,null,null,null,null,null,null,null,null,null,null,null,null,null,null,null,null,null,null,null,null,null,null,null,null,null,null,null,null,null,null,null,null,null,null,null,null,null,null,null,null,null,null,null,null,null,"",""]
[null,null,null,null,null,null,null,null,null,null,null,null,null,null,null,null,null,null,null,null,null,null,null,null,null,null,null,null,null,null,null,null,null,null,null,null,null,null,null,null,null,null,null,null,null,null,null,null,null,null,null,null,null,null,"",""]
[null,null,null,null,null,null,null,null,null,null,null,null,null,null,null,null,null,null,null,null,null,null,null,null,null,null,null,null,null,null,null,null,null,null,null,null,null,null,null,null,null,null,null,null,null,null,null,null,null,null,null,null,null,null,"",""]
[null,null,null,null,null,null,null,null,null,null,null,null,null,null,null,null,null,null,null,null,null,null,null,null,null,null,null,null,null,null,null,null,null,null,null,null,null,null,null,null,null,null,null,null,null,null,null,null,null,null,null,null,null,null,"",""]
[null,null,null,null,null,null,null,null,null,null,null,null,null,null,null,null,null,null,null,null,null,null,null,null,null,null,null,null,null,null,null,null,null,null,null,null,null,null,null,null,null,null,null,null,null,null,null,null,null,null,null,null,null,null,"",""]
[null,null,null,null,null,null,null,null,null,null,null,null,null,null,null,null,null,null,null,null,null,null,null,null,null,null,null,null,null,null,null,null,null,null,null,null,null,null,null,null,null,null,null,null,null,null,null,null,null,null,null,null,null,null,"",""]
[null,null,null,null,null,null,null,null,null,null,null,null,null,null,null,null,null,null,null,null,null,null,null,null,null,null,null,null,null,null,null,null,null,null,null,null,null,null,null,null,null,null,null,null,null,null,null,null,null,null,null,null,null,null,"",""]
[null,null,null,null,null,null,null,null,null,null,null,null,null,null,null,null,null,null,null,null,null,null,null,null,null,null,null,null,null,null,null,null,null,null,null,null,null,null,null,null,null,null,null,null,null,null,null,null,null,null,null,null,null,null,"",""]
[null,null,null,null,null,null,null,null,null,null,null,null,null,null,null,null,null,null,null,null,null,null,null,null,null,null,null,null,null,null,null,null,null,null,null,null,null,null,null,null,null,null,null,null,null,null,null,null,null,null,null,null,null,null,"",""]
[null,null,null,null,null,null,null,null,null,null,null,null,null,null,null,null,null,null,null,null,null,null,null,null,null,null,null,null,null,null,null,null,null,null,null,null,null,null,null,null,null,null,null,null,null,null,null,null,null,null,null,null,null,null,"",""]
[null,null,null,null,null,null,null,null,null,null,null,null,null,null,null,null,null,null,null,null,null,null,null,null,null,null,null,null,null,null,null,null,null,null,null,null,null,null,null,null,null,null,null,null,null,null,null,null,null,null,null,null,null,null,"",""]
[null,null,null,null,null,null,null,null,null,null,null,null,null,null,null,null,null,null,null,null,null,null,null,null,null,null,null,null,null,null,null,null,null,null,null,null,null,null,null,null,null,null,null,null,null,null,null,null,null,null,null,null,null,null,"",""]
[null,null,null,null,null,null,null,null,null,null,null,null,null,null,null,null,null,null,null,null,null,null,null,null,null,null,null,null,null,null,null,null,null,null,null,null,null,null,null,null,null,null,null,null,null,null,null,null,null,null,null,null,null,null,"",""]
[null,null,null,null,null,null,null,null,null,null,null,null,null,null,null,null,null,null,null,null,null,null,null,null,null,null,null,null,null,null,null,null,null,null,null,null,null,null,null,null,null,null,null,null,null,null,null,null,null,null,null,null,null,null,{"$f":"IF($A323=\"\",\"\",$B323)","v":""},{"$f":"IF($A323=\"\",\"\",B323&AR323)","v":""}]
[null,null,null,null,null,null,null,null,null,null,null,null,null,null,null,null,null,null,null,null,null,null,null,null,null,null,null,null,null,null,null,null,null,null,null,null,null,null,null,null,null,null,null,null,null,null,null,null,null,null,null,null,null,null,"",""]
[null,null,null,null,null,null,null,null,null,null,null,null,null,null,null,null,null,null,null,null,null,null,null,null,null,null,null,null,null,null,null,null,null,null,null,null,null,null,null,null,null,null,null,null,null,null,null,null,null,null,null,null,null,null,"",""]
[null,null,null,null,null,null,null,null,null,null,null,null,null,null,null,null,null,null,null,null,null,null,null,null,null,null,null,null,null,null,null,null,null,null,null,null,null,null,null,null,null,null,null,null,null,null,null,null,null,null,null,null,null,null,"",""]
[null,null,null,null,null,null,null,null,null,null,null,null,null,null,null,null,null,null,null,null,null,null,null,null,null,null,null,null,null,null,null,null,null,null,null,null,null,null,null,null,null,null,null,null,null,null,null,null,null,null,null,null,null,null,"",""]
[null,null,null,null,null,null,null,null,null,null,null,null,null,null,null,null,null,null,null,null,null,null,null,null,null,null,null,null,null,null,null,null,null,null,null,null,null,null,null,null,null,null,null,null,null,null,null,null,null,null,null,null,null,null,"",""]
[null,null,null,null,null,null,null,null,null,null,null,null,null,null,null,null,null,null,null,null,null,null,null,null,null,null,null,null,null,null,null,null,null,null,null,null,null,null,null,null,null,null,null,null,null,null,null,null,null,null,null,null,null,null,"",""]
[null,null,null,null,null,null,null,null,null,null,null,null,null,null,null,null,null,null,null,null,null,null,null,null,null,null,null,null,null,null,null,null,null,null,null,null,null,null,null,null,null,null,null,null,null,null,null,null,null,null,null,null,null,null,"",""]
[null,null,null,null,null,null,null,null,null,null,null,null,null,null,null,null,null,null,null,null,null,null,null,null,null,null,null,null,null,null,null,null,null,null,null,null,null,null,null,null,null,null,null,null,null,null,null,null,null,null,null,null,null,null,"",""]
[null,null,null,null,null,null,null,null,null,null,null,null,null,null,null,null,null,null,null,null,null,null,null,null,null,null,null,null,null,null,null,null,null,null,null,null,null,null,null,null,null,null,null,null,null,null,null,null,null,null,null,null,null,null,"",""]
[null,null,null,null,null,null,null,null,null,null,null,null,null,null,null,null,null,null,null,null,null,null,null,null,null,null,null,null,null,null,null,null,null,null,null,null,null,null,null,null,null,null,null,null,null,null,null,null,null,null,null,null,null,null,"",""]
[null,null,null,null,null,null,null,null,null,null,null,null,null,null,null,null,null,null,null,null,null,null,null,null,null,null,null,null,null,null,null,null,null,null,null,null,null,null,null,null,null,null,null,null,null,null,null,null,null,null,null,null,null,null,"",""]
[null,null,null,null,null,null,null,null,null,null,null,null,null,null,null,null,null,null,null,null,null,null,null,null,null,null,null,null,null,null,null,null,null,null,null,null,null,null,null,null,null,null,null,null,null,null,null,null,null,null,null,null,null,null,"",""]
[null,null,null,null,null,null,null,null,null,null,null,null,null,null,null,null,null,null,null,null,null,null,null,null,null,null,null,null,null,null,null,null,null,null,null,null,null,null,null,null,null,null,null,null,null,null,null,null,null,null,null,null,null,null,"",""]
[null,null,null,null,null,null,null,null,null,null,null,null,null,null,null,null,null,null,null,null,null,null,null,null,null,null,null,null,null,null,null,null,null,null,null,null,null,null,null,null,null,null,null,null,null,null,null,null,null,null,null,null,null,null,"",""]
[null,null,null,null,null,null,null,null,null,null,null,null,null,null,null,null,null,null,null,null,null,null,null,null,null,null,null,null,null,null,null,null,null,null,null,null,null,null,null,null,null,null,null,null,null,null,null,null,null,null,null,null,null,null,"",""]
[null,null,null,null,null,null,null,null,null,null,null,null,null,null,null,null,null,null,null,null,null,null,null,null,null,null,null,null,null,null,null,null,null,null,null,null,null,null,null,null,null,null,null,null,null,null,null,null,null,null,null,null,null,null,"",""]
[null,null,null,null,null,null,null,null,null,null,null,null,null,null,null,null,null,null,null,null,null,null,null,null,null,null,null,null,null,null,null,null,null,null,null,null,null,null,null,null,null,null,null,null,null,null,null,null,null,null,null,null,null,null,"",""]
[null,null,null,null,null,null,null,null,null,null,null,null,null,null,null,null,null,null,null,null,null,null,null,null,null,null,null,null,null,null,null,null,null,null,null,null,null,null,null,null,null,null,null,null,null,null,null,null,null,null,null,null,null,null,"",""]
[null,null,null,null,null,null,null,null,null,null,null,null,null,null,null,null,null,null,null,null,null,null,null,null,null,null,null,null,null,null,null,null,null,null,null,null,null,null,null,null,null,null,null,null,null,null,null,null,null,null,null,null,null,null,"",""]
[null,null,null,null,null,null,null,null,null,null,null,null,null,null,null,null,null,null,null,null,null,null,null,null,null,null,null,null,null,null,null,null,null,null,null,null,null,null,null,null,null,null,null,null,null,null,null,null,null,null,null,null,null,null,"",""]
[null,null,null,null,null,null,null,null,null,null,null,null,null,null,null,null,null,null,null,null,null,null,null,null,null,null,null,null,null,null,null,null,null,null,null,null,null,null,null,null,null,null,null,null,null,null,null,null,null,null,null,null,null,null,"",""]
[null,null,null,null,null,null,null,null,null,null,null,null,null,null,null,null,null,null,null,null,null,null,null,null,null,null,null,null,null,null,null,null,null,null,null,null,null,null,null,null,null,null,null,null,null,null,null,null,null,null,null,null,null,null,"",""]
[null,null,null,null,null,null,null,null,null,null,null,null,null,null,null,null,null,null,null,null,null,null,null,null,null,null,null,null,null,null,null,null,null,null,null,null,null,null,null,null,null,null,null,null,null,null,null,null,null,null,null,null,null,null,"",""]
[null,null,null,null,null,null,null,null,null,null,null,null,null,null,null,null,null,null,null,null,null,null,null,null,null,null,null,null,null,null,null,null,null,null,null,null,null,null,null,null,null,null,null,null,null,null,null,null,null,null,null,null,null,null,"",""]
[null,null,null,null,null,null,null,null,null,null,null,null,null,null,null,null,null,null,null,null,null,null,null,null,null,null,null,null,null,null,null,null,null,null,null,null,null,null,null,null,null,null,null,null,null,null,null,null,null,null,null,null,null,null,"",""]
[null,null,null,null,null,null,null,null,null,null,null,null,null,null,null,null,null,null,null,null,null,null,null,null,null,null,null,null,null,null,null,null,null,null,null,null,null,null,null,null,null,null,null,null,null,null,null,null,null,null,null,null,null,null,"",""]
[null,null,null,null,null,null,null,null,null,null,null,null,null,null,null,null,null,null,null,null,null,null,null,null,null,null,null,null,null,null,null,null,null,null,null,null,null,null,null,null,null,null,null,null,null,null,null,null,null,null,null,null,null,null,"",""]
[null,null,null,null,null,null,null,null,null,null,null,null,null,null,null,null,null,null,null,null,null,null,null,null,null,null,null,null,null,null,null,null,null,null,null,null,null,null,null,null,null,null,null,null,null,null,null,null,null,null,null,null,null,null,"",""]
[null,null,null,null,null,null,null,null,null,null,null,null,null,null,null,null,null,null,null,null,null,null,null,null,null,null,null,null,null,null,null,null,null,null,null,null,null,null,null,null,null,null,null,null,null,null,null,null,null,null,null,null,null,null,"",""]
[null,null,null,null,null,null,null,null,null,null,null,null,null,null,null,null,null,null,null,null,null,null,null,null,null,null,null,null,null,null,null,null,null,null,null,null,null,null,null,null,null,null,null,null,null,null,null,null,null,null,null,null,null,null,"",""]
[null,null,null,null,null,null,null,null,null,null,null,null,null,null,null,null,null,null,null,null,null,null,null,null,null,null,null,null,null,null,null,null,null,null,null,null,null,null,null,null,null,null,null,null,null,null,null,null,null,null,null,null,null,null,"",""]
[null,null,null,null,null,null,null,null,null,null,null,null,null,null,null,null,null,null,null,null,null,null,null,null,null,null,null,null,null,null,null,null,null,null,null,null,null,null,null,null,null,null,null,null,null,null,null,null,null,null,null,null,null,null,"",""]
[null,null,null,null,null,null,null,null,null,null,null,null,null,null,null,null,null,null,null,null,null,null,null,null,null,null,null,null,null,null,null,null,null,null,null,null,null,null,null,null,null,null,null,null,null,null,null,null,null,null,null,null,null,null,"",""]
[null,null,null,null,null,null,null,null,null,null,null,null,null,null,null,null,null,null,null,null,null,null,null,null,null,null,null,null,null,null,null,null,null,null,null,null,null,null,null,null,null,null,null,null,null,null,null,null,null,null,null,null,null,null,"",""]
[null,null,null,null,null,null,null,null,null,null,null,null,null,null,null,null,null,null,null,null,null,null,null,null,null,null,null,null,null,null,null,null,null,null,null,null,null,null,null,null,null,null,null,null,null,null,null,null,null,null,null,null,null,null,"",""]
[null,null,null,null,null,null,null,null,null,null,null,null,null,null,null,null,null,null,null,null,null,null,null,null,null,null,null,null,null,null,null,null,null,null,null,null,null,null,null,null,null,null,null,null,null,null,null,null,null,null,null,null,null,null,"",""]
[null,null,null,null,null,null,null,null,null,null,null,null,null,null,null,null,null,null,null,null,null,null,null,null,null,null,null,null,null,null,null,null,null,null,null,null,null,null,null,null,null,null,null,null,null,null,null,null,null,null,null,null,null,null,"",""]
[null,null,null,null,null,null,null,null,null,null,null,null,null,null,null,null,null,null,null,null,null,null,null,null,null,null,null,null,null,null,null,null,null,null,null,null,null,null,null,null,null,null,null,null,null,null,null,null,null,null,null,null,null,null,"",""]
[null,null,null,null,null,null,null,null,null,null,null,null,null,null,null,null,null,null,null,null,null,null,null,null,null,null,null,null,null,null,null,null,null,null,null,null,null,null,null,null,null,null,null,null,null,null,null,null,null,null,null,null,null,null,"",""]
[null,null,null,null,null,null,null,null,null,null,null,null,null,null,null,null,null,null,null,null,null,null,null,null,null,null,null,null,null,null,null,null,null,null,null,null,null,null,null,null,null,null,null,null,null,null,null,null,null,null,null,null,null,null,"",""]
[null,null,null,null,null,null,null,null,null,null,null,null,null,null,null,null,null,null,null,null,null,null,null,null,null,null,null,null,null,null,null,null,null,null,null,null,null,null,null,null,null,null,null,null,null,null,null,null,null,null,null,null,null,null,"",""]
[null,null,null,null,null,null,null,null,null,null,null,null,null,null,null,null,null,null,null,null,null,null,null,null,null,null,null,null,null,null,null,null,null,null,null,null,null,null,null,null,null,null,null,null,null,null,null,null,null,null,null,null,null,null,"",""]
[null,null,null,null,null,null,null,null,null,null,null,null,null,null,null,null,null,null,null,null,null,null,null,null,null,null,null,null,null,null,null,null,null,null,null,null,null,null,null,null,null,null,null,null,null,null,null,null,null,null,null,null,null,null,"",""]
[null,null,null,null,null,null,null,null,null,null,null,null,null,null,null,null,null,null,null,null,null,null,null,null,null,null,null,null,null,null,null,null,null,null,null,null,null,null,null,null,null,null,null,null,null,null,null,null,null,null,null,null,null,null,"",""]
[null,null,null,null,null,null,null,null,null,null,null,null,null,null,null,null,null,null,null,null,null,null,null,null,null,null,null,null,null,null,null,null,null,null,null,null,null,null,null,null,null,null,null,null,null,null,null,null,null,null,null,null,null,null,"",""]
[null,null,null,null,null,null,null,null,null,null,null,null,null,null,null,null,null,null,null,null,null,null,null,null,null,null,null,null,null,null,null,null,null,null,null,null,null,null,null,null,null,null,null,null,null,null,null,null,null,null,null,null,null,null,"",""]
[null,null,null,null,null,null,null,null,null,null,null,null,null,null,null,null,null,null,null,null,null,null,null,null,null,null,null,null,null,null,null,null,null,null,null,null,null,null,null,null,null,null,null,null,null,null,null,null,null,null,null,null,null,null,"",""]
[null,null,null,null,null,null,null,null,null,null,null,null,null,null,null,null,null,null,null,null,null,null,null,null,null,null,null,null,null,null,null,null,null,null,null,null,null,null,null,null,null,null,null,null,null,null,null,null,null,null,null,null,null,null,"",""]
[null,null,null,null,null,null,null,null,null,null,null,null,null,null,null,null,null,null,null,null,null,null,null,null,null,null,null,null,null,null,null,null,null,null,null,null,null,null,null,null,null,null,null,null,null,null,null,null,null,null,null,null,null,null,"",""]
[null,null,null,null,null,null,null,null,null,null,null,null,null,null,null,null,null,null,null,null,null,null,null,null,null,null,null,null,null,null,null,null,null,null,null,null,null,null,null,null,null,null,null,null,null,null,null,null,null,null,null,null,null,null,"",""]
[null,null,null,null,null,null,null,null,null,null,null,null,null,null,null,null,null,null,null,null,null,null,null,null,null,null,null,null,null,null,null,null,null,null,null,null,null,null,null,null,null,null,null,null,null,null,null,null,null,null,null,null,null,null,"",""]
[null,null,null,null,null,null,null,null,null,null,null,null,null,null,null,null,null,null,null,null,null,null,null,null,null,null,null,null,null,null,null,null,null,null,null,null,null,null,null,null,null,null,null,null,null,null,null,null,null,null,null,null,null,null,"",""]
[null,null,null,null,null,null,null,null,null,null,null,null,null,null,null,null,null,null,null,null,null,null,null,null,null,null,null,null,null,null,null,null,null,null,null,null,null,null,null,null,null,null,null,null,null,null,null,null,null,null,null,null,null,null,"",""]
[null,null,null,null,null,null,null,null,null,null,null,null,null,null,null,null,null,null,null,null,null,null,null,null,null,null,null,null,null,null,null,null,null,null,null,null,null,null,null,null,null,null,null,null,null,null,null,null,null,null,null,null,null,null,"",""]
[null,null,null,null,null,null,null,null,null,null,null,null,null,null,null,null,null,null,null,null,null,null,null,null,null,null,null,null,null,null,null,null,null,null,null,null,null,null,null,null,null,null,null,null,null,null,null,null,null,null,null,null,null,null,"",""]
[null,null,null,null,null,null,null,null,null,null,null,null,null,null,null,null,null,null,null,null,null,null,null,null,null,null,null,null,null,null,null,null,null,null,null,null,null,null,null,null,null,null,null,null,null,null,null,null,null,null,null,null,null,null,"",""]
[null,null,null,null,null,null,null,null,null,null,null,null,null,null,null,null,null,null,null,null,null,null,null,null,null,null,null,null,null,null,null,null,null,null,null,null,null,null,null,null,null,null,null,null,null,null,null,null,null,null,null,null,null,null,"",""]
[null,null,null,null,null,null,null,null,null,null,null,null,null,null,null,null,null,null,null,null,null,null,null,null,null,null,null,null,null,null,null,null,null,null,null,null,null,null,null,null,null,null,null,null,null,null,null,null,null,null,null,null,null,null,"",""]
[null,null,null,null,null,null,null,null,null,null,null,null,null,null,null,null,null,null,null,null,null,null,null,null,null,null,null,null,null,null,null,null,null,null,null,null,null,null,null,null,null,null,null,null,null,null,null,null,null,null,null,null,null,null,"",""]
[null,null,null,null,null,null,null,null,null,null,null,null,null,null,null,null,null,null,null,null,null,null,null,null,null,null,null,null,null,null,null,null,null,null,null,null,null,null,null,null,null,null,null,null,null,null,null,null,null,null,null,null,null,null,"",""]
[null,null,null,null,null,null,null,null,null,null,null,null,null,null,null,null,null,null,null,null,null,null,null,null,null,null,null,null,null,null,null,null,null,null,null,null,null,null,null,null,null,null,null,null,null,null,null,null,null,null,null,null,null,null,"",""]
[null,null,null,null,null,null,null,null,null,null,null,null,null,null,null,null,null,null,null,null,null,null,null,null,null,null,null,null,null,null,null,null,null,null,null,null,null,null,null,null,null,null,null,null,null,null,null,null,null,null,null,null,null,null,"",""]
[null,null,null,null,null,null,null,null,null,null,null,null,null,null,null,null,null,null,null,null,null,null,null,null,null,null,null,null,null,null,null,null,null,null,null,null,null,null,null,null,null,null,null,null,null,null,null,null,null,null,null,null,null,null,"",""]
[null,null,null,null,null,null,null,null,null,null,null,null,null,null,null,null,null,null,null,null,null,null,null,null,null,null,null,null,null,null,null,null,null,null,null,null,null,null,null,null,null,null,null,null,null,null,null,null,null,null,null,null,null,null,{"$f":"IF($A387=\"\",\"\",$B387)","v":""},{"$f":"IF($A387=\"\",\"\",B387&AR387)","v":""}]
[null,null,null,null,null,null,null,null,null,null,null,null,null,null,null,null,null,null,null,null,null,null,null,null,null,null,null,null,null,null,null,null,null,null,null,null,null,null,null,null,null,null,null,null,null,null,null,null,null,null,null,null,null,null,"",""]
[null,null,null,null,null,null,null,null,null,null,null,null,null,null,null,null,null,null,null,null,null,null,null,null,null,null,null,null,null,null,null,null,null,null,null,null,null,null,null,null,null,null,null,null,null,null,null,null,null,null,null,null,null,null,"",""]
[null,null,null,null,null,null,null,null,null,null,null,null,null,null,null,null,null,null,null,null,null,null,null,null,null,null,null,null,null,null,null,null,null,null,null,null,null,null,null,null,null,null,null,null,null,null,null,null,null,null,null,null,null,null,"",""]
[null,null,null,null,null,null,null,null,null,null,null,null,null,null,null,null,null,null,null,null,null,null,null,null,null,null,null,null,null,null,null,null,null,null,null,null,null,null,null,null,null,null,null,null,null,null,null,null,null,null,null,null,null,null,"",""]
[null,null,null,null,null,null,null,null,null,null,null,null,null,null,null,null,null,null,null,null,null,null,null,null,null,null,null,null,null,null,null,null,null,null,null,null,null,null,null,null,null,null,null,null,null,null,null,null,null,null,null,null,null,null,"",""]
[null,null,null,null,null,null,null,null,null,null,null,null,null,null,null,null,null,null,null,null,null,null,null,null,null,null,null,null,null,null,null,null,null,null,null,null,null,null,null,null,null,null,null,null,null,null,null,null,null,null,null,null,null,null,"",""]
[null,null,null,null,null,null,null,null,null,null,null,null,null,null,null,null,null,null,null,null,null,null,null,null,null,null,null,null,null,null,null,null,null,null,null,null,null,null,null,null,null,null,null,null,null,null,null,null,null,null,null,null,null,null,"",""]
[null,null,null,null,null,null,null,null,null,null,null,null,null,null,null,null,null,null,null,null,null,null,null,null,null,null,null,null,null,null,null,null,null,null,null,null,null,null,null,null,null,null,null,null,null,null,null,null,null,null,null,null,null,null,"",""]
[null,null,null,null,null,null,null,null,null,null,null,null,null,null,null,null,null,null,null,null,null,null,null,null,null,null,null,null,null,null,null,null,null,null,null,null,null,null,null,null,null,null,null,null,null,null,null,null,null,null,null,null,null,null,"",""]
[null,null,null,null,null,null,null,null,null,null,null,null,null,null,null,null,null,null,null,null,null,null,null,null,null,null,null,null,null,null,null,null,null,null,null,null,null,null,null,null,null,null,null,null,null,null,null,null,null,null,null,null,null,null,"",""]
[null,null,null,null,null,null,null,null,null,null,null,null,null,null,null,null,null,null,null,null,null,null,null,null,null,null,null,null,null,null,null,null,null,null,null,null,null,null,null,null,null,null,null,null,null,null,null,null,null,null,null,null,null,null,"",""]
[null,null,null,null,null,null,null,null,null,null,null,null,null,null,null,null,null,null,null,null,null,null,null,null,null,null,null,null,null,null,null,null,null,null,null,null,null,null,null,null,null,null,null,null,null,null,null,null,null,null,null,null,null,null,"",""]
[null,null,null,null,null,null,null,null,null,null,null,null,null,null,null,null,null,null,null,null,null,null,null,null,null,null,null,null,null,null,null,null,null,null,null,null,null,null,null,null,null,null,null,null,null,null,null,null,null,null,null,null,null,null,"",""]
[null,null,null,null,null,null,null,null,null,null,null,null,null,null,null,null,null,null,null,null,null,null,null,null,null,null,null,null,null,null,null,null,null,null,null,null,null,null,null,null,null,null,null,null,null,null,null,null,null,null,null,null,null,null,"",""]
[null,null,null,null,null,null,null,null,null,null,null,null,null,null,null,null,null,null,null,null,null,null,null,null,null,null,null,null,null,null,null,null,null,null,null,null,null,null,null,null,null,null,null,null,null,null,null,null,null,null,null,null,null,null,"",""]
[null,null,null,null,null,null,null,null,null,null,null,null,null,null,null,null,null,null,null,null,null,null,null,null,null,null,null,null,null,null,null,null,null,null,null,null,null,null,null,null,null,null,null,null,null,null,null,null,null,null,null,null,null,null,"",""]
[null,null,null,null,null,null,null,null,null,null,null,null,null,null,null,null,null,null,null,null,null,null,null,null,null,null,null,null,null,null,null,null,null,null,null,null,null,null,null,null,null,null,null,null,null,null,null,null,null,null,null,null,null,null,"",""]
[null,null,null,null,null,null,null,null,null,null,null,null,null,null,null,null,null,null,null,null,null,null,null,null,null,null,null,null,null,null,null,null,null,null,null,null,null,null,null,null,null,null,null,null,null,null,null,null,null,null,null,null,null,null,"",""]
[null,null,null,null,null,null,null,null,null,null,null,null,null,null,null,null,null,null,null,null,null,null,null,null,null,null,null,null,null,null,null,null,null,null,null,null,null,null,null,null,null,null,null,null,null,null,null,null,null,null,null,null,null,null,"",""]
[null,null,null,null,null,null,null,null,null,null,null,null,null,null,null,null,null,null,null,null,null,null,null,null,null,null,null,null,null,null,null,null,null,null,null,null,null,null,null,null,null,null,null,null,null,null,null,null,null,null,null,null,null,null,"",""]
[null,null,null,null,null,null,null,null,null,null,null,null,null,null,null,null,null,null,null,null,null,null,null,null,null,null,null,null,null,null,null,null,null,null,null,null,null,null,null,null,null,null,null,null,null,null,null,null,null,null,null,null,null,null,"",""]
[null,null,null,null,null,null,null,null,null,null,null,null,null,null,null,null,null,null,null,null,null,null,null,null,null,null,null,null,null,null,null,null,null,null,null,null,null,null,null,null,null,null,null,null,null,null,null,null,null,null,null,null,null,null,"",""]
[null,null,null,null,null,null,null,null,null,null,null,null,null,null,null,null,null,null,null,null,null,null,null,null,null,null,null,null,null,null,null,null,null,null,null,null,null,null,null,null,null,null,null,null,null,null,null,null,null,null,null,null,null,null,"",""]
[null,null,null,null,null,null,null,null,null,null,null,null,null,null,null,null,null,null,null,null,null,null,null,null,null,null,null,null,null,null,null,null,null,null,null,null,null,null,null,null,null,null,null,null,null,null,null,null,null,null,null,null,null,null,"",""]
[null,null,null,null,null,null,null,null,null,null,null,null,null,null,null,null,null,null,null,null,null,null,null,null,null,null,null,null,null,null,null,null,null,null,null,null,null,null,null,null,null,null,null,null,null,null,null,null,null,null,null,null,null,null,"",""]
[null,null,null,null,null,null,null,null,null,null,null,null,null,null,null,null,null,null,null,null,null,null,null,null,null,null,null,null,null,null,null,null,null,null,null,null,null,null,null,null,null,null,null,null,null,null,null,null,null,null,null,null,null,null,"",""]
[null,null,null,null,null,null,null,null,null,null,null,null,null,null,null,null,null,null,null,null,null,null,null,null,null,null,null,null,null,null,null,null,null,null,null,null,null,null,null,null,null,null,null,null,null,null,null,null,null,null,null,null,null,null,"",""]
[null,null,null,null,null,null,null,null,null,null,null,null,null,null,null,null,null,null,null,null,null,null,null,null,null,null,null,null,null,null,null,null,null,null,null,null,null,null,null,null,null,null,null,null,null,null,null,null,null,null,null,null,null,null,"",""]
[null,null,null,null,null,null,null,null,null,null,null,null,null,null,null,null,null,null,null,null,null,null,null,null,null,null,null,null,null,null,null,null,null,null,null,null,null,null,null,null,null,null,null,null,null,null,null,null,null,null,null,null,null,null,"",""]
[null,null,null,null,null,null,null,null,null,null,null,null,null,null,null,null,null,null,null,null,null,null,null,null,null,null,null,null,null,null,null,null,null,null,null,null,null,null,null,null,null,null,null,null,null,null,null,null,null,null,null,null,null,null,"",""]
[null,null,null,null,null,null,null,null,null,null,null,null,null,null,null,null,null,null,null,null,null,null,null,null,null,null,null,null,null,null,null,null,null,null,null,null,null,null,null,null,null,null,null,null,null,null,null,null,null,null,null,null,null,null,"",""]
[null,null,null,null,null,null,null,null,null,null,null,null,null,null,null,null,null,null,null,null,null,null,null,null,null,null,null,null,null,null,null,null,null,null,null,null,null,null,null,null,null,null,null,null,null,null,null,null,null,null,null,null,null,null,"",""]
[null,null,null,null,null,null,null,null,null,null,null,null,null,null,null,null,null,null,null,null,null,null,null,null,null,null,null,null,null,null,null,null,null,null,null,null,null,null,null,null,null,null,null,null,null,null,null,null,null,null,null,null,null,null,"",""]
[null,null,null,null,null,null,null,null,null,null,null,null,null,null,null,null,null,null,null,null,null,null,null,null,null,null,null,null,null,null,null,null,null,null,null,null,null,null,null,null,null,null,null,null,null,null,null,null,null,null,null,null,null,null,"",""]
[null,null,null,null,null,null,null,null,null,null,null,null,null,null,null,null,null,null,null,null,null,null,null,null,null,null,null,null,null,null,null,null,null,null,null,null,null,null,null,null,null,null,null,null,null,null,null,null,null,null,null,null,null,null,"",""]
[null,null,null,null,null,null,null,null,null,null,null,null,null,null,null,null,null,null,null,null,null,null,null,null,null,null,null,null,null,null,null,null,null,null,null,null,null,null,null,null,null,null,null,null,null,null,null,null,null,null,null,null,null,null,"",""]
[null,null,null,null,null,null,null,null,null,null,null,null,null,null,null,null,null,null,null,null,null,null,null,null,null,null,null,null,null,null,null,null,null,null,null,null,null,null,null,null,null,null,null,null,null,null,null,null,null,null,null,null,null,null,"",""]
[null,null,null,null,null,null,null,null,null,null,null,null,null,null,null,null,null,null,null,null,null,null,null,null,null,null,null,null,null,null,null,null,null,null,null,null,null,null,null,null,null,null,null,null,null,null,null,null,null,null,null,null,null,null,"",""]
[null,null,null,null,null,null,null,null,null,null,null,null,null,null,null,null,null,null,null,null,null,null,null,null,null,null,null,null,null,null,null,null,null,null,null,null,null,null,null,null,null,null,null,null,null,null,null,null,null,null,null,null,null,null,"",""]
[null,null,null,null,null,null,null,null,null,null,null,null,null,null,null,null,null,null,null,null,null,null,null,null,null,null,null,null,null,null,null,null,null,null,null,null,null,null,null,null,null,null,null,null,null,null,null,null,null,null,null,null,null,null,"",""]
[null,null,null,null,null,null,null,null,null,null,null,null,null,null,null,null,null,null,null,null,null,null,null,null,null,null,null,null,null,null,null,null,null,null,null,null,null,null,null,null,null,null,null,null,null,null,null,null,null,null,null,null,null,null,"",""]
[null,null,null,null,null,null,null,null,null,null,null,null,null,null,null,null,null,null,null,null,null,null,null,null,null,null,null,null,null,null,null,null,null,null,null,null,null,null,null,null,null,null,null,null,null,null,null,null,null,null,null,null,null,null,"",""]
[null,null,null,null,null,null,null,null,null,null,null,null,null,null,null,null,null,null,null,null,null,null,null,null,null,null,null,null,null,null,null,null,null,null,null,null,null,null,null,null,null,null,null,null,null,null,null,null,null,null,null,null,null,null,"",""]
[null,null,null,null,null,null,null,null,null,null,null,null,null,null,null,null,null,null,null,null,null,null,null,null,null,null,null,null,null,null,null,null,null,null,null,null,null,null,null,null,null,null,null,null,null,null,null,null,null,null,null,null,null,null,"",""]
[null,null,null,null,null,null,null,null,null,null,null,null,null,null,null,null,null,null,null,null,null,null,null,null,null,null,null,null,null,null,null,null,null,null,null,null,null,null,null,null,null,null,null,null,null,null,null,null,null,null,null,null,null,null,"",""]
[null,null,null,null,null,null,null,null,null,null,null,null,null,null,null,null,null,null,null,null,null,null,null,null,null,null,null,null,null,null,null,null,null,null,null,null,null,null,null,null,null,null,null,null,null,null,null,null,null,null,null,null,null,null,"",""]
[null,null,null,null,null,null,null,null,null,null,null,null,null,null,null,null,null,null,null,null,null,null,null,null,null,null,null,null,null,null,null,null,null,null,null,null,null,null,null,null,null,null,null,null,null,null,null,null,null,null,null,null,null,null,"",""]
[null,null,null,null,null,null,null,null,null,null,null,null,null,null,null,null,null,null,null,null,null,null,null,null,null,null,null,null,null,null,null,null,null,null,null,null,null,null,null,null,null,null,null,null,null,null,null,null,null,null,null,null,null,null,"",""]
[null,null,null,null,null,null,null,null,null,null,null,null,null,null,null,null,null,null,null,null,null,null,null,null,null,null,null,null,null,null,null,null,null,null,null,null,null,null,null,null,null,null,null,null,null,null,null,null,null,null,null,null,null,null,"",""]
[null,null,null,null,null,null,null,null,null,null,null,null,null,null,null,null,null,null,null,null,null,null,null,null,null,null,null,null,null,null,null,null,null,null,null,null,null,null,null,null,null,null,null,null,null,null,null,null,null,null,null,null,null,null,"",""]
[null,null,null,null,null,null,null,null,null,null,null,null,null,null,null,null,null,null,null,null,null,null,null,null,null,null,null,null,null,null,null,null,null,null,null,null,null,null,null,null,null,null,null,null,null,null,null,null,null,null,null,null,null,null,"",""]
[null,null,null,null,null,null,null,null,null,null,null,null,null,null,null,null,null,null,null,null,null,null,null,null,null,null,null,null,null,null,null,null,null,null,null,null,null,null,null,null,null,null,null,null,null,null,null,null,null,null,null,null,null,null,"",""]
[null,null,null,null,null,null,null,null,null,null,null,null,null,null,null,null,null,null,null,null,null,null,null,null,null,null,null,null,null,null,null,null,null,null,null,null,null,null,null,null,null,null,null,null,null,null,null,null,null,null,null,null,null,null,"",""]
[null,null,null,null,null,null,null,null,null,null,null,null,null,null,null,null,null,null,null,null,null,null,null,null,null,null,null,null,null,null,null,null,null,null,null,null,null,null,null,null,null,null,null,null,null,null,null,null,null,null,null,null,null,null,"",""]
[null,null,null,null,null,null,null,null,null,null,null,null,null,null,null,null,null,null,null,null,null,null,null,null,null,null,null,null,null,null,null,null,null,null,null,null,null,null,null,null,null,null,null,null,null,null,null,null,null,null,null,null,null,null,"",""]
[null,null,null,null,null,null,null,null,null,null,null,null,null,null,null,null,null,null,null,null,null,null,null,null,null,null,null,null,null,null,null,null,null,null,null,null,null,null,null,null,null,null,null,null,null,null,null,null,null,null,null,null,null,null,"",""]
[null,null,null,null,null,null,null,null,null,null,null,null,null,null,null,null,null,null,null,null,null,null,null,null,null,null,null,null,null,null,null,null,null,null,null,null,null,null,null,null,null,null,null,null,null,null,null,null,null,null,null,null,null,null,"",""]
[null,null,null,null,null,null,null,null,null,null,null,null,null,null,null,null,null,null,null,null,null,null,null,null,null,null,null,null,null,null,null,null,null,null,null,null,null,null,null,null,null,null,null,null,null,null,null,null,null,null,null,null,null,null,"",""]
[null,null,null,null,null,null,null,null,null,null,null,null,null,null,null,null,null,null,null,null,null,null,null,null,null,null,null,null,null,null,null,null,null,null,null,null,null,null,null,null,null,null,null,null,null,null,null,null,null,null,null,null,null,null,"",""]
[null,null,null,null,null,null,null,null,null,null,null,null,null,null,null,null,null,null,null,null,null,null,null,null,null,null,null,null,null,null,null,null,null,null,null,null,null,null,null,null,null,null,null,null,null,null,null,null,null,null,null,null,null,null,"",""]
[null,null,null,null,null,null,null,null,null,null,null,null,null,null,null,null,null,null,null,null,null,null,null,null,null,null,null,null,null,null,null,null,null,null,null,null,null,null,null,null,null,null,null,null,null,null,null,null,null,null,null,null,null,null,"",""]
[null,null,null,null,null,null,null,null,null,null,null,null,null,null,null,null,null,null,null,null,null,null,null,null,null,null,null,null,null,null,null,null,null,null,null,null,null,null,null,null,null,null,null,null,null,null,null,null,null,null,null,null,null,null,"",""]
[null,null,null,null,null,null,null,null,null,null,null,null,null,null,null,null,null,null,null,null,null,null,null,null,null,null,null,null,null,null,null,null,null,null,null,null,null,null,null,null,null,null,null,null,null,null,null,null,null,null,null,null,null,null,"",""]
[null,null,null,null,null,null,null,null,null,null,null,null,null,null,null,null,null,null,null,null,null,null,null,null,null,null,null,null,null,null,null,null,null,null,null,null,null,null,null,null,null,null,null,null,null,null,null,null,null,null,null,null,null,null,{"$f":"IF($A451=\"\",\"\",$B451)","v":""},{"$f":"IF($A451=\"\",\"\",B451&AR451)","v":""}]
[null,null,null,null,null,null,null,null,null,null,null,null,null,null,null,null,null,null,null,null,null,null,null,null,null,null,null,null,null,null,null,null,null,null,null,null,null,null,null,null,null,null,null,null,null,null,null,null,null,null,null,null,null,null,"",""]
[null,null,null,null,null,null,null,null,null,null,null,null,null,null,null,null,null,null,null,null,null,null,null,null,null,null,null,null,null,null,null,null,null,null,null,null,null,null,null,null,null,null,null,null,null,null,null,null,null,null,null,null,null,null,"",""]
[null,null,null,null,null,null,null,null,null,null,null,null,null,null,null,null,null,null,null,null,null,null,null,null,null,null,null,null,null,null,null,null,null,null,null,null,null,null,null,null,null,null,null,null,null,null,null,null,null,null,null,null,null,null,"",""]
[null,null,null,null,null,null,null,null,null,null,null,null,null,null,null,null,null,null,null,null,null,null,null,null,null,null,null,null,null,null,null,null,null,null,null,null,null,null,null,null,null,null,null,null,null,null,null,null,null,null,null,null,null,null,"",""]
[null,null,null,null,null,null,null,null,null,null,null,null,null,null,null,null,null,null,null,null,null,null,null,null,null,null,null,null,null,null,null,null,null,null,null,null,null,null,null,null,null,null,null,null,null,null,null,null,null,null,null,null,null,null,"",""]
[null,null,null,null,null,null,null,null,null,null,null,null,null,null,null,null,null,null,null,null,null,null,null,null,null,null,null,null,null,null,null,null,null,null,null,null,null,null,null,null,null,null,null,null,null,null,null,null,null,null,null,null,null,null,"",""]
[null,null,null,null,null,null,null,null,null,null,null,null,null,null,null,null,null,null,null,null,null,null,null,null,null,null,null,null,null,null,null,null,null,null,null,null,null,null,null,null,null,null,null,null,null,null,null,null,null,null,null,null,null,null,"",""]
[null,null,null,null,null,null,null,null,null,null,null,null,null,null,null,null,null,null,null,null,null,null,null,null,null,null,null,null,null,null,null,null,null,null,null,null,null,null,null,null,null,null,null,null,null,null,null,null,null,null,null,null,null,null,"",""]
[null,null,null,null,null,null,null,null,null,null,null,null,null,null,null,null,null,null,null,null,null,null,null,null,null,null,null,null,null,null,null,null,null,null,null,null,null,null,null,null,null,null,null,null,null,null,null,null,null,null,null,null,null,null,"",""]
[null,null,null,null,null,null,null,null,null,null,null,null,null,null,null,null,null,null,null,null,null,null,null,null,null,null,null,null,null,null,null,null,null,null,null,null,null,null,null,null,null,null,null,null,null,null,null,null,null,null,null,null,null,null,"",""]
[null,null,null,null,null,null,null,null,null,null,null,null,null,null,null,null,null,null,null,null,null,null,null,null,null,null,null,null,null,null,null,null,null,null,null,null,null,null,null,null,null,null,null,null,null,null,null,null,null,null,null,null,null,null,"",""]
[null,null,null,null,null,null,null,null,null,null,null,null,null,null,null,null,null,null,null,null,null,null,null,null,null,null,null,null,null,null,null,null,null,null,null,null,null,null,null,null,null,null,null,null,null,null,null,null,null,null,null,null,null,null,"",""]
[null,null,null,null,null,null,null,null,null,null,null,null,null,null,null,null,null,null,null,null,null,null,null,null,null,null,null,null,null,null,null,null,null,null,null,null,null,null,null,null,null,null,null,null,null,null,null,null,null,null,null,null,null,null,"",""]
[null,null,null,null,null,null,null,null,null,null,null,null,null,null,null,null,null,null,null,null,null,null,null,null,null,null,null,null,null,null,null,null,null,null,null,null,null,null,null,null,null,null,null,null,null,null,null,null,null,null,null,null,null,null,"",""]
[null,null,null,null,null,null,null,null,null,null,null,null,null,null,null,null,null,null,null,null,null,null,null,null,null,null,null,null,null,null,null,null,null,null,null,null,null,null,null,null,null,null,null,null,null,null,null,null,null,null,null,null,null,null,"",""]
[null,null,null,null,null,null,null,null,null,null,null,null,null,null,null,null,null,null,null,null,null,null,null,null,null,null,null,null,null,null,null,null,null,null,null,null,null,null,null,null,null,null,null,null,null,null,null,null,null,null,null,null,null,null,"",""]
[null,null,null,null,null,null,null,null,null,null,null,null,null,null,null,null,null,null,null,null,null,null,null,null,null,null,null,null,null,null,null,null,null,null,null,null,null,null,null,null,null,null,null,null,null,null,null,null,null,null,null,null,null,null,"",""]
[null,null,null,null,null,null,null,null,null,null,null,null,null,null,null,null,null,null,null,null,null,null,null,null,null,null,null,null,null,null,null,null,null,null,null,null,null,null,null,null,null,null,null,null,null,null,null,null,null,null,null,null,null,null,"",""]
[null,null,null,null,null,null,null,null,null,null,null,null,null,null,null,null,null,null,null,null,null,null,null,null,null,null,null,null,null,null,null,null,null,null,null,null,null,null,null,null,null,null,null,null,null,null,null,null,null,null,null,null,null,null,"",""]
[null,null,null,null,null,null,null,null,null,null,null,null,null,null,null,null,null,null,null,null,null,null,null,null,null,null,null,null,null,null,null,null,null,null,null,null,null,null,null,null,null,null,null,null,null,null,null,null,null,null,null,null,null,null,"",""]
[null,null,null,null,null,null,null,null,null,null,null,null,null,null,null,null,null,null,null,null,null,null,null,null,null,null,null,null,null,null,null,null,null,null,null,null,null,null,null,null,null,null,null,null,null,null,null,null,null,null,null,null,null,null,"",""]
[null,null,null,null,null,null,null,null,null,null,null,null,null,null,null,null,null,null,null,null,null,null,null,null,null,null,null,null,null,null,null,null,null,null,null,null,null,null,null,null,null,null,null,null,null,null,null,null,null,null,null,null,null,null,"",""]
[null,null,null,null,null,null,null,null,null,null,null,null,null,null,null,null,null,null,null,null,null,null,null,null,null,null,null,null,null,null,null,null,null,null,null,null,null,null,null,null,null,null,null,null,null,null,null,null,null,null,null,null,null,null,"",""]
[null,null,null,null,null,null,null,null,null,null,null,null,null,null,null,null,null,null,null,null,null,null,null,null,null,null,null,null,null,null,null,null,null,null,null,null,null,null,null,null,null,null,null,null,null,null,null,null,null,null,null,null,null,null,"",""]
[null,null,null,null,null,null,null,null,null,null,null,null,null,null,null,null,null,null,null,null,null,null,null,null,null,null,null,null,null,null,null,null,null,null,null,null,null,null,null,null,null,null,null,null,null,null,null,null,null,null,null,null,null,null,"",""]
[null,null,null,null,null,null,null,null,null,null,null,null,null,null,null,null,null,null,null,null,null,null,null,null,null,null,null,null,null,null,null,null,null,null,null,null,null,null,null,null,null,null,null,null,null,null,null,null,null,null,null,null,null,null,"",""]
[null,null,null,null,null,null,null,null,null,null,null,null,null,null,null,null,null,null,null,null,null,null,null,null,null,null,null,null,null,null,null,null,null,null,null,null,null,null,null,null,null,null,null,null,null,null,null,null,null,null,null,null,null,null,"",""]
[null,null,null,null,null,null,null,null,null,null,null,null,null,null,null,null,null,null,null,null,null,null,null,null,null,null,null,null,null,null,null,null,null,null,null,null,null,null,null,null,null,null,null,null,null,null,null,null,null,null,null,null,null,null,"",""]
[null,null,null,null,null,null,null,null,null,null,null,null,null,null,null,null,null,null,null,null,null,null,null,null,null,null,null,null,null,null,null,null,null,null,null,null,null,null,null,null,null,null,null,null,null,null,null,null,null,null,null,null,null,null,"",""]
[null,null,null,null,null,null,null,null,null,null,null,null,null,null,null,null,null,null,null,null,null,null,null,null,null,null,null,null,null,null,null,null,null,null,null,null,null,null,null,null,null,null,null,null,null,null,null,null,null,null,null,null,null,null,"",""]
[null,null,null,null,null,null,null,null,null,null,null,null,null,null,null,null,null,null,null,null,null,null,null,null,null,null,null,null,null,null,null,null,null,null,null,null,null,null,null,null,null,null,null,null,null,null,null,null,null,null,null,null,null,null,"",""]
[null,null,null,null,null,null,null,null,null,null,null,null,null,null,null,null,null,null,null,null,null,null,null,null,null,null,null,null,null,null,null,null,null,null,null,null,null,null,null,null,null,null,null,null,null,null,null,null,null,null,null,null,null,null,"",""]
[null,null,null,null,null,null,null,null,null,null,null,null,null,null,null,null,null,null,null,null,null,null,null,null,null,null,null,null,null,null,null,null,null,null,null,null,null,null,null,null,null,null,null,null,null,null,null,null,null,null,null,null,null,null,"",""]
[null,null,null,null,null,null,null,null,null,null,null,null,null,null,null,null,null,null,null,null,null,null,null,null,null,null,null,null,null,null,null,null,null,null,null,null,null,null,null,null,null,null,null,null,null,null,null,null,null,null,null,null,null,null,"",""]
[null,null,null,null,null,null,null,null,null,null,null,null,null,null,null,null,null,null,null,null,null,null,null,null,null,null,null,null,null,null,null,null,null,null,null,null,null,null,null,null,null,null,null,null,null,null,null,null,null,null,null,null,null,null,"",""]
[null,null,null,null,null,null,null,null,null,null,null,null,null,null,null,null,null,null,null,null,null,null,null,null,null,null,null,null,null,null,null,null,null,null,null,null,null,null,null,null,null,null,null,null,null,null,null,null,null,null,null,null,null,null,"",""]
[null,null,null,null,null,null,null,null,null,null,null,null,null,null,null,null,null,null,null,null,null,null,null,null,null,null,null,null,null,null,null,null,null,null,null,null,null,null,null,null,null,null,null,null,null,null,null,null,null,null,null,null,null,null,"",""]
[null,null,null,null,null,null,null,null,null,null,null,null,null,null,null,null,null,null,null,null,null,null,null,null,null,null,null,null,null,null,null,null,null,null,null,null,null,null,null,null,null,null,null,null,null,null,null,null,null,null,null,null,null,null,"",""]
[null,null,null,null,null,null,null,null,null,null,null,null,null,null,null,null,null,null,null,null,null,null,null,null,null,null,null,null,null,null,null,null,null,null,null,null,null,null,null,null,null,null,null,null,null,null,null,null,null,null,null,null,null,null,"",""]
[null,null,null,null,null,null,null,null,null,null,null,null,null,null,null,null,null,null,null,null,null,null,null,null,null,null,null,null,null,null,null,null,null,null,null,null,null,null,null,null,null,null,null,null,null,null,null,null,null,null,null,null,null,null,"",""]
[null,null,null,null,null,null,null,null,null,null,null,null,null,null,null,null,null,null,null,null,null,null,null,null,null,null,null,null,null,null,null,null,null,null,null,null,null,null,null,null,null,null,null,null,null,null,null,null,null,null,null,null,null,null,"",""]
[null,null,null,null,null,null,null,null,null,null,null,null,null,null,null,null,null,null,null,null,null,null,null,null,null,null,null,null,null,null,null,null,null,null,null,null,null,null,null,null,null,null,null,null,null,null,null,null,null,null,null,null,null,null,"",""]
[null,null,null,null,null,null,null,null,null,null,null,null,null,null,null,null,null,null,null,null,null,null,null,null,null,null,null,null,null,null,null,null,null,null,null,null,null,null,null,null,null,null,null,null,null,null,null,null,null,null,null,null,null,null,"",""]
[null,null,null,null,null,null,null,null,null,null,null,null,null,null,null,null,null,null,null,null,null,null,null,null,null,null,null,null,null,null,null,null,null,null,null,null,null,null,null,null,null,null,null,null,null,null,null,null,null,null,null,null,null,null,"",""]
[null,null,null,null,null,null,null,null,null,null,null,null,null,null,null,null,null,null,null,null,null,null,null,null,null,null,null,null,null,null,null,null,null,null,null,null,null,null,null,null,null,null,null,null,null,null,null,null,null,null,null,null,null,null,"",""]
[null,null,null,null,null,null,null,null,null,null,null,null,null,null,null,null,null,null,null,null,null,null,null,null,null,null,null,null,null,null,null,null,null,null,null,null,null,null,null,null,null,null,null,null,null,null,null,null,null,null,null,null,null,null,"",""]
[null,null,null,null,null,null,null,null,null,null,null,null,null,null,null,null,null,null,null,null,null,null,null,null,null,null,null,null,null,null,null,null,null,null,null,null,null,null,null,null,null,null,null,null,null,null,null,null,null,null,null,null,null,null,"",""]
[null,null,null,null,null,null,null,null,null,null,null,null,null,null,null,null,null,null,null,null,null,null,null,null,null,null,null,null,null,null,null,null,null,null,null,null,null,null,null,null,null,null,null,null,null,null,null,null,null,null,null,null,null,null,"",""]
[null,null,null,null,null,null,null,null,null,null,null,null,null,null,null,null,null,null,null,null,null,null,null,null,null,null,null,null,null,null,null,null,null,null,null,null,null,null,null,null,null,null,null,null,null,null,null,null,null,null,null,null,null,null,"",""]
[null,null,null,null,null,null,null,null,null,null,null,null,null,null,null,null,null,null,null,null,null,null,null,null,null,null,null,null,null,null,null,null,null,null,null,null,null,null,null,null,null,null,null,null,null,null,null,null,null,null,null,null,null,null,"",""]
[null,null,null,null,null,null,null,null,null,null,null,null,null,null,null,null,null,null,null,null,null,null,null,null,null,null,null,null,null,null,null,null,null,null,null,null,null,null,null,null,null,null,null,null,null,null,null,null,null,null,null,null,null,null,"",""]
[null,null,null,null,null,null,null,null,null,null,null,null,null,null,null,null,null,null,null,null,null,null,null,null,null,null,null,null,null,null,null,null,null,null,null,null,null,null,null,null,null,null,null,null,null,null,null,null,null,null,null,null,null,null,"",""]
[null,null,null,null,null,null,null,null,null,null,null,null,null,null,null,null,null,null,null,null,null,null,null,null,null,null,null,null,null,null,null,null,null,null,null,null,null,null,null,null,null,null,null,null,null,null,null,null,null,null,null,null,null,null,"",""]
[null,null,null,null,null,null,null,null,null,null,null,null,null,null,null,null,null,null,null,null,null,null,null,null,null,null,null,null,null,null,null,null,null,null,null,null,null,null,null,null,null,null,null,null,null,null,null,null,null,null,null,null,null,null,"",""]
[null,null,null,null,null,null,null,null,null,null,null,null,null,null,null,null,null,null,null,null,null,null,null,null,null,null,null,null,null,null,null,null,null,null,null,null,null,null,null,null,null,null,null,null,null,null,null,null,null,null,null,null,null,null,"",""]
[null,null,null,null,null,null,null,null,null,null,null,null,null,null,null,null,null,null,null,null,null,null,null,null,null,null,null,null,null,null,null,null,null,null,null,null,null,null,null,null,null,null,null,null,null,null,null,null,null,null,null,null,null,null,"",""]
[null,null,null,null,null,null,null,null,null,null,null,null,null,null,null,null,null,null,null,null,null,null,null,null,null,null,null,null,null,null,null,null,null,null,null,null,null,null,null,null,null,null,null,null,null,null,null,null,null,null,null,null,null,null,"",""]
[null,null,null,null,null,null,null,null,null,null,null,null,null,null,null,null,null,null,null,null,null,null,null,null,null,null,null,null,null,null,null,null,null,null,null,null,null,null,null,null,null,null,null,null,null,null,null,null,null,null,null,null,null,null,"",""]
[null,null,null,null,null,null,null,null,null,null,null,null,null,null,null,null,null,null,null,null,null,null,null,null,null,null,null,null,null,null,null,null,null,null,null,null,null,null,null,null,null,null,null,null,null,null,null,null,null,null,null,null,null,null,"",""]
[null,null,null,null,null,null,null,null,null,null,null,null,null,null,null,null,null,null,null,null,null,null,null,null,null,null,null,null,null,null,null,null,null,null,null,null,null,null,null,null,null,null,null,null,null,null,null,null,null,null,null,null,null,null,"",""]
[null,null,null,null,null,null,null,null,null,null,null,null,null,null,null,null,null,null,null,null,null,null,null,null,null,null,null,null,null,null,null,null,null,null,null,null,null,null,null,null,null,null,null,null,null,null,null,null,null,null,null,null,null,null,"",""]
[null,null,null,null,null,null,null,null,null,null,null,null,null,null,null,null,null,null,null,null,null,null,null,null,null,null,null,null,null,null,null,null,null,null,null,null,null,null,null,null,null,null,null,null,null,null,null,null,null,null,null,null,null,null,"",""]
[null,null,null,null,null,null,null,null,null,null,null,null,null,null,null,null,null,null,null,null,null,null,null,null,null,null,null,null,null,null,null,null,null,null,null,null,null,null,null,null,null,null,null,null,null,null,null,null,null,null,null,null,null,null,"",""]
[null,null,null,null,null,null,null,null,null,null,null,null,null,null,null,null,null,null,null,null,null,null,null,null,null,null,null,null,null,null,null,null,null,null,null,null,null,null,null,null,null,null,null,null,null,null,null,null,null,null,null,null,null,null,"",""]
[null,null,null,null,null,null,null,null,null,null,null,null,null,null,null,null,null,null,null,null,null,null,null,null,null,null,null,null,null,null,null,null,null,null,null,null,null,null,null,null,null,null,null,null,null,null,null,null,null,null,null,null,null,null,"",""]
[null,null,null,null,null,null,null,null,null,null,null,null,null,null,null,null,null,null,null,null,null,null,null,null,null,null,null,null,null,null,null,null,null,null,null,null,null,null,null,null,null,null,null,null,null,null,null,null,null,null,null,null,null,null,"",""]
[null,null,null,null,null,null,null,null,null,null,null,null,null,null,null,null,null,null,null,null,null,null,null,null,null,null,null,null,null,null,null,null,null,null,null,null,null,null,null,null,null,null,null,null,null,null,null,null,null,null,null,null,null,null,"",""]
[null,null,null,null,null,null,null,null,null,null,null,null,null,null,null,null,null,null,null,null,null,null,null,null,null,null,null,null,null,null,null,null,null,null,null,null,null,null,null,null,null,null,null,null,null,null,null,null,null,null,null,null,null,null,"",""]
[null,null,null,null,null,null,null,null,null,null,null,null,null,null,null,null,null,null,null,null,null,null,null,null,null,null,null,null,null,null,null,null,null,null,null,null,null,null,null,null,null,null,null,null,null,null,null,null,null,null,null,null,null,null,"",""]
[null,null,null,null,null,null,null,null,null,null,null,null,null,null,null,null,null,null,null,null,null,null,null,null,null,null,null,null,null,null,null,null,null,null,null,null,null,null,null,null,null,null,null,null,null,null,null,null,null,null,null,null,null,null,"",""]
[null,null,null,null,null,null,null,null,null,null,null,null,null,null,null,null,null,null,null,null,null,null,null,null,null,null,null,null,null,null,null,null,null,null,null,null,null,null,null,null,null,null,null,null,null,null,null,null,null,null,null,null,null,null,"",""]
[null,null,null,null,null,null,null,null,null,null,null,null,null,null,null,null,null,null,null,null,null,null,null,null,null,null,null,null,null,null,null,null,null,null,null,null,null,null,null,null,null,null,null,null,null,null,null,null,null,null,null,null,null,null,"",""]
[null,null,null,null,null,null,null,null,null,null,null,null,null,null,null,null,null,null,null,null,null,null,null,null,null,null,null,null,null,null,null,null,null,null,null,null,null,null,null,null,null,null,null,null,null,null,null,null,null,null,null,null,null,null,"",""]
[null,null,null,null,null,null,null,null,null,null,null,null,null,null,null,null,null,null,null,null,null,null,null,null,null,null,null,null,null,null,null,null,null,null,null,null,null,null,null,null,null,null,null,null,null,null,null,null,null,null,null,null,null,null,"",""]
[null,null,null,null,null,null,null,null,null,null,null,null,null,null,null,null,null,null,null,null,null,null,null,null,null,null,null,null,null,null,null,null,null,null,null,null,null,null,null,null,null,null,null,null,null,null,null,null,null,null,null,null,null,null,"",""]
[null,null,null,null,null,null,null,null,null,null,null,null,null,null,null,null,null,null,null,null,null,null,null,null,null,null,null,null,null,null,null,null,null,null,null,null,null,null,null,null,null,null,null,null,null,null,null,null,null,null,null,null,null,null,"",""]
[null,null,null,null,null,null,null,null,null,null,null,null,null,null,null,null,null,null,null,null,null,null,null,null,null,null,null,null,null,null,null,null,null,null,null,null,null,null,null,null,null,null,null,null,null,null,null,null,null,null,null,null,null,null,"",""]
[null,null,null,null,null,null,null,null,null,null,null,null,null,null,null,null,null,null,null,null,null,null,null,null,null,null,null,null,null,null,null,null,null,null,null,null,null,null,null,null,null,null,null,null,null,null,null,null,null,null,null,null,null,null,"",""]
[null,null,null,null,null,null,null,null,null,null,null,null,null,null,null,null,null,null,null,null,null,null,null,null,null,null,null,null,null,null,null,null,null,null,null,null,null,null,null,null,null,null,null,null,null,null,null,null,null,null,null,null,null,null,"",""]
[null,null,null,null,null,null,null,null,null,null,null,null,null,null,null,null,null,null,null,null,null,null,null,null,null,null,null,null,null,null,null,null,null,null,null,null,null,null,null,null,null,null,null,null,null,null,null,null,null,null,null,null,null,null,"",""]
[null,null,null,null,null,null,null,null,null,null,null,null,null,null,null,null,null,null,null,null,null,null,null,null,null,null,null,null,null,null,null,null,null,null,null,null,null,null,null,null,null,null,null,null,null,null,null,null,null,null,null,null,null,null,"",""]
[null,null,null,null,null,null,null,null,null,null,null,null,null,null,null,null,null,null,null,null,null,null,null,null,null,null,null,null,null,null,null,null,null,null,null,null,null,null,null,null,null,null,null,null,null,null,null,null,null,null,null,null,null,null,"",""]
[null,null,null,null,null,null,null,null,null,null,null,null,null,null,null,null,null,null,null,null,null,null,null,null,null,null,null,null,null,null,null,null,null,null,null,null,null,null,null,null,null,null,null,null,null,null,null,null,null,null,null,null,null,null,"",""]
[null,null,null,null,null,null,null,null,null,null,null,null,null,null,null,null,null,null,null,null,null,null,null,null,null,null,null,null,null,null,null,null,null,null,null,null,null,null,null,null,null,null,null,null,null,null,null,null,null,null,null,null,null,null,"",""]
[null,null,null,null,null,null,null,null,null,null,null,null,null,null,null,null,null,null,null,null,null,null,null,null,null,null,null,null,null,null,null,null,null,null,null,null,null,null,null,null,null,null,null,null,null,null,null,null,null,null,null,null,null,null,"",""]
[null,null,null,null,null,null,null,null,null,null,null,null,null,null,null,null,null,null,null,null,null,null,null,null,null,null,null,null,null,null,null,null,null,null,null,null,null,null,null,null,null,null,null,null,null,null,null,null,null,null,null,null,null,null,"",""]
[null,null,null,null,null,null,null,null,null,null,null,null,null,null,null,null,null,null,null,null,null,null,null,null,null,null,null,null,null,null,null,null,null,null,null,null,null,null,null,null,null,null,null,null,null,null,null,null,null,null,null,null,null,null,"",""]
[null,null,null,null,null,null,null,null,null,null,null,null,null,null,null,null,null,null,null,null,null,null,null,null,null,null,null,null,null,null,null,null,null,null,null,null,null,null,null,null,null,null,null,null,null,null,null,null,null,null,null,null,null,null,"",""]
[null,null,null,null,null,null,null,null,null,null,null,null,null,null,null,null,null,null,null,null,null,null,null,null,null,null,null,null,null,null,null,null,null,null,null,null,null,null,null,null,null,null,null,null,null,null,null,null,null,null,null,null,null,null,"",""]
[null,null,null,null,null,null,null,null,null,null,null,null,null,null,null,null,null,null,null,null,null,null,null,null,null,null,null,null,null,null,null,null,null,null,null,null,null,null,null,null,null,null,null,null,null,null,null,null,null,null,null,null,null,null,"",""]
[null,null,null,null,null,null,null,null,null,null,null,null,null,null,null,null,null,null,null,null,null,null,null,null,null,null,null,null,null,null,null,null,null,null,null,null,null,null,null,null,null,null,null,null,null,null,null,null,null,null,null,null,null,null,"",""]
[null,null,null,null,null,null,null,null,null,null,null,null,null,null,null,null,null,null,null,null,null,null,null,null,null,null,null,null,null,null,null,null,null,null,null,null,null,null,null,null,null,null,null,null,null,null,null,null,null,null,null,null,null,null,"",""]
[null,null,null,null,null,null,null,null,null,null,null,null,null,null,null,null,null,null,null,null,null,null,null,null,null,null,null,null,null,null,null,null,null,null,null,null,null,null,null,null,null,null,null,null,null,null,null,null,null,null,null,null,null,null,"",""]
[null,null,null,null,null,null,null,null,null,null,null,null,null,null,null,null,null,null,null,null,null,null,null,null,null,null,null,null,null,null,null,null,null,null,null,null,null,null,null,null,null,null,null,null,null,null,null,null,null,null,null,null,null,null,"",""]
[null,null,null,null,null,null,null,null,null,null,null,null,null,null,null,null,null,null,null,null,null,null,null,null,null,null,null,null,null,null,null,null,null,null,null,null,null,null,null,null,null,null,null,null,null,null,null,null,null,null,null,null,null,null,"",""]
[null,null,null,null,null,null,null,null,null,null,null,null,null,null,null,null,null,null,null,null,null,null,null,null,null,null,null,null,null,null,null,null,null,null,null,null,null,null,null,null,null,null,null,null,null,null,null,null,null,null,null,null,null,null,"",""]
[null,null,null,null,null,null,null,null,null,null,null,null,null,null,null,null,null,null,null,null,null,null,null,null,null,null,null,null,null,null,null,null,null,null,null,null,null,null,null,null,null,null,null,null,null,null,null,null,null,null,null,null,null,null,"",""]
[null,null,null,null,null,null,null,null,null,null,null,null,null,null,null,null,null,null,null,null,null,null,null,null,null,null,null,null,null,null,null,null,null,null,null,null,null,null,null,null,null,null,null,null,null,null,null,null,null,null,null,null,null,null,"",""]
[null,null,null,null,null,null,null,null,null,null,null,null,null,null,null,null,null,null,null,null,null,null,null,null,null,null,null,null,null,null,null,null,null,null,null,null,null,null,null,null,null,null,null,null,null,null,null,null,null,null,null,null,null,null,"",""]
[null,null,null,null,null,null,null,null,null,null,null,null,null,null,null,null,null,null,null,null,null,null,null,null,null,null,null,null,null,null,null,null,null,null,null,null,null,null,null,null,null,null,null,null,null,null,null,null,null,null,null,null,null,null,"",""]
[null,null,null,null,null,null,null,null,null,null,null,null,null,null,null,null,null,null,null,null,null,null,null,null,null,null,null,null,null,null,null,null,null,null,null,null,null,null,null,null,null,null,null,null,null,null,null,null,null,null,null,null,null,null,"",""]
[null,null,null,null,null,null,null,null,null,null,null,null,null,null,null,null,null,null,null,null,null,null,null,null,null,null,null,null,null,null,null,null,null,null,null,null,null,null,null,null,null,null,null,null,null,null,null,null,null,null,null,null,null,null,"",""]
[null,null,null,null,null,null,null,null,null,null,null,null,null,null,null,null,null,null,null,null,null,null,null,null,null,null,null,null,null,null,null,null,null,null,null,null,null,null,null,null,null,null,null,null,null,null,null,null,null,null,null,null,null,null,"",""]
[null,null,null,null,null,null,null,null,null,null,null,null,null,null,null,null,null,null,null,null,null,null,null,null,null,null,null,null,null,null,null,null,null,null,null,null,null,null,null,null,null,null,null,null,null,null,null,null,null,null,null,null,null,null,"",""]
[null,null,null,null,null,null,null,null,null,null,null,null,null,null,null,null,null,null,null,null,null,null,null,null,null,null,null,null,null,null,null,null,null,null,null,null,null,null,null,null,null,null,null,null,null,null,null,null,null,null,null,null,null,null,"",""]
[null,null,null,null,null,null,null,null,null,null,null,null,null,null,null,null,null,null,null,null,null,null,null,null,null,null,null,null,null,null,null,null,null,null,null,null,null,null,null,null,null,null,null,null,null,null,null,null,null,null,null,null,null,null,"",""]
[null,null,null,null,null,null,null,null,null,null,null,null,null,null,null,null,null,null,null,null,null,null,null,null,null,null,null,null,null,null,null,null,null,null,null,null,null,null,null,null,null,null,null,null,null,null,null,null,null,null,null,null,null,null,"",""]
[null,null,null,null,null,null,null,null,null,null,null,null,null,null,null,null,null,null,null,null,null,null,null,null,null,null,null,null,null,null,null,null,null,null,null,null,null,null,null,null,null,null,null,null,null,null,null,null,null,null,null,null,null,null,"",""]
[null,null,null,null,null,null,null,null,null,null,null,null,null,null,null,null,null,null,null,null,null,null,null,null,null,null,null,null,null,null,null,null,null,null,null,null,null,null,null,null,null,null,null,null,null,null,null,null,null,null,null,null,null,null,"",""]
[null,null,null,null,null,null,null,null,null,null,null,null,null,null,null,null,null,null,null,null,null,null,null,null,null,null,null,null,null,null,null,null,null,null,null,null,null,null,null,null,null,null,null,null,null,null,null,null,null,null,null,null,null,null,"",""]
[null,null,null,null,null,null,null,null,null,null,null,null,null,null,null,null,null,null,null,null,null,null,null,null,null,null,null,null,null,null,null,null,null,null,null,null,null,null,null,null,null,null,null,null,null,null,null,null,null,null,null,null,null,null,"",""]
[null,null,null,null,null,null,null,null,null,null,null,null,null,null,null,null,null,null,null,null,null,null,null,null,null,null,null,null,null,null,null,null,null,null,null,null,null,null,null,null,null,null,null,null,null,null,null,null,null,null,null,null,null,null,"",""]
[null,null,null,null,null,null,null,null,null,null,null,null,null,null,null,null,null,null,null,null,null,null,null,null,null,null,null,null,null,null,null,null,null,null,null,null,null,null,null,null,null,null,null,null,null,null,null,null,null,null,null,null,null,null,"",""]
[null,null,null,null,null,null,null,null,null,null,null,null,null,null,null,null,null,null,null,null,null,null,null,null,null,null,null,null,null,null,null,null,null,null,null,null,null,null,null,null,null,null,null,null,null,null,null,null,null,null,null,null,null,null,"",""]
[null,null,null,null,null,null,null,null,null,null,null,null,null,null,null,null,null,null,null,null,null,null,null,null,null,null,null,null,null,null,null,null,null,null,null,null,null,null,null,null,null,null,null,null,null,null,null,null,null,null,null,null,null,null,{"$f":"IF($A1731=\"\",\"\",$B1731)","v":""},{"$f":"IF($A1731=\"\",\"\",B1731&AR1731)","v":""}]
[null,null,null,null,null,null,null,null,null,null,null,null,null,null,null,null,null,null,null,null,null,null,null,null,null,null,null,null,null,null,null,null,null,null,null,null,null,null,null,null,null,null,null,null,null,null,null,null,null,null,null,null,null,null,"",""]
[null,null,null,null,null,null,null,null,null,null,null,null,null,null,null,null,null,null,null,null,null,null,null,null,null,null,null,null,null,null,null,null,null,null,null,null,null,null,null,null,null,null,null,null,null,null,null,null,null,null,null,null,null,null,"",""]
[null,null,null,null,null,null,null,null,null,null,null,null,null,null,null,null,null,null,null,null,null,null,null,null,null,null,null,null,null,null,null,null,null,null,null,null,null,null,null,null,null,null,null,null,null,null,null,null,null,null,null,null,null,null,"",""]
[null,null,null,null,null,null,null,null,null,null,null,null,null,null,null,null,null,null,null,null,null,null,null,null,null,null,null,null,null,null,null,null,null,null,null,null,null,null,null,null,null,null,null,null,null,null,null,null,null,null,null,null,null,null,"",""]
[null,null,null,null,null,null,null,null,null,null,null,null,null,null,null,null,null,null,null,null,null,null,null,null,null,null,null,null,null,null,null,null,null,null,null,null,null,null,null,null,null,null,null,null,null,null,null,null,null,null,null,null,null,null,"",""]
[null,null,null,null,null,null,null,null,null,null,null,null,null,null,null,null,null,null,null,null,null,null,null,null,null,null,null,null,null,null,null,null,null,null,null,null,null,null,null,null,null,null,null,null,null,null,null,null,null,null,null,null,null,null,"",""]
[null,null,null,null,null,null,null,null,null,null,null,null,null,null,null,null,null,null,null,null,null,null,null,null,null,null,null,null,null,null,null,null,null,null,null,null,null,null,null,null,null,null,null,null,null,null,null,null,null,null,null,null,null,null,"",""]
[null,null,null,null,null,null,null,null,null,null,null,null,null,null,null,null,null,null,null,null,null,null,null,null,null,null,null,null,null,null,null,null,null,null,null,null,null,null,null,null,null,null,null,null,null,null,null,null,null,null,null,null,null,null,"",""]
[null,null,null,null,null,null,null,null,null,null,null,null,null,null,null,null,null,null,null,null,null,null,null,null,null,null,null,null,null,null,null,null,null,null,null,null,null,null,null,null,null,null,null,null,null,null,null,null,null,null,null,null,null,null,"",""]
[null,null,null,null,null,null,null,null,null,null,null,null,null,null,null,null,null,null,null,null,null,null,null,null,null,null,null,null,null,null,null,null,null,null,null,null,null,null,null,null,null,null,null,null,null,null,null,null,null,null,null,null,null,null,"",""]
[null,null,null,null,null,null,null,null,null,null,null,null,null,null,null,null,null,null,null,null,null,null,null,null,null,null,null,null,null,null,null,null,null,null,null,null,null,null,null,null,null,null,null,null,null,null,null,null,null,null,null,null,null,null,"",""]
[null,null,null,null,null,null,null,null,null,null,null,null,null,null,null,null,null,null,null,null,null,null,null,null,null,null,null,null,null,null,null,null,null,null,null,null,null,null,null,null,null,null,null,null,null,null,null,null,null,null,null,null,null,null,"",""]
[null,null,null,null,null,null,null,null,null,null,null,null,null,null,null,null,null,null,null,null,null,null,null,null,null,null,null,null,null,null,null,null,null,null,null,null,null,null,null,null,null,null,null,null,null,null,null,null,null,null,null,null,null,null,"",""]
[null,null,null,null,null,null,null,null,null,null,null,null,null,null,null,null,null,null,null,null,null,null,null,null,null,null,null,null,null,null,null,null,null,null,null,null,null,null,null,null,null,null,null,null,null,null,null,null,null,null,null,null,null,null,"",""]
[null,null,null,null,null,null,null,null,null,null,null,null,null,null,null,null,null,null,null,null,null,null,null,null,null,null,null,null,null,null,null,null,null,null,null,null,null,null,null,null,null,null,null,null,null,null,null,null,null,null,null,null,null,null,"",""]
[null,null,null,null,null,null,null,null,null,null,null,null,null,null,null,null,null,null,null,null,null,null,null,null,null,null,null,null,null,null,null,null,null,null,null,null,null,null,null,null,null,null,null,null,null,null,null,null,null,null,null,null,null,null,"",""]
[null,null,null,null,null,null,null,null,null,null,null,null,null,null,null,null,null,null,null,null,null,null,null,null,null,null,null,null,null,null,null,null,null,null,null,null,null,null,null,null,null,null,null,null,null,null,null,null,null,null,null,null,null,null,"",""]
[null,null,null,null,null,null,null,null,null,null,null,null,null,null,null,null,null,null,null,null,null,null,null,null,null,null,null,null,null,null,null,null,null,null,null,null,null,null,null,null,null,null,null,null,null,null,null,null,null,null,null,null,null,null,"",""]
[null,null,null,null,null,null,null,null,null,null,null,null,null,null,null,null,null,null,null,null,null,null,null,null,null,null,null,null,null,null,null,null,null,null,null,null,null,null,null,null,null,null,null,null,null,null,null,null,null,null,null,null,null,null,"",""]
[null,null,null,null,null,null,null,null,null,null,null,null,null,null,null,null,null,null,null,null,null,null,null,null,null,null,null,null,null,null,null,null,null,null,null,null,null,null,null,null,null,null,null,null,null,null,null,null,null,null,null,null,null,null,"",""]
[null,null,null,null,null,null,null,null,null,null,null,null,null,null,null,null,null,null,null,null,null,null,null,null,null,null,null,null,null,null,null,null,null,null,null,null,null,null,null,null,null,null,null,null,null,null,null,null,null,null,null,null,null,null,"",""]
[null,null,null,null,null,null,null,null,null,null,null,null,null,null,null,null,null,null,null,null,null,null,null,null,null,null,null,null,null,null,null,null,null,null,null,null,null,null,null,null,null,null,null,null,null,null,null,null,null,null,null,null,null,null,"",""]
[null,null,null,null,null,null,null,null,null,null,null,null,null,null,null,null,null,null,null,null,null,null,null,null,null,null,null,null,null,null,null,null,null,null,null,null,null,null,null,null,null,null,null,null,null,null,null,null,null,null,null,null,null,null,"",""]
[null,null,null,null,null,null,null,null,null,null,null,null,null,null,null,null,null,null,null,null,null,null,null,null,null,null,null,null,null,null,null,null,null,null,null,null,null,null,null,null,null,null,null,null,null,null,null,null,null,null,null,null,null,null,"",""]
[null,null,null,null,null,null,null,null,null,null,null,null,null,null,null,null,null,null,null,null,null,null,null,null,null,null,null,null,null,null,null,null,null,null,null,null,null,null,null,null,null,null,null,null,null,null,null,null,null,null,null,null,null,null,"",""]
[null,null,null,null,null,null,null,null,null,null,null,null,null,null,null,null,null,null,null,null,null,null,null,null,null,null,null,null,null,null,null,null,null,null,null,null,null,null,null,null,null,null,null,null,null,null,null,null,null,null,null,null,null,null,"",""]
[null,null,null,null,null,null,null,null,null,null,null,null,null,null,null,null,null,null,null,null,null,null,null,null,null,null,null,null,null,null,null,null,null,null,null,null,null,null,null,null,null,null,null,null,null,null,null,null,null,null,null,null,null,null,"",""]
[null,null,null,null,null,null,null,null,null,null,null,null,null,null,null,null,null,null,null,null,null,null,null,null,null,null,null,null,null,null,null,null,null,null,null,null,null,null,null,null,null,null,null,null,null,null,null,null,null,null,null,null,null,null,"",""]
[null,null,null,null,null,null,null,null,null,null,null,null,null,null,null,null,null,null,null,null,null,null,null,null,null,null,null,null,null,null,null,null,null,null,null,null,null,null,null,null,null,null,null,null,null,null,null,null,null,null,null,null,null,null,"",""]
[null,null,null,null,null,null,null,null,null,null,null,null,null,null,null,null,null,null,null,null,null,null,null,null,null,null,null,null,null,null,null,null,null,null,null,null,null,null,null,null,null,null,null,null,null,null,null,null,null,null,null,null,null,null,"",""]
[null,null,null,null,null,null,null,null,null,null,null,null,null,null,null,null,null,null,null,null,null,null,null,null,null,null,null,null,null,null,null,null,null,null,null,null,null,null,null,null,null,null,null,null,null,null,null,null,null,null,null,null,null,null,"",""]
[null,null,null,null,null,null,null,null,null,null,null,null,null,null,null,null,null,null,null,null,null,null,null,null,null,null,null,null,null,null,null,null,null,null,null,null,null,null,null,null,null,null,null,null,null,null,null,null,null,null,null,null,null,null,"",""]
[null,null,null,null,null,null,null,null,null,null,null,null,null,null,null,null,null,null,null,null,null,null,null,null,null,null,null,null,null,null,null,null,null,null,null,null,null,null,null,null,null,null,null,null,null,null,null,null,null,null,null,null,null,null,"",""]
[null,null,null,null,null,null,null,null,null,null,null,null,null,null,null,null,null,null,null,null,null,null,null,null,null,null,null,null,null,null,null,null,null,null,null,null,null,null,null,null,null,null,null,null,null,null,null,null,null,null,null,null,null,null,{"$f":"IF($A2371=\"\",\"\",$B2371)","v":""},{"$f":"IF($A2371=\"\",\"\",B2371&AR2371)","v":""}]
[null,null,null,null,null,null,null,null,null,null,null,null,null,null,null,null,null,null,null,null,null,null,null,null,null,null,null,null,null,null,null,null,null,null,null,null,null,null,null,null,null,null,null,null,null,null,null,null,null,null,null,null,null,null,"",""]
[null,null,null,null,null,null,null,null,null,null,null,null,null,null,null,null,null,null,null,null,null,null,null,null,null,null,null,null,null,null,null,null,null,null,null,null,null,null,null,null,null,null,null,null,null,null,null,null,null,null,null,null,null,null,"",""]
[null,null,null,null,null,null,null,null,null,null,null,null,null,null,null,null,null,null,null,null,null,null,null,null,null,null,null,null,null,null,null,null,null,null,null,null,null,null,null,null,null,null,null,null,null,null,null,null,null,null,null,null,null,null,"",""]
[null,null,null,null,null,null,null,null,null,null,null,null,null,null,null,null,null,null,null,null,null,null,null,null,null,null,null,null,null,null,null,null,null,null,null,null,null,null,null,null,null,null,null,null,null,null,null,null,null,null,null,null,null,null,"",""]
[null,null,null,null,null,null,null,null,null,null,null,null,null,null,null,null,null,null,null,null,null,null,null,null,null,null,null,null,null,null,null,null,null,null,null,null,null,null,null,null,null,null,null,null,null,null,null,null,null,null,null,null,null,null,"",""]
[null,null,null,null,null,null,null,null,null,null,null,null,null,null,null,null,null,null,null,null,null,null,null,null,null,null,null,null,null,null,null,null,null,null,null,null,null,null,null,null,null,null,null,null,null,null,null,null,null,null,null,null,null,null,"",""]
[null,null,null,null,null,null,null,null,null,null,null,null,null,null,null,null,null,null,null,null,null,null,null,null,null,null,null,null,null,null,null,null,null,null,null,null,null,null,null,null,null,null,null,null,null,null,null,null,null,null,null,null,null,null,"",""]
[null,null,null,null,null,null,null,null,null,null,null,null,null,null,null,null,null,null,null,null,null,null,null,null,null,null,null,null,null,null,null,null,null,null,null,null,null,null,null,null,null,null,null,null,null,null,null,null,null,null,null,null,null,null,"",""]
[null,null,null,null,null,null,null,null,null,null,null,null,null,null,null,null,null,null,null,null,null,null,null,null,null,null,null,null,null,null,null,null,null,null,null,null,null,null,null,null,null,null,null,null,null,null,null,null,null,null,null,null,null,null,"",""]
[null,null,null,null,null,null,null,null,null,null,null,null,null,null,null,null,null,null,null,null,null,null,null,null,null,null,null,null,null,null,null,null,null,null,null,null,null,null,null,null,null,null,null,null,null,null,null,null,null,null,null,null,null,null,"",""]
[null,null,null,null,null,null,null,null,null,null,null,null,null,null,null,null,null,null,null,null,null,null,null,null,null,null,null,null,null,null,null,null,null,null,null,null,null,null,null,null,null,null,null,null,null,null,null,null,null,null,null,null,null,null,"",""]
[null,null,null,null,null,null,null,null,null,null,null,null,null,null,null,null,null,null,null,null,null,null,null,null,null,null,null,null,null,null,null,null,null,null,null,null,null,null,null,null,null,null,null,null,null,null,null,null,null,null,null,null,null,null,"",""]
[null,null,null,null,null,null,null,null,null,null,null,null,null,null,null,null,null,null,null,null,null,null,null,null,null,null,null,null,null,null,null,null,null,null,null,null,null,null,null,null,null,null,null,null,null,null,null,null,null,null,null,null,null,null,"",""]
[null,null,null,null,null,null,null,null,null,null,null,null,null,null,null,null,null,null,null,null,null,null,null,null,null,null,null,null,null,null,null,null,null,null,null,null,null,null,null,null,null,null,null,null,null,null,null,null,null,null,null,null,null,null,"",""]
[null,null,null,null,null,null,null,null,null,null,null,null,null,null,null,null,null,null,null,null,null,null,null,null,null,null,null,null,null,null,null,null,null,null,null,null,null,null,null,null,null,null,null,null,null,null,null,null,null,null,null,null,null,null,"",""]
[null,null,null,null,null,null,null,null,null,null,null,null,null,null,null,null,null,null,null,null,null,null,null,null,null,null,null,null,null,null,null,null,null,null,null,null,null,null,null,null,null,null,null,null,null,null,null,null,null,null,null,null,null,null,"",""]
[null,null,null,null,null,null,null,null,null,null,null,null,null,null,null,null,null,null,null,null,null,null,null,null,null,null,null,null,null,null,null,null,null,null,null,null,null,null,null,null,null,null,null,null,null,null,null,null,null,null,null,null,null,null,"",""]
[null,null,null,null,null,null,null,null,null,null,null,null,null,null,null,null,null,null,null,null,null,null,null,null,null,null,null,null,null,null,null,null,null,null,null,null,null,null,null,null,null,null,null,null,null,null,null,null,null,null,null,null,null,null,"",""]
[null,null,null,null,null,null,null,null,null,null,null,null,null,null,null,null,null,null,null,null,null,null,null,null,null,null,null,null,null,null,null,null,null,null,null,null,null,null,null,null,null,null,null,null,null,null,null,null,null,null,null,null,null,null,"",""]
[null,null,null,null,null,null,null,null,null,null,null,null,null,null,null,null,null,null,null,null,null,null,null,null,null,null,null,null,null,null,null,null,null,null,null,null,null,null,null,null,null,null,null,null,null,null,null,null,null,null,null,null,null,null,"",""]
[null,null,null,null,null,null,null,null,null,null,null,null,null,null,null,null,null,null,null,null,null,null,null,null,null,null,null,null,null,null,null,null,null,null,null,null,null,null,null,null,null,null,null,null,null,null,null,null,null,null,null,null,null,null,"",""]
[null,null,null,null,null,null,null,null,null,null,null,null,null,null,null,null,null,null,null,null,null,null,null,null,null,null,null,null,null,null,null,null,null,null,null,null,null,null,null,null,null,null,null,null,null,null,null,null,null,null,null,null,null,null,"",""]
[null,null,null,null,null,null,null,null,null,null,null,null,null,null,null,null,null,null,null,null,null,null,null,null,null,null,null,null,null,null,null,null,null,null,null,null,null,null,null,null,null,null,null,null,null,null,null,null,null,null,null,null,null,null,"",""]
[null,null,null,null,null,null,null,null,null,null,null,null,null,null,null,null,null,null,null,null,null,null,null,null,null,null,null,null,null,null,null,null,null,null,null,null,null,null,null,null,null,null,null,null,null,null,null,null,null,null,null,null,null,null,"",""]
[null,null,null,null,null,null,null,null,null,null,null,null,null,null,null,null,null,null,null,null,null,null,null,null,null,null,null,null,null,null,null,null,null,null,null,null,null,null,null,null,null,null,null,null,null,null,null,null,null,null,null,null,null,null,"",""]
[null,null,null,null,null,null,null,null,null,null,null,null,null,null,null,null,null,null,null,null,null,null,null,null,null,null,null,null,null,null,null,null,null,null,null,null,null,null,null,null,null,null,null,null,null,null,null,null,null,null,null,null,null,null,"",""]
[null,null,null,null,null,null,null,null,null,null,null,null,null,null,null,null,null,null,null,null,null,null,null,null,null,null,null,null,null,null,null,null,null,null,null,null,null,null,null,null,null,null,null,null,null,null,null,null,null,null,null,null,null,null,"",""]
[null,null,null,null,null,null,null,null,null,null,null,null,null,null,null,null,null,null,null,null,null,null,null,null,null,null,null,null,null,null,null,null,null,null,null,null,null,null,null,null,null,null,null,null,null,null,null,null,null,null,null,null,null,null,"",""]
[null,null,null,null,null,null,null,null,null,null,null,null,null,null,null,null,null,null,null,null,null,null,null,null,null,null,null,null,null,null,null,null,null,null,null,null,null,null,null,null,null,null,null,null,null,null,null,null,null,null,null,null,null,null,"",""]
[null,null,null,null,null,null,null,null,null,null,null,null,null,null,null,null,null,null,null,null,null,null,null,null,null,null,null,null,null,null,null,null,null,null,null,null,null,null,null,null,null,null,null,null,null,null,null,null,null,null,null,null,null,null,"",""]
[null,null,null,null,null,null,null,null,null,null,null,null,null,null,null,null,null,null,null,null,null,null,null,null,null,null,null,null,null,null,null,null,null,null,null,null,null,null,null,null,null,null,null,null,null,null,null,null,null,null,null,null,null,null,"",""]
[null,null,null,null,null,null,null,null,null,null,null,null,null,null,null,null,null,null,null,null,null,null,null,null,null,null,null,null,null,null,null,null,null,null,null,null,null,null,null,null,null,null,null,null,null,null,null,null,null,null,null,null,null,null,"",""]
[null,null,null,null,null,null,null,null,null,null,null,null,null,null,null,null,null,null,null,null,null,null,null,null,null,null,null,null,null,null,null,null,null,null,null,null,null,null,null,null,null,null,null,null,null,null,null,null,null,null,null,null,null,null,"",""]
[null,null,null,null,null,null,null,null,null,null,null,null,null,null,null,null,null,null,null,null,null,null,null,null,null,null,null,null,null,null,null,null,null,null,null,null,null,null,null,null,null,null,null,null,null,null,null,null,null,null,null,null,null,null,"",""]
[null,null,null,null,null,null,null,null,null,null,null,null,null,null,null,null,null,null,null,null,null,null,null,null,null,null,null,null,null,null,null,null,null,null,null,null,null,null,null,null,null,null,null,null,null,null,null,null,null,null,null,null,null,null,"",""]
[null,null,null,null,null,null,null,null,null,null,null,null,null,null,null,null,null,null,null,null,null,null,null,null,null,null,null,null,null,null,null,null,null,null,null,null,null,null,null,null,null,null,null,null,null,null,null,null,null,null,null,null,null,null,"",""]
[null,null,null,null,null,null,null,null,null,null,null,null,null,null,null,null,null,null,null,null,null,null,null,null,null,null,null,null,null,null,null,null,null,null,null,null,null,null,null,null,null,null,null,null,null,null,null,null,null,null,null,null,null,null,"",""]
[null,null,null,null,null,null,null,null,null,null,null,null,null,null,null,null,null,null,null,null,null,null,null,null,null,null,null,null,null,null,null,null,null,null,null,null,null,null,null,null,null,null,null,null,null,null,null,null,null,null,null,null,null,null,"",""]
[null,null,null,null,null,null,null,null,null,null,null,null,null,null,null,null,null,null,null,null,null,null,null,null,null,null,null,null,null,null,null,null,null,null,null,null,null,null,null,null,null,null,null,null,null,null,null,null,null,null,null,null,null,null,"",""]
[null,null,null,null,null,null,null,null,null,null,null,null,null,null,null,null,null,null,null,null,null,null,null,null,null,null,null,null,null,null,null,null,null,null,null,null,null,null,null,null,null,null,null,null,null,null,null,null,null,null,null,null,null,null,"",""]
[null,null,null,null,null,null,null,null,null,null,null,null,null,null,null,null,null,null,null,null,null,null,null,null,null,null,null,null,null,null,null,null,null,null,null,null,null,null,null,null,null,null,null,null,null,null,null,null,null,null,null,null,null,null,"",""]
[null,null,null,null,null,null,null,null,null,null,null,null,null,null,null,null,null,null,null,null,null,null,null,null,null,null,null,null,null,null,null,null,null,null,null,null,null,null,null,null,null,null,null,null,null,null,null,null,null,null,null,null,null,null,"",""]
[null,null,null,null,null,null,null,null,null,null,null,null,null,null,null,null,null,null,null,null,null,null,null,null,null,null,null,null,null,null,null,null,null,null,null,null,null,null,null,null,null,null,null,null,null,null,null,null,null,null,null,null,null,null,"",""]
[null,null,null,null,null,null,null,null,null,null,null,null,null,null,null,null,null,null,null,null,null,null,null,null,null,null,null,null,null,null,null,null,null,null,null,null,null,null,null,null,null,null,null,null,null,null,null,null,null,null,null,null,null,null,"",""]
[null,null,null,null,null,null,null,null,null,null,null,null,null,null,null,null,null,null,null,null,null,null,null,null,null,null,null,null,null,null,null,null,null,null,null,null,null,null,null,null,null,null,null,null,null,null,null,null,null,null,null,null,null,null,"",""]
[null,null,null,null,null,null,null,null,null,null,null,null,null,null,null,null,null,null,null,null,null,null,null,null,null,null,null,null,null,null,null,null,null,null,null,null,null,null,null,null,null,null,null,null,null,null,null,null,null,null,null,null,null,null,"",""]
[null,null,null,null,null,null,null,null,null,null,null,null,null,null,null,null,null,null,null,null,null,null,null,null,null,null,null,null,null,null,null,null,null,null,null,null,null,null,null,null,null,null,null,null,null,null,null,null,null,null,null,null,null,null,"",""]
[null,null,null,null,null,null,null,null,null,null,null,null,null,null,null,null,null,null,null,null,null,null,null,null,null,null,null,null,null,null,null,null,null,null,null,null,null,null,null,null,null,null,null,null,null,null,null,null,null,null,null,null,null,null,"",""]
[null,null,null,null,null,null,null,null,null,null,null,null,null,null,null,null,null,null,null,null,null,null,null,null,null,null,null,null,null,null,null,null,null,null,null,null,null,null,null,null,null,null,null,null,null,null,null,null,null,null,null,null,null,null,"",""]
[null,null,null,null,null,null,null,null,null,null,null,null,null,null,null,null,null,null,null,null,null,null,null,null,null,null,null,null,null,null,null,null,null,null,null,null,null,null,null,null,null,null,null,null,null,null,null,null,null,null,null,null,null,null,"",""]
[null,null,null,null,null,null,null,null,null,null,null,null,null,null,null,null,null,null,null,null,null,null,null,null,null,null,null,null,null,null,null,null,null,null,null,null,null,null,null,null,null,null,null,null,null,null,null,null,null,null,null,null,null,null,"",""]
[null,null,null,null,null,null,null,null,null,null,null,null,null,null,null,null,null,null,null,null,null,null,null,null,null,null,null,null,null,null,null,null,null,null,null,null,null,null,null,null,null,null,null,null,null,null,null,null,null,null,null,null,null,null,"",""]
[null,null,null,null,null,null,null,null,null,null,null,null,null,null,null,null,null,null,null,null,null,null,null,null,null,null,null,null,null,null,null,null,null,null,null,null,null,null,null,null,null,null,null,null,null,null,null,null,null,null,null,null,null,null,"",""]
[null,null,null,null,null,null,null,null,null,null,null,null,null,null,null,null,null,null,null,null,null,null,null,null,null,null,null,null,null,null,null,null,null,null,null,null,null,null,null,null,null,null,null,null,null,null,null,null,null,null,null,null,null,null,"",""]
[null,null,null,null,null,null,null,null,null,null,null,null,null,null,null,null,null,null,null,null,null,null,null,null,null,null,null,null,null,null,null,null,null,null,null,null,null,null,null,null,null,null,null,null,null,null,null,null,null,null,null,null,null,null,{"$f":"IF($A3395=\"\",\"\",$B3395)","v":""},{"$f":"IF($A3395=\"\",\"\",B3395&AR3395)","v":""}]
[null,null,null,null,null,null,null,null,null,null,null,null,null,null,null,null,null,null,null,null,null,null,null,null,null,null,null,null,null,null,null,null,null,null,null,null,null,null,null,null,null,null,null,null,null,null,null,null,null,null,null,null,null,null,"",""]
[null,null,null,null,null,null,null,null,null,null,null,null,null,null,null,null,null,null,null,null,null,null,null,null,null,null,null,null,null,null,null,null,null,null,null,null,null,null,null,null,null,null,null,null,null,null,null,null,null,null,null,null,null,null,"",""]
[null,null,null,null,null,null,null,null,null,null,null,null,null,null,null,null,null,null,null,null,null,null,null,null,null,null,null,null,null,null,null,null,null,null,null,null,null,null,null,null,null,null,null,null,null,null,null,null,null,null,null,null,null,null,"",""]
[null,null,null,null,null,null,null,null,null,null,null,null,null,null,null,null,null,null,null,null,null,null,null,null,null,null,null,null,null,null,null,null,null,null,null,null,null,null,null,null,null,null,null,null,null,null,null,null,null,null,null,null,null,null,"",""]
[null,null,null,null,null,null,null,null,null,null,null,null,null,null,null,null,null,null,null,null,null,null,null,null,null,null,null,null,null,null,null,null,null,null,null,null,null,null,null,null,null,null,null,null,null,null,null,null,null,null,null,null,null,null,"",""]
[null,null,null,null,null,null,null,null,null,null,null,null,null,null,null,null,null,null,null,null,null,null,null,null,null,null,null,null,null,null,null,null,null,null,null,null,null,null,null,null,null,null,null,null,null,null,null,null,null,null,null,null,null,null,"",""]
[null,null,null,null,null,null,null,null,null,null,null,null,null,null,null,null,null,null,null,null,null,null,null,null,null,null,null,null,null,null,null,null,null,null,null,null,null,null,null,null,null,null,null,null,null,null,null,null,null,null,null,null,null,null,"",""]
[null,null,null,null,null,null,null,null,null,null,null,null,null,null,null,null,null,null,null,null,null,null,null,null,null,null,null,null,null,null,null,null,null,null,null,null,null,null,null,null,null,null,null,null,null,null,null,null,null,null,null,null,null,null,"",""]
[null,null,null,null,null,null,null,null,null,null,null,null,null,null,null,null,null,null,null,null,null,null,null,null,null,null,null,null,null,null,null,null,null,null,null,null,null,null,null,null,null,null,null,null,null,null,null,null,null,null,null,null,null,null,"",""]
[null,null,null,null,null,null,null,null,null,null,null,null,null,null,null,null,null,null,null,null,null,null,null,null,null,null,null,null,null,null,null,null,null,null,null,null,null,null,null,null,null,null,null,null,null,null,null,null,null,null,null,null,null,null,"",""]
[null,null,null,null,null,null,null,null,null,null,null,null,null,null,null,null,null,null,null,null,null,null,null,null,null,null,null,null,null,null,null,null,null,null,null,null,null,null,null,null,null,null,null,null,null,null,null,null,null,null,null,null,null,null,"",""]
[null,null,null,null,null,null,null,null,null,null,null,null,null,null,null,null,null,null,null,null,null,null,null,null,null,null,null,null,null,null,null,null,null,null,null,null,null,null,null,null,null,null,null,null,null,null,null,null,null,null,null,null,null,null,"",""]
[null,null,null,null,null,null,null,null,null,null,null,null,null,null,null,null,null,null,null,null,null,null,null,null,null,null,null,null,null,null,null,null,null,null,null,null,null,null,null,null,null,null,null,null,null,null,null,null,null,null,null,null,null,null,"",""]
[null,null,null,null,null,null,null,null,null,null,null,null,null,null,null,null,null,null,null,null,null,null,null,null,null,null,null,null,null,null,null,null,null,null,null,null,null,null,null,null,null,null,null,null,null,null,null,null,null,null,null,null,null,null,"",""]
[null,null,null,null,null,null,null,null,null,null,null,null,null,null,null,null,null,null,null,null,null,null,null,null,null,null,null,null,null,null,null,null,null,null,null,null,null,null,null,null,null,null,null,null,null,null,null,null,null,null,null,null,null,null,"",""]
[null,null,null,null,null,null,null,null,null,null,null,null,null,null,null,null,null,null,null,null,null,null,null,null,null,null,null,null,null,null,null,null,null,null,null,null,null,null,null,null,null,null,null,null,null,null,null,null,null,null,null,null,null,null,"",""]
[null,null,null,null,null,null,null,null,null,null,null,null,null,null,null,null,null,null,null,null,null,null,null,null,null,null,null,null,null,null,null,null,null,null,null,null,null,null,null,null,null,null,null,null,null,null,null,null,null,null,null,null,null,null,"",""]
[null,null,null,null,null,null,null,null,null,null,null,null,null,null,null,null,null,null,null,null,null,null,null,null,null,null,null,null,null,null,null,null,null,null,null,null,null,null,null,null,null,null,null,null,null,null,null,null,null,null,null,null,null,null,"",""]
[null,null,null,null,null,null,null,null,null,null,null,null,null,null,null,null,null,null,null,null,null,null,null,null,null,null,null,null,null,null,null,null,null,null,null,null,null,null,null,null,null,null,null,null,null,null,null,null,null,null,null,null,null,null,"",""]
[null,null,null,null,null,null,null,null,null,null,null,null,null,null,null,null,null,null,null,null,null,null,null,null,null,null,null,null,null,null,null,null,null,null,null,null,null,null,null,null,null,null,null,null,null,null,null,null,null,null,null,null,null,null,"",""]
[null,null,null,null,null,null,null,null,null,null,null,null,null,null,null,null,null,null,null,null,null,null,null,null,null,null,null,null,null,null,null,null,null,null,null,null,null,null,null,null,null,null,null,null,null,null,null,null,null,null,null,null,null,null,"",""]
[null,null,null,null,null,null,null,null,null,null,null,null,null,null,null,null,null,null,null,null,null,null,null,null,null,null,null,null,null,null,null,null,null,null,null,null,null,null,null,null,null,null,null,null,null,null,null,null,null,null,null,null,null,null,"",""]
[null,null,null,null,null,null,null,null,null,null,null,null,null,null,null,null,null,null,null,null,null,null,null,null,null,null,null,null,null,null,null,null,null,null,null,null,null,null,null,null,null,null,null,null,null,null,null,null,null,null,null,null,null,null,"",""]
[null,null,null,null,null,null,null,null,null,null,null,null,null,null,null,null,null,null,null,null,null,null,null,null,null,null,null,null,null,null,null,null,null,null,null,null,null,null,null,null,null,null,null,null,null,null,null,null,null,null,null,null,null,null,"",""]
[null,null,null,null,null,null,null,null,null,null,null,null,null,null,null,null,null,null,null,null,null,null,null,null,null,null,null,null,null,null,null,null,null,null,null,null,null,null,null,null,null,null,null,null,null,null,null,null,null,null,null,null,null,null,"",""]
[null,null,null,null,null,null,null,null,null,null,null,null,null,null,null,null,null,null,null,null,null,null,null,null,null,null,null,null,null,null,null,null,null,null,null,null,null,null,null,null,null,null,null,null,null,null,null,null,null,null,null,null,null,null,"",""]
[null,null,null,null,null,null,null,null,null,null,null,null,null,null,null,null,null,null,null,null,null,null,null,null,null,null,null,null,null,null,null,null,null,null,null,null,null,null,null,null,null,null,null,null,null,null,null,null,null,null,null,null,null,null,"",""]
[null,null,null,null,null,null,null,null,null,null,null,null,null,null,null,null,null,null,null,null,null,null,null,null,null,null,null,null,null,null,null,null,null,null,null,null,null,null,null,null,null,null,null,null,null,null,null,null,null,null,null,null,null,null,"",""]
[null,null,null,null,null,null,null,null,null,null,null,null,null,null,null,null,null,null,null,null,null,null,null,null,null,null,null,null,null,null,null,null,null,null,null,null,null,null,null,null,null,null,null,null,null,null,null,null,null,null,null,null,null,null,"",""]
[null,null,null,null,null,null,null,null,null,null,null,null,null,null,null,null,null,null,null,null,null,null,null,null,null,null,null,null,null,null,null,null,null,null,null,null,null,null,null,null,null,null,null,null,null,null,null,null,null,null,null,null,null,null,"",""]
[null,null,null,null,null,null,null,null,null,null,null,null,null,null,null,null,null,null,null,null,null,null,null,null,null,null,null,null,null,null,null,null,null,null,null,null,null,null,null,null,null,null,null,null,null,null,null,null,null,null,null,null,null,null,"",""]
[null,null,null,null,null,null,null,null,null,null,null,null,null,null,null,null,null,null,null,null,null,null,null,null,null,null,null,null,null,null,null,null,null,null,null,null,null,null,null,null,null,null,null,null,null,null,null,null,null,null,null,null,null,null,"",""]
[null,null,null,null,null,null,null,null,null,null,null,null,null,null,null,null,null,null,null,null,null,null,null,null,null,null,null,null,null,null,null,null,null,null,null,null,null,null,null,null,null,null,null,null,null,null,null,null,null,null,null,null,null,null,"",""]
[null,null,null,null,null,null,null,null,null,null,null,null,null,null,null,null,null,null,null,null,null,null,null,null,null,null,null,null,null,null,null,null,null,null,null,null,null,null,null,null,null,null,null,null,null,null,null,null,null,null,null,null,null,null,"",""]
[null,null,null,null,null,null,null,null,null,null,null,null,null,null,null,null,null,null,null,null,null,null,null,null,null,null,null,null,null,null,null,null,null,null,null,null,null,null,null,null,null,null,null,null,null,null,null,null,null,null,null,null,null,null,"",""]
[null,null,null,null,null,null,null,null,null,null,null,null,null,null,null,null,null,null,null,null,null,null,null,null,null,null,null,null,null,null,null,null,null,null,null,null,null,null,null,null,null,null,null,null,null,null,null,null,null,null,null,null,null,null,"",""]
[null,null,null,null,null,null,null,null,null,null,null,null,null,null,null,null,null,null,null,null,null,null,null,null,null,null,null,null,null,null,null,null,null,null,null,null,null,null,null,null,null,null,null,null,null,null,null,null,null,null,null,null,null,null,"",""]
[null,null,null,null,null,null,null,null,null,null,null,null,null,null,null,null,null,null,null,null,null,null,null,null,null,null,null,null,null,null,null,null,null,null,null,null,null,null,null,null,null,null,null,null,null,null,null,null,null,null,null,null,null,null,"",""]
[null,null,null,null,null,null,null,null,null,null,null,null,null,null,null,null,null,null,null,null,null,null,null,null,null,null,null,null,null,null,null,null,null,null,null,null,null,null,null,null,null,null,null,null,null,null,null,null,null,null,null,null,null,null,"",""]
[null,null,null,null,null,null,null,null,null,null,null,null,null,null,null,null,null,null,null,null,null,null,null,null,null,null,null,null,null,null,null,null,null,null,null,null,null,null,null,null,null,null,null,null,null,null,null,null,null,null,null,null,null,null,"",""]
[null,null,null,null,null,null,null,null,null,null,null,null,null,null,null,null,null,null,null,null,null,null,null,null,null,null,null,null,null,null,null,null,null,null,null,null,null,null,null,null,null,null,null,null,null,null,null,null,null,null,null,null,null,null,"",""]
[null,null,null,null,null,null,null,null,null,null,null,null,null,null,null,null,null,null,null,null,null,null,null,null,null,null,null,null,null,null,null,null,null,null,null,null,null,null,null,null,null,null,null,null,null,null,null,null,null,null,null,null,null,null,"",""]
[null,null,null,null,null,null,null,null,null,null,null,null,null,null,null,null,null,null,null,null,null,null,null,null,null,null,null,null,null,null,null,null,null,null,null,null,null,null,null,null,null,null,null,null,null,null,null,null,null,null,null,null,null,null,"",""]
[null,null,null,null,null,null,null,null,null,null,null,null,null,null,null,null,null,null,null,null,null,null,null,null,null,null,null,null,null,null,null,null,null,null,null,null,null,null,null,null,null,null,null,null,null,null,null,null,null,null,null,null,null,null,{"$f":"IF($A4227=\"\",\"\",$B4227)","v":""},{"$f":"IF($A4227=\"\",\"\",B4227&AR4227)","v":""}]
[null,null,null,null,null,null,null,null,null,null,null,null,null,null,null,null,null,null,null,null,null,null,null,null,null,null,null,null,null,null,null,null,null,null,null,null,null,null,null,null,null,null,null,null,null,null,null,null,null,null,null,null,null,null,"",""]
[null,null,null,null,null,null,null,null,null,null,null,null,null,null,null,null,null,null,null,null,null,null,null,null,null,null,null,null,null,null,null,null,null,null,null,null,null,null,null,null,null,null,null,null,null,null,null,null,null,null,null,null,null,null,"",""]
[null,null,null,null,null,null,null,null,null,null,null,null,null,null,null,null,null,null,null,null,null,null,null,null,null,null,null,null,null,null,null,null,null,null,null,null,null,null,null,null,null,null,null,null,null,null,null,null,null,null,null,null,null,null,"",""]
[null,null,null,null,null,null,null,null,null,null,null,null,null,null,null,null,null,null,null,null,null,null,null,null,null,null,null,null,null,null,null,null,null,null,null,null,null,null,null,null,null,null,null,null,null,null,null,null,null,null,null,null,null,null,"",""]
[null,null,null,null,null,null,null,null,null,null,null,null,null,null,null,null,null,null,null,null,null,null,null,null,null,null,null,null,null,null,null,null,null,null,null,null,null,null,null,null,null,null,null,null,null,null,null,null,null,null,null,null,null,null,"",""]
[null,null,null,null,null,null,null,null,null,null,null,null,null,null,null,null,null,null,null,null,null,null,null,null,null,null,null,null,null,null,null,null,null,null,null,null,null,null,null,null,null,null,null,null,null,null,null,null,null,null,null,null,null,null,"",""]
[null,null,null,null,null,null,null,null,null,null,null,null,null,null,null,null,null,null,null,null,null,null,null,null,null,null,null,null,null,null,null,null,null,null,null,null,null,null,null,null,null,null,null,null,null,null,null,null,null,null,null,null,null,null,"",""]
[null,null,null,null,null,null,null,null,null,null,null,null,null,null,null,null,null,null,null,null,null,null,null,null,null,null,null,null,null,null,null,null,null,null,null,null,null,null,null,null,null,null,null,null,null,null,null,null,null,null,null,null,null,null,"",""]
[null,null,null,null,null,null,null,null,null,null,null,null,null,null,null,null,null,null,null,null,null,null,null,null,null,null,null,null,null,null,null,null,null,null,null,null,null,null,null,null,null,null,null,null,null,null,null,null,null,null,null,null,null,null,"",""]
[null,null,null,null,null,null,null,null,null,null,null,null,null,null,null,null,null,null,null,null,null,null,null,null,null,null,null,null,null,null,null,null,null,null,null,null,null,null,null,null,null,null,null,null,null,null,null,null,null,null,null,null,null,null,"",""]
[null,null,null,null,null,null,null,null,null,null,null,null,null,null,null,null,null,null,null,null,null,null,null,null,null,null,null,null,null,null,null,null,null,null,null,null,null,null,null,null,null,null,null,null,null,null,null,null,null,null,null,null,null,null,{"$f":"IF($A4419=\"\",\"\",$B4419)","v":""},{"$f":"IF($A4419=\"\",\"\",B4419&AR4419)","v":""}]
[null,null,null,null,null,null,null,null,null,null,null,null,null,null,null,null,null,null,null,null,null,null,null,null,null,null,null,null,null,null,null,null,null,null,null,null,null,null,null,null,null,null,null,null,null,null,null,null,null,null,null,null,null,null,"",""]
[null,null,null,null,null,null,null,null,null,null,null,null,null,null,null,null,null,null,null,null,null,null,null,null,null,null,null,null,null,null,null,null,null,null,null,null,null,null,null,null,null,null,null,null,null,null,null,null,null,null,null,null,null,null,"",""]
[null,null,null,null,null,null,null,null,null,null,null,null,null,null,null,null,null,null,null,null,null,null,null,null,null,null,null,null,null,null,null,null,null,null,null,null,null,null,null,null,null,null,null,null,null,null,null,null,null,null,null,null,null,null,"",""]
[null,null,null,null,null,null,null,null,null,null,null,null,null,null,null,null,null,null,null,null,null,null,null,null,null,null,null,null,null,null,null,null,null,null,null,null,null,null,null,null,null,null,null,null,null,null,null,null,null,null,null,null,null,null,"",""]
[null,null,null,null,null,null,null,null,null,null,null,null,null,null,null,null,null,null,null,null,null,null,null,null,null,null,null,null,null,null,null,null,null,null,null,null,null,null,null,null,null,null,null,null,null,null,null,null,null,null,null,null,null,null,"",""]
[null,null,null,null,null,null,null,null,null,null,null,null,null,null,null,null,null,null,null,null,null,null,null,null,null,null,null,null,null,null,null,null,null,null,null,null,null,null,null,null,null,null,null,null,null,null,null,null,null,null,null,null,null,null,"",""]
[null,null,null,null,null,null,null,null,null,null,null,null,null,null,null,null,null,null,null,null,null,null,null,null,null,null,null,null,null,null,null,null,null,null,null,null,null,null,null,null,null,null,null,null,null,null,null,null,null,null,null,null,null,null,"",""]
[null,null,null,null,null,null,null,null,null,null,null,null,null,null,null,null,null,null,null,null,null,null,null,null,null,null,null,null,null,null,null,null,null,null,null,null,null,null,null,null,null,null,null,null,null,null,null,null,null,null,null,null,null,null,"",""]
[null,null,null,null,null,null,null,null,null,null,null,null,null,null,null,null,null,null,null,null,null,null,null,null,null,null,null,null,null,null,null,null,null,null,null,null,null,null,null,null,null,null,null,null,null,null,null,null,null,null,null,null,null,null,"",""]
[null,null,null,null,null,null,null,null,null,null,null,null,null,null,null,null,null,null,null,null,null,null,null,null,null,null,null,null,null,null,null,null,null,null,null,null,null,null,null,null,null,null,null,null,null,null,null,null,null,null,null,null,null,null,"",""]
[null,null,null,null,null,null,null,null,null,null,null,null,null,null,null,null,null,null,null,null,null,null,null,null,null,null,null,null,null,null,null,null,null,null,null,null,null,null,null,null,null,null,null,null,null,null,null,null,null,null,null,null,null,null,"",""]
[null,null,null,null,null,null,null,null,null,null,null,null,null,null,null,null,null,null,null,null,null,null,null,null,null,null,null,null,null,null,null,null,null,null,null,null,null,null,null,null,null,null,null,null,null,null,null,null,null,null,null,null,null,null,"",""]
[null,null,null,null,null,null,null,null,null,null,null,null,null,null,null,null,null,null,null,null,null,null,null,null,null,null,null,null,null,null,null,null,null,null,null,null,null,null,null,null,null,null,null,null,null,null,null,null,null,null,null,null,null,null,"",""]
[null,null,null,null,null,null,null,null,null,null,null,null,null,null,null,null,null,null,null,null,null,null,null,null,null,null,null,null,null,null,null,null,null,null,null,null,null,null,null,null,null,null,null,null,null,null,null,null,null,null,null,null,null,null,"",""]
[null,null,null,null,null,null,null,null,null,null,null,null,null,null,null,null,null,null,null,null,null,null,null,null,null,null,null,null,null,null,null,null,null,null,null,null,null,null,null,null,null,null,null,null,null,null,null,null,null,null,null,null,null,null,"",""]
[null,null,null,null,null,null,null,null,null,null,null,null,null,null,null,null,null,null,null,null,null,null,null,null,null,null,null,null,null,null,null,null,null,null,null,null,null,null,null,null,null,null,null,null,null,null,null,null,null,null,null,null,null,null,"",""]
[null,null,null,null,null,null,null,null,null,null,null,null,null,null,null,null,null,null,null,null,null,null,null,null,null,null,null,null,null,null,null,null,null,null,null,null,null,null,null,null,null,null,null,null,null,null,null,null,null,null,null,null,null,null,"",""]
[null,null,null,null,null,null,null,null,null,null,null,null,null,null,null,null,null,null,null,null,null,null,null,null,null,null,null,null,null,null,null,null,null,null,null,null,null,null,null,null,null,null,null,null,null,null,null,null,null,null,null,null,null,null,"",""]
[null,null,null,null,null,null,null,null,null,null,null,null,null,null,null,null,null,null,null,null,null,null,null,null,null,null,null,null,null,null,null,null,null,null,null,null,null,null,null,null,null,null,null,null,null,null,null,null,null,null,null,null,null,null,"",""]
[null,null,null,null,null,null,null,null,null,null,null,null,null,null,null,null,null,null,null,null,null,null,null,null,null,null,null,null,null,null,null,null,null,null,null,null,null,null,null,null,null,null,null,null,null,null,null,null,null,null,null,null,null,null,"",""]
[null,null,null,null,null,null,null,null,null,null,null,null,null,null,null,null,null,null,null,null,null,null,null,null,null,null,null,null,null,null,null,null,null,null,null,null,null,null,null,null,null,null,null,null,null,null,null,null,null,null,null,null,null,null,"",""]
[null,null,null,null,null,null,null,null,null,null,null,null,null,null,null,null,null,null,null,null,null,null,null,null,null,null,null,null,null,null,null,null,null,null,null,null,null,null,null,null,null,null,null,null,null,null,null,null,null,null,null,null,null,null,"",""]
[null,null,null,null,null,null,null,null,null,null,null,null,null,null,null,null,null,null,null,null,null,null,null,null,null,null,null,null,null,null,null,null,null,null,null,null,null,null,null,null,null,null,null,null,null,null,null,null,null,null,null,null,null,null,"",""]
[null,null,null,null,null,null,null,null,null,null,null,null,null,null,null,null,null,null,null,null,null,null,null,null,null,null,null,null,null,null,null,null,null,null,null,null,null,null,null,null,null,null,null,null,null,null,null,null,null,null,null,null,null,null,"",""]
[null,null,null,null,null,null,null,null,null,null,null,null,null,null,null,null,null,null,null,null,null,null,null,null,null,null,null,null,null,null,null,null,null,null,null,null,null,null,null,null,null,null,null,null,null,null,null,null,null,null,null,null,null,null,"",""]
[null,null,null,null,null,null,null,null,null,null,null,null,null,null,null,null,null,null,null,null,null,null,null,null,null,null,null,null,null,null,null,null,null,null,null,null,null,null,null,null,null,null,null,null,null,null,null,null,null,null,null,null,null,null,"",""]
[null,null,null,null,null,null,null,null,null,null,null,null,null,null,null,null,null,null,null,null,null,null,null,null,null,null,null,null,null,null,null,null,null,null,null,null,null,null,null,null,null,null,null,null,null,null,null,null,null,null,null,null,null,null,"",""]
[null,null,null,null,null,null,null,null,null,null,null,null,null,null,null,null,null,null,null,null,null,null,null,null,null,null,null,null,null,null,null,null,null,null,null,null,null,null,null,null,null,null,null,null,null,null,null,null,null,null,null,null,null,null,"",""]
[null,null,null,null,null,null,null,null,null,null,null,null,null,null,null,null,null,null,null,null,null,null,null,null,null,null,null,null,null,null,null,null,null,null,null,null,null,null,null,null,null,null,null,null,null,null,null,null,null,null,null,null,null,null,"",""]
[null,null,null,null,null,null,null,null,null,null,null,null,null,null,null,null,null,null,null,null,null,null,null,null,null,null,null,null,null,null,null,null,null,null,null,null,null,null,null,null,null,null,null,null,null,null,null,null,null,null,null,null,null,null,"",""]
[null,null,null,null,null,null,null,null,null,null,null,null,null,null,null,null,null,null,null,null,null,null,null,null,null,null,null,null,null,null,null,null,null,null,null,null,null,null,null,null,null,null,null,null,null,null,null,null,null,null,null,null,null,null,"",""]
[null,null,null,null,null,null,null,null,null,null,null,null,null,null,null,null,null,null,null,null,null,null,null,null,null,null,null,null,null,null,null,null,null,null,null,null,null,null,null,null,null,null,null,null,null,null,null,null,null,null,null,null,null,null,"",""]
[null,null,null,null,null,null,null,null,null,null,null,null,null,null,null,null,null,null,null,null,null,null,null,null,null,null,null,null,null,null,null,null,null,null,null,null,null,null,null,null,null,null,null,null,null,null,null,null,null,null,null,null,null,null,"",""]
[null,null,null,null,null,null,null,null,null,null,null,null,null,null,null,null,null,null,null,null,null,null,null,null,null,null,null,null,null,null,null,null,null,null,null,null,null,null,null,null,null,null,null,null,null,null,null,null,null,null,null,null,null,null,{"$f":"IF($A5059=\"\",\"\",$B5059)","v":""},{"$f":"IF($A5059=\"\",\"\",B5059&AR5059)","v":""}]
[null,null,null,null,null,null,null,null,null,null,null,null,null,null,null,null,null,null,null,null,null,null,null,null,null,null,null,null,null,null,null,null,null,null,null,null,null,null,null,null,null,null,null,null,null,null,null,null,null,null,null,null,null,null,"",""]
[null,null,null,null,null,null,null,null,null,null,null,null,null,null,null,null,null,null,null,null,null,null,null,null,null,null,null,null,null,null,null,null,null,null,null,null,null,null,null,null,null,null,null,null,null,null,null,null,null,null,null,null,null,null,"",""]
[null,null,null,null,null,null,null,null,null,null,null,null,null,null,null,null,null,null,null,null,null,null,null,null,null,null,null,null,null,null,null,null,null,null,null,null,null,null,null,null,null,null,null,null,null,null,null,null,null,null,null,null,null,null,"",""]
[null,null,null,null,null,null,null,null,null,null,null,null,null,null,null,null,null,null,null,null,null,null,null,null,null,null,null,null,null,null,null,null,null,null,null,null,null,null,null,null,null,null,null,null,null,null,null,null,null,null,null,null,null,null,"",""]
[null,null,null,null,null,null,null,null,null,null,null,null,null,null,null,null,null,null,null,null,null,null,null,null,null,null,null,null,null,null,null,null,null,null,null,null,null,null,null,null,null,null,null,null,null,null,null,null,null,null,null,null,null,null,"",""]
[null,null,null,null,null,null,null,null,null,null,null,null,null,null,null,null,null,null,null,null,null,null,null,null,null,null,null,null,null,null,null,null,null,null,null,null,null,null,null,null,null,null,null,null,null,null,null,null,null,null,null,null,null,null,"",""]
[null,null,null,null,null,null,null,null,null,null,null,null,null,null,null,null,null,null,null,null,null,null,null,null,null,null,null,null,null,null,null,null,null,null,null,null,null,null,null,null,null,null,null,null,null,null,null,null,null,null,null,null,null,null,"",""]
[null,null,null,null,null,null,null,null,null,null,null,null,null,null,null,null,null,null,null,null,null,null,null,null,null,null,null,null,null,null,null,null,null,null,null,null,null,null,null,null,null,null,null,null,null,null,null,null,null,null,null,null,null,null,"",""]
[null,null,null,null,null,null,null,null,null,null,null,null,null,null,null,null,null,null,null,null,null,null,null,null,null,null,null,null,null,null,null,null,null,null,null,null,null,null,null,null,null,null,null,null,null,null,null,null,null,null,null,null,null,null,"",""]
[null,null,null,null,null,null,null,null,null,null,null,null,null,null,null,null,null,null,null,null,null,null,null,null,null,null,null,null,null,null,null,null,null,null,null,null,null,null,null,null,null,null,null,null,null,null,null,null,null,null,null,null,null,null,{"$f":"IF($A5251=\"\",\"\",$B5251)","v":""},{"$f":"IF($A5251=\"\",\"\",B5251&AR5251)","v":""}]
[null,null,null,null,null,null,null,null,null,null,null,null,null,null,null,null,null,null,null,null,null,null,null,null,null,null,null,null,null,null,null,null,null,null,null,null,null,null,null,null,null,null,null,null,null,null,null,null,null,null,null,null,null,null,"",""]
[null,null,null,null,null,null,null,null,null,null,null,null,null,null,null,null,null,null,null,null,null,null,null,null,null,null,null,null,null,null,null,null,null,null,null,null,null,null,null,null,null,null,null,null,null,null,null,null,null,null,null,null,null,null,"",""]
[null,null,null,null,null,null,null,null,null,null,null,null,null,null,null,null,null,null,null,null,null,null,null,null,null,null,null,null,null,null,null,null,null,null,null,null,null,null,null,null,null,null,null,null,null,null,null,null,null,null,null,null,null,null,"",""]
[null,null,null,null,null,null,null,null,null,null,null,null,null,null,null,null,null,null,null,null,null,null,null,null,null,null,null,null,null,null,null,null,null,null,null,null,null,null,null,null,null,null,null,null,null,null,null,null,null,null,null,null,null,null,"",""]
[null,null,null,null,null,null,null,null,null,null,null,null,null,null,null,null,null,null,null,null,null,null,null,null,null,null,null,null,null,null,null,null,null,null,null,null,null,null,null,null,null,null,null,null,null,null,null,null,null,null,null,null,null,null,"",""]
[null,null,null,null,null,null,null,null,null,null,null,null,null,null,null,null,null,null,null,null,null,null,null,null,null,null,null,null,null,null,null,null,null,null,null,null,null,null,null,null,null,null,null,null,null,null,null,null,null,null,null,null,null,null,"",""]
[null,null,null,null,null,null,null,null,null,null,null,null,null,null,null,null,null,null,null,null,null,null,null,null,null,null,null,null,null,null,null,null,null,null,null,null,null,null,null,null,null,null,null,null,null,null,null,null,null,null,null,null,null,null,"",""]
[null,null,null,null,null,null,null,null,null,null,null,null,null,null,null,null,null,null,null,null,null,null,null,null,null,null,null,null,null,null,null,null,null,null,null,null,null,null,null,null,null,null,null,null,null,null,null,null,null,null,null,null,null,null,"",""]
[null,null,null,null,null,null,null,null,null,null,null,null,null,null,null,null,null,null,null,null,null,null,null,null,null,null,null,null,null,null,null,null,null,null,null,null,null,null,null,null,null,null,null,null,null,null,null,null,null,null,null,null,null,null,"",""]
[null,null,null,null,null,null,null,null,null,null,null,null,null,null,null,null,null,null,null,null,null,null,null,null,null,null,null,null,null,null,null,null,null,null,null,null,null,null,null,null,null,null,null,null,null,null,null,null,null,null,null,null,null,null,"",""]
[null,null,null,null,null,null,null,null,null,null,null,null,null,null,null,null,null,null,null,null,null,null,null,null,null,null,null,null,null,null,null,null,null,null,null,null,null,null,null,null,null,null,null,null,null,null,null,null,null,null,null,null,null,null,"",""]
[null,null,null,null,null,null,null,null,null,null,null,null,null,null,null,null,null,null,null,null,null,null,null,null,null,null,null,null,null,null,null,null,null,null,null,null,null,null,null,null,null,null,null,null,null,null,null,null,null,null,null,null,null,null,"",""]
[null,null,null,null,null,null,null,null,null,null,null,null,null,null,null,null,null,null,null,null,null,null,null,null,null,null,null,null,null,null,null,null,null,null,null,null,null,null,null,null,null,null,null,null,null,null,null,null,null,null,null,null,null,null,"",""]
[null,null,null,null,null,null,null,null,null,null,null,null,null,null,null,null,null,null,null,null,null,null,null,null,null,null,null,null,null,null,null,null,null,null,null,null,null,null,null,null,null,null,null,null,null,null,null,null,null,null,null,null,null,null,"",""]
[null,null,null,null,null,null,null,null,null,null,null,null,null,null,null,null,null,null,null,null,null,null,null,null,null,null,null,null,null,null,null,null,null,null,null,null,null,null,null,null,null,null,null,null,null,null,null,null,null,null,null,null,null,null,"",""]
[null,null,null,null,null,null,null,null,null,null,null,null,null,null,null,null,null,null,null,null,null,null,null,null,null,null,null,null,null,null,null,null,null,null,null,null,null,null,null,null,null,null,null,null,null,null,null,null,null,null,null,null,null,null,"",""]
[null,null,null,null,null,null,null,null,null,null,null,null,null,null,null,null,null,null,null,null,null,null,null,null,null,null,null,null,null,null,null,null,null,null,null,null,null,null,null,null,null,null,null,null,null,null,null,null,null,null,null,null,null,null,"",""]
[null,null,null,null,null,null,null,null,null,null,null,null,null,null,null,null,null,null,null,null,null,null,null,null,null,null,null,null,null,null,null,null,null,null,null,null,null,null,null,null,null,null,null,null,null,null,null,null,null,null,null,null,null,null,"",""]
[null,null,null,null,null,null,null,null,null,null,null,null,null,null,null,null,null,null,null,null,null,null,null,null,null,null,null,null,null,null,null,null,null,null,null,null,null,null,null,null,null,null,null,null,null,null,null,null,null,null,null,null,null,null,"",""]
[null,null,null,null,null,null,null,null,null,null,null,null,null,null,null,null,null,null,null,null,null,null,null,null,null,null,null,null,null,null,null,null,null,null,null,null,null,null,null,null,null,null,null,null,null,null,null,null,null,null,null,null,null,null,"",""]
[null,null,null,null,null,null,null,null,null,null,null,null,null,null,null,null,null,null,null,null,null,null,null,null,null,null,null,null,null,null,null,null,null,null,null,null,null,null,null,null,null,null,null,null,null,null,null,null,null,null,null,null,null,null,"",""]
[null,null,null,null,null,null,null,null,null,null,null,null,null,null,null,null,null,null,null,null,null,null,null,null,null,null,null,null,null,null,null,null,null,null,null,null,null,null,null,null,null,null,null,null,null,null,null,null,null,null,null,null,null,null,"",""]
[null,null,null,null,null,null,null,null,null,null,null,null,null,null,null,null,null,null,null,null,null,null,null,null,null,null,null,null,null,null,null,null,null,null,null,null,null,null,null,null,null,null,null,null,null,null,null,null,null,null,null,null,null,null,"",""]
[null,null,null,null,null,null,null,null,null,null,null,null,null,null,null,null,null,null,null,null,null,null,null,null,null,null,null,null,null,null,null,null,null,null,null,null,null,null,null,null,null,null,null,null,null,null,null,null,null,null,null,null,null,null,"",""]
[null,null,null,null,null,null,null,null,null,null,null,null,null,null,null,null,null,null,null,null,null,null,null,null,null,null,null,null,null,null,null,null,null,null,null,null,null,null,null,null,null,null,null,null,null,null,null,null,null,null,null,null,null,null,"",""]
[null,null,null,null,null,null,null,null,null,null,null,null,null,null,null,null,null,null,null,null,null,null,null,null,null,null,null,null,null,null,null,null,null,null,null,null,null,null,null,null,null,null,null,null,null,null,null,null,null,null,null,null,null,null,"",""]
[null,null,null,null,null,null,null,null,null,null,null,null,null,null,null,null,null,null,null,null,null,null,null,null,null,null,null,null,null,null,null,null,null,null,null,null,null,null,null,null,null,null,null,null,null,null,null,null,null,null,null,null,null,null,"",""]
[null,null,null,null,null,null,null,null,null,null,null,null,null,null,null,null,null,null,null,null,null,null,null,null,null,null,null,null,null,null,null,null,null,null,null,null,null,null,null,null,null,null,null,null,null,null,null,null,null,null,null,null,null,null,"",""]
[null,null,null,null,null,null,null,null,null,null,null,null,null,null,null,null,null,null,null,null,null,null,null,null,null,null,null,null,null,null,null,null,null,null,null,null,null,null,null,null,null,null,null,null,null,null,null,null,null,null,null,null,null,null,"",""]
[null,null,null,null,null,null,null,null,null,null,null,null,null,null,null,null,null,null,null,null,null,null,null,null,null,null,null,null,null,null,null,null,null,null,null,null,null,null,null,null,null,null,null,null,null,null,null,null,null,null,null,null,null,null,"",""]
[null,null,null,null,null,null,null,null,null,null,null,null,null,null,null,null,null,null,null,null,null,null,null,null,null,null,null,null,null,null,null,null,null,null,null,null,null,null,null,null,null,null,null,null,null,null,null,null,null,null,null,null,null,null,"",""]
[null,null,null,null,null,null,null,null,null,null,null,null,null,null,null,null,null,null,null,null,null,null,null,null,null,null,null,null,null,null,null,null,null,null,null,null,null,null,null,null,null,null,null,null,null,null,null,null,null,null,null,null,null,null,"",""]
[null,null,null,null,null,null,null,null,null,null,null,null,null,null,null,null,null,null,null,null,null,null,null,null,null,null,null,null,null,null,null,null,null,null,null,null,null,null,null,null,null,null,null,null,null,null,null,null,null,null,null,null,null,null,"",""]
[null,null,null,null,null,null,null,null,null,null,null,null,null,null,null,null,null,null,null,null,null,null,null,null,null,null,null,null,null,null,null,null,null,null,null,null,null,null,null,null,null,null,null,null,null,null,null,null,null,null,null,null,null,null,{"$f":"IF($A5891=\"\",\"\",$B5891)","v":""},{"$f":"IF($A5891=\"\",\"\",B5891&AR5891)","v":""}]
[null,null,null,null,null,null,null,null,null,null,null,null,null,null,null,null,null,null,null,null,null,null,null,null,null,null,null,null,null,null,null,null,null,null,null,null,null,null,null,null,null,null,null,null,null,null,null,null,null,null,null,null,null,null,"",""]
[null,null,null,null,null,null,null,null,null,null,null,null,null,null,null,null,null,null,null,null,null,null,null,null,null,null,null,null,null,null,null,null,null,null,null,null,null,null,null,null,null,null,null,null,null,null,null,null,null,null,null,null,null,null,"",""]
[null,null,null,null,null,null,null,null,null,null,null,null,null,null,null,null,null,null,null,null,null,null,null,null,null,null,null,null,null,null,null,null,null,null,null,null,null,null,null,null,null,null,null,null,null,null,null,null,null,null,null,null,null,null,"",""]
[null,null,null,null,null,null,null,null,null,null,null,null,null,null,null,null,null,null,null,null,null,null,null,null,null,null,null,null,null,null,null,null,null,null,null,null,null,null,null,null,null,null,null,null,null,null,null,null,null,null,null,null,null,null,"",""]
[null,null,null,null,null,null,null,null,null,null,null,null,null,null,null,null,null,null,null,null,null,null,null,null,null,null,null,null,null,null,null,null,null,null,null,null,null,null,null,null,null,null,null,null,null,null,null,null,null,null,null,null,null,null,"",""]
[null,null,null,null,null,null,null,null,null,null,null,null,null,null,null,null,null,null,null,null,null,null,null,null,null,null,null,null,null,null,null,null,null,null,null,null,null,null,null,null,null,null,null,null,null,null,null,null,null,null,null,null,null,null,"",""]
[null,null,null,null,null,null,null,null,null,null,null,null,null,null,null,null,null,null,null,null,null,null,null,null,null,null,null,null,null,null,null,null,null,null,null,null,null,null,null,null,null,null,null,null,null,null,null,null,null,null,null,null,null,null,"",""]
[null,null,null,null,null,null,null,null,null,null,null,null,null,null,null,null,null,null,null,null,null,null,null,null,null,null,null,null,null,null,null,null,null,null,null,null,null,null,null,null,null,null,null,null,null,null,null,null,null,null,null,null,null,null,"",""]
[null,null,null,null,null,null,null,null,null,null,null,null,null,null,null,null,null,null,null,null,null,null,null,null,null,null,null,null,null,null,null,null,null,null,null,null,null,null,null,null,null,null,null,null,null,null,null,null,null,null,null,null,null,null,"",""]
[null,null,null,null,null,null,null,null,null,null,null,null,null,null,null,null,null,null,null,null,null,null,null,null,null,null,null,null,null,null,null,null,null,null,null,null,null,null,null,null,null,null,null,null,null,null,null,null,null,null,null,null,null,null,{"$f":"IF($A6083=\"\",\"\",$B6083)","v":""},{"$f":"IF($A6083=\"\",\"\",B6083&AR6083)","v":""}]
[null,null,null,null,null,null,null,null,null,null,null,null,null,null,null,null,null,null,null,null,null,null,null,null,null,null,null,null,null,null,null,null,null,null,null,null,null,null,null,null,null,null,null,null,null,null,null,null,null,null,null,null,null,null,"",""]
[null,null,null,null,null,null,null,null,null,null,null,null,null,null,null,null,null,null,null,null,null,null,null,null,null,null,null,null,null,null,null,null,null,null,null,null,null,null,null,null,null,null,null,null,null,null,null,null,null,null,null,null,null,null,"",""]
[null,null,null,null,null,null,null,null,null,null,null,null,null,null,null,null,null,null,null,null,null,null,null,null,null,null,null,null,null,null,null,null,null,null,null,null,null,null,null,null,null,null,null,null,null,null,null,null,null,null,null,null,null,null,"",""]
[null,null,null,null,null,null,null,null,null,null,null,null,null,null,null,null,null,null,null,null,null,null,null,null,null,null,null,null,null,null,null,null,null,null,null,null,null,null,null,null,null,null,null,null,null,null,null,null,null,null,null,null,null,null,"",""]
[null,null,null,null,null,null,null,null,null,null,null,null,null,null,null,null,null,null,null,null,null,null,null,null,null,null,null,null,null,null,null,null,null,null,null,null,null,null,null,null,null,null,null,null,null,null,null,null,null,null,null,null,null,null,"",""]
[null,null,null,null,null,null,null,null,null,null,null,null,null,null,null,null,null,null,null,null,null,null,null,null,null,null,null,null,null,null,null,null,null,null,null,null,null,null,null,null,null,null,null,null,null,null,null,null,null,null,null,null,null,null,"",""]
[null,null,null,null,null,null,null,null,null,null,null,null,null,null,null,null,null,null,null,null,null,null,null,null,null,null,null,null,null,null,null,null,null,null,null,null,null,null,null,null,null,null,null,null,null,null,null,null,null,null,null,null,null,null,"",""]
[null,null,null,null,null,null,null,null,null,null,null,null,null,null,null,null,null,null,null,null,null,null,null,null,null,null,null,null,null,null,null,null,null,null,null,null,null,null,null,null,null,null,null,null,null,null,null,null,null,null,null,null,null,null,"",""]
[null,null,null,null,null,null,null,null,null,null,null,null,null,null,null,null,null,null,null,null,null,null,null,null,null,null,null,null,null,null,null,null,null,null,null,null,null,null,null,null,null,null,null,null,null,null,null,null,null,null,null,null,null,null,"",""]
[null,null,null,null,null,null,null,null,null,null,null,null,null,null,null,null,null,null,null,null,null,null,null,null,null,null,null,null,null,null,null,null,null,null,null,null,null,null,null,null,null,null,null,null,null,null,null,null,null,null,null,null,null,null,"",""]
[null,null,null,null,null,null,null,null,null,null,null,null,null,null,null,null,null,null,null,null,null,null,null,null,null,null,null,null,null,null,null,null,null,null,null,null,null,null,null,null,null,null,null,null,null,null,null,null,null,null,null,null,null,null,"",""]
[null,null,null,null,null,null,null,null,null,null,null,null,null,null,null,null,null,null,null,null,null,null,null,null,null,null,null,null,null,null,null,null,null,null,null,null,null,null,null,null,null,null,null,null,null,null,null,null,null,null,null,null,null,null,"",""]
[null,null,null,null,null,null,null,null,null,null,null,null,null,null,null,null,null,null,null,null,null,null,null,null,null,null,null,null,null,null,null,null,null,null,null,null,null,null,null,null,null,null,null,null,null,null,null,null,null,null,null,null,null,null,"",""]
[null,null,null,null,null,null,null,null,null,null,null,null,null,null,null,null,null,null,null,null,null,null,null,null,null,null,null,null,null,null,null,null,null,null,null,null,null,null,null,null,null,null,null,null,null,null,null,null,null,null,null,null,null,null,"",""]
[null,null,null,null,null,null,null,null,null,null,null,null,null,null,null,null,null,null,null,null,null,null,null,null,null,null,null,null,null,null,null,null,null,null,null,null,null,null,null,null,null,null,null,null,null,null,null,null,null,null,null,null,null,null,"",""]
[null,null,null,null,null,null,null,null,null,null,null,null,null,null,null,null,null,null,null,null,null,null,null,null,null,null,null,null,null,null,null,null,null,null,null,null,null,null,null,null,null,null,null,null,null,null,null,null,null,null,null,null,null,null,"",""]
[null,null,null,null,null,null,null,null,null,null,null,null,null,null,null,null,null,null,null,null,null,null,null,null,null,null,null,null,null,null,null,null,null,null,null,null,null,null,null,null,null,null,null,null,null,null,null,null,null,null,null,null,null,null,"",""]
[null,null,null,null,null,null,null,null,null,null,null,null,null,null,null,null,null,null,null,null,null,null,null,null,null,null,null,null,null,null,null,null,null,null,null,null,null,null,null,null,null,null,null,null,null,null,null,null,null,null,null,null,null,null,"",""]
[null,null,null,null,null,null,null,null,null,null,null,null,null,null,null,null,null,null,null,null,null,null,null,null,null,null,null,null,null,null,null,null,null,null,null,null,null,null,null,null,null,null,null,null,null,null,null,null,null,null,null,null,null,null,"",""]
[null,null,null,null,null,null,null,null,null,null,null,null,null,null,null,null,null,null,null,null,null,null,null,null,null,null,null,null,null,null,null,null,null,null,null,null,null,null,null,null,null,null,null,null,null,null,null,null,null,null,null,null,null,null,"",""]
[null,null,null,null,null,null,null,null,null,null,null,null,null,null,null,null,null,null,null,null,null,null,null,null,null,null,null,null,null,null,null,null,null,null,null,null,null,null,null,null,null,null,null,null,null,null,null,null,null,null,null,null,null,null,"",""]
[null,null,null,null,null,null,null,null,null,null,null,null,null,null,null,null,null,null,null,null,null,null,null,null,null,null,null,null,null,null,null,null,null,null,null,null,null,null,null,null,null,null,null,null,null,null,null,null,null,null,null,null,null,null,"",""]
[null,null,null,null,null,null,null,null,null,null,null,null,null,null,null,null,null,null,null,null,null,null,null,null,null,null,null,null,null,null,null,null,null,null,null,null,null,null,null,null,null,null,null,null,null,null,null,null,null,null,null,null,null,null,"",""]
[null,null,null,null,null,null,null,null,null,null,null,null,null,null,null,null,null,null,null,null,null,null,null,null,null,null,null,null,null,null,null,null,null,null,null,null,null,null,null,null,null,null,null,null,null,null,null,null,null,null,null,null,null,null,"",""]
[null,null,null,null,null,null,null,null,null,null,null,null,null,null,null,null,null,null,null,null,null,null,null,null,null,null,null,null,null,null,null,null,null,null,null,null,null,null,null,null,null,null,null,null,null,null,null,null,null,null,null,null,null,null,"",""]
[null,null,null,null,null,null,null,null,null,null,null,null,null,null,null,null,null,null,null,null,null,null,null,null,null,null,null,null,null,null,null,null,null,null,null,null,null,null,null,null,null,null,null,null,null,null,null,null,null,null,null,null,null,null,"",""]
[null,null,null,null,null,null,null,null,null,null,null,null,null,null,null,null,null,null,null,null,null,null,null,null,null,null,null,null,null,null,null,null,null,null,null,null,null,null,null,null,null,null,null,null,null,null,null,null,null,null,null,null,null,null,"",""]
[null,null,null,null,null,null,null,null,null,null,null,null,null,null,null,null,null,null,null,null,null,null,null,null,null,null,null,null,null,null,null,null,null,null,null,null,null,null,null,null,null,null,null,null,null,null,null,null,null,null,null,null,null,null,"",""]
[null,null,null,null,null,null,null,null,null,null,null,null,null,null,null,null,null,null,null,null,null,null,null,null,null,null,null,null,null,null,null,null,null,null,null,null,null,null,null,null,null,null,null,null,null,null,null,null,null,null,null,null,null,null,"",""]
[null,null,null,null,null,null,null,null,null,null,null,null,null,null,null,null,null,null,null,null,null,null,null,null,null,null,null,null,null,null,null,null,null,null,null,null,null,null,null,null,null,null,null,null,null,null,null,null,null,null,null,null,null,null,"",""]
[null,null,null,null,null,null,null,null,null,null,null,null,null,null,null,null,null,null,null,null,null,null,null,null,null,null,null,null,null,null,null,null,null,null,null,null,null,null,null,null,null,null,null,null,null,null,null,null,null,null,null,null,null,null,"",""]
[null,null,null,null,null,null,null,null,null,null,null,null,null,null,null,null,null,null,null,null,null,null,null,null,null,null,null,null,null,null,null,null,null,null,null,null,null,null,null,null,null,null,null,null,null,null,null,null,null,null,null,null,null,null,"",""]
[null,null,null,null,null,null,null,null,null,null,null,null,null,null,null,null,null,null,null,null,null,null,null,null,null,null,null,null,null,null,null,null,null,null,null,null,null,null,null,null,null,null,null,null,null,null,null,null,null,null,null,null,null,null,"",""]
[null,null,null,null,null,null,null,null,null,null,null,null,null,null,null,null,null,null,null,null,null,null,null,null,null,null,null,null,null,null,null,null,null,null,null,null,null,null,null,null,null,null,null,null,null,null,null,null,null,null,null,null,null,null,{"$f":"IF($A6723=\"\",\"\",$B6723)","v":""},{"$f":"IF($A6723=\"\",\"\",B6723&AR6723)","v":""}]
[null,null,null,null,null,null,null,null,null,null,null,null,null,null,null,null,null,null,null,null,null,null,null,null,null,null,null,null,null,null,null,null,null,null,null,null,null,null,null,null,null,null,null,null,null,null,null,null,null,null,null,null,null,null,"",""]
[null,null,null,null,null,null,null,null,null,null,null,null,null,null,null,null,null,null,null,null,null,null,null,null,null,null,null,null,null,null,null,null,null,null,null,null,null,null,null,null,null,null,null,null,null,null,null,null,null,null,null,null,null,null,"",""]
[null,null,null,null,null,null,null,null,null,null,null,null,null,null,null,null,null,null,null,null,null,null,null,null,null,null,null,null,null,null,null,null,null,null,null,null,null,null,null,null,null,null,null,null,null,null,null,null,null,null,null,null,null,null,"",""]
[null,null,null,null,null,null,null,null,null,null,null,null,null,null,null,null,null,null,null,null,null,null,null,null,null,null,null,null,null,null,null,null,null,null,null,null,null,null,null,null,null,null,null,null,null,null,null,null,null,null,null,null,null,null,"",""]
[null,null,null,null,null,null,null,null,null,null,null,null,null,null,null,null,null,null,null,null,null,null,null,null,null,null,null,null,null,null,null,null,null,null,null,null,null,null,null,null,null,null,null,null,null,null,null,null,null,null,null,null,null,null,"",""]
[null,null,null,null,null,null,null,null,null,null,null,null,null,null,null,null,null,null,null,null,null,null,null,null,null,null,null,null,null,null,null,null,null,null,null,null,null,null,null,null,null,null,null,null,null,null,null,null,null,null,null,null,null,null,"",""]
[null,null,null,null,null,null,null,null,null,null,null,null,null,null,null,null,null,null,null,null,null,null,null,null,null,null,null,null,null,null,null,null,null,null,null,null,null,null,null,null,null,null,null,null,null,null,null,null,null,null,null,null,null,null,"",""]
[null,null,null,null,null,null,null,null,null,null,null,null,null,null,null,null,null,null,null,null,null,null,null,null,null,null,null,null,null,null,null,null,null,null,null,null,null,null,null,null,null,null,null,null,null,null,null,null,null,null,null,null,null,null,"",""]
[null,null,null,null,null,null,null,null,null,null,null,null,null,null,null,null,null,null,null,null,null,null,null,null,null,null,null,null,null,null,null,null,null,null,null,null,null,null,null,null,null,null,null,null,null,null,null,null,null,null,null,null,null,null,"",""]
[null,null,null,null,null,null,null,null,null,null,null,null,null,null,null,null,null,null,null,null,null,null,null,null,null,null,null,null,null,null,null,null,null,null,null,null,null,null,null,null,null,null,null,null,null,null,null,null,null,null,null,null,null,null,"",""]
[null,null,null,null,null,null,null,null,null,null,null,null,null,null,null,null,null,null,null,null,null,null,null,null,null,null,null,null,null,null,null,null,null,null,null,null,null,null,null,null,null,null,null,null,null,null,null,null,null,null,null,null,null,null,{"$f":"IF($A6915=\"\",\"\",$B6915)","v":""},{"$f":"IF($A6915=\"\",\"\",B6915&AR6915)","v":""}]
[null,null,null,null,null,null,null,null,null,null,null,null,null,null,null,null,null,null,null,null,null,null,null,null,null,null,null,null,null,null,null,null,null,null,null,null,null,null,null,null,null,null,null,null,null,null,null,null,null,null,null,null,null,null,"",""]
[null,null,null,null,null,null,null,null,null,null,null,null,null,null,null,null,null,null,null,null,null,null,null,null,null,null,null,null,null,null,null,null,null,null,null,null,null,null,null,null,null,null,null,null,null,null,null,null,null,null,null,null,null,null,"",""]
[null,null,null,null,null,null,null,null,null,null,null,null,null,null,null,null,null,null,null,null,null,null,null,null,null,null,null,null,null,null,null,null,null,null,null,null,null,null,null,null,null,null,null,null,null,null,null,null,null,null,null,null,null,null,"",""]
[null,null,null,null,null,null,null,null,null,null,null,null,null,null,null,null,null,null,null,null,null,null,null,null,null,null,null,null,null,null,null,null,null,null,null,null,null,null,null,null,null,null,null,null,null,null,null,null,null,null,null,null,null,null,"",""]
[null,null,null,null,null,null,null,null,null,null,null,null,null,null,null,null,null,null,null,null,null,null,null,null,null,null,null,null,null,null,null,null,null,null,null,null,null,null,null,null,null,null,null,null,null,null,null,null,null,null,null,null,null,null,"",""]
[null,null,null,null,null,null,null,null,null,null,null,null,null,null,null,null,null,null,null,null,null,null,null,null,null,null,null,null,null,null,null,null,null,null,null,null,null,null,null,null,null,null,null,null,null,null,null,null,null,null,null,null,null,null,"",""]
[null,null,null,null,null,null,null,null,null,null,null,null,null,null,null,null,null,null,null,null,null,null,null,null,null,null,null,null,null,null,null,null,null,null,null,null,null,null,null,null,null,null,null,null,null,null,null,null,null,null,null,null,null,null,"",""]
[null,null,null,null,null,null,null,null,null,null,null,null,null,null,null,null,null,null,null,null,null,null,null,null,null,null,null,null,null,null,null,null,null,null,null,null,null,null,null,null,null,null,null,null,null,null,null,null,null,null,null,null,null,null,"",""]
[null,null,null,null,null,null,null,null,null,null,null,null,null,null,null,null,null,null,null,null,null,null,null,null,null,null,null,null,null,null,null,null,null,null,null,null,null,null,null,null,null,null,null,null,null,null,null,null,null,null,null,null,null,null,"",""]
[null,null,null,null,null,null,null,null,null,null,null,null,null,null,null,null,null,null,null,null,null,null,null,null,null,null,null,null,null,null,null,null,null,null,null,null,null,null,null,null,null,null,null,null,null,null,null,null,null,null,null,null,null,null,"",""]
[null,null,null,null,null,null,null,null,null,null,null,null,null,null,null,null,null,null,null,null,null,null,null,null,null,null,null,null,null,null,null,null,null,null,null,null,null,null,null,null,null,null,null,null,null,null,null,null,null,null,null,null,null,null,"",""]
[null,null,null,null,null,null,null,null,null,null,null,null,null,null,null,null,null,null,null,null,null,null,null,null,null,null,null,null,null,null,null,null,null,null,null,null,null,null,null,null,null,null,null,null,null,null,null,null,null,null,null,null,null,null,"",""]
[null,null,null,null,null,null,null,null,null,null,null,null,null,null,null,null,null,null,null,null,null,null,null,null,null,null,null,null,null,null,null,null,null,null,null,null,null,null,null,null,null,null,null,null,null,null,null,null,null,null,null,null,null,null,"",""]
[null,null,null,null,null,null,null,null,null,null,null,null,null,null,null,null,null,null,null,null,null,null,null,null,null,null,null,null,null,null,null,null,null,null,null,null,null,null,null,null,null,null,null,null,null,null,null,null,null,null,null,null,null,null,"",""]
[null,null,null,null,null,null,null,null,null,null,null,null,null,null,null,null,null,null,null,null,null,null,null,null,null,null,null,null,null,null,null,null,null,null,null,null,null,null,null,null,null,null,null,null,null,null,null,null,null,null,null,null,null,null,"",""]
[null,null,null,null,null,null,null,null,null,null,null,null,null,null,null,null,null,null,null,null,null,null,null,null,null,null,null,null,null,null,null,null,null,null,null,null,null,null,null,null,null,null,null,null,null,null,null,null,null,null,null,null,null,null,"",""]
[null,null,null,null,null,null,null,null,null,null,null,null,null,null,null,null,null,null,null,null,null,null,null,null,null,null,null,null,null,null,null,null,null,null,null,null,null,null,null,null,null,null,null,null,null,null,null,null,null,null,null,null,null,null,"",""]
[null,null,null,null,null,null,null,null,null,null,null,null,null,null,null,null,null,null,null,null,null,null,null,null,null,null,null,null,null,null,null,null,null,null,null,null,null,null,null,null,null,null,null,null,null,null,null,null,null,null,null,null,null,null,"",""]
[null,null,null,null,null,null,null,null,null,null,null,null,null,null,null,null,null,null,null,null,null,null,null,null,null,null,null,null,null,null,null,null,null,null,null,null,null,null,null,null,null,null,null,null,null,null,null,null,null,null,null,null,null,null,"",""]
[null,null,null,null,null,null,null,null,null,null,null,null,null,null,null,null,null,null,null,null,null,null,null,null,null,null,null,null,null,null,null,null,null,null,null,null,null,null,null,null,null,null,null,null,null,null,null,null,null,null,null,null,null,null,"",""]
[null,null,null,null,null,null,null,null,null,null,null,null,null,null,null,null,null,null,null,null,null,null,null,null,null,null,null,null,null,null,null,null,null,null,null,null,null,null,null,null,null,null,null,null,null,null,null,null,null,null,null,null,null,null,"",""]
[null,null,null,null,null,null,null,null,null,null,null,null,null,null,null,null,null,null,null,null,null,null,null,null,null,null,null,null,null,null,null,null,null,null,null,null,null,null,null,null,null,null,null,null,null,null,null,null,null,null,null,null,null,null,"",""]
[null,null,null,null,null,null,null,null,null,null,null,null,null,null,null,null,null,null,null,null,null,null,null,null,null,null,null,null,null,null,null,null,null,null,null,null,null,null,null,null,null,null,null,null,null,null,null,null,null,null,null,null,null,null,"",""]
[null,null,null,null,null,null,null,null,null,null,null,null,null,null,null,null,null,null,null,null,null,null,null,null,null,null,null,null,null,null,null,null,null,null,null,null,null,null,null,null,null,null,null,null,null,null,null,null,null,null,null,null,null,null,"",""]
[null,null,null,null,null,null,null,null,null,null,null,null,null,null,null,null,null,null,null,null,null,null,null,null,null,null,null,null,null,null,null,null,null,null,null,null,null,null,null,null,null,null,null,null,null,null,null,null,null,null,null,null,null,null,"",""]
[null,null,null,null,null,null,null,null,null,null,null,null,null,null,null,null,null,null,null,null,null,null,null,null,null,null,null,null,null,null,null,null,null,null,null,null,null,null,null,null,null,null,null,null,null,null,null,null,null,null,null,null,null,null,"",""]
[null,null,null,null,null,null,null,null,null,null,null,null,null,null,null,null,null,null,null,null,null,null,null,null,null,null,null,null,null,null,null,null,null,null,null,null,null,null,null,null,null,null,null,null,null,null,null,null,null,null,null,null,null,null,"",""]
[null,null,null,null,null,null,null,null,null,null,null,null,null,null,null,null,null,null,null,null,null,null,null,null,null,null,null,null,null,null,null,null,null,null,null,null,null,null,null,null,null,null,null,null,null,null,null,null,null,null,null,null,null,null,"",""]
[null,null,null,null,null,null,null,null,null,null,null,null,null,null,null,null,null,null,null,null,null,null,null,null,null,null,null,null,null,null,null,null,null,null,null,null,null,null,null,null,null,null,null,null,null,null,null,null,null,null,null,null,null,null,"",""]
[null,null,null,null,null,null,null,null,null,null,null,null,null,null,null,null,null,null,null,null,null,null,null,null,null,null,null,null,null,null,null,null,null,null,null,null,null,null,null,null,null,null,null,null,null,null,null,null,null,null,null,null,null,null,"",""]
[null,null,null,null,null,null,null,null,null,null,null,null,null,null,null,null,null,null,null,null,null,null,null,null,null,null,null,null,null,null,null,null,null,null,null,null,null,null,null,null,null,null,null,null,null,null,null,null,null,null,null,null,null,null,"",""]
[null,null,null,null,null,null,null,null,null,null,null,null,null,null,null,null,null,null,null,null,null,null,null,null,null,null,null,null,null,null,null,null,null,null,null,null,null,null,null,null,null,null,null,null,null,null,null,null,null,null,null,null,null,null,"",""]
[null,null,null,null,null,null,null,null,null,null,null,null,null,null,null,null,null,null,null,null,null,null,null,null,null,null,null,null,null,null,null,null,null,null,null,null,null,null,null,null,null,null,null,null,null,null,null,null,null,null,null,null,null,null,"",""]
[null,null,null,null,null,null,null,null,null,null,null,null,null,null,null,null,null,null,null,null,null,null,null,null,null,null,null,null,null,null,null,null,null,null,null,null,null,null,null,null,null,null,null,null,null,null,null,null,null,null,null,null,null,null,"",""]
[null,null,null,null,null,null,null,null,null,null,null,null,null,null,null,null,null,null,null,null,null,null,null,null,null,null,null,null,null,null,null,null,null,null,null,null,null,null,null,null,null,null,null,null,null,null,null,null,null,null,null,null,null,null,"",""]
[null,null,null,null,null,null,null,null,null,null,null,null,null,null,null,null,null,null,null,null,null,null,null,null,null,null,null,null,null,null,null,null,null,null,null,null,null,null,null,null,null,null,null,null,null,null,null,null,null,null,null,null,null,null,"",""]
[null,null,null,null,null,null,null,null,null,null,null,null,null,null,null,null,null,null,null,null,null,null,null,null,null,null,null,null,null,null,null,null,null,null,null,null,null,null,null,null,null,null,null,null,null,null,null,null,null,null,null,null,null,null,"",""]
[null,null,null,null,null,null,null,null,null,null,null,null,null,null,null,null,null,null,null,null,null,null,null,null,null,null,null,null,null,null,null,null,null,null,null,null,null,null,null,null,null,null,null,null,null,null,null,null,null,null,null,null,null,null,"",""]
[null,null,null,null,null,null,null,null,null,null,null,null,null,null,null,null,null,null,null,null,null,null,null,null,null,null,null,null,null,null,null,null,null,null,null,null,null,null,null,null,null,null,null,null,null,null,null,null,null,null,null,null,null,null,"",""]
[null,null,null,null,null,null,null,null,null,null,null,null,null,null,null,null,null,null,null,null,null,null,null,null,null,null,null,null,null,null,null,null,null,null,null,null,null,null,null,null,null,null,null,null,null,null,null,null,null,null,null,null,null,null,"",""]
[null,null,null,null,null,null,null,null,null,null,null,null,null,null,null,null,null,null,null,null,null,null,null,null,null,null,null,null,null,null,null,null,null,null,null,null,null,null,null,null,null,null,null,null,null,null,null,null,null,null,null,null,null,null,"",""]
[null,null,null,null,null,null,null,null,null,null,null,null,null,null,null,null,null,null,null,null,null,null,null,null,null,null,null,null,null,null,null,null,null,null,null,null,null,null,null,null,null,null,null,null,null,null,null,null,null,null,null,null,null,null,"",""]
[null,null,null,null,null,null,null,null,null,null,null,null,null,null,null,null,null,null,null,null,null,null,null,null,null,null,null,null,null,null,null,null,null,null,null,null,null,null,null,null,null,null,null,null,null,null,null,null,null,null,null,null,null,null,"",""]
[null,null,null,null,null,null,null,null,null,null,null,null,null,null,null,null,null,null,null,null,null,null,null,null,null,null,null,null,null,null,null,null,null,null,null,null,null,null,null,null,null,null,null,null,null,null,null,null,null,null,null,null,null,null,{"$f":"IF($A7747=\"\",\"\",$B7747)","v":""},{"$f":"IF($A7747=\"\",\"\",B7747&AR7747)","v":""}]
[null,null,null,null,null,null,null,null,null,null,null,null,null,null,null,null,null,null,null,null,null,null,null,null,null,null,null,null,null,null,null,null,null,null,null,null,null,null,null,null,null,null,null,null,null,null,null,null,null,null,null,null,null,null,"",""]
[null,null,null,null,null,null,null,null,null,null,null,null,null,null,null,null,null,null,null,null,null,null,null,null,null,null,null,null,null,null,null,null,null,null,null,null,null,null,null,null,null,null,null,null,null,null,null,null,null,null,null,null,null,null,"",""]
[null,null,null,null,null,null,null,null,null,null,null,null,null,null,null,null,null,null,null,null,null,null,null,null,null,null,null,null,null,null,null,null,null,null,null,null,null,null,null,null,null,null,null,null,null,null,null,null,null,null,null,null,null,null,"",""]
[null,null,null,null,null,null,null,null,null,null,null,null,null,null,null,null,null,null,null,null,null,null,null,null,null,null,null,null,null,null,null,null,null,null,null,null,null,null,null,null,null,null,null,null,null,null,null,null,null,null,null,null,null,null,"",""]
[null,null,null,null,null,null,null,null,null,null,null,null,null,null,null,null,null,null,null,null,null,null,null,null,null,null,null,null,null,null,null,null,null,null,null,null,null,null,null,null,null,null,null,null,null,null,null,null,null,null,null,null,null,null,"",""]
[null,null,null,null,null,null,null,null,null,null,null,null,null,null,null,null,null,null,null,null,null,null,null,null,null,null,null,null,null,null,null,null,null,null,null,null,null,null,null,null,null,null,null,null,null,null,null,null,null,null,null,null,null,null,"",""]
[null,null,null,null,null,null,null,null,null,null,null,null,null,null,null,null,null,null,null,null,null,null,null,null,null,null,null,null,null,null,null,null,null,null,null,null,null,null,null,null,null,null,null,null,null,null,null,null,null,null,null,null,null,null,"",""]
[null,null,null,null,null,null,null,null,null,null,null,null,null,null,null,null,null,null,null,null,null,null,null,null,null,null,null,null,null,null,null,null,null,null,null,null,null,null,null,null,null,null,null,null,null,null,null,null,null,null,null,null,null,null,"",""]
[null,null,null,null,null,null,null,null,null,null,null,null,null,null,null,null,null,null,null,null,null,null,null,null,null,null,null,null,null,null,null,null,null,null,null,null,null,null,null,null,null,null,null,null,null,null,null,null,null,null,null,null,null,null,"",""]
[null,null,null,null,null,null,null,null,null,null,null,null,null,null,null,null,null,null,null,null,null,null,null,null,null,null,null,null,null,null,null,null,null,null,null,null,null,null,null,null,null,null,null,null,null,null,null,null,null,null,null,null,null,null,"",""]
[null,null,null,null,null,null,null,null,null,null,null,null,null,null,null,null,null,null,null,null,null,null,null,null,null,null,null,null,null,null,null,null,null,null,null,null,null,null,null,null,null,null,null,null,null,null,null,null,null,null,null,null,null,null,"",""]
[null,null,null,null,null,null,null,null,null,null,null,null,null,null,null,null,null,null,null,null,null,null,null,null,null,null,null,null,null,null,null,null,null,null,null,null,null,null,null,null,null,null,null,null,null,null,null,null,null,null,null,null,null,null,"",""]
[null,null,null,null,null,null,null,null,null,null,null,null,null,null,null,null,null,null,null,null,null,null,null,null,null,null,null,null,null,null,null,null,null,null,null,null,null,null,null,null,null,null,null,null,null,null,null,null,null,null,null,null,null,null,"",""]
[null,null,null,null,null,null,null,null,null,null,null,null,null,null,null,null,null,null,null,null,null,null,null,null,null,null,null,null,null,null,null,null,null,null,null,null,null,null,null,null,null,null,null,null,null,null,null,null,null,null,null,null,null,null,"",""]
[null,null,null,null,null,null,null,null,null,null,null,null,null,null,null,null,null,null,null,null,null,null,null,null,null,null,null,null,null,null,null,null,null,null,null,null,null,null,null,null,null,null,null,null,null,null,null,null,null,null,null,null,null,null,"",""]
[null,null,null,null,null,null,null,null,null,null,null,null,null,null,null,null,null,null,null,null,null,null,null,null,null,null,null,null,null,null,null,null,null,null,null,null,null,null,null,null,null,null,null,null,null,null,null,null,null,null,null,null,null,null,"",""]
[null,null,null,null,null,null,null,null,null,null,null,null,null,null,null,null,null,null,null,null,null,null,null,null,null,null,null,null,null,null,null,null,null,null,null,null,null,null,null,null,null,null,null,null,null,null,null,null,null,null,null,null,null,null,"",""]
[null,null,null,null,null,null,null,null,null,null,null,null,null,null,null,null,null,null,null,null,null,null,null,null,null,null,null,null,null,null,null,null,null,null,null,null,null,null,null,null,null,null,null,null,null,null,null,null,null,null,null,null,null,null,"",""]
[null,null,null,null,null,null,null,null,null,null,null,null,null,null,null,null,null,null,null,null,null,null,null,null,null,null,null,null,null,null,null,null,null,null,null,null,null,null,null,null,null,null,null,null,null,null,null,null,null,null,null,null,null,null,"",""]
[null,null,null,null,null,null,null,null,null,null,null,null,null,null,null,null,null,null,null,null,null,null,null,null,null,null,null,null,null,null,null,null,null,null,null,null,null,null,null,null,null,null,null,null,null,null,null,null,null,null,null,null,null,null,"",""]
[null,null,null,null,null,null,null,null,null,null,null,null,null,null,null,null,null,null,null,null,null,null,null,null,null,null,null,null,null,null,null,null,null,null,null,null,null,null,null,null,null,null,null,null,null,null,null,null,null,null,null,null,null,null,"",""]
[null,null,null,null,null,null,null,null,null,null,null,null,null,null,null,null,null,null,null,null,null,null,null,null,null,null,null,null,null,null,null,null,null,null,null,null,null,null,null,null,null,null,null,null,null,null,null,null,null,null,null,null,null,null,"",""]
[null,null,null,null,null,null,null,null,null,null,null,null,null,null,null,null,null,null,null,null,null,null,null,null,null,null,null,null,null,null,null,null,null,null,null,null,null,null,null,null,null,null,null,null,null,null,null,null,null,null,null,null,null,null,"",""]
[null,null,null,null,null,null,null,null,null,null,null,null,null,null,null,null,null,null,null,null,null,null,null,null,null,null,null,null,null,null,null,null,null,null,null,null,null,null,null,null,null,null,null,null,null,null,null,null,null,null,null,null,null,null,"",""]
[null,null,null,null,null,null,null,null,null,null,null,null,null,null,null,null,null,null,null,null,null,null,null,null,null,null,null,null,null,null,null,null,null,null,null,null,null,null,null,null,null,null,null,null,null,null,null,null,null,null,null,null,null,null,"",""]
[null,null,null,null,null,null,null,null,null,null,null,null,null,null,null,null,null,null,null,null,null,null,null,null,null,null,null,null,null,null,null,null,null,null,null,null,null,null,null,null,null,null,null,null,null,null,null,null,null,null,null,null,null,null,"",""]
[null,null,null,null,null,null,null,null,null,null,null,null,null,null,null,null,null,null,null,null,null,null,null,null,null,null,null,null,null,null,null,null,null,null,null,null,null,null,null,null,null,null,null,null,null,null,null,null,null,null,null,null,null,null,"",""]
[null,null,null,null,null,null,null,null,null,null,null,null,null,null,null,null,null,null,null,null,null,null,null,null,null,null,null,null,null,null,null,null,null,null,null,null,null,null,null,null,null,null,null,null,null,null,null,null,null,null,null,null,null,null,"",""]
[null,null,null,null,null,null,null,null,null,null,null,null,null,null,null,null,null,null,null,null,null,null,null,null,null,null,null,null,null,null,null,null,null,null,null,null,null,null,null,null,null,null,null,null,null,null,null,null,null,null,null,null,null,null,"",""]
[null,null,null,null,null,null,null,null,null,null,null,null,null,null,null,null,null,null,null,null,null,null,null,null,null,null,null,null,null,null,null,null,null,null,null,null,null,null,null,null,null,null,null,null,null,null,null,null,null,null,null,null,null,null,"",""]
[null,null,null,null,null,null,null,null,null,null,null,null,null,null,null,null,null,null,null,null,null,null,null,null,null,null,null,null,null,null,null,null,null,null,null,null,null,null,null,null,null,null,null,null,null,null,null,null,null,null,null,null,null,null,"",""]
[null,null,null,null,null,null,null,null,null,null,null,null,null,null,null,null,null,null,null,null,null,null,null,null,null,null,null,null,null,null,null,null,null,null,null,null,null,null,null,null,null,null,null,null,null,null,null,null,null,null,null,null,null,null,"",""]
[null,null,null,null,null,null,null,null,null,null,null,null,null,null,null,null,null,null,null,null,null,null,null,null,null,null,null,null,null,null,null,null,null,null,null,null,null,null,null,null,null,null,null,null,null,null,null,null,null,null,null,null,null,null,"",""]
[null,null,null,null,null,null,null,null,null,null,null,null,null,null,null,null,null,null,null,null,null,null,null,null,null,null,null,null,null,null,null,null,null,null,null,null,null,null,null,null,null,null,null,null,null,null,null,null,null,null,null,null,null,null,{"$f":"IF($A8387=\"\",\"\",$B8387)","v":""},{"$f":"IF($A8387=\"\",\"\",B8387&AR8387)","v":""}]
[null,null,null,null,null,null,null,null,null,null,null,null,null,null,null,null,null,null,null,null,null,null,null,null,null,null,null,null,null,null,null,null,null,null,null,null,null,null,null,null,null,null,null,null,null,null,null,null,null,null,null,null,null,null,"",""]
[null,null,null,null,null,null,null,null,null,null,null,null,null,null,null,null,null,null,null,null,null,null,null,null,null,null,null,null,null,null,null,null,null,null,null,null,null,null,null,null,null,null,null,null,null,null,null,null,null,null,null,null,null,null,"",""]
[null,null,null,null,null,null,null,null,null,null,null,null,null,null,null,null,null,null,null,null,null,null,null,null,null,null,null,null,null,null,null,null,null,null,null,null,null,null,null,null,null,null,null,null,null,null,null,null,null,null,null,null,null,null,"",""]
[null,null,null,null,null,null,null,null,null,null,null,null,null,null,null,null,null,null,null,null,null,null,null,null,null,null,null,null,null,null,null,null,null,null,null,null,null,null,null,null,null,null,null,null,null,null,null,null,null,null,null,null,null,null,"",""]
[null,null,null,null,null,null,null,null,null,null,null,null,null,null,null,null,null,null,null,null,null,null,null,null,null,null,null,null,null,null,null,null,null,null,null,null,null,null,null,null,null,null,null,null,null,null,null,null,null,null,null,null,null,null,"",""]
[null,null,null,null,null,null,null,null,null,null,null,null,null,null,null,null,null,null,null,null,null,null,null,null,null,null,null,null,null,null,null,null,null,null,null,null,null,null,null,null,null,null,null,null,null,null,null,null,null,null,null,null,null,null,"",""]
[null,null,null,null,null,null,null,null,null,null,null,null,null,null,null,null,null,null,null,null,null,null,null,null,null,null,null,null,null,null,null,null,null,null,null,null,null,null,null,null,null,null,null,null,null,null,null,null,null,null,null,null,null,null,"",""]
[null,null,null,null,null,null,null,null,null,null,null,null,null,null,null,null,null,null,null,null,null,null,null,null,null,null,null,null,null,null,null,null,null,null,null,null,null,null,null,null,null,null,null,null,null,null,null,null,null,null,null,null,null,null,"",""]
[null,null,null,null,null,null,null,null,null,null,null,null,null,null,null,null,null,null,null,null,null,null,null,null,null,null,null,null,null,null,null,null,null,null,null,null,null,null,null,null,null,null,null,null,null,null,null,null,null,null,null,null,null,null,"",""]
[null,null,null,null,null,null,null,null,null,null,null,null,null,null,null,null,null,null,null,null,null,null,null,null,null,null,null,null,null,null,null,null,null,null,null,null,null,null,null,null,null,null,null,null,null,null,null,null,null,null,null,null,null,null,{"$f":"IF($A8579=\"\",\"\",$B8579)","v":""},{"$f":"IF($A8579=\"\",\"\",B8579&AR8579)","v":""}]
[null,null,null,null,null,null,null,null,null,null,null,null,null,null,null,null,null,null,null,null,null,null,null,null,null,null,null,null,null,null,null,null,null,null,null,null,null,null,null,null,null,null,null,null,null,null,null,null,null,null,null,null,null,null,"",""]
[null,null,null,null,null,null,null,null,null,null,null,null,null,null,null,null,null,null,null,null,null,null,null,null,null,null,null,null,null,null,null,null,null,null,null,null,null,null,null,null,null,null,null,null,null,null,null,null,null,null,null,null,null,null,"",""]
[null,null,null,null,null,null,null,null,null,null,null,null,null,null,null,null,null,null,null,null,null,null,null,null,null,null,null,null,null,null,null,null,null,null,null,null,null,null,null,null,null,null,null,null,null,null,null,null,null,null,null,null,null,null,"",""]
[null,null,null,null,null,null,null,null,null,null,null,null,null,null,null,null,null,null,null,null,null,null,null,null,null,null,null,null,null,null,null,null,null,null,null,null,null,null,null,null,null,null,null,null,null,null,null,null,null,null,null,null,null,null,"",""]
[null,null,null,null,null,null,null,null,null,null,null,null,null,null,null,null,null,null,null,null,null,null,null,null,null,null,null,null,null,null,null,null,null,null,null,null,null,null,null,null,null,null,null,null,null,null,null,null,null,null,null,null,null,null,"",""]
[null,null,null,null,null,null,null,null,null,null,null,null,null,null,null,null,null,null,null,null,null,null,null,null,null,null,null,null,null,null,null,null,null,null,null,null,null,null,null,null,null,null,null,null,null,null,null,null,null,null,null,null,null,null,"",""]
[null,null,null,null,null,null,null,null,null,null,null,null,null,null,null,null,null,null,null,null,null,null,null,null,null,null,null,null,null,null,null,null,null,null,null,null,null,null,null,null,null,null,null,null,null,null,null,null,null,null,null,null,null,null,"",""]
[null,null,null,null,null,null,null,null,null,null,null,null,null,null,null,null,null,null,null,null,null,null,null,null,null,null,null,null,null,null,null,null,null,null,null,null,null,null,null,null,null,null,null,null,null,null,null,null,null,null,null,null,null,null,"",""]
[null,null,null,null,null,null,null,null,null,null,null,null,null,null,null,null,null,null,null,null,null,null,null,null,null,null,null,null,null,null,null,null,null,null,null,null,null,null,null,null,null,null,null,null,null,null,null,null,null,null,null,null,null,null,"",""]
[null,null,null,null,null,null,null,null,null,null,null,null,null,null,null,null,null,null,null,null,null,null,null,null,null,null,null,null,null,null,null,null,null,null,null,null,null,null,null,null,null,null,null,null,null,null,null,null,null,null,null,null,null,null,"",""]
[null,null,null,null,null,null,null,null,null,null,null,null,null,null,null,null,null,null,null,null,null,null,null,null,null,null,null,null,null,null,null,null,null,null,null,null,null,null,null,null,null,null,null,null,null,null,null,null,null,null,null,null,null,null,{"$f":"IF($A8771=\"\",\"\",$B8771)","v":""},{"$f":"IF($A8771=\"\",\"\",B8771&AR8771)","v":""}]
[null,null,null,null,null,null,null,null,null,null,null,null,null,null,null,null,null,null,null,null,null,null,null,null,null,null,null,null,null,null,null,null,null,null,null,null,null,null,null,null,null,null,null,null,null,null,null,null,null,null,null,null,null,null,"",""]
[null,null,null,null,null,null,null,null,null,null,null,null,null,null,null,null,null,null,null,null,null,null,null,null,null,null,null,null,null,null,null,null,null,null,null,null,null,null,null,null,null,null,null,null,null,null,null,null,null,null,null,null,null,null,"",""]
[null,null,null,null,null,null,null,null,null,null,null,null,null,null,null,null,null,null,null,null,null,null,null,null,null,null,null,null,null,null,null,null,null,null,null,null,null,null,null,null,null,null,null,null,null,null,null,null,null,null,null,null,null,null,"",""]
[null,null,null,null,null,null,null,null,null,null,null,null,null,null,null,null,null,null,null,null,null,null,null,null,null,null,null,null,null,null,null,null,null,null,null,null,null,null,null,null,null,null,null,null,null,null,null,null,null,null,null,null,null,null,"",""]
[null,null,null,null,null,null,null,null,null,null,null,null,null,null,null,null,null,null,null,null,null,null,null,null,null,null,null,null,null,null,null,null,null,null,null,null,null,null,null,null,null,null,null,null,null,null,null,null,null,null,null,null,null,null,"",""]
[null,null,null,null,null,null,null,null,null,null,null,null,null,null,null,null,null,null,null,null,null,null,null,null,null,null,null,null,null,null,null,null,null,null,null,null,null,null,null,null,null,null,null,null,null,null,null,null,null,null,null,null,null,null,"",""]
[null,null,null,null,null,null,null,null,null,null,null,null,null,null,null,null,null,null,null,null,null,null,null,null,null,null,null,null,null,null,null,null,null,null,null,null,null,null,null,null,null,null,null,null,null,null,null,null,null,null,null,null,null,null,"",""]
[null,null,null,null,null,null,null,null,null,null,null,null,null,null,null,null,null,null,null,null,null,null,null,null,null,null,null,null,null,null,null,null,null,null,null,null,null,null,null,null,null,null,null,null,null,null,null,null,null,null,null,null,null,null,"",""]
[null,null,null,null,null,null,null,null,null,null,null,null,null,null,null,null,null,null,null,null,null,null,null,null,null,null,null,null,null,null,null,null,null,null,null,null,null,null,null,null,null,null,null,null,null,null,null,null,null,null,null,null,null,null,"",""]
[null,null,null,null,null,null,null,null,null,null,null,null,null,null,null,null,null,null,null,null,null,null,null,null,null,null,null,null,null,null,null,null,null,null,null,null,null,null,null,null,null,null,null,null,null,null,null,null,null,null,null,null,null,null,"",""]
[null,null,null,null,null,null,null,null,null,null,null,null,null,null,null,null,null,null,null,null,null,null,null,null,null,null,null,null,null,null,null,null,null,null,null,null,null,null,null,null,null,null,null,null,null,null,null,null,null,null,null,null,null,null,"",""]
[null,null,null,null,null,null,null,null,null,null,null,null,null,null,null,null,null,null,null,null,null,null,null,null,null,null,null,null,null,null,null,null,null,null,null,null,null,null,null,null,null,null,null,null,null,null,null,null,null,null,null,null,null,null,"",""]
[null,null,null,null,null,null,null,null,null,null,null,null,null,null,null,null,null,null,null,null,null,null,null,null,null,null,null,null,null,null,null,null,null,null,null,null,null,null,null,null,null,null,null,null,null,null,null,null,null,null,null,null,null,null,"",""]
[null,null,null,null,null,null,null,null,null,null,null,null,null,null,null,null,null,null,null,null,null,null,null,null,null,null,null,null,null,null,null,null,null,null,null,null,null,null,null,null,null,null,null,null,null,null,null,null,null,null,null,null,null,null,"",""]
[null,null,null,null,null,null,null,null,null,null,null,null,null,null,null,null,null,null,null,null,null,null,null,null,null,null,null,null,null,null,null,null,null,null,null,null,null,null,null,null,null,null,null,null,null,null,null,null,null,null,null,null,null,null,"",""]
[null,null,null,null,null,null,null,null,null,null,null,null,null,null,null,null,null,null,null,null,null,null,null,null,null,null,null,null,null,null,null,null,null,null,null,null,null,null,null,null,null,null,null,null,null,null,null,null,null,null,null,null,null,null,"",""]
[null,null,null,null,null,null,null,null,null,null,null,null,null,null,null,null,null,null,null,null,null,null,null,null,null,null,null,null,null,null,null,null,null,null,null,null,null,null,null,null,null,null,null,null,null,null,null,null,null,null,null,null,null,null,"",""]
[null,null,null,null,null,null,null,null,null,null,null,null,null,null,null,null,null,null,null,null,null,null,null,null,null,null,null,null,null,null,null,null,null,null,null,null,null,null,null,null,null,null,null,null,null,null,null,null,null,null,null,null,null,null,"",""]
[null,null,null,null,null,null,null,null,null,null,null,null,null,null,null,null,null,null,null,null,null,null,null,null,null,null,null,null,null,null,null,null,null,null,null,null,null,null,null,null,null,null,null,null,null,null,null,null,null,null,null,null,null,null,"",""]
[null,null,null,null,null,null,null,null,null,null,null,null,null,null,null,null,null,null,null,null,null,null,null,null,null,null,null,null,null,null,null,null,null,null,null,null,null,null,null,null,null,null,null,null,null,null,null,null,null,null,null,null,null,null,"",""]
[null,null,null,null,null,null,null,null,null,null,null,null,null,null,null,null,null,null,null,null,null,null,null,null,null,null,null,null,null,null,null,null,null,null,null,null,null,null,null,null,null,null,null,null,null,null,null,null,null,null,null,null,null,null,"",""]
[null,null,null,null,null,null,null,null,null,null,null,null,null,null,null,null,null,null,null,null,null,null,null,null,null,null,null,null,null,null,null,null,null,null,null,null,null,null,null,null,null,null,null,null,null,null,null,null,null,null,null,null,null,null,"",""]
[null,null,null,null,null,null,null,null,null,null,null,null,null,null,null,null,null,null,null,null,null,null,null,null,null,null,null,null,null,null,null,null,null,null,null,null,null,null,null,null,null,null,null,null,null,null,null,null,null,null,null,null,null,null,"",""]
[null,null,null,null,null,null,null,null,null,null,null,null,null,null,null,null,null,null,null,null,null,null,null,null,null,null,null,null,null,null,null,null,null,null,null,null,null,null,null,null,null,null,null,null,null,null,null,null,null,null,null,null,null,null,"",""]
[null,null,null,null,null,null,null,null,null,null,null,null,null,null,null,null,null,null,null,null,null,null,null,null,null,null,null,null,null,null,null,null,null,null,null,null,null,null,null,null,null,null,null,null,null,null,null,null,null,null,null,null,null,null,"",""]
[null,null,null,null,null,null,null,null,null,null,null,null,null,null,null,null,null,null,null,null,null,null,null,null,null,null,null,null,null,null,null,null,null,null,null,null,null,null,null,null,null,null,null,null,null,null,null,null,null,null,null,null,null,null,"",""]
[null,null,null,null,null,null,null,null,null,null,null,null,null,null,null,null,null,null,null,null,null,null,null,null,null,null,null,null,null,null,null,null,null,null,null,null,null,null,null,null,null,null,null,null,null,null,null,null,null,null,null,null,null,null,"",""]
[null,null,null,null,null,null,null,null,null,null,null,null,null,null,null,null,null,null,null,null,null,null,null,null,null,null,null,null,null,null,null,null,null,null,null,null,null,null,null,null,null,null,null,null,null,null,null,null,null,null,null,null,null,null,"",""]
[null,null,null,null,null,null,null,null,null,null,null,null,null,null,null,null,null,null,null,null,null,null,null,null,null,null,null,null,null,null,null,null,null,null,null,null,null,null,null,null,null,null,null,null,null,null,null,null,null,null,null,null,null,null,"",""]
[null,null,null,null,null,null,null,null,null,null,null,null,null,null,null,null,null,null,null,null,null,null,null,null,null,null,null,null,null,null,null,null,null,null,null,null,null,null,null,null,null,null,null,null,null,null,null,null,null,null,null,null,null,null,"",""]
[null,null,null,null,null,null,null,null,null,null,null,null,null,null,null,null,null,null,null,null,null,null,null,null,null,null,null,null,null,null,null,null,null,null,null,null,null,null,null,null,null,null,null,null,null,null,null,null,null,null,null,null,null,null,"",""]
[null,null,null,null,null,null,null,null,null,null,null,null,null,null,null,null,null,null,null,null,null,null,null,null,null,null,null,null,null,null,null,null,null,null,null,null,null,null,null,null,null,null,null,null,null,null,null,null,null,null,null,null,null,null,"",""]
[null,null,null,null,null,null,null,null,null,null,null,null,null,null,null,null,null,null,null,null,null,null,null,null,null,null,null,null,null,null,null,null,null,null,null,null,null,null,null,null,null,null,null,null,null,null,null,null,null,null,null,null,null,null,"",""]
[null,null,null,null,null,null,null,null,null,null,null,null,null,null,null,null,null,null,null,null,null,null,null,null,null,null,null,null,null,null,null,null,null,null,null,null,null,null,null,null,null,null,null,null,null,null,null,null,null,null,null,null,null,null,{"$f":"IF($A9411=\"\",\"\",$B9411)","v":""},{"$f":"IF($A9411=\"\",\"\",B9411&AR9411)","v":""}]
[null,null,null,null,null,null,null,null,null,null,null,null,null,null,null,null,null,null,null,null,null,null,null,null,null,null,null,null,null,null,null,null,null,null,null,null,null,null,null,null,null,null,null,null,null,null,null,null,null,null,null,null,null,null,"",""]
[null,null,null,null,null,null,null,null,null,null,null,null,null,null,null,null,null,null,null,null,null,null,null,null,null,null,null,null,null,null,null,null,null,null,null,null,null,null,null,null,null,null,null,null,null,null,null,null,null,null,null,null,null,null,"",""]
[null,null,null,null,null,null,null,null,null,null,null,null,null,null,null,null,null,null,null,null,null,null,null,null,null,null,null,null,null,null,null,null,null,null,null,null,null,null,null,null,null,null,null,null,null,null,null,null,null,null,null,null,null,null,"",""]
[null,null,null,null,null,null,null,null,null,null,null,null,null,null,null,null,null,null,null,null,null,null,null,null,null,null,null,null,null,null,null,null,null,null,null,null,null,null,null,null,null,null,null,null,null,null,null,null,null,null,null,null,null,null,"",""]
[null,null,null,null,null,null,null,null,null,null,null,null,null,null,null,null,null,null,null,null,null,null,null,null,null,null,null,null,null,null,null,null,null,null,null,null,null,null,null,null,null,null,null,null,null,null,null,null,null,null,null,null,null,null,"",""]
[null,null,null,null,null,null,null,null,null,null,null,null,null,null,null,null,null,null,null,null,null,null,null,null,null,null,null,null,null,null,null,null,null,null,null,null,null,null,null,null,null,null,null,null,null,null,null,null,null,null,null,null,null,null,"",""]
[null,null,null,null,null,null,null,null,null,null,null,null,null,null,null,null,null,null,null,null,null,null,null,null,null,null,null,null,null,null,null,null,null,null,null,null,null,null,null,null,null,null,null,null,null,null,null,null,null,null,null,null,null,null,"",""]
[null,null,null,null,null,null,null,null,null,null,null,null,null,null,null,null,null,null,null,null,null,null,null,null,null,null,null,null,null,null,null,null,null,null,null,null,null,null,null,null,null,null,null,null,null,null,null,null,null,null,null,null,null,null,"",""]
[null,null,null,null,null,null,null,null,null,null,null,null,null,null,null,null,null,null,null,null,null,null,null,null,null,null,null,null,null,null,null,null,null,null,null,null,null,null,null,null,null,null,null,null,null,null,null,null,null,null,null,null,null,null,"",""]
[null,null,null,null,null,null,null,null,null,null,null,null,null,null,null,null,null,null,null,null,null,null,null,null,null,null,null,null,null,null,null,null,null,null,null,null,null,null,null,null,null,null,null,null,null,null,null,null,null,null,null,null,null,null,{"$f":"IF($A9603=\"\",\"\",$B9603)","v":""},{"$f":"IF($A9603=\"\",\"\",B9603&AR9603)","v":""}]
[null,null,null,null,null,null,null,null,null,null,null,null,null,null,null,null,null,null,null,null,null,null,null,null,null,null,null,null,null,null,null,null,null,null,null,null,null,null,null,null,null,null,null,null,null,null,null,null,null,null,null,null,null,null,"",""]
[null,null,null,null,null,null,null,null,null,null,null,null,null,null,null,null,null,null,null,null,null,null,null,null,null,null,null,null,null,null,null,null,null,null,null,null,null,null,null,null,null,null,null,null,null,null,null,null,null,null,null,null,null,null,"",""]
[null,null,null,null,null,null,null,null,null,null,null,null,null,null,null,null,null,null,null,null,null,null,null,null,null,null,null,null,null,null,null,null,null,null,null,null,null,null,null,null,null,null,null,null,null,null,null,null,null,null,null,null,null,null,"",""]
[null,null,null,null,null,null,null,null,null,null,null,null,null,null,null,null,null,null,null,null,null,null,null,null,null,null,null,null,null,null,null,null,null,null,null,null,null,null,null,null,null,null,null,null,null,null,null,null,null,null,null,null,null,null,"",""]
[null,null,null,null,null,null,null,null,null,null,null,null,null,null,null,null,null,null,null,null,null,null,null,null,null,null,null,null,null,null,null,null,null,null,null,null,null,null,null,null,null,null,null,null,null,null,null,null,null,null,null,null,null,null,"",""]
[null,null,null,null,null,null,null,null,null,null,null,null,null,null,null,null,null,null,null,null,null,null,null,null,null,null,null,null,null,null,null,null,null,null,null,null,null,null,null,null,null,null,null,null,null,null,null,null,null,null,null,null,null,null,"",""]
[null,null,null,null,null,null,null,null,null,null,null,null,null,null,null,null,null,null,null,null,null,null,null,null,null,null,null,null,null,null,null,null,null,null,null,null,null,null,null,null,null,null,null,null,null,null,null,null,null,null,null,null,null,null,"",""]
[null,null,null,null,null,null,null,null,null,null,null,null,null,null,null,null,null,null,null,null,null,null,null,null,null,null,null,null,null,null,null,null,null,null,null,null,null,null,null,null,null,null,null,null,null,null,null,null,null,null,null,null,null,null,"",""]
[null,null,null,null,null,null,null,null,null,null,null,null,null,null,null,null,null,null,null,null,null,null,null,null,null,null,null,null,null,null,null,null,null,null,null,null,null,null,null,null,null,null,null,null,null,null,null,null,null,null,null,null,null,null,"",""]
[null,null,null,null,null,null,null,null,null,null,null,null,null,null,null,null,null,null,null,null,null,null,null,null,null,null,null,null,null,null,null,null,null,null,null,null,null,null,null,null,null,null,null,null,null,null,null,null,null,null,null,null,null,null,"",""]
[null,null,null,null,null,null,null,null,null,null,null,null,null,null,null,null,null,null,null,null,null,null,null,null,null,null,null,null,null,null,null,null,null,null,null,null,null,null,null,null,null,null,null,null,null,null,null,null,null,null,null,null,null,null,"",""]
[null,null,null,null,null,null,null,null,null,null,null,null,null,null,null,null,null,null,null,null,null,null,null,null,null,null,null,null,null,null,null,null,null,null,null,null,null,null,null,null,null,null,null,null,null,null,null,null,null,null,null,null,null,null,"",""]
[null,null,null,null,null,null,null,null,null,null,null,null,null,null,null,null,null,null,null,null,null,null,null,null,null,null,null,null,null,null,null,null,null,null,null,null,null,null,null,null,null,null,null,null,null,null,null,null,null,null,null,null,null,null,"",""]
[null,null,null,null,null,null,null,null,null,null,null,null,null,null,null,null,null,null,null,null,null,null,null,null,null,null,null,null,null,null,null,null,null,null,null,null,null,null,null,null,null,null,null,null,null,null,null,null,null,null,null,null,null,null,"",""]
[null,null,null,null,null,null,null,null,null,null,null,null,null,null,null,null,null,null,null,null,null,null,null,null,null,null,null,null,null,null,null,null,null,null,null,null,null,null,null,null,null,null,null,null,null,null,null,null,null,null,null,null,null,null,"",""]
[null,null,null,null,null,null,null,null,null,null,null,null,null,null,null,null,null,null,null,null,null,null,null,null,null,null,null,null,null,null,null,null,null,null,null,null,null,null,null,null,null,null,null,null,null,null,null,null,null,null,null,null,null,null,"",""]
[null,null,null,null,null,null,null,null,null,null,null,null,null,null,null,null,null,null,null,null,null,null,null,null,null,null,null,null,null,null,null,null,null,null,null,null,null,null,null,null,null,null,null,null,null,null,null,null,null,null,null,null,null,null,"",""]
[null,null,null,null,null,null,null,null,null,null,null,null,null,null,null,null,null,null,null,null,null,null,null,null,null,null,null,null,null,null,null,null,null,null,null,null,null,null,null,null,null,null,null,null,null,null,null,null,null,null,null,null,null,null,"",""]
[null,null,null,null,null,null,null,null,null,null,null,null,null,null,null,null,null,null,null,null,null,null,null,null,null,null,null,null,null,null,null,null,null,null,null,null,null,null,null,null,null,null,null,null,null,null,null,null,null,null,null,null,null,null,"",""]
[null,null,null,null,null,null,null,null,null,null,null,null,null,null,null,null,null,null,null,null,null,null,null,null,null,null,null,null,null,null,null,null,null,null,null,null,null,null,null,null,null,null,null,null,null,null,null,null,null,null,null,null,null,null,"",""]
[null,null,null,null,null,null,null,null,null,null,null,null,null,null,null,null,null,null,null,null,null,null,null,null,null,null,null,null,null,null,null,null,null,null,null,null,null,null,null,null,null,null,null,null,null,null,null,null,null,null,null,null,null,null,"",""]
[null,null,null,null,null,null,null,null,null,null,null,null,null,null,null,null,null,null,null,null,null,null,null,null,null,null,null,null,null,null,null,null,null,null,null,null,null,null,null,null,null,null,null,null,null,null,null,null,null,null,null,null,null,null,"",""]
[null,null,null,null,null,null,null,null,null,null,null,null,null,null,null,null,null,null,null,null,null,null,null,null,null,null,null,null,null,null,null,null,null,null,null,null,null,null,null,null,null,null,null,null,null,null,null,null,null,null,null,null,null,null,"",""]
[null,null,null,null,null,null,null,null,null,null,null,null,null,null,null,null,null,null,null,null,null,null,null,null,null,null,null,null,null,null,null,null,null,null,null,null,null,null,null,null,null,null,null,null,null,null,null,null,null,null,null,null,null,null,"",""]
[null,null,null,null,null,null,null,null,null,null,null,null,null,null,null,null,null,null,null,null,null,null,null,null,null,null,null,null,null,null,null,null,null,null,null,null,null,null,null,null,null,null,null,null,null,null,null,null,null,null,null,null,null,null,"",""]
[null,null,null,null,null,null,null,null,null,null,null,null,null,null,null,null,null,null,null,null,null,null,null,null,null,null,null,null,null,null,null,null,null,null,null,null,null,null,null,null,null,null,null,null,null,null,null,null,null,null,null,null,null,null,"",""]
[null,null,null,null,null,null,null,null,null,null,null,null,null,null,null,null,null,null,null,null,null,null,null,null,null,null,null,null,null,null,null,null,null,null,null,null,null,null,null,null,null,null,null,null,null,null,null,null,null,null,null,null,null,null,"",""]
[null,null,null,null,null,null,null,null,null,null,null,null,null,null,null,null,null,null,null,null,null,null,null,null,null,null,null,null,null,null,null,null,null,null,null,null,null,null,null,null,null,null,null,null,null,null,null,null,null,null,null,null,null,null,"",""]
[null,null,null,null,null,null,null,null,null,null,null,null,null,null,null,null,null,null,null,null,null,null,null,null,null,null,null,null,null,null,null,null,null,null,null,null,null,null,null,null,null,null,null,null,null,null,null,null,null,null,null,null,null,null,"",""]
[null,null,null,null,null,null,null,null,null,null,null,null,null,null,null,null,null,null,null,null,null,null,null,null,null,null,null,null,null,null,null,null,null,null,null,null,null,null,null,null,null,null,null,null,null,null,null,null,null,null,null,null,null,null,"",""]
[null,null,null,null,null,null,null,null,null,null,null,null,null,null,null,null,null,null,null,null,null,null,null,null,null,null,null,null,null,null,null,null,null,null,null,null,null,null,null,null,null,null,null,null,null,null,null,null,null,null,null,null,null,null,"",""]
[null,null,null,null,null,null,null,null,null,null,null,null,null,null,null,null,null,null,null,null,null,null,null,null,null,null,null,null,null,null,null,null,null,null,null,null,null,null,null,null,null,null,null,null,null,null,null,null,null,null,null,null,null,null,"",""]
[null,null,null,null,null,null,null,null,null,null,null,null,null,null,null,null,null,null,null,null,null,null,null,null,null,null,null,null,null,null,null,null,null,null,null,null,null,null,null,null,null,null,null,null,null,null,null,null,null,null,null,null,null,null,"",""]
[null,null,null,null,null,null,null,null,null,null,null,null,null,null,null,null,null,null,null,null,null,null,null,null,null,null,null,null,null,null,null,null,null,null,null,null,null,null,null,null,null,null,null,null,null,null,null,null,null,null,null,null,null,null,"",""]
[null,null,null,null,null,null,null,null,null,null,null,null,null,null,null,null,null,null,null,null,null,null,null,null,null,null,null,null,null,null,null,null,null,null,null,null,null,null,null,null,null,null,null,null,null,null,null,null,null,null,null,null,null,null,"",""]
[null,null,null,null,null,null,null,null,null,null,null,null,null,null,null,null,null,null,null,null,null,null,null,null,null,null,null,null,null,null,null,null,null,null,null,null,null,null,null,null,null,null,null,null,null,null,null,null,null,null,null,null,null,null,"",""]
[null,null,null,null,null,null,null,null,null,null,null,null,null,null,null,null,null,null,null,null,null,null,null,null,null,null,null,null,null,null,null,null,null,null,null,null,null,null,null,null,null,null,null,null,null,null,null,null,null,null,null,null,null,null,"",""]
[null,null,null,null,null,null,null,null,null,null,null,null,null,null,null,null,null,null,null,null,null,null,null,null,null,null,null,null,null,null,null,null,null,null,null,null,null,null,null,null,null,null,null,null,null,null,null,null,null,null,null,null,null,null,"",""]
[null,null,null,null,null,null,null,null,null,null,null,null,null,null,null,null,null,null,null,null,null,null,null,null,null,null,null,null,null,null,null,null,null,null,null,null,null,null,null,null,null,null,null,null,null,null,null,null,null,null,null,null,null,null,"",""]
[null,null,null,null,null,null,null,null,null,null,null,null,null,null,null,null,null,null,null,null,null,null,null,null,null,null,null,null,null,null,null,null,null,null,null,null,null,null,null,null,null,null,null,null,null,null,null,null,null,null,null,null,null,null,"",""]
[null,null,null,null,null,null,null,null,null,null,null,null,null,null,null,null,null,null,null,null,null,null,null,null,null,null,null,null,null,null,null,null,null,null,null,null,null,null,null,null,null,null,null,null,null,null,null,null,null,null,null,null,null,null,"",""]
[null,null,null,null,null,null,null,null,null,null,null,null,null,null,null,null,null,null,null,null,null,null,null,null,null,null,null,null,null,null,null,null,null,null,null,null,null,null,null,null,null,null,null,null,null,null,null,null,null,null,null,null,null,null,"",""]
[null,null,null,null,null,null,null,null,null,null,null,null,null,null,null,null,null,null,null,null,null,null,null,null,null,null,null,null,null,null,null,null,null,null,null,null,null,null,null,null,null,null,null,null,null,null,null,null,null,null,null,null,null,null,"",""]
[null,null,null,null,null,null,null,null,null,null,null,null,null,null,null,null,null,null,null,null,null,null,null,null,null,null,null,null,null,null,null,null,null,null,null,null,null,null,null,null,null,null,null,null,null,null,null,null,null,null,null,null,null,null,"",""]
[null,null,null,null,null,null,null,null,null,null,null,null,null,null,null,null,null,null,null,null,null,null,null,null,null,null,null,null,null,null,null,null,null,null,null,null,null,null,null,null,null,null,null,null,null,null,null,null,null,null,null,null,null,null,"",""]
[null,null,null,null,null,null,null,null,null,null,null,null,null,null,null,null,null,null,null,null,null,null,null,null,null,null,null,null,null,null,null,null,null,null,null,null,null,null,null,null,null,null,null,null,null,null,null,null,null,null,null,null,null,null,"",""]
[null,null,null,null,null,null,null,null,null,null,null,null,null,null,null,null,null,null,null,null,null,null,null,null,null,null,null,null,null,null,null,null,null,null,null,null,null,null,null,null,null,null,null,null,null,null,null,null,null,null,null,null,null,null,"",""]
[null,null,null,null,null,null,null,null,null,null,null,null,null,null,null,null,null,null,null,null,null,null,null,null,null,null,null,null,null,null,null,null,null,null,null,null,null,null,null,null,null,null,null,null,null,null,null,null,null,null,null,null,null,null,"",""]
[null,null,null,null,null,null,null,null,null,null,null,null,null,null,null,null,null,null,null,null,null,null,null,null,null,null,null,null,null,null,null,null,null,null,null,null,null,null,null,null,null,null,null,null,null,null,null,null,null,null,null,null,null,null,"",""]
[null,null,null,null,null,null,null,null,null,null,null,null,null,null,null,null,null,null,null,null,null,null,null,null,null,null,null,null,null,null,null,null,null,null,null,null,null,null,null,null,null,null,null,null,null,null,null,null,null,null,null,null,null,null,"",""]
[null,null,null,null,null,null,null,null,null,null,null,null,null,null,null,null,null,null,null,null,null,null,null,null,null,null,null,null,null,null,null,null,null,null,null,null,null,null,null,null,null,null,null,null,null,null,null,null,null,null,null,null,null,null,"",""]
[null,null,null,null,null,null,null,null,null,null,null,null,null,null,null,null,null,null,null,null,null,null,null,null,null,null,null,null,null,null,null,null,null,null,null,null,null,null,null,null,null,null,null,null,null,null,null,null,null,null,null,null,null,null,"",""]
[null,null,null,null,null,null,null,null,null,null,null,null,null,null,null,null,null,null,null,null,null,null,null,null,null,null,null,null,null,null,null,null,null,null,null,null,null,null,null,null,null,null,null,null,null,null,null,null,null,null,null,null,null,null,"",""]
[null,null,null,null,null,null,null,null,null,null,null,null,null,null,null,null,null,null,null,null,null,null,null,null,null,null,null,null,null,null,null,null,null,null,null,null,null,null,null,null,null,null,null,null,null,null,null,null,null,null,null,null,null,null,"",""]
[null,null,null,null,null,null,null,null,null,null,null,null,null,null,null,null,null,null,null,null,null,null,null,null,null,null,null,null,null,null,null,null,null,null,null,null,null,null,null,null,null,null,null,null,null,null,null,null,null,null,null,null,null,null,"",""]
[null,null,null,null,null,null,null,null,null,null,null,null,null,null,null,null,null,null,null,null,null,null,null,null,null,null,null,null,null,null,null,null,null,null,null,null,null,null,null,null,null,null,null,null,null,null,null,null,null,null,null,null,null,null,"",""]
[null,null,null,null,null,null,null,null,null,null,null,null,null,null,null,null,null,null,null,null,null,null,null,null,null,null,null,null,null,null,null,null,null,null,null,null,null,null,null,null,null,null,null,null,null,null,null,null,null,null,null,null,null,null,"",""]
[null,null,null,null,null,null,null,null,null,null,null,null,null,null,null,null,null,null,null,null,null,null,null,null,null,null,null,null,null,null,null,null,null,null,null,null,null,null,null,null,null,null,null,null,null,null,null,null,null,null,null,null,null,null,"",""]
[null,null,null,null,null,null,null,null,null,null,null,null,null,null,null,null,null,null,null,null,null,null,null,null,null,null,null,null,null,null,null,null,null,null,null,null,null,null,null,null,null,null,null,null,null,null,null,null,null,null,null,null,null,null,"",""]
[null,null,null,null,null,null,null,null,null,null,null,null,null,null,null,null,null,null,null,null,null,null,null,null,null,null,null,null,null,null,null,null,null,null,null,null,null,null,null,null,null,null,null,null,null,null,null,null,null,null,null,null,null,null,"",""]
[null,null,null,null,null,null,null,null,null,null,null,null,null,null,null,null,null,null,null,null,null,null,null,null,null,null,null,null,null,null,null,null,null,null,null,null,null,null,null,null,null,null,null,null,null,null,null,null,null,null,null,null,null,null,"",""]
[null,null,null,null,null,null,null,null,null,null,null,null,null,null,null,null,null,null,null,null,null,null,null,null,null,null,null,null,null,null,null,null,null,null,null,null,null,null,null,null,null,null,null,null,null,null,null,null,null,null,null,null,null,null,{"$f":"IF($A9923=\"\",\"\",$B9923)","v":""},{"$f":"IF($A9923=\"\",\"\",B9923&AR9923)","v":""}]
[null,null,null,null,null,null,null,null,null,null,null,null,null,null,null,null,null,null,null,null,null,null,null,null,null,null,null,null,null,null,null,null,null,null,null,null,null,null,null,null,null,null,null,null,null,null,null,null,null,null,null,null,null,null,"",""]
[null,null,null,null,null,null,null,null,null,null,null,null,null,null,null,null,null,null,null,null,null,null,null,null,null,null,null,null,null,null,null,null,null,null,null,null,null,null,null,null,null,null,null,null,null,null,null,null,null,null,null,null,null,null,"",""]
[null,null,null,null,null,null,null,null,null,null,null,null,null,null,null,null,null,null,null,null,null,null,null,null,null,null,null,null,null,null,null,null,null,null,null,null,null,null,null,null,null,null,null,null,null,null,null,null,null,null,null,null,null,null,"",""]
[null,null,null,null,null,null,null,null,null,null,null,null,null,null,null,null,null,null,null,null,null,null,null,null,null,null,null,null,null,null,null,null,null,null,null,null,null,null,null,null,null,null,null,null,null,null,null,null,null,null,null,null,null,null,"",""]
[null,null,null,null,null,null,null,null,null,null,null,null,null,null,null,null,null,null,null,null,null,null,null,null,null,null,null,null,null,null,null,null,null,null,null,null,null,null,null,null,null,null,null,null,null,null,null,null,null,null,null,null,null,null,"",""]
[null,null,null,null,null,null,null,null,null,null,null,null,null,null,null,null,null,null,null,null,null,null,null,null,null,null,null,null,null,null,null,null,null,null,null,null,null,null,null,null,null,null,null,null,null,null,null,null,null,null,null,null,null,null,"",""]
[null,null,null,null,null,null,null,null,null,null,null,null,null,null,null,null,null,null,null,null,null,null,null,null,null,null,null,null,null,null,null,null,null,null,null,null,null,null,null,null,null,null,null,null,null,null,null,null,null,null,null,null,null,null,"",""]
[null,null,null,null,null,null,null,null,null,null,null,null,null,null,null,null,null,null,null,null,null,null,null,null,null,null,null,null,null,null,null,null,null,null,null,null,null,null,null,null,null,null,null,null,null,null,null,null,null,null,null,null,null,null,"",""]
[null,null,null,null,null,null,null,null,null,null,null,null,null,null,null,null,null,null,null,null,null,null,null,null,null,null,null,null,null,null,null,null,null,null,null,null,null,null,null,null,null,null,null,null,null,null,null,null,null,null,null,null,null,null,"",""]
[null,null,null,null,null,null,null,null,null,null,null,null,null,null,null,null,null,null,null,null,null,null,null,null,null,null,null,null,null,null,null,null,null,null,null,null,null,null,null,null,null,null,null,null,null,null,null,null,null,null,null,null,null,null,"",""]
[null,null,null,null,null,null,null,null,null,null,null,null,null,null,null,null,null,null,null,null,null,null,null,null,null,null,null,null,null,null,null,null,null,null,null,null,null,null,null,null,null,null,null,null,null,null,null,null,null,null,null,null,null,null,"",""]
[null,null,null,null,null,null,null,null,null,null,null,null,null,null,null,null,null,null,null,null,null,null,null,null,null,null,null,null,null,null,null,null,null,null,null,null,null,null,null,null,null,null,null,null,null,null,null,null,null,null,null,null,null,null,"",""]
[null,null,null,null,null,null,null,null,null,null,null,null,null,null,null,null,null,null,null,null,null,null,null,null,null,null,null,null,null,null,null,null,null,null,null,null,null,null,null,null,null,null,null,null,null,null,null,null,null,null,null,null,null,null,"",""]
[null,null,null,null,null,null,null,null,null,null,null,null,null,null,null,null,null,null,null,null,null,null,null,null,null,null,null,null,null,null,null,null,null,null,null,null,null,null,null,null,null,null,null,null,null,null,null,null,null,null,null,null,null,null,"",""]
[null,null,null,null,null,null,null,null,null,null,null,null,null,null,null,null,null,null,null,null,null,null,null,null,null,null,null,null,null,null,null,null,null,null,null,null,null,null,null,null,null,null,null,null,null,null,null,null,null,null,null,null,null,null,"",""]
[null,null,null,null,null,null,null,null,null,null,null,null,null,null,null,null,null,null,null,null,null,null,null,null,null,null,null,null,null,null,null,null,null,null,null,null,null,null,null,null,null,null,null,null,null,null,null,null,null,null,null,null,null,null,"",""]
[null,null,null,null,null,null,null,null,null,null,null,null,null,null,null,null,null,null,null,null,null,null,null,null,null,null,null,null,null,null,null,null,null,null,null,null,null,null,null,null,null,null,null,null,null,null,null,null,null,null,null,null,null,null,"",""]
[null,null,null,null,null,null,null,null,null,null,null,null,null,null,null,null,null,null,null,null,null,null,null,null,null,null,null,null,null,null,null,null,null,null,null,null,null,null,null,null,null,null,null,null,null,null,null,null,null,null,null,null,null,null,"",""]
[null,null,null,null,null,null,null,null,null,null,null,null,null,null,null,null,null,null,null,null,null,null,null,null,null,null,null,null,null,null,null,null,null,null,null,null,null,null,null,null,null,null,null,null,null,null,null,null,null,null,null,null,null,null,"",""]
[null,null,null,null,null,null,null,null,null,null,null,null,null,null,null,null,null,null,null,null,null,null,null,null,null,null,null,null,null,null,null,null,null,null,null,null,null,null,null,null,null,null,null,null,null,null,null,null,null,null,null,null,null,null,"",""]
[null,null,null,null,null,null,null,null,null,null,null,null,null,null,null,null,null,null,null,null,null,null,null,null,null,null,null,null,null,null,null,null,null,null,null,null,null,null,null,null,null,null,null,null,null,null,null,null,null,null,null,null,null,null,"",""]
[null,null,null,null,null,null,null,null,null,null,null,null,null,null,null,null,null,null,null,null,null,null,null,null,null,null,null,null,null,null,null,null,null,null,null,null,null,null,null,null,null,null,null,null,null,null,null,null,null,null,null,null,null,null,"",""]
[null,null,null,null,null,null,null,null,null,null,null,null,null,null,null,null,null,null,null,null,null,null,null,null,null,null,null,null,null,null,null,null,null,null,null,null,null,null,null,null,null,null,null,null,null,null,null,null,null,null,null,null,null,null,"",""]
[null,null,null,null,null,null,null,null,null,null,null,null,null,null,null,null,null,null,null,null,null,null,null,null,null,null,null,null,null,null,null,null,null,null,null,null,null,null,null,null,null,null,null,null,null,null,null,null,null,null,null,null,null,null,"",""]
[null,null,null,null,null,null,null,null,null,null,null,null,null,null,null,null,null,null,null,null,null,null,null,null,null,null,null,null,null,null,null,null,null,null,null,null,null,null,null,null,null,null,null,null,null,null,null,null,null,null,null,null,null,null,"",""]
[null,null,null,null,null,null,null,null,null,null,null,null,null,null,null,null,null,null,null,null,null,null,null,null,null,null,null,null,null,null,null,null,null,null,null,null,null,null,null,null,null,null,null,null,null,null,null,null,null,null,null,null,null,null,"",""]
[null,null,null,null,null,null,null,null,null,null,null,null,null,null,null,null,null,null,null,null,null,null,null,null,null,null,null,null,null,null,null,null,null,null,null,null,null,null,null,null,null,null,null,null,null,null,null,null,null,null,null,null,null,null,"",""]
[null,null,null,null,null,null,null,null,null,null,null,null,null,null,null,null,null,null,null,null,null,null,null,null,null,null,null,null,null,null,null,null,null,null,null,null,null,null,null,null,null,null,null,null,null,null,null,null,null,null,null,null,null,null,"",""]
[null,null,null,null,null,null,null,null,null,null,null,null,null,null,null,null,null,null,null,null,null,null,null,null,null,null,null,null,null,null,null,null,null,null,null,null,null,null,null,null,null,null,null,null,null,null,null,null,null,null,null,null,null,null,"",""]
[null,null,null,null,null,null,null,null,null,null,null,null,null,null,null,null,null,null,null,null,null,null,null,null,null,null,null,null,null,null,null,null,null,null,null,null,null,null,null,null,null,null,null,null,null,null,null,null,null,null,null,null,null,null,"",""]
[null,null,null,null,null,null,null,null,null,null,null,null,null,null,null,null,null,null,null,null,null,null,null,null,null,null,null,null,null,null,null,null,null,null,null,null,null,null,null,null,null,null,null,null,null,null,null,null,null,null,null,null,null,null,"",""]
[null,null,null,null,null,null,null,null,null,null,null,null,null,null,null,null,null,null,null,null,null,null,null,null,null,null,null,null,null,null,null,null,null,null,null,null,null,null,null,null,null,null,null,null,null,null,null,null,null,null,null,null,null,null,"",""]
[null,null,null,null,null,null,null,null,null,null,null,null,null,null,null,null,null,null,null,null,null,null,null,null,null,null,null,null,null,null,null,null,null,null,null,null,null,null,null,null,null,null,null,null,null,null,null,null,null,null,null,null,null,null,"",""]
[null,null,null,null,null,null,null,null,null,null,null,null,null,null,null,null,null,null,null,null,null,null,null,null,null,null,null,null,null,null,null,null,null,null,null,null,null,null,null,null,null,null,null,null,null,null,null,null,null,null,null,null,null,null,"",""]
[null,null,null,null,null,null,null,null,null,null,null,null,null,null,null,null,null,null,null,null,null,null,null,null,null,null,null,null,null,null,null,null,null,null,null,null,null,null,null,null,null,null,null,null,null,null,null,null,null,null,null,null,null,null,"",""]
[null,null,null,null,null,null,null,null,null,null,null,null,null,null,null,null,null,null,null,null,null,null,null,null,null,null,null,null,null,null,null,null,null,null,null,null,null,null,null,null,null,null,null,null,null,null,null,null,null,null,null,null,null,null,"",""]
[null,null,null,null,null,null,null,null,null,null,null,null,null,null,null,null,null,null,null,null,null,null,null,null,null,null,null,null,null,null,null,null,null,null,null,null,null,null,null,null,null,null,null,null,null,null,null,null,null,null,null,null,null,null,"",""]
[null,null,null,null,null,null,null,null,null,null,null,null,null,null,null,null,null,null,null,null,null,null,null,null,null,null,null,null,null,null,null,null,null,null,null,null,null,null,null,null,null,null,null,null,null,null,null,null,null,null,null,null,null,null,"",""]
[null,null,null,null,null,null,null,null,null,null,null,null,null,null,null,null,null,null,null,null,null,null,null,null,null,null,null,null,null,null,null,null,null,null,null,null,null,null,null,null,null,null,null,null,null,null,null,null,null,null,null,null,null,null,"",""]
[null,null,null,null,null,null,null,null,null,null,null,null,null,null,null,null,null,null,null,null,null,null,null,null,null,null,null,null,null,null,null,null,null,null,null,null,null,null,null,null,null,null,null,null,null,null,null,null,null,null,null,null,null,null,"",""]
[null,null,null,null,null,null,null,null,null,null,null,null,null,null,null,null,null,null,null,null,null,null,null,null,null,null,null,null,null,null,null,null,null,null,null,null,null,null,null,null,null,null,null,null,null,null,null,null,null,null,null,null,null,null,"",""]
[null,null,null,null,null,null,null,null,null,null,null,null,null,null,null,null,null,null,null,null,null,null,null,null,null,null,null,null,null,null,null,null,null,null,null,null,null,null,null,null,null,null,null,null,null,null,null,null,null,null,null,null,null,null,"",""]
[null,null,null,null,null,null,null,null,null,null,null,null,null,null,null,null,null,null,null,null,null,null,null,null,null,null,null,null,null,null,null,null,null,null,null,null,null,null,null,null,null,null,null,null,null,null,null,null,null,null,null,null,null,null,"",""]
[null,null,null,null,null,null,null,null,null,null,null,null,null,null,null,null,null,null,null,null,null,null,null,null,null,null,null,null,null,null,null,null,null,null,null,null,null,null,null,null,null,null,null,null,null,null,null,null,null,null,null,null,null,null,"",""]
[null,null,null,null,null,null,null,null,null,null,null,null,null,null,null,null,null,null,null,null,null,null,null,null,null,null,null,null,null,null,null,null,null,null,null,null,null,null,null,null,null,null,null,null,null,null,null,null,null,null,null,null,null,null,"",""]
[null,null,null,null,null,null,null,null,null,null,null,null,null,null,null,null,null,null,null,null,null,null,null,null,null,null,null,null,null,null,null,null,null,null,null,null,null,null,null,null,null,null,null,null,null,null,null,null,null,null,null,null,null,null,"",""]
[null,null,null,null,null,null,null,null,null,null,null,null,null,null,null,null,null,null,null,null,null,null,null,null,null,null,null,null,null,null,null,null,null,null,null,null,null,null,null,null,null,null,null,null,null,null,null,null,null,null,null,null,null,null,"",""]
[null,null,null,null,null,null,null,null,null,null,null,null,null,null,null,null,null,null,null,null,null,null,null,null,null,null,null,null,null,null,null,null,null,null,null,null,null,null,null,null,null,null,null,null,null,null,null,null,null,null,null,null,null,null,"",""]
[null,null,null,null,null,null,null,null,null,null,null,null,null,null,null,null,null,null,null,null,null,null,null,null,null,null,null,null,null,null,null,null,null,null,null,null,null,null,null,null,null,null,null,null,null,null,null,null,null,null,null,null,null,null,"",""]
[null,null,null,null,null,null,null,null,null,null,null,null,null,null,null,null,null,null,null,null,null,null,null,null,null,null,null,null,null,null,null,null,null,null,null,null,null,null,null,null,null,null,null,null,null,null,null,null,null,null,null,null,null,null,"",""]
[null,null,null,null,null,null,null,null,null,null,null,null,null,null,null,null,null,null,null,null,null,null,null,null,null,null,null,null,null,null,null,null,null,null,null,null,null,null,null,null,null,null,null,null,null,null,null,null,null,null,null,null,null,null,"",""]
[null,null,null,null,null,null,null,null,null,null,null,null,null,null,null,null,null,null,null,null,null,null,null,null,null,null,null,null,null,null,null,null,null,null,null,null,null,null,null,null,null,null,null,null,null,null,null,null,null,null,null,null,null,null,"",""]
[null,null,null,null,null,null,null,null,null,null,null,null,null,null,null,null,null,null,null,null,null,null,null,null,null,null,null,null,null,null,null,null,null,null,null,null,null,null,null,null,null,null,null,null,null,null,null,null,null,null,null,null,null,null,"",""]
[null,null,null,null,null,null,null,null,null,null,null,null,null,null,null,null,null,null,null,null,null,null,null,null,null,null,null,null,null,null,null,null,null,null,null,null,null,null,null,null,null,null,null,null,null,null,null,null,null,null,null,null,null,null,"",""]
[null,null,null,null,null,null,null,null,null,null,null,null,null,null,null,null,null,null,null,null,null,null,null,null,null,null,null,null,null,null,null,null,null,null,null,null,null,null,null,null,null,null,null,null,null,null,null,null,null,null,null,null,null,null,"",""]
[null,null,null,null,null,null,null,null,null,null,null,null,null,null,null,null,null,null,null,null,null,null,null,null,null,null,null,null,null,null,null,null,null,null,null,null,null,null,null,null,null,null,null,null,null,null,null,null,null,null,null,null,null,null,"",""]
[null,null,null,null,null,null,null,null,null,null,null,null,null,null,null,null,null,null,null,null,null,null,null,null,null,null,null,null,null,null,null,null,null,null,null,null,null,null,null,null,null,null,null,null,null,null,null,null,null,null,null,null,null,null,"",""]
[null,null,null,null,null,null,null,null,null,null,null,null,null,null,null,null,null,null,null,null,null,null,null,null,null,null,null,null,null,null,null,null,null,null,null,null,null,null,null,null,null,null,null,null,null,null,null,null,null,null,null,null,null,null,"",""]
[null,null,null,null,null,null,null,null,null,null,null,null,null,null,null,null,null,null,null,null,null,null,null,null,null,null,null,null,null,null,null,null,null,null,null,null,null,null,null,null,null,null,null,null,null,null,null,null,null,null,null,null,null,null,"",""]
[null,null,null,null,null,null,null,null,null,null,null,null,null,null,null,null,null,null,null,null,null,null,null,null,null,null,null,null,null,null,null,null,null,null,null,null,null,null,null,null,null,null,null,null,null,null,null,null,null,null,null,null,null,null,"",""]
[null,null,null,null,null,null,null,null,null,null,null,null,null,null,null,null,null,null,null,null,null,null,null,null,null,null,null,null,null,null,null,null,null,null,null,null,null,null,null,null,null,null,null,null,null,null,null,null,null,null,null,null,null,null,"",""]
[null,null,null,null,null,null,null,null,null,null,null,null,null,null,null,null,null,null,null,null,null,null,null,null,null,null,null,null,null,null,null,null,null,null,null,null,null,null,null,null,null,null,null,null,null,null,null,null,null,null,null,null,null,null,"",""]
[null,null,null,null,null,null,null,null,null,null,null,null,null,null,null,null,null,null,null,null,null,null,null,null,null,null,null,null,null,null,null,null,null,null,null,null,null,null,null,null,null,null,null,null,null,null,null,null,null,null,null,null,null,null,"",""]
[null,null,null,null,null,null,null,null,null,null,null,null,null,null,null,null,null,null,null,null,null,null,null,null,null,null,null,null,null,null,null,null,null,null,null,null,null,null,null,null,null,null,null,null,null,null,null,null,null,null,null,null,null,null,{"$f":"IF($A9987=\"\",\"\",$B9987)","v":""},{"$f":"IF($A9987=\"\",\"\",B9987&AR9987)","v":""}]
[null,null,null,null,null,null,null,null,null,null,null,null,null,null,null,null,null,null,null,null,null,null,null,null,null,null,null,null,null,null,null,null,null,null,null,null,null,null,null,null,null,null,null,null,null,null,null,null,null,null,null,null,null,null,"",""]
[null,null,null,null,null,null,null,null,null,null,null,null,null,null,null,null,null,null,null,null,null,null,null,null,null,null,null,null,null,null,null,null,null,null,null,null,null,null,null,null,null,null,null,null,null,null,null,null,null,null,null,null,null,null,"",""]
[null,null,null,null,null,null,null,null,null,null,null,null,null,null,null,null,null,null,null,null,null,null,null,null,null,null,null,null,null,null,null,null,null,null,null,null,null,null,null,null,null,null,null,null,null,null,null,null,null,null,null,null,null,null,"",""]
[null,null,null,null,null,null,null,null,null,null,null,null,null,null,null,null,null,null,null,null,null,null,null,null,null,null,null,null,null,null,null,null,null,null,null,null,null,null,null,null,null,null,null,null,null,null,null,null,null,null,null,null,null,null,"",""]
[null,null,null,null,null,null,null,null,null,null,null,null,null,null,null,null,null,null,null,null,null,null,null,null,null,null,null,null,null,null,null,null,null,null,null,null,null,null,null,null,null,null,null,null,null,null,null,null,null,null,null,null,null,null,"",""]
[null,null,null,null,null,null,null,null,null,null,null,null,null,null,null,null,null,null,null,null,null,null,null,null,null,null,null,null,null,null,null,null,null,null,null,null,null,null,null,null,null,null,null,null,null,null,null,null,null,null,null,null,null,null,"",""]
[null,null,null,null,null,null,null,null,null,null,null,null,null,null,null,null,null,null,null,null,null,null,null,null,null,null,null,null,null,null,null,null,null,null,null,null,null,null,null,null,null,null,null,null,null,null,null,null,null,null,null,null,null,null,"",""]
[null,null,null,null,null,null,null,null,null,null,null,null,null,null,null,null,null,null,null,null,null,null,null,null,null,null,null,null,null,null,null,null,null,null,null,null,null,null,null,null,null,null,null,null,null,null,null,null,null,null,null,null,null,null,"",""]
[null,null,null,null,null,null,null,null,null,null,null,null,null,null,null,null,null,null,null,null,null,null,null,null,null,null,null,null,null,null,null,null,null,null,null,null,null,null,null,null,null,null,null,null,null,null,null,null,null,null,null,null,null,null,"",""]
[null,null,null,null,null,null,null,null,null,null,null,null,null,null,null,null,null,null,null,null,null,null,null,null,null,null,null,null,null,null,null,null,null,null,null,null,null,null,null,null,null,null,null,null,null,null,null,null,null,null,null,null,null,null,"",""]
[null,null,null,null,null,null,null,null,null,null,null,null,null,null,null,null,null,null,null,null,null,null,null,null,null,null,null,null,null,null,null,null,null,null,null,null,null,null,null,null,null,null,null,null,null,null,null,null,null,null,null,null,null,null,"",""]
[null,null,null,null,null,null,null,null,null,null,null,null,null,null,null,null,null,null,null,null,null,null,null,null,null,null,null,null,null,null,null,null,null,null,null,null,null,null,null,null,null,null,null,null,null,null,null,null,null,null,null,null,null,null,"",""]
[null,null,null,null,null,null,null,null,null,null,null,null,null,null,null,null,null,null,null,null,null,null,null,null,null,null,null,null,null,null,null,null,null,null,null,null,null,null,null,null,null,null,null,null,null,null,null,null,null,null,null,null,null,null,"",""]

{"sheet":"PO","index":8,"n_rows":10000,"n_cols":31,"rows_kept":2250,"cut":true,"hidden":false,"merged":[],"bounds":{"rows_first":1000,"rows_last":250,"rows_between":1000,"halvings":1}}
["PO No.","PO Date","Line","Req ID","Amount","PO Status","Amt Only","Chng Stat","Budget Status","Receipt","Distrib Status","Vendor ID","Short Name","Vendor Name","Dept","Fund","Account","Project","ChartField 1","ChartField 2","ChartField 3","Buyer","Description","Code","Descript","User Modify","Last Dttm","Project End Date","Concatenate PO & Line","Dept ID ","Project Fund "]
[null,null,null,null,null,null,null,null,null,null,null,null,null,null,null,null,null,null,null,null,null,null,null,null,null,null,null,null,{"$f":"IF($A2=\"\",\"\",$A2&$C2)","v":""},{"$f":"IF($A2=\"\",\"\",$O2)","v":""},{"$f":"IF($A2=\"\",\"\",IF(AND(LEFT($P2,1)=\"5\",RIGHT($P2,2)<\"99\",RIGHT($P2,2)>\"19\",$R2<>\"\"),$P2,\"\"))","v":""}]
[null,null,null,null,null,null,null,null,null,null,null,null,null,null,null,null,null,null,null,null,null,null,null,null,null,null,null,null,{"$f":"IF($A3=\"\",\"\",$A3&$C3)","v":""},{"$f":"IF($A3=\"\",\"\",$O3)","v":""},{"$f":"IF($A3=\"\",\"\",IF(AND(LEFT($P3,1)=\"5\",RIGHT($P3,2)<\"99\",RIGHT($P3,2)>\"19\",$R3<>\"\"),$P3,\"\"))","v":""}]
[null,null,null,null,null,null,null,null,null,null,null,null,null,null,null,null,null,null,null,null,null,null,null,null,null,null,null,null,"","",""]
[null,null,null,null,null,null,null,null,null,null,null,null,null,null,null,null,null,null,null,null,null,null,null,null,null,null,null,null,"","",""]
[null,null,null,null,null,null,null,null,null,null,null,null,null,null,null,null,null,null,null,null,null,null,null,null,null,null,null,null,"","",""]
[null,null,null,null,null,null,null,null,null,null,null,null,null,null,null,null,null,null,null,null,null,null,null,null,null,null,null,null,"","",""]
[null,null,null,null,null,null,null,null,null,null,null,null,null,null,null,null,null,null,null,null,null,null,null,null,null,null,null,null,"","",""]
[null,null,null,null,null,null,null,null,null,null,null,null,null,null,null,null,null,null,null,null,null,null,null,null,null,null,null,null,"","",""]
[null,null,null,null,null,null,null,null,null,null,null,null,null,null,null,null,null,null,null,null,null,null,null,null,null,null,null,null,"","",""]
[null,null,null,null,null,null,null,null,null,null,null,null,null,null,null,null,null,null,null,null,null,null,null,null,null,null,null,null,"","",""]
[null,null,null,null,null,null,null,null,null,null,null,null,null,null,null,null,null,null,null,null,null,null,null,null,null,null,null,null,"","",""]
[null,null,null,null,null,null,null,null,null,null,null,null,null,null,null,null,null,null,null,null,null,null,null,null,null,null,null,null,"","",""]
[null,null,null,null,null,null,null,null,null,null,null,null,null,null,null,null,null,null,null,null,null,null,null,null,null,null,null,null,"","",""]
[null,null,null,null,null,null,null,null,null,null,null,null,null,null,null,null,null,null,null,null,null,null,null,null,null,null,null,null,"","",""]
[null,null,null,null,null,null,null,null,null,null,null,null,null,null,null,null,null,null,null,null,null,null,null,null,null,null,null,null,"","",""]
[null,null,null,null,null,null,null,null,null,null,null,null,null,null,null,null,null,null,null,null,null,null,null,null,null,null,null,null,"","",""]
[null,null,null,null,null,null,null,null,null,null,null,null,null,null,null,null,null,null,null,null,null,null,null,null,null,null,null,null,"","",""]
[null,null,null,null,null,null,null,null,null,null,null,null,null,null,null,null,null,null,null,null,null,null,null,null,null,null,null,null,"","",""]
[null,null,null,null,null,null,null,null,null,null,null,null,null,null,null,null,null,null,null,null,null,null,null,null,null,null,null,null,"","",""]
[null,null,null,null,null,null,null,null,null,null,null,null,null,null,null,null,null,null,null,null,null,null,null,null,null,null,null,null,"","",""]
[null,null,null,null,null,null,null,null,null,null,null,null,null,null,null,null,null,null,null,null,null,null,null,null,null,null,null,null,"","",""]
[null,null,null,null,null,null,null,null,null,null,null,null,null,null,null,null,null,null,null,null,null,null,null,null,null,null,null,null,"","",""]
[null,null,null,null,null,null,null,null,null,null,null,null,null,null,null,null,null,null,null,null,null,null,null,null,null,null,null,null,"","",""]
[null,null,null,null,null,null,null,null,null,null,null,null,null,null,null,null,null,null,null,null,null,null,null,null,null,null,null,null,"","",""]
[null,null,null,null,null,null,null,null,null,null,null,null,null,null,null,null,null,null,null,null,null,null,null,null,null,null,null,null,"","",""]
[null,null,null,null,null,null,null,null,null,null,null,null,null,null,null,null,null,null,null,null,null,null,null,null,null,null,null,null,"","",""]
[null,null,null,null,null,null,null,null,null,null,null,null,null,null,null,null,null,null,null,null,null,null,null,null,null,null,null,null,"","",""]
[null,null,null,null,null,null,null,null,null,null,null,null,null,null,null,null,null,null,null,null,null,null,null,null,null,null,null,null,"","",""]
[null,null,null,null,null,null,null,null,null,null,null,null,null,null,null,null,null,null,null,null,null,null,null,null,null,null,null,null,"","",""]
[null,null,null,null,null,null,null,null,null,null,null,null,null,null,null,null,null,null,null,null,null,null,null,null,null,null,null,null,"","",""]
[null,null,null,null,null,null,null,null,null,null,null,null,null,null,null,null,null,null,null,null,null,null,null,null,null,null,null,null,"","",""]
[null,null,null,null,null,null,null,null,null,null,null,null,null,null,null,null,null,null,null,null,null,null,null,null,null,null,null,null,"","",""]
[null,null,null,null,null,null,null,null,null,null,null,null,null,null,null,null,null,null,null,null,null,null,null,null,null,null,null,null,"","",""]
[null,null,null,null,null,null,null,null,null,null,null,null,null,null,null,null,null,null,null,null,null,null,null,null,null,null,null,null,"","",""]
[null,null,null,null,null,null,null,null,null,null,null,null,null,null,null,null,null,null,null,null,null,null,null,null,null,null,null,null,"","",""]
[null,null,null,null,null,null,null,null,null,null,null,null,null,null,null,null,null,null,null,null,null,null,null,null,null,null,null,null,"","",""]
[null,null,null,null,null,null,null,null,null,null,null,null,null,null,null,null,null,null,null,null,null,null,null,null,null,null,null,null,"","",""]
[null,null,null,null,null,null,null,null,null,null,null,null,null,null,null,null,null,null,null,null,null,null,null,null,null,null,null,null,"","",""]
[null,null,null,null,null,null,null,null,null,null,null,null,null,null,null,null,null,null,null,null,null,null,null,null,null,null,null,null,"","",""]
[null,null,null,null,null,null,null,null,null,null,null,null,null,null,null,null,null,null,null,null,null,null,null,null,null,null,null,null,"","",""]
[null,null,null,null,null,null,null,null,null,null,null,null,null,null,null,null,null,null,null,null,null,null,null,null,null,null,null,null,"","",""]
[null,null,null,null,null,null,null,null,null,null,null,null,null,null,null,null,null,null,null,null,null,null,null,null,null,null,null,null,"","",""]
[null,null,null,null,null,null,null,null,null,null,null,null,null,null,null,null,null,null,null,null,null,null,null,null,null,null,null,null,"","",""]
[null,null,null,null,null,null,null,null,null,null,null,null,null,null,null,null,null,null,null,null,null,null,null,null,null,null,null,null,"","",""]
[null,null,null,null,null,null,null,null,null,null,null,null,null,null,null,null,null,null,null,null,null,null,null,null,null,null,null,null,"","",""]
[null,null,null,null,null,null,null,null,null,null,null,null,null,null,null,null,null,null,null,null,null,null,null,null,null,null,null,null,"","",""]
[null,null,null,null,null,null,null,null,null,null,null,null,null,null,null,null,null,null,null,null,null,null,null,null,null,null,null,null,"","",""]
[null,null,null,null,null,null,null,null,null,null,null,null,null,null,null,null,null,null,null,null,null,null,null,null,null,null,null,null,"","",""]
[null,null,null,null,null,null,null,null,null,null,null,null,null,null,null,null,null,null,null,null,null,null,null,null,null,null,null,null,"","",""]
[null,null,null,null,null,null,null,null,null,null,null,null,null,null,null,null,null,null,null,null,null,null,null,null,null,null,null,null,"","",""]
[null,null,null,null,null,null,null,null,null,null,null,null,null,null,null,null,null,null,null,null,null,null,null,null,null,null,null,null,"","",""]
[null,null,null,null,null,null,null,null,null,null,null,null,null,null,null,null,null,null,null,null,null,null,null,null,null,null,null,null,"","",""]
[null,null,null,null,null,null,null,null,null,null,null,null,null,null,null,null,null,null,null,null,null,null,null,null,null,null,null,null,"","",""]
[null,null,null,null,null,null,null,null,null,null,null,null,null,null,null,null,null,null,null,null,null,null,null,null,null,null,null,null,"","",""]
[null,null,null,null,null,null,null,null,null,null,null,null,null,null,null,null,null,null,null,null,null,null,null,null,null,null,null,null,"","",""]
[null,null,null,null,null,null,null,null,null,null,null,null,null,null,null,null,null,null,null,null,null,null,null,null,null,null,null,null,"","",""]
[null,null,null,null,null,null,null,null,null,null,null,null,null,null,null,null,null,null,null,null,null,null,null,null,null,null,null,null,"","",""]
[null,null,null,null,null,null,null,null,null,null,null,null,null,null,null,null,null,null,null,null,null,null,null,null,null,null,null,null,"","",""]
[null,null,null,null,null,null,null,null,null,null,null,null,null,null,null,null,null,null,null,null,null,null,null,null,null,null,null,null,"","",""]
[null,null,null,null,null,null,null,null,null,null,null,null,null,null,null,null,null,null,null,null,null,null,null,null,null,null,null,null,"","",""]
[null,null,null,null,null,null,null,null,null,null,null,null,null,null,null,null,null,null,null,null,null,null,null,null,null,null,null,null,"","",""]
[null,null,null,null,null,null,null,null,null,null,null,null,null,null,null,null,null,null,null,null,null,null,null,null,null,null,null,null,"","",""]
[null,null,null,null,null,null,null,null,null,null,null,null,null,null,null,null,null,null,null,null,null,null,null,null,null,null,null,null,"","",""]
[null,null,null,null,null,null,null,null,null,null,null,null,null,null,null,null,null,null,null,null,null,null,null,null,null,null,null,null,"","",""]
[null,null,null,null,null,null,null,null,null,null,null,null,null,null,null,null,null,null,null,null,null,null,null,null,null,null,null,null,"","",""]
[null,null,null,null,null,null,null,null,null,null,null,null,null,null,null,null,null,null,null,null,null,null,null,null,null,null,null,null,{"$f":"IF($A67=\"\",\"\",$A67&$C67)","v":""},{"$f":"IF($A67=\"\",\"\",$O67)","v":""},{"$f":"IF($A67=\"\",\"\",IF(AND(LEFT($P67,1)=\"5\",RIGHT($P67,2)<\"99\",RIGHT($P67,2)>\"19\",$R67<>\"\"),$P67,\"\"))","v":""}]
[null,null,null,null,null,null,null,null,null,null,null,null,null,null,null,null,null,null,null,null,null,null,null,null,null,null,null,null,"","",""]
[null,null,null,null,null,null,null,null,null,null,null,null,null,null,null,null,null,null,null,null,null,null,null,null,null,null,null,null,"","",""]
[null,null,null,null,null,null,null,null,null,null,null,null,null,null,null,null,null,null,null,null,null,null,null,null,null,null,null,null,"","",""]
[null,null,null,null,null,null,null,null,null,null,null,null,null,null,null,null,null,null,null,null,null,null,null,null,null,null,null,null,"","",""]
[null,null,null,null,null,null,null,null,null,null,null,null,null,null,null,null,null,null,null,null,null,null,null,null,null,null,null,null,"","",""]
[null,null,null,null,null,null,null,null,null,null,null,null,null,null,null,null,null,null,null,null,null,null,null,null,null,null,null,null,"","",""]
[null,null,null,null,null,null,null,null,null,null,null,null,null,null,null,null,null,null,null,null,null,null,null,null,null,null,null,null,"","",""]
[null,null,null,null,null,null,null,null,null,null,null,null,null,null,null,null,null,null,null,null,null,null,null,null,null,null,null,null,"","",""]
[null,null,null,null,null,null,null,null,null,null,null,null,null,null,null,null,null,null,null,null,null,null,null,null,null,null,null,null,"","",""]
[null,null,null,null,null,null,null,null,null,null,null,null,null,null,null,null,null,null,null,null,null,null,null,null,null,null,null,null,"","",""]
[null,null,null,null,null,null,null,null,null,null,null,null,null,null,null,null,null,null,null,null,null,null,null,null,null,null,null,null,"","",""]
[null,null,null,null,null,null,null,null,null,null,null,null,null,null,null,null,null,null,null,null,null,null,null,null,null,null,null,null,"","",""]
[null,null,null,null,null,null,null,null,null,null,null,null,null,null,null,null,null,null,null,null,null,null,null,null,null,null,null,null,"","",""]
[null,null,null,null,null,null,null,null,null,null,null,null,null,null,null,null,null,null,null,null,null,null,null,null,null,null,null,null,"","",""]
[null,null,null,null,null,null,null,null,null,null,null,null,null,null,null,null,null,null,null,null,null,null,null,null,null,null,null,null,"","",""]
[null,null,null,null,null,null,null,null,null,null,null,null,null,null,null,null,null,null,null,null,null,null,null,null,null,null,null,null,"","",""]
[null,null,null,null,null,null,null,null,null,null,null,null,null,null,null,null,null,null,null,null,null,null,null,null,null,null,null,null,"","",""]
[null,null,null,null,null,null,null,null,null,null,null,null,null,null,null,null,null,null,null,null,null,null,null,null,null,null,null,null,"","",""]
[null,null,null,null,null,null,null,null,null,null,null,null,null,null,null,null,null,null,null,null,null,null,null,null,null,null,null,null,"","",""]
[null,null,null,null,null,null,null,null,null,null,null,null,null,null,null,null,null,null,null,null,null,null,null,null,null,null,null,null,"","",""]
[null,null,null,null,null,null,null,null,null,null,null,null,null,null,null,null,null,null,null,null,null,null,null,null,null,null,null,null,"","",""]
[null,null,null,null,null,null,null,null,null,null,null,null,null,null,null,null,null,null,null,null,null,null,null,null,null,null,null,null,"","",""]
[null,null,null,null,null,null,null,null,null,null,null,null,null,null,null,null,null,null,null,null,null,null,null,null,null,null,null,null,"","",""]
[null,null,null,null,null,null,null,null,null,null,null,null,null,null,null,null,null,null,null,null,null,null,null,null,null,null,null,null,"","",""]
[null,null,null,null,null,null,null,null,null,null,null,null,null,null,null,null,null,null,null,null,null,null,null,null,null,null,null,null,"","",""]
[null,null,null,null,null,null,null,null,null,null,null,null,null,null,null,null,null,null,null,null,null,null,null,null,null,null,null,null,"","",""]
[null,null,null,null,null,null,null,null,null,null,null,null,null,null,null,null,null,null,null,null,null,null,null,null,null,null,null,null,"","",""]
[null,null,null,null,null,null,null,null,null,null,null,null,null,null,null,null,null,null,null,null,null,null,null,null,null,null,null,null,"","",""]
[null,null,null,null,null,null,null,null,null,null,null,null,null,null,null,null,null,null,null,null,null,null,null,null,null,null,null,null,"","",""]
[null,null,null,null,null,null,null,null,null,null,null,null,null,null,null,null,null,null,null,null,null,null,null,null,null,null,null,null,"","",""]
[null,null,null,null,null,null,null,null,null,null,null,null,null,null,null,null,null,null,null,null,null,null,null,null,null,null,null,null,"","",""]
[null,null,null,null,null,null,null,null,null,null,null,null,null,null,null,null,null,null,null,null,null,null,null,null,null,null,null,null,"","",""]
[null,null,null,null,null,null,null,null,null,null,null,null,null,null,null,null,null,null,null,null,null,null,null,null,null,null,null,null,"","",""]
[null,null,null,null,null,null,null,null,null,null,null,null,null,null,null,null,null,null,null,null,null,null,null,null,null,null,null,null,"","",""]
[null,null,null,null,null,null,null,null,null,null,null,null,null,null,null,null,null,null,null,null,null,null,null,null,null,null,null,null,"","",""]
[null,null,null,null,null,null,null,null,null,null,null,null,null,null,null,null,null,null,null,null,null,null,null,null,null,null,null,null,"","",""]
[null,null,null,null,null,null,null,null,null,null,null,null,null,null,null,null,null,null,null,null,null,null,null,null,null,null,null,null,"","",""]
[null,null,null,null,null,null,null,null,null,null,null,null,null,null,null,null,null,null,null,null,null,null,null,null,null,null,null,null,"","",""]
[null,null,null,null,null,null,null,null,null,null,null,null,null,null,null,null,null,null,null,null,null,null,null,null,null,null,null,null,"","",""]
[null,null,null,null,null,null,null,null,null,null,null,null,null,null,null,null,null,null,null,null,null,null,null,null,null,null,null,null,"","",""]
[null,null,null,null,null,null,null,null,null,null,null,null,null,null,null,null,null,null,null,null,null,null,null,null,null,null,null,null,"","",""]
[null,null,null,null,null,null,null,null,null,null,null,null,null,null,null,null,null,null,null,null,null,null,null,null,null,null,null,null,"","",""]
[null,null,null,null,null,null,null,null,null,null,null,null,null,null,null,null,null,null,null,null,null,null,null,null,null,null,null,null,"","",""]
[null,null,null,null,null,null,null,null,null,null,null,null,null,null,null,null,null,null,null,null,null,null,null,null,null,null,null,null,"","",""]
[null,null,null,null,null,null,null,null,null,null,null,null,null,null,null,null,null,null,null,null,null,null,null,null,null,null,null,null,"","",""]
[null,null,null,null,null,null,null,null,null,null,null,null,null,null,null,null,null,null,null,null,null,null,null,null,null,null,null,null,"","",""]
[null,null,null,null,null,null,null,null,null,null,null,null,null,null,null,null,null,null,null,null,null,null,null,null,null,null,null,null,"","",""]
[null,null,null,null,null,null,null,null,null,null,null,null,null,null,null,null,null,null,null,null,null,null,null,null,null,null,null,null,"","",""]
[null,null,null,null,null,null,null,null,null,null,null,null,null,null,null,null,null,null,null,null,null,null,null,null,null,null,null,null,"","",""]
[null,null,null,null,null,null,null,null,null,null,null,null,null,null,null,null,null,null,null,null,null,null,null,null,null,null,null,null,"","",""]
[null,null,null,null,null,null,null,null,null,null,null,null,null,null,null,null,null,null,null,null,null,null,null,null,null,null,null,null,"","",""]
[null,null,null,null,null,null,null,null,null,null,null,null,null,null,null,null,null,null,null,null,null,null,null,null,null,null,null,null,"","",""]
[null,null,null,null,null,null,null,null,null,null,null,null,null,null,null,null,null,null,null,null,null,null,null,null,null,null,null,null,"","",""]
[null,null,null,null,null,null,null,null,null,null,null,null,null,null,null,null,null,null,null,null,null,null,null,null,null,null,null,null,"","",""]
[null,null,null,null,null,null,null,null,null,null,null,null,null,null,null,null,null,null,null,null,null,null,null,null,null,null,null,null,"","",""]
[null,null,null,null,null,null,null,null,null,null,null,null,null,null,null,null,null,null,null,null,null,null,null,null,null,null,null,null,"","",""]
[null,null,null,null,null,null,null,null,null,null,null,null,null,null,null,null,null,null,null,null,null,null,null,null,null,null,null,null,"","",""]
[null,null,null,null,null,null,null,null,null,null,null,null,null,null,null,null,null,null,null,null,null,null,null,null,null,null,null,null,"","",""]
[null,null,null,null,null,null,null,null,null,null,null,null,null,null,null,null,null,null,null,null,null,null,null,null,null,null,null,null,"","",""]
[null,null,null,null,null,null,null,null,null,null,null,null,null,null,null,null,null,null,null,null,null,null,null,null,null,null,null,null,"","",""]
[null,null,null,null,null,null,null,null,null,null,null,null,null,null,null,null,null,null,null,null,null,null,null,null,null,null,null,null,"","",""]
[null,null,null,null,null,null,null,null,null,null,null,null,null,null,null,null,null,null,null,null,null,null,null,null,null,null,null,null,"","",""]
[null,null,null,null,null,null,null,null,null,null,null,null,null,null,null,null,null,null,null,null,null,null,null,null,null,null,null,null,"","",""]
[null,null,null,null,null,null,null,null,null,null,null,null,null,null,null,null,null,null,null,null,null,null,null,null,null,null,null,null,{"$f":"IF($A131=\"\",\"\",$A131&$C131)","v":""},{"$f":"IF($A131=\"\",\"\",$O131)","v":""},{"$f":"IF($A131=\"\",\"\",IF(AND(LEFT($P131,1)=\"5\",RIGHT($P131,2)<\"99\",RIGHT($P131,2)>\"19\",$R131<>\"\"),$P131,\"\"))","v":""}]
[null,null,null,null,null,null,null,null,null,null,null,null,null,null,null,null,null,null,null,null,null,null,null,null,null,null,null,null,"","",""]
[null,null,null,null,null,null,null,null,null,null,null,null,null,null,null,null,null,null,null,null,null,null,null,null,null,null,null,null,"","",""]
[null,null,null,null,null,null,null,null,null,null,null,null,null,null,null,null,null,null,null,null,null,null,null,null,null,null,null,null,"","",""]
[null,null,null,null,null,null,null,null,null,null,null,null,null,null,null,null,null,null,null,null,null,null,null,null,null,null,null,null,"","",""]
[null,null,null,null,null,null,null,null,null,null,null,null,null,null,null,null,null,null,null,null,null,null,null,null,null,null,null,null,"","",""]
[null,null,null,null,null,null,null,null,null,null,null,null,null,null,null,null,null,null,null,null,null,null,null,null,null,null,null,null,"","",""]
[null,null,null,null,null,null,null,null,null,null,null,null,null,null,null,null,null,null,null,null,null,null,null,null,null,null,null,null,"","",""]
[null,null,null,null,null,null,null,null,null,null,null,null,null,null,null,null,null,null,null,null,null,null,null,null,null,null,null,null,"","",""]
[null,null,null,null,null,null,null,null,null,null,null,null,null,null,null,null,null,null,null,null,null,null,null,null,null,null,null,null,"","",""]
[null,null,null,null,null,null,null,null,null,null,null,null,null,null,null,null,null,null,null,null,null,null,null,null,null,null,null,null,"","",""]
[null,null,null,null,null,null,null,null,null,null,null,null,null,null,null,null,null,null,null,null,null,null,null,null,null,null,null,null,"","",""]
[null,null,null,null,null,null,null,null,null,null,null,null,null,null,null,null,null,null,null,null,null,null,null,null,null,null,null,null,"","",""]
[null,null,null,null,null,null,null,null,null,null,null,null,null,null,null,null,null,null,null,null,null,null,null,null,null,null,null,null,"","",""]
[null,null,null,null,null,null,null,null,null,null,null,null,null,null,null,null,null,null,null,null,null,null,null,null,null,null,null,null,"","",""]
[null,null,null,null,null,null,null,null,null,null,null,null,null,null,null,null,null,null,null,null,null,null,null,null,null,null,null,null,"","",""]
[null,null,null,null,null,null,null,null,null,null,null,null,null,null,null,null,null,null,null,null,null,null,null,null,null,null,null,null,"","",""]
[null,null,null,null,null,null,null,null,null,null,null,null,null,null,null,null,null,null,null,null,null,null,null,null,null,null,null,null,"","",""]
[null,null,null,null,null,null,null,null,null,null,null,null,null,null,null,null,null,null,null,null,null,null,null,null,null,null,null,null,"","",""]
[null,null,null,null,null,null,null,null,null,null,null,null,null,null,null,null,null,null,null,null,null,null,null,null,null,null,null,null,"","",""]
[null,null,null,null,null,null,null,null,null,null,null,null,null,null,null,null,null,null,null,null,null,null,null,null,null,null,null,null,"","",""]
[null,null,null,null,null,null,null,null,null,null,null,null,null,null,null,null,null,null,null,null,null,null,null,null,null,null,null,null,"","",""]
[null,null,null,null,null,null,null,null,null,null,null,null,null,null,null,null,null,null,null,null,null,null,null,null,null,null,null,null,"","",""]
[null,null,null,null,null,null,null,null,null,null,null,null,null,null,null,null,null,null,null,null,null,null,null,null,null,null,null,null,"","",""]
[null,null,null,null,null,null,null,null,null,null,null,null,null,null,null,null,null,null,null,null,null,null,null,null,null,null,null,null,"","",""]
[null,null,null,null,null,null,null,null,null,null,null,null,null,null,null,null,null,null,null,null,null,null,null,null,null,null,null,null,"","",""]
[null,null,null,null,null,null,null,null,null,null,null,null,null,null,null,null,null,null,null,null,null,null,null,null,null,null,null,null,"","",""]
[null,null,null,null,null,null,null,null,null,null,null,null,null,null,null,null,null,null,null,null,null,null,null,null,null,null,null,null,"","",""]
[null,null,null,null,null,null,null,null,null,null,null,null,null,null,null,null,null,null,null,null,null,null,null,null,null,null,null,null,"","",""]
[null,null,null,null,null,null,null,null,null,null,null,null,null,null,null,null,null,null,null,null,null,null,null,null,null,null,null,null,"","",""]
[null,null,null,null,null,null,null,null,null,null,null,null,null,null,null,null,null,null,null,null,null,null,null,null,null,null,null,null,"","",""]
[null,null,null,null,null,null,null,null,null,null,null,null,null,null,null,null,null,null,null,null,null,null,null,null,null,null,null,null,"","",""]
[null,null,null,null,null,null,null,null,null,null,null,null,null,null,null,null,null,null,null,null,null,null,null,null,null,null,null,null,"","",""]
[null,null,null,null,null,null,null,null,null,null,null,null,null,null,null,null,null,null,null,null,null,null,null,null,null,null,null,null,"","",""]
[null,null,null,null,null,null,null,null,null,null,null,null,null,null,null,null,null,null,null,null,null,null,null,null,null,null,null,null,"","",""]
[null,null,null,null,null,null,null,null,null,null,null,null,null,null,null,null,null,null,null,null,null,null,null,null,null,null,null,null,"","",""]
[null,null,null,null,null,null,null,null,null,null,null,null,null,null,null,null,null,null,null,null,null,null,null,null,null,null,null,null,"","",""]
[null,null,null,null,null,null,null,null,null,null,null,null,null,null,null,null,null,null,null,null,null,null,null,null,null,null,null,null,"","",""]
[null,null,null,null,null,null,null,null,null,null,null,null,null,null,null,null,null,null,null,null,null,null,null,null,null,null,null,null,"","",""]
[null,null,null,null,null,null,null,null,null,null,null,null,null,null,null,null,null,null,null,null,null,null,null,null,null,null,null,null,"","",""]
[null,null,null,null,null,null,null,null,null,null,null,null,null,null,null,null,null,null,null,null,null,null,null,null,null,null,null,null,"","",""]
[null,null,null,null,null,null,null,null,null,null,null,null,null,null,null,null,null,null,null,null,null,null,null,null,null,null,null,null,"","",""]
[null,null,null,null,null,null,null,null,null,null,null,null,null,null,null,null,null,null,null,null,null,null,null,null,null,null,null,null,"","",""]
[null,null,null,null,null,null,null,null,null,null,null,null,null,null,null,null,null,null,null,null,null,null,null,null,null,null,null,null,"","",""]
[null,null,null,null,null,null,null,null,null,null,null,null,null,null,null,null,null,null,null,null,null,null,null,null,null,null,null,null,"","",""]
[null,null,null,null,null,null,null,null,null,null,null,null,null,null,null,null,null,null,null,null,null,null,null,null,null,null,null,null,"","",""]
[null,null,null,null,null,null,null,null,null,null,null,null,null,null,null,null,null,null,null,null,null,null,null,null,null,null,null,null,"","",""]
[null,null,null,null,null,null,null,null,null,null,null,null,null,null,null,null,null,null,null,null,null,null,null,null,null,null,null,null,"","",""]
[null,null,null,null,null,null,null,null,null,null,null,null,null,null,null,null,null,null,null,null,null,null,null,null,null,null,null,null,"","",""]
[null,null,null,null,null,null,null,null,null,null,null,null,null,null,null,null,null,null,null,null,null,null,null,null,null,null,null,null,"","",""]
[null,null,null,null,null,null,null,null,null,null,null,null,null,null,null,null,null,null,null,null,null,null,null,null,null,null,null,null,"","",""]
[null,null,null,null,null,null,null,null,null,null,null,null,null,null,null,null,null,null,null,null,null,null,null,null,null,null,null,null,"","",""]
[null,null,null,null,null,null,null,null,null,null,null,null,null,null,null,null,null,null,null,null,null,null,null,null,null,null,null,null,"","",""]
[null,null,null,null,null,null,null,null,null,null,null,null,null,null,null,null,null,null,null,null,null,null,null,null,null,null,null,null,"","",""]
[null,null,null,null,null,null,null,null,null,null,null,null,null,null,null,null,null,null,null,null,null,null,null,null,null,null,null,null,"","",""]
[null,null,null,null,null,null,null,null,null,null,null,null,null,null,null,null,null,null,null,null,null,null,null,null,null,null,null,null,"","",""]
[null,null,null,null,null,null,null,null,null,null,null,null,null,null,null,null,null,null,null,null,null,null,null,null,null,null,null,null,"","",""]
[null,null,null,null,null,null,null,null,null,null,null,null,null,null,null,null,null,null,null,null,null,null,null,null,null,null,null,null,"","",""]
[null,null,null,null,null,null,null,null,null,null,null,null,null,null,null,null,null,null,null,null,null,null,null,null,null,null,null,null,"","",""]
[null,null,null,null,null,null,null,null,null,null,null,null,null,null,null,null,null,null,null,null,null,null,null,null,null,null,null,null,"","",""]
[null,null,null,null,null,null,null,null,null,null,null,null,null,null,null,null,null,null,null,null,null,null,null,null,null,null,null,null,"","",""]
[null,null,null,null,null,null,null,null,null,null,null,null,null,null,null,null,null,null,null,null,null,null,null,null,null,null,null,null,"","",""]
[null,null,null,null,null,null,null,null,null,null,null,null,null,null,null,null,null,null,null,null,null,null,null,null,null,null,null,null,"","",""]
[null,null,null,null,null,null,null,null,null,null,null,null,null,null,null,null,null,null,null,null,null,null,null,null,null,null,null,null,"","",""]
[null,null,null,null,null,null,null,null,null,null,null,null,null,null,null,null,null,null,null,null,null,null,null,null,null,null,null,null,{"$f":"IF($A195=\"\",\"\",$A195&$C195)","v":""},{"$f":"IF($A195=\"\",\"\",$O195)","v":""},{"$f":"IF($A195=\"\",\"\",IF(AND(LEFT($P195,1)=\"5\",RIGHT($P195,2)<\"99\",RIGHT($P195,2)>\"19\",$R195<>\"\"),$P195,\"\"))","v":""}]
[null,null,null,null,null,null,null,null,null,null,null,null,null,null,null,null,null,null,null,null,null,null,null,null,null,null,null,null,"","",""]
[null,null,null,null,null,null,null,null,null,null,null,null,null,null,null,null,null,null,null,null,null,null,null,null,null,null,null,null,"","",""]
[null,null,null,null,null,null,null,null,null,null,null,null,null,null,null,null,null,null,null,null,null,null,null,null,null,null,null,null,"","",""]
[null,null,null,null,null,null,null,null,null,null,null,null,null,null,null,null,null,null,null,null,null,null,null,null,null,null,null,null,"","",""]
[null,null,null,null,null,null,null,null,null,null,null,null,null,null,null,null,null,null,null,null,null,null,null,null,null,null,null,null,"","",""]
[null,null,null,null,null,null,null,null,null,null,null,null,null,null,null,null,null,null,null,null,null,null,null,null,null,null,null,null,"","",""]
[null,null,null,null,null,null,null,null,null,null,null,null,null,null,null,null,null,null,null,null,null,null,null,null,null,null,null,null,"","",""]
[null,null,null,null,null,null,null,null,null,null,null,null,null,null,null,null,null,null,null,null,null,null,null,null,null,null,null,null,"","",""]
[null,null,null,null,null,null,null,null,null,null,null,null,null,null,null,null,null,null,null,null,null,null,null,null,null,null,null,null,"","",""]
[null,null,null,null,null,null,null,null,null,null,null,null,null,null,null,null,null,null,null,null,null,null,null,null,null,null,null,null,"","",""]
[null,null,null,null,null,null,null,null,null,null,null,null,null,null,null,null,null,null,null,null,null,null,null,null,null,null,null,null,"","",""]
[null,null,null,null,null,null,null,null,null,null,null,null,null,null,null,null,null,null,null,null,null,null,null,null,null,null,null,null,"","",""]
[null,null,null,null,null,null,null,null,null,null,null,null,null,null,null,null,null,null,null,null,null,null,null,null,null,null,null,null,"","",""]
[null,null,null,null,null,null,null,null,null,null,null,null,null,null,null,null,null,null,null,null,null,null,null,null,null,null,null,null,"","",""]
[null,null,null,null,null,null,null,null,null,null,null,null,null,null,null,null,null,null,null,null,null,null,null,null,null,null,null,null,"","",""]
[null,null,null,null,null,null,null,null,null,null,null,null,null,null,null,null,null,null,null,null,null,null,null,null,null,null,null,null,"","",""]
[null,null,null,null,null,null,null,null,null,null,null,null,null,null,null,null,null,null,null,null,null,null,null,null,null,null,null,null,"","",""]
[null,null,null,null,null,null,null,null,null,null,null,null,null,null,null,null,null,null,null,null,null,null,null,null,null,null,null,null,"","",""]
[null,null,null,null,null,null,null,null,null,null,null,null,null,null,null,null,null,null,null,null,null,null,null,null,null,null,null,null,"","",""]
[null,null,null,null,null,null,null,null,null,null,null,null,null,null,null,null,null,null,null,null,null,null,null,null,null,null,null,null,"","",""]
[null,null,null,null,null,null,null,null,null,null,null,null,null,null,null,null,null,null,null,null,null,null,null,null,null,null,null,null,"","",""]
[null,null,null,null,null,null,null,null,null,null,null,null,null,null,null,null,null,null,null,null,null,null,null,null,null,null,null,null,"","",""]
[null,null,null,null,null,null,null,null,null,null,null,null,null,null,null,null,null,null,null,null,null,null,null,null,null,null,null,null,"","",""]
[null,null,null,null,null,null,null,null,null,null,null,null,null,null,null,null,null,null,null,null,null,null,null,null,null,null,null,null,"","",""]
[null,null,null,null,null,null,null,null,null,null,null,null,null,null,null,null,null,null,null,null,null,null,null,null,null,null,null,null,"","",""]
[null,null,null,null,null,null,null,null,null,null,null,null,null,null,null,null,null,null,null,null,null,null,null,null,null,null,null,null,"","",""]
[null,null,null,null,null,null,null,null,null,null,null,null,null,null,null,null,null,null,null,null,null,null,null,null,null,null,null,null,"","",""]
[null,null,null,null,null,null,null,null,null,null,null,null,null,null,null,null,null,null,null,null,null,null,null,null,null,null,null,null,"","",""]
[null,null,null,null,null,null,null,null,null,null,null,null,null,null,null,null,null,null,null,null,null,null,null,null,null,null,null,null,"","",""]
[null,null,null,null,null,null,null,null,null,null,null,null,null,null,null,null,null,null,null,null,null,null,null,null,null,null,null,null,"","",""]
[null,null,null,null,null,null,null,null,null,null,null,null,null,null,null,null,null,null,null,null,null,null,null,null,null,null,null,null,"","",""]
[null,null,null,null,null,null,null,null,null,null,null,null,null,null,null,null,null,null,null,null,null,null,null,null,null,null,null,null,"","",""]
[null,null,null,null,null,null,null,null,null,null,null,null,null,null,null,null,null,null,null,null,null,null,null,null,null,null,null,null,"","",""]
[null,null,null,null,null,null,null,null,null,null,null,null,null,null,null,null,null,null,null,null,null,null,null,null,null,null,null,null,"","",""]
[null,null,null,null,null,null,null,null,null,null,null,null,null,null,null,null,null,null,null,null,null,null,null,null,null,null,null,null,"","",""]
[null,null,null,null,null,null,null,null,null,null,null,null,null,null,null,null,null,null,null,null,null,null,null,null,null,null,null,null,"","",""]
[null,null,null,null,null,null,null,null,null,null,null,null,null,null,null,null,null,null,null,null,null,null,null,null,null,null,null,null,"","",""]
[null,null,null,null,null,null,null,null,null,null,null,null,null,null,null,null,null,null,null,null,null,null,null,null,null,null,null,null,"","",""]
[null,null,null,null,null,null,null,null,null,null,null,null,null,null,null,null,null,null,null,null,null,null,null,null,null,null,null,null,"","",""]
[null,null,null,null,null,null,null,null,null,null,null,null,null,null,null,null,null,null,null,null,null,null,null,null,null,null,null,null,"","",""]
[null,null,null,null,null,null,null,null,null,null,null,null,null,null,null,null,null,null,null,null,null,null,null,null,null,null,null,null,"","",""]
[null,null,null,null,null,null,null,null,null,null,null,null,null,null,null,null,null,null,null,null,null,null,null,null,null,null,null,null,"","",""]
[null,null,null,null,null,null,null,null,null,null,null,null,null,null,null,null,null,null,null,null,null,null,null,null,null,null,null,null,"","",""]
[null,null,null,null,null,null,null,null,null,null,null,null,null,null,null,null,null,null,null,null,null,null,null,null,null,null,null,null,"","",""]
[null,null,null,null,null,null,null,null,null,null,null,null,null,null,null,null,null,null,null,null,null,null,null,null,null,null,null,null,"","",""]
[null,null,null,null,null,null,null,null,null,null,null,null,null,null,null,null,null,null,null,null,null,null,null,null,null,null,null,null,"","",""]
[null,null,null,null,null,null,null,null,null,null,null,null,null,null,null,null,null,null,null,null,null,null,null,null,null,null,null,null,"","",""]
[null,null,null,null,null,null,null,null,null,null,null,null,null,null,null,null,null,null,null,null,null,null,null,null,null,null,null,null,"","",""]
[null,null,null,null,null,null,null,null,null,null,null,null,null,null,null,null,null,null,null,null,null,null,null,null,null,null,null,null,"","",""]
[null,null,null,null,null,null,null,null,null,null,null,null,null,null,null,null,null,null,null,null,null,null,null,null,null,null,null,null,"","",""]
[null,null,null,null,null,null,null,null,null,null,null,null,null,null,null,null,null,null,null,null,null,null,null,null,null,null,null,null,"","",""]
[null,null,null,null,null,null,null,null,null,null,null,null,null,null,null,null,null,null,null,null,null,null,null,null,null,null,null,null,"","",""]
[null,null,null,null,null,null,null,null,null,null,null,null,null,null,null,null,null,null,null,null,null,null,null,null,null,null,null,null,"","",""]
[null,null,null,null,null,null,null,null,null,null,null,null,null,null,null,null,null,null,null,null,null,null,null,null,null,null,null,null,"","",""]
[null,null,null,null,null,null,null,null,null,null,null,null,null,null,null,null,null,null,null,null,null,null,null,null,null,null,null,null,"","",""]
[null,null,null,null,null,null,null,null,null,null,null,null,null,null,null,null,null,null,null,null,null,null,null,null,null,null,null,null,"","",""]
[null,null,null,null,null,null,null,null,null,null,null,null,null,null,null,null,null,null,null,null,null,null,null,null,null,null,null,null,"","",""]
[null,null,null,null,null,null,null,null,null,null,null,null,null,null,null,null,null,null,null,null,null,null,null,null,null,null,null,null,"","",""]
[null,null,null,null,null,null,null,null,null,null,null,null,null,null,null,null,null,null,null,null,null,null,null,null,null,null,null,null,"","",""]
[null,null,null,null,null,null,null,null,null,null,null,null,null,null,null,null,null,null,null,null,null,null,null,null,null,null,null,null,"","",""]
[null,null,null,null,null,null,null,null,null,null,null,null,null,null,null,null,null,null,null,null,null,null,null,null,null,null,null,null,"","",""]
[null,null,null,null,null,null,null,null,null,null,null,null,null,null,null,null,null,null,null,null,null,null,null,null,null,null,null,null,"","",""]
[null,null,null,null,null,null,null,null,null,null,null,null,null,null,null,null,null,null,null,null,null,null,null,null,null,null,null,null,"","",""]
[null,null,null,null,null,null,null,null,null,null,null,null,null,null,null,null,null,null,null,null,null,null,null,null,null,null,null,null,{"$f":"IF($A259=\"\",\"\",$A259&$C259)","v":""},{"$f":"IF($A259=\"\",\"\",$O259)","v":""},{"$f":"IF($A259=\"\",\"\",IF(AND(LEFT($P259,1)=\"5\",RIGHT($P259,2)<\"99\",RIGHT($P259,2)>\"19\",$R259<>\"\"),$P259,\"\"))","v":""}]
[null,null,null,null,null,null,null,null,null,null,null,null,null,null,null,null,null,null,null,null,null,null,null,null,null,null,null,null,"","",""]
[null,null,null,null,null,null,null,null,null,null,null,null,null,null,null,null,null,null,null,null,null,null,null,null,null,null,null,null,"","",""]
[null,null,null,null,null,null,null,null,null,null,null,null,null,null,null,null,null,null,null,null,null,null,null,null,null,null,null,null,"","",""]
[null,null,null,null,null,null,null,null,null,null,null,null,null,null,null,null,null,null,null,null,null,null,null,null,null,null,null,null,"","",""]
[null,null,null,null,null,null,null,null,null,null,null,null,null,null,null,null,null,null,null,null,null,null,null,null,null,null,null,null,"","",""]
[null,null,null,null,null,null,null,null,null,null,null,null,null,null,null,null,null,null,null,null,null,null,null,null,null,null,null,null,"","",""]
[null,null,null,null,null,null,null,null,null,null,null,null,null,null,null,null,null,null,null,null,null,null,null,null,null,null,null,null,"","",""]
[null,null,null,null,null,null,null,null,null,null,null,null,null,null,null,null,null,null,null,null,null,null,null,null,null,null,null,null,"","",""]
[null,null,null,null,null,null,null,null,null,null,null,null,null,null,null,null,null,null,null,null,null,null,null,null,null,null,null,null,"","",""]
[null,null,null,null,null,null,null,null,null,null,null,null,null,null,null,null,null,null,null,null,null,null,null,null,null,null,null,null,"","",""]
[null,null,null,null,null,null,null,null,null,null,null,null,null,null,null,null,null,null,null,null,null,null,null,null,null,null,null,null,"","",""]
[null,null,null,null,null,null,null,null,null,null,null,null,null,null,null,null,null,null,null,null,null,null,null,null,null,null,null,null,"","",""]
[null,null,null,null,null,null,null,null,null,null,null,null,null,null,null,null,null,null,null,null,null,null,null,null,null,null,null,null,"","",""]
[null,null,null,null,null,null,null,null,null,null,null,null,null,null,null,null,null,null,null,null,null,null,null,null,null,null,null,null,"","",""]
[null,null,null,null,null,null,null,null,null,null,null,null,null,null,null,null,null,null,null,null,null,null,null,null,null,null,null,null,"","",""]
[null,null,null,null,null,null,null,null,null,null,null,null,null,null,null,null,null,null,null,null,null,null,null,null,null,null,null,null,"","",""]
[null,null,null,null,null,null,null,null,null,null,null,null,null,null,null,null,null,null,null,null,null,null,null,null,null,null,null,null,"","",""]
[null,null,null,null,null,null,null,null,null,null,null,null,null,null,null,null,null,null,null,null,null,null,null,null,null,null,null,null,"","",""]
[null,null,null,null,null,null,null,null,null,null,null,null,null,null,null,null,null,null,null,null,null,null,null,null,null,null,null,null,"","",""]
[null,null,null,null,null,null,null,null,null,null,null,null,null,null,null,null,null,null,null,null,null,null,null,null,null,null,null,null,"","",""]
[null,null,null,null,null,null,null,null,null,null,null,null,null,null,null,null,null,null,null,null,null,null,null,null,null,null,null,null,"","",""]
[null,null,null,null,null,null,null,null,null,null,null,null,null,null,null,null,null,null,null,null,null,null,null,null,null,null,null,null,"","",""]
[null,null,null,null,null,null,null,null,null,null,null,null,null,null,null,null,null,null,null,null,null,null,null,null,null,null,null,null,"","",""]
[null,null,null,null,null,null,null,null,null,null,null,null,null,null,null,null,null,null,null,null,null,null,null,null,null,null,null,null,"","",""]
[null,null,null,null,null,null,null,null,null,null,null,null,null,null,null,null,null,null,null,null,null,null,null,null,null,null,null,null,"","",""]
[null,null,null,null,null,null,null,null,null,null,null,null,null,null,null,null,null,null,null,null,null,null,null,null,null,null,null,null,"","",""]
[null,null,null,null,null,null,null,null,null,null,null,null,null,null,null,null,null,null,null,null,null,null,null,null,null,null,null,null,"","",""]
[null,null,null,null,null,null,null,null,null,null,null,null,null,null,null,null,null,null,null,null,null,null,null,null,null,null,null,null,"","",""]
[null,null,null,null,null,null,null,null,null,null,null,null,null,null,null,null,null,null,null,null,null,null,null,null,null,null,null,null,"","",""]
[null,null,null,null,null,null,null,null,null,null,null,null,null,null,null,null,null,null,null,null,null,null,null,null,null,null,null,null,"","",""]
[null,null,null,null,null,null,null,null,null,null,null,null,null,null,null,null,null,null,null,null,null,null,null,null,null,null,null,null,"","",""]
[null,null,null,null,null,null,null,null,null,null,null,null,null,null,null,null,null,null,null,null,null,null,null,null,null,null,null,null,"","",""]
[null,null,null,null,null,null,null,null,null,null,null,null,null,null,null,null,null,null,null,null,null,null,null,null,null,null,null,null,"","",""]
[null,null,null,null,null,null,null,null,null,null,null,null,null,null,null,null,null,null,null,null,null,null,null,null,null,null,null,null,"","",""]
[null,null,null,null,null,null,null,null,null,null,null,null,null,null,null,null,null,null,null,null,null,null,null,null,null,null,null,null,"","",""]
[null,null,null,null,null,null,null,null,null,null,null,null,null,null,null,null,null,null,null,null,null,null,null,null,null,null,null,null,"","",""]
[null,null,null,null,null,null,null,null,null,null,null,null,null,null,null,null,null,null,null,null,null,null,null,null,null,null,null,null,"","",""]
[null,null,null,null,null,null,null,null,null,null,null,null,null,null,null,null,null,null,null,null,null,null,null,null,null,null,null,null,"","",""]
[null,null,null,null,null,null,null,null,null,null,null,null,null,null,null,null,null,null,null,null,null,null,null,null,null,null,null,null,"","",""]
[null,null,null,null,null,null,null,null,null,null,null,null,null,null,null,null,null,null,null,null,null,null,null,null,null,null,null,null,"","",""]
[null,null,null,null,null,null,null,null,null,null,null,null,null,null,null,null,null,null,null,null,null,null,null,null,null,null,null,null,"","",""]
[null,null,null,null,null,null,null,null,null,null,null,null,null,null,null,null,null,null,null,null,null,null,null,null,null,null,null,null,"","",""]
[null,null,null,null,null,null,null,null,null,null,null,null,null,null,null,null,null,null,null,null,null,null,null,null,null,null,null,null,"","",""]
[null,null,null,null,null,null,null,null,null,null,null,null,null,null,null,null,null,null,null,null,null,null,null,null,null,null,null,null,"","",""]
[null,null,null,null,null,null,null,null,null,null,null,null,null,null,null,null,null,null,null,null,null,null,null,null,null,null,null,null,"","",""]
[null,null,null,null,null,null,null,null,null,null,null,null,null,null,null,null,null,null,null,null,null,null,null,null,null,null,null,null,"","",""]
[null,null,null,null,null,null,null,null,null,null,null,null,null,null,null,null,null,null,null,null,null,null,null,null,null,null,null,null,"","",""]
[null,null,null,null,null,null,null,null,null,null,null,null,null,null,null,null,null,null,null,null,null,null,null,null,null,null,null,null,"","",""]
[null,null,null,null,null,null,null,null,null,null,null,null,null,null,null,null,null,null,null,null,null,null,null,null,null,null,null,null,"","",""]
[null,null,null,null,null,null,null,null,null,null,null,null,null,null,null,null,null,null,null,null,null,null,null,null,null,null,null,null,"","",""]
[null,null,null,null,null,null,null,null,null,null,null,null,null,null,null,null,null,null,null,null,null,null,null,null,null,null,null,null,"","",""]
[null,null,null,null,null,null,null,null,null,null,null,null,null,null,null,null,null,null,null,null,null,null,null,null,null,null,null,null,"","",""]
[null,null,null,null,null,null,null,null,null,null,null,null,null,null,null,null,null,null,null,null,null,null,null,null,null,null,null,null,"","",""]
[null,null,null,null,null,null,null,null,null,null,null,null,null,null,null,null,null,null,null,null,null,null,null,null,null,null,null,null,"","",""]
[null,null,null,null,null,null,null,null,null,null,null,null,null,null,null,null,null,null,null,null,null,null,null,null,null,null,null,null,"","",""]
[null,null,null,null,null,null,null,null,null,null,null,null,null,null,null,null,null,null,null,null,null,null,null,null,null,null,null,null,"","",""]
[null,null,null,null,null,null,null,null,null,null,null,null,null,null,null,null,null,null,null,null,null,null,null,null,null,null,null,null,"","",""]
[null,null,null,null,null,null,null,null,null,null,null,null,null,null,null,null,null,null,null,null,null,null,null,null,null,null,null,null,"","",""]
[null,null,null,null,null,null,null,null,null,null,null,null,null,null,null,null,null,null,null,null,null,null,null,null,null,null,null,null,"","",""]
[null,null,null,null,null,null,null,null,null,null,null,null,null,null,null,null,null,null,null,null,null,null,null,null,null,null,null,null,"","",""]
[null,null,null,null,null,null,null,null,null,null,null,null,null,null,null,null,null,null,null,null,null,null,null,null,null,null,null,null,"","",""]
[null,null,null,null,null,null,null,null,null,null,null,null,null,null,null,null,null,null,null,null,null,null,null,null,null,null,null,null,"","",""]
[null,null,null,null,null,null,null,null,null,null,null,null,null,null,null,null,null,null,null,null,null,null,null,null,null,null,null,null,"","",""]
[null,null,null,null,null,null,null,null,null,null,null,null,null,null,null,null,null,null,null,null,null,null,null,null,null,null,null,null,{"$f":"IF($A323=\"\",\"\",$A323&$C323)","v":""},{"$f":"IF($A323=\"\",\"\",$O323)","v":""},{"$f":"IF($A323=\"\",\"\",IF(AND(LEFT($P323,1)=\"5\",RIGHT($P323,2)<\"99\",RIGHT($P323,2)>\"19\",$R323<>\"\"),$P323,\"\"))","v":""}]
[null,null,null,null,null,null,null,null,null,null,null,null,null,null,null,null,null,null,null,null,null,null,null,null,null,null,null,null,"","",""]
[null,null,null,null,null,null,null,null,null,null,null,null,null,null,null,null,null,null,null,null,null,null,null,null,null,null,null,null,"","",""]
[null,null,null,null,null,null,null,null,null,null,null,null,null,null,null,null,null,null,null,null,null,null,null,null,null,null,null,null,"","",""]
[null,null,null,null,null,null,null,null,null,null,null,null,null,null,null,null,null,null,null,null,null,null,null,null,null,null,null,null,"","",""]
[null,null,null,null,null,null,null,null,null,null,null,null,null,null,null,null,null,null,null,null,null,null,null,null,null,null,null,null,"","",""]
[null,null,null,null,null,null,null,null,null,null,null,null,null,null,null,null,null,null,null,null,null,null,null,null,null,null,null,null,"","",""]
[null,null,null,null,null,null,null,null,null,null,null,null,null,null,null,null,null,null,null,null,null,null,null,null,null,null,null,null,"","",""]
[null,null,null,null,null,null,null,null,null,null,null,null,null,null,null,null,null,null,null,null,null,null,null,null,null,null,null,null,"","",""]
[null,null,null,null,null,null,null,null,null,null,null,null,null,null,null,null,null,null,null,null,null,null,null,null,null,null,null,null,"","",""]
[null,null,null,null,null,null,null,null,null,null,null,null,null,null,null,null,null,null,null,null,null,null,null,null,null,null,null,null,"","",""]
[null,null,null,null,null,null,null,null,null,null,null,null,null,null,null,null,null,null,null,null,null,null,null,null,null,null,null,null,"","",""]
[null,null,null,null,null,null,null,null,null,null,null,null,null,null,null,null,null,null,null,null,null,null,null,null,null,null,null,null,"","",""]
[null,null,null,null,null,null,null,null,null,null,null,null,null,null,null,null,null,null,null,null,null,null,null,null,null,null,null,null,"","",""]
[null,null,null,null,null,null,null,null,null,null,null,null,null,null,null,null,null,null,null,null,null,null,null,null,null,null,null,null,"","",""]
[null,null,null,null,null,null,null,null,null,null,null,null,null,null,null,null,null,null,null,null,null,null,null,null,null,null,null,null,"","",""]
[null,null,null,null,null,null,null,null,null,null,null,null,null,null,null,null,null,null,null,null,null,null,null,null,null,null,null,null,"","",""]
[null,null,null,null,null,null,null,null,null,null,null,null,null,null,null,null,null,null,null,null,null,null,null,null,null,null,null,null,"","",""]
[null,null,null,null,null,null,null,null,null,null,null,null,null,null,null,null,null,null,null,null,null,null,null,null,null,null,null,null,"","",""]
[null,null,null,null,null,null,null,null,null,null,null,null,null,null,null,null,null,null,null,null,null,null,null,null,null,null,null,null,"","",""]
[null,null,null,null,null,null,null,null,null,null,null,null,null,null,null,null,null,null,null,null,null,null,null,null,null,null,null,null,"","",""]
[null,null,null,null,null,null,null,null,null,null,null,null,null,null,null,null,null,null,null,null,null,null,null,null,null,null,null,null,"","",""]
[null,null,null,null,null,null,null,null,null,null,null,null,null,null,null,null,null,null,null,null,null,null,null,null,null,null,null,null,"","",""]
[null,null,null,null,null,null,null,null,null,null,null,null,null,null,null,null,null,null,null,null,null,null,null,null,null,null,null,null,"","",""]
[null,null,null,null,null,null,null,null,null,null,null,null,null,null,null,null,null,null,null,null,null,null,null,null,null,null,null,null,"","",""]
[null,null,null,null,null,null,null,null,null,null,null,null,null,null,null,null,null,null,null,null,null,null,null,null,null,null,null,null,"","",""]
[null,null,null,null,null,null,null,null,null,null,null,null,null,null,null,null,null,null,null,null,null,null,null,null,null,null,null,null,"","",""]
[null,null,null,null,null,null,null,null,null,null,null,null,null,null,null,null,null,null,null,null,null,null,null,null,null,null,null,null,"","",""]
[null,null,null,null,null,null,null,null,null,null,null,null,null,null,null,null,null,null,null,null,null,null,null,null,null,null,null,null,"","",""]
[null,null,null,null,null,null,null,null,null,null,null,null,null,null,null,null,null,null,null,null,null,null,null,null,null,null,null,null,"","",""]
[null,null,null,null,null,null,null,null,null,null,null,null,null,null,null,null,null,null,null,null,null,null,null,null,null,null,null,null,"","",""]
[null,null,null,null,null,null,null,null,null,null,null,null,null,null,null,null,null,null,null,null,null,null,null,null,null,null,null,null,"","",""]
[null,null,null,null,null,null,null,null,null,null,null,null,null,null,null,null,null,null,null,null,null,null,null,null,null,null,null,null,"","",""]
[null,null,null,null,null,null,null,null,null,null,null,null,null,null,null,null,null,null,null,null,null,null,null,null,null,null,null,null,"","",""]
[null,null,null,null,null,null,null,null,null,null,null,null,null,null,null,null,null,null,null,null,null,null,null,null,null,null,null,null,"","",""]
[null,null,null,null,null,null,null,null,null,null,null,null,null,null,null,null,null,null,null,null,null,null,null,null,null,null,null,null,"","",""]
[null,null,null,null,null,null,null,null,null,null,null,null,null,null,null,null,null,null,null,null,null,null,null,null,null,null,null,null,"","",""]
[null,null,null,null,null,null,null,null,null,null,null,null,null,null,null,null,null,null,null,null,null,null,null,null,null,null,null,null,"","",""]
[null,null,null,null,null,null,null,null,null,null,null,null,null,null,null,null,null,null,null,null,null,null,null,null,null,null,null,null,"","",""]
[null,null,null,null,null,null,null,null,null,null,null,null,null,null,null,null,null,null,null,null,null,null,null,null,null,null,null,null,"","",""]
[null,null,null,null,null,null,null,null,null,null,null,null,null,null,null,null,null,null,null,null,null,null,null,null,null,null,null,null,"","",""]
[null,null,null,null,null,null,null,null,null,null,null,null,null,null,null,null,null,null,null,null,null,null,null,null,null,null,null,null,"","",""]
[null,null,null,null,null,null,null,null,null,null,null,null,null,null,null,null,null,null,null,null,null,null,null,null,null,null,null,null,"","",""]
[null,null,null,null,null,null,null,null,null,null,null,null,null,null,null,null,null,null,null,null,null,null,null,null,null,null,null,null,"","",""]
[null,null,null,null,null,null,null,null,null,null,null,null,null,null,null,null,null,null,null,null,null,null,null,null,null,null,null,null,"","",""]
[null,null,null,null,null,null,null,null,null,null,null,null,null,null,null,null,null,null,null,null,null,null,null,null,null,null,null,null,"","",""]
[null,null,null,null,null,null,null,null,null,null,null,null,null,null,null,null,null,null,null,null,null,null,null,null,null,null,null,null,"","",""]
[null,null,null,null,null,null,null,null,null,null,null,null,null,null,null,null,null,null,null,null,null,null,null,null,null,null,null,null,"","",""]
[null,null,null,null,null,null,null,null,null,null,null,null,null,null,null,null,null,null,null,null,null,null,null,null,null,null,null,null,"","",""]
[null,null,null,null,null,null,null,null,null,null,null,null,null,null,null,null,null,null,null,null,null,null,null,null,null,null,null,null,"","",""]
[null,null,null,null,null,null,null,null,null,null,null,null,null,null,null,null,null,null,null,null,null,null,null,null,null,null,null,null,"","",""]
[null,null,null,null,null,null,null,null,null,null,null,null,null,null,null,null,null,null,null,null,null,null,null,null,null,null,null,null,"","",""]
[null,null,null,null,null,null,null,null,null,null,null,null,null,null,null,null,null,null,null,null,null,null,null,null,null,null,null,null,"","",""]
[null,null,null,null,null,null,null,null,null,null,null,null,null,null,null,null,null,null,null,null,null,null,null,null,null,null,null,null,"","",""]
[null,null,null,null,null,null,null,null,null,null,null,null,null,null,null,null,null,null,null,null,null,null,null,null,null,null,null,null,"","",""]
[null,null,null,null,null,null,null,null,null,null,null,null,null,null,null,null,null,null,null,null,null,null,null,null,null,null,null,null,"","",""]
[null,null,null,null,null,null,null,null,null,null,null,null,null,null,null,null,null,null,null,null,null,null,null,null,null,null,null,null,"","",""]
[null,null,null,null,null,null,null,null,null,null,null,null,null,null,null,null,null,null,null,null,null,null,null,null,null,null,null,null,"","",""]
[null,null,null,null,null,null,null,null,null,null,null,null,null,null,null,null,null,null,null,null,null,null,null,null,null,null,null,null,"","",""]
[null,null,null,null,null,null,null,null,null,null,null,null,null,null,null,null,null,null,null,null,null,null,null,null,null,null,null,null,"","",""]
[null,null,null,null,null,null,null,null,null,null,null,null,null,null,null,null,null,null,null,null,null,null,null,null,null,null,null,null,"","",""]
[null,null,null,null,null,null,null,null,null,null,null,null,null,null,null,null,null,null,null,null,null,null,null,null,null,null,null,null,"","",""]
[null,null,null,null,null,null,null,null,null,null,null,null,null,null,null,null,null,null,null,null,null,null,null,null,null,null,null,null,"","",""]
[null,null,null,null,null,null,null,null,null,null,null,null,null,null,null,null,null,null,null,null,null,null,null,null,null,null,null,null,"","",""]
[null,null,null,null,null,null,null,null,null,null,null,null,null,null,null,null,null,null,null,null,null,null,null,null,null,null,null,null,{"$f":"IF($A387=\"\",\"\",$A387&$C387)","v":""},{"$f":"IF($A387=\"\",\"\",$O387)","v":""},{"$f":"IF($A387=\"\",\"\",IF(AND(LEFT($P387,1)=\"5\",RIGHT($P387,2)<\"99\",RIGHT($P387,2)>\"19\",$R387<>\"\"),$P387,\"\"))","v":""}]
[null,null,null,null,null,null,null,null,null,null,null,null,null,null,null,null,null,null,null,null,null,null,null,null,null,null,null,null,"","",""]
[null,null,null,null,null,null,null,null,null,null,null,null,null,null,null,null,null,null,null,null,null,null,null,null,null,null,null,null,"","",""]
[null,null,null,null,null,null,null,null,null,null,null,null,null,null,null,null,null,null,null,null,null,null,null,null,null,null,null,null,"","",""]
[null,null,null,null,null,null,null,null,null,null,null,null,null,null,null,null,null,null,null,null,null,null,null,null,null,null,null,null,"","",""]
[null,null,null,null,null,null,null,null,null,null,null,null,null,null,null,null,null,null,null,null,null,null,null,null,null,null,null,null,"","",""]
[null,null,null,null,null,null,null,null,null,null,null,null,null,null,null,null,null,null,null,null,null,null,null,null,null,null,null,null,"","",""]
[null,null,null,null,null,null,null,null,null,null,null,null,null,null,null,null,null,null,null,null,null,null,null,null,null,null,null,null,"","",""]
[null,null,null,null,null,null,null,null,null,null,null,null,null,null,null,null,null,null,null,null,null,null,null,null,null,null,null,null,"","",""]
[null,null,null,null,null,null,null,null,null,null,null,null,null,null,null,null,null,null,null,null,null,null,null,null,null,null,null,null,"","",""]
[null,null,null,null,null,null,null,null,null,null,null,null,null,null,null,null,null,null,null,null,null,null,null,null,null,null,null,null,"","",""]
[null,null,null,null,null,null,null,null,null,null,null,null,null,null,null,null,null,null,null,null,null,null,null,null,null,null,null,null,"","",""]
[null,null,null,null,null,null,null,null,null,null,null,null,null,null,null,null,null,null,null,null,null,null,null,null,null,null,null,null,"","",""]
[null,null,null,null,null,null,null,null,null,null,null,null,null,null,null,null,null,null,null,null,null,null,null,null,null,null,null,null,"","",""]
[null,null,null,null,null,null,null,null,null,null,null,null,null,null,null,null,null,null,null,null,null,null,null,null,null,null,null,null,"","",""]
[null,null,null,null,null,null,null,null,null,null,null,null,null,null,null,null,null,null,null,null,null,null,null,null,null,null,null,null,"","",""]
[null,null,null,null,null,null,null,null,null,null,null,null,null,null,null,null,null,null,null,null,null,null,null,null,null,null,null,null,"","",""]
[null,null,null,null,null,null,null,null,null,null,null,null,null,null,null,null,null,null,null,null,null,null,null,null,null,null,null,null,"","",""]
[null,null,null,null,null,null,null,null,null,null,null,null,null,null,null,null,null,null,null,null,null,null,null,null,null,null,null,null,"","",""]
[null,null,null,null,null,null,null,null,null,null,null,null,null,null,null,null,null,null,null,null,null,null,null,null,null,null,null,null,"","",""]
[null,null,null,null,null,null,null,null,null,null,null,null,null,null,null,null,null,null,null,null,null,null,null,null,null,null,null,null,"","",""]
[null,null,null,null,null,null,null,null,null,null,null,null,null,null,null,null,null,null,null,null,null,null,null,null,null,null,null,null,"","",""]
[null,null,null,null,null,null,null,null,null,null,null,null,null,null,null,null,null,null,null,null,null,null,null,null,null,null,null,null,"","",""]
[null,null,null,null,null,null,null,null,null,null,null,null,null,null,null,null,null,null,null,null,null,null,null,null,null,null,null,null,"","",""]
[null,null,null,null,null,null,null,null,null,null,null,null,null,null,null,null,null,null,null,null,null,null,null,null,null,null,null,null,"","",""]
[null,null,null,null,null,null,null,null,null,null,null,null,null,null,null,null,null,null,null,null,null,null,null,null,null,null,null,null,"","",""]
[null,null,null,null,null,null,null,null,null,null,null,null,null,null,null,null,null,null,null,null,null,null,null,null,null,null,null,null,"","",""]
[null,null,null,null,null,null,null,null,null,null,null,null,null,null,null,null,null,null,null,null,null,null,null,null,null,null,null,null,"","",""]
[null,null,null,null,null,null,null,null,null,null,null,null,null,null,null,null,null,null,null,null,null,null,null,null,null,null,null,null,"","",""]
[null,null,null,null,null,null,null,null,null,null,null,null,null,null,null,null,null,null,null,null,null,null,null,null,null,null,null,null,"","",""]
[null,null,null,null,null,null,null,null,null,null,null,null,null,null,null,null,null,null,null,null,null,null,null,null,null,null,null,null,"","",""]
[null,null,null,null,null,null,null,null,null,null,null,null,null,null,null,null,null,null,null,null,null,null,null,null,null,null,null,null,"","",""]
[null,null,null,null,null,null,null,null,null,null,null,null,null,null,null,null,null,null,null,null,null,null,null,null,null,null,null,null,"","",""]
[null,null,null,null,null,null,null,null,null,null,null,null,null,null,null,null,null,null,null,null,null,null,null,null,null,null,null,null,"","",""]
[null,null,null,null,null,null,null,null,null,null,null,null,null,null,null,null,null,null,null,null,null,null,null,null,null,null,null,null,"","",""]
[null,null,null,null,null,null,null,null,null,null,null,null,null,null,null,null,null,null,null,null,null,null,null,null,null,null,null,null,"","",""]
[null,null,null,null,null,null,null,null,null,null,null,null,null,null,null,null,null,null,null,null,null,null,null,null,null,null,null,null,"","",""]
[null,null,null,null,null,null,null,null,null,null,null,null,null,null,null,null,null,null,null,null,null,null,null,null,null,null,null,null,"","",""]
[null,null,null,null,null,null,null,null,null,null,null,null,null,null,null,null,null,null,null,null,null,null,null,null,null,null,null,null,"","",""]
[null,null,null,null,null,null,null,null,null,null,null,null,null,null,null,null,null,null,null,null,null,null,null,null,null,null,null,null,"","",""]
[null,null,null,null,null,null,null,null,null,null,null,null,null,null,null,null,null,null,null,null,null,null,null,null,null,null,null,null,"","",""]
[null,null,null,null,null,null,null,null,null,null,null,null,null,null,null,null,null,null,null,null,null,null,null,null,null,null,null,null,"","",""]
[null,null,null,null,null,null,null,null,null,null,null,null,null,null,null,null,null,null,null,null,null,null,null,null,null,null,null,null,"","",""]
[null,null,null,null,null,null,null,null,null,null,null,null,null,null,null,null,null,null,null,null,null,null,null,null,null,null,null,null,"","",""]
[null,null,null,null,null,null,null,null,null,null,null,null,null,null,null,null,null,null,null,null,null,null,null,null,null,null,null,null,"","",""]
[null,null,null,null,null,null,null,null,null,null,null,null,null,null,null,null,null,null,null,null,null,null,null,null,null,null,null,null,"","",""]
[null,null,null,null,null,null,null,null,null,null,null,null,null,null,null,null,null,null,null,null,null,null,null,null,null,null,null,null,"","",""]
[null,null,null,null,null,null,null,null,null,null,null,null,null,null,null,null,null,null,null,null,null,null,null,null,null,null,null,null,"","",""]
[null,null,null,null,null,null,null,null,null,null,null,null,null,null,null,null,null,null,null,null,null,null,null,null,null,null,null,null,"","",""]
[null,null,null,null,null,null,null,null,null,null,null,null,null,null,null,null,null,null,null,null,null,null,null,null,null,null,null,null,"","",""]
[null,null,null,null,null,null,null,null,null,null,null,null,null,null,null,null,null,null,null,null,null,null,null,null,null,null,null,null,"","",""]
[null,null,null,null,null,null,null,null,null,null,null,null,null,null,null,null,null,null,null,null,null,null,null,null,null,null,null,null,"","",""]
[null,null,null,null,null,null,null,null,null,null,null,null,null,null,null,null,null,null,null,null,null,null,null,null,null,null,null,null,"","",""]
[null,null,null,null,null,null,null,null,null,null,null,null,null,null,null,null,null,null,null,null,null,null,null,null,null,null,null,null,"","",""]
[null,null,null,null,null,null,null,null,null,null,null,null,null,null,null,null,null,null,null,null,null,null,null,null,null,null,null,null,"","",""]
[null,null,null,null,null,null,null,null,null,null,null,null,null,null,null,null,null,null,null,null,null,null,null,null,null,null,null,null,"","",""]
[null,null,null,null,null,null,null,null,null,null,null,null,null,null,null,null,null,null,null,null,null,null,null,null,null,null,null,null,"","",""]
[null,null,null,null,null,null,null,null,null,null,null,null,null,null,null,null,null,null,null,null,null,null,null,null,null,null,null,null,"","",""]
[null,null,null,null,null,null,null,null,null,null,null,null,null,null,null,null,null,null,null,null,null,null,null,null,null,null,null,null,"","",""]
[null,null,null,null,null,null,null,null,null,null,null,null,null,null,null,null,null,null,null,null,null,null,null,null,null,null,null,null,"","",""]
[null,null,null,null,null,null,null,null,null,null,null,null,null,null,null,null,null,null,null,null,null,null,null,null,null,null,null,null,"","",""]
[null,null,null,null,null,null,null,null,null,null,null,null,null,null,null,null,null,null,null,null,null,null,null,null,null,null,null,null,"","",""]
[null,null,null,null,null,null,null,null,null,null,null,null,null,null,null,null,null,null,null,null,null,null,null,null,null,null,null,null,"","",""]
[null,null,null,null,null,null,null,null,null,null,null,null,null,null,null,null,null,null,null,null,null,null,null,null,null,null,null,null,"","",""]
[null,null,null,null,null,null,null,null,null,null,null,null,null,null,null,null,null,null,null,null,null,null,null,null,null,null,null,null,{"$f":"IF($A451=\"\",\"\",$A451&$C451)","v":""},{"$f":"IF($A451=\"\",\"\",$O451)","v":""},{"$f":"IF($A451=\"\",\"\",IF(AND(LEFT($P451,1)=\"5\",RIGHT($P451,2)<\"99\",RIGHT($P451,2)>\"19\",$R451<>\"\"),$P451,\"\"))","v":""}]
[null,null,null,null,null,null,null,null,null,null,null,null,null,null,null,null,null,null,null,null,null,null,null,null,null,null,null,null,"","",""]
[null,null,null,null,null,null,null,null,null,null,null,null,null,null,null,null,null,null,null,null,null,null,null,null,null,null,null,null,"","",""]
[null,null,null,null,null,null,null,null,null,null,null,null,null,null,null,null,null,null,null,null,null,null,null,null,null,null,null,null,"","",""]
[null,null,null,null,null,null,null,null,null,null,null,null,null,null,null,null,null,null,null,null,null,null,null,null,null,null,null,null,"","",""]
[null,null,null,null,null,null,null,null,null,null,null,null,null,null,null,null,null,null,null,null,null,null,null,null,null,null,null,null,"","",""]
[null,null,null,null,null,null,null,null,null,null,null,null,null,null,null,null,null,null,null,null,null,null,null,null,null,null,null,null,"","",""]
[null,null,null,null,null,null,null,null,null,null,null,null,null,null,null,null,null,null,null,null,null,null,null,null,null,null,null,null,"","",""]
[null,null,null,null,null,null,null,null,null,null,null,null,null,null,null,null,null,null,null,null,null,null,null,null,null,null,null,null,"","",""]
[null,null,null,null,null,null,null,null,null,null,null,null,null,null,null,null,null,null,null,null,null,null,null,null,null,null,null,null,"","",""]
[null,null,null,null,null,null,null,null,null,null,null,null,null,null,null,null,null,null,null,null,null,null,null,null,null,null,null,null,"","",""]
[null,null,null,null,null,null,null,null,null,null,null,null,null,null,null,null,null,null,null,null,null,null,null,null,null,null,null,null,"","",""]
[null,null,null,null,null,null,null,null,null,null,null,null,null,null,null,null,null,null,null,null,null,null,null,null,null,null,null,null,"","",""]
[null,null,null,null,null,null,null,null,null,null,null,null,null,null,null,null,null,null,null,null,null,null,null,null,null,null,null,null,"","",""]
[null,null,null,null,null,null,null,null,null,null,null,null,null,null,null,null,null,null,null,null,null,null,null,null,null,null,null,null,"","",""]
[null,null,null,null,null,null,null,null,null,null,null,null,null,null,null,null,null,null,null,null,null,null,null,null,null,null,null,null,"","",""]
[null,null,null,null,null,null,null,null,null,null,null,null,null,null,null,null,null,null,null,null,null,null,null,null,null,null,null,null,"","",""]
[null,null,null,null,null,null,null,null,null,null,null,null,null,null,null,null,null,null,null,null,null,null,null,null,null,null,null,null,"","",""]
[null,null,null,null,null,null,null,null,null,null,null,null,null,null,null,null,null,null,null,null,null,null,null,null,null,null,null,null,"","",""]
[null,null,null,null,null,null,null,null,null,null,null,null,null,null,null,null,null,null,null,null,null,null,null,null,null,null,null,null,"","",""]
[null,null,null,null,null,null,null,null,null,null,null,null,null,null,null,null,null,null,null,null,null,null,null,null,null,null,null,null,"","",""]
[null,null,null,null,null,null,null,null,null,null,null,null,null,null,null,null,null,null,null,null,null,null,null,null,null,null,null,null,"","",""]
[null,null,null,null,null,null,null,null,null,null,null,null,null,null,null,null,null,null,null,null,null,null,null,null,null,null,null,null,"","",""]
[null,null,null,null,null,null,null,null,null,null,null,null,null,null,null,null,null,null,null,null,null,null,null,null,null,null,null,null,"","",""]
[null,null,null,null,null,null,null,null,null,null,null,null,null,null,null,null,null,null,null,null,null,null,null,null,null,null,null,null,"","",""]
[null,null,null,null,null,null,null,null,null,null,null,null,null,null,null,null,null,null,null,null,null,null,null,null,null,null,null,null,"","",""]
[null,null,null,null,null,null,null,null,null,null,null,null,null,null,null,null,null,null,null,null,null,null,null,null,null,null,null,null,"","",""]
[null,null,null,null,null,null,null,null,null,null,null,null,null,null,null,null,null,null,null,null,null,null,null,null,null,null,null,null,"","",""]
[null,null,null,null,null,null,null,null,null,null,null,null,null,null,null,null,null,null,null,null,null,null,null,null,null,null,null,null,"","",""]
[null,null,null,null,null,null,null,null,null,null,null,null,null,null,null,null,null,null,null,null,null,null,null,null,null,null,null,null,"","",""]
[null,null,null,null,null,null,null,null,null,null,null,null,null,null,null,null,null,null,null,null,null,null,null,null,null,null,null,null,"","",""]
[null,null,null,null,null,null,null,null,null,null,null,null,null,null,null,null,null,null,null,null,null,null,null,null,null,null,null,null,"","",""]
[null,null,null,null,null,null,null,null,null,null,null,null,null,null,null,null,null,null,null,null,null,null,null,null,null,null,null,null,"","",""]
[null,null,null,null,null,null,null,null,null,null,null,null,null,null,null,null,null,null,null,null,null,null,null,null,null,null,null,null,"","",""]
[null,null,null,null,null,null,null,null,null,null,null,null,null,null,null,null,null,null,null,null,null,null,null,null,null,null,null,null,"","",""]
[null,null,null,null,null,null,null,null,null,null,null,null,null,null,null,null,null,null,null,null,null,null,null,null,null,null,null,null,"","",""]
[null,null,null,null,null,null,null,null,null,null,null,null,null,null,null,null,null,null,null,null,null,null,null,null,null,null,null,null,"","",""]
[null,null,null,null,null,null,null,null,null,null,null,null,null,null,null,null,null,null,null,null,null,null,null,null,null,null,null,null,"","",""]
[null,null,null,null,null,null,null,null,null,null,null,null,null,null,null,null,null,null,null,null,null,null,null,null,null,null,null,null,"","",""]
[null,null,null,null,null,null,null,null,null,null,null,null,null,null,null,null,null,null,null,null,null,null,null,null,null,null,null,null,"","",""]
[null,null,null,null,null,null,null,null,null,null,null,null,null,null,null,null,null,null,null,null,null,null,null,null,null,null,null,null,"","",""]
[null,null,null,null,null,null,null,null,null,null,null,null,null,null,null,null,null,null,null,null,null,null,null,null,null,null,null,null,"","",""]
[null,null,null,null,null,null,null,null,null,null,null,null,null,null,null,null,null,null,null,null,null,null,null,null,null,null,null,null,"","",""]
[null,null,null,null,null,null,null,null,null,null,null,null,null,null,null,null,null,null,null,null,null,null,null,null,null,null,null,null,"","",""]
[null,null,null,null,null,null,null,null,null,null,null,null,null,null,null,null,null,null,null,null,null,null,null,null,null,null,null,null,"","",""]
[null,null,null,null,null,null,null,null,null,null,null,null,null,null,null,null,null,null,null,null,null,null,null,null,null,null,null,null,"","",""]
[null,null,null,null,null,null,null,null,null,null,null,null,null,null,null,null,null,null,null,null,null,null,null,null,null,null,null,null,"","",""]
[null,null,null,null,null,null,null,null,null,null,null,null,null,null,null,null,null,null,null,null,null,null,null,null,null,null,null,null,"","",""]
[null,null,null,null,null,null,null,null,null,null,null,null,null,null,null,null,null,null,null,null,null,null,null,null,null,null,null,null,"","",""]
[null,null,null,null,null,null,null,null,null,null,null,null,null,null,null,null,null,null,null,null,null,null,null,null,null,null,null,null,"","",""]
[null,null,null,null,null,null,null,null,null,null,null,null,null,null,null,null,null,null,null,null,null,null,null,null,null,null,null,null,"","",""]
[null,null,null,null,null,null,null,null,null,null,null,null,null,null,null,null,null,null,null,null,null,null,null,null,null,null,null,null,"","",""]
[null,null,null,null,null,null,null,null,null,null,null,null,null,null,null,null,null,null,null,null,null,null,null,null,null,null,null,null,"","",""]
[null,null,null,null,null,null,null,null,null,null,null,null,null,null,null,null,null,null,null,null,null,null,null,null,null,null,null,null,"","",""]
[null,null,null,null,null,null,null,null,null,null,null,null,null,null,null,null,null,null,null,null,null,null,null,null,null,null,null,null,"","",""]
[null,null,null,null,null,null,null,null,null,null,null,null,null,null,null,null,null,null,null,null,null,null,null,null,null,null,null,null,"","",""]
[null,null,null,null,null,null,null,null,null,null,null,null,null,null,null,null,null,null,null,null,null,null,null,null,null,null,null,null,"","",""]
[null,null,null,null,null,null,null,null,null,null,null,null,null,null,null,null,null,null,null,null,null,null,null,null,null,null,null,null,"","",""]
[null,null,null,null,null,null,null,null,null,null,null,null,null,null,null,null,null,null,null,null,null,null,null,null,null,null,null,null,"","",""]
[null,null,null,null,null,null,null,null,null,null,null,null,null,null,null,null,null,null,null,null,null,null,null,null,null,null,null,null,"","",""]
[null,null,null,null,null,null,null,null,null,null,null,null,null,null,null,null,null,null,null,null,null,null,null,null,null,null,null,null,"","",""]
[null,null,null,null,null,null,null,null,null,null,null,null,null,null,null,null,null,null,null,null,null,null,null,null,null,null,null,null,"","",""]
[null,null,null,null,null,null,null,null,null,null,null,null,null,null,null,null,null,null,null,null,null,null,null,null,null,null,null,null,"","",""]
[null,null,null,null,null,null,null,null,null,null,null,null,null,null,null,null,null,null,null,null,null,null,null,null,null,null,null,null,"","",""]
[null,null,null,null,null,null,null,null,null,null,null,null,null,null,null,null,null,null,null,null,null,null,null,null,null,null,null,null,{"$f":"IF($A515=\"\",\"\",$A515&$C515)","v":""},{"$f":"IF($A515=\"\",\"\",$O515)","v":""},{"$f":"IF($A515=\"\",\"\",IF(AND(LEFT($P515,1)=\"5\",RIGHT($P515,2)<\"99\",RIGHT($P515,2)>\"19\",$R515<>\"\"),$P515,\"\"))","v":""}]
[null,null,null,null,null,null,null,null,null,null,null,null,null,null,null,null,null,null,null,null,null,null,null,null,null,null,null,null,"","",""]
[null,null,null,null,null,null,null,null,null,null,null,null,null,null,null,null,null,null,null,null,null,null,null,null,null,null,null,null,"","",""]
[null,null,null,null,null,null,null,null,null,null,null,null,null,null,null,null,null,null,null,null,null,null,null,null,null,null,null,null,"","",""]
[null,null,null,null,null,null,null,null,null,null,null,null,null,null,null,null,null,null,null,null,null,null,null,null,null,null,null,null,"","",""]
[null,null,null,null,null,null,null,null,null,null,null,null,null,null,null,null,null,null,null,null,null,null,null,null,null,null,null,null,"","",""]
[null,null,null,null,null,null,null,null,null,null,null,null,null,null,null,null,null,null,null,null,null,null,null,null,null,null,null,null,"","",""]
[null,null,null,null,null,null,null,null,null,null,null,null,null,null,null,null,null,null,null,null,null,null,null,null,null,null,null,null,"","",""]
[null,null,null,null,null,null,null,null,null,null,null,null,null,null,null,null,null,null,null,null,null,null,null,null,null,null,null,null,"","",""]
[null,null,null,null,null,null,null,null,null,null,null,null,null,null,null,null,null,null,null,null,null,null,null,null,null,null,null,null,"","",""]
[null,null,null,null,null,null,null,null,null,null,null,null,null,null,null,null,null,null,null,null,null,null,null,null,null,null,null,null,"","",""]
[null,null,null,null,null,null,null,null,null,null,null,null,null,null,null,null,null,null,null,null,null,null,null,null,null,null,null,null,"","",""]
[null,null,null,null,null,null,null,null,null,null,null,null,null,null,null,null,null,null,null,null,null,null,null,null,null,null,null,null,"","",""]
[null,null,null,null,null,null,null,null,null,null,null,null,null,null,null,null,null,null,null,null,null,null,null,null,null,null,null,null,"","",""]
[null,null,null,null,null,null,null,null,null,null,null,null,null,null,null,null,null,null,null,null,null,null,null,null,null,null,null,null,"","",""]
[null,null,null,null,null,null,null,null,null,null,null,null,null,null,null,null,null,null,null,null,null,null,null,null,null,null,null,null,"","",""]
[null,null,null,null,null,null,null,null,null,null,null,null,null,null,null,null,null,null,null,null,null,null,null,null,null,null,null,null,"","",""]
[null,null,null,null,null,null,null,null,null,null,null,null,null,null,null,null,null,null,null,null,null,null,null,null,null,null,null,null,"","",""]
[null,null,null,null,null,null,null,null,null,null,null,null,null,null,null,null,null,null,null,null,null,null,null,null,null,null,null,null,"","",""]
[null,null,null,null,null,null,null,null,null,null,null,null,null,null,null,null,null,null,null,null,null,null,null,null,null,null,null,null,"","",""]
[null,null,null,null,null,null,null,null,null,null,null,null,null,null,null,null,null,null,null,null,null,null,null,null,null,null,null,null,"","",""]
[null,null,null,null,null,null,null,null,null,null,null,null,null,null,null,null,null,null,null,null,null,null,null,null,null,null,null,null,"","",""]
[null,null,null,null,null,null,null,null,null,null,null,null,null,null,null,null,null,null,null,null,null,null,null,null,null,null,null,null,"","",""]
[null,null,null,null,null,null,null,null,null,null,null,null,null,null,null,null,null,null,null,null,null,null,null,null,null,null,null,null,"","",""]
[null,null,null,null,null,null,null,null,null,null,null,null,null,null,null,null,null,null,null,null,null,null,null,null,null,null,null,null,"","",""]
[null,null,null,null,null,null,null,null,null,null,null,null,null,null,null,null,null,null,null,null,null,null,null,null,null,null,null,null,"","",""]
[null,null,null,null,null,null,null,null,null,null,null,null,null,null,null,null,null,null,null,null,null,null,null,null,null,null,null,null,"","",""]
[null,null,null,null,null,null,null,null,null,null,null,null,null,null,null,null,null,null,null,null,null,null,null,null,null,null,null,null,"","",""]
[null,null,null,null,null,null,null,null,null,null,null,null,null,null,null,null,null,null,null,null,null,null,null,null,null,null,null,null,"","",""]
[null,null,null,null,null,null,null,null,null,null,null,null,null,null,null,null,null,null,null,null,null,null,null,null,null,null,null,null,"","",""]
[null,null,null,null,null,null,null,null,null,null,null,null,null,null,null,null,null,null,null,null,null,null,null,null,null,null,null,null,"","",""]
[null,null,null,null,null,null,null,null,null,null,null,null,null,null,null,null,null,null,null,null,null,null,null,null,null,null,null,null,"","",""]
[null,null,null,null,null,null,null,null,null,null,null,null,null,null,null,null,null,null,null,null,null,null,null,null,null,null,null,null,"","",""]
[null,null,null,null,null,null,null,null,null,null,null,null,null,null,null,null,null,null,null,null,null,null,null,null,null,null,null,null,"","",""]
[null,null,null,null,null,null,null,null,null,null,null,null,null,null,null,null,null,null,null,null,null,null,null,null,null,null,null,null,"","",""]
[null,null,null,null,null,null,null,null,null,null,null,null,null,null,null,null,null,null,null,null,null,null,null,null,null,null,null,null,"","",""]
[null,null,null,null,null,null,null,null,null,null,null,null,null,null,null,null,null,null,null,null,null,null,null,null,null,null,null,null,"","",""]
[null,null,null,null,null,null,null,null,null,null,null,null,null,null,null,null,null,null,null,null,null,null,null,null,null,null,null,null,"","",""]
[null,null,null,null,null,null,null,null,null,null,null,null,null,null,null,null,null,null,null,null,null,null,null,null,null,null,null,null,"","",""]
[null,null,null,null,null,null,null,null,null,null,null,null,null,null,null,null,null,null,null,null,null,null,null,null,null,null,null,null,"","",""]
[null,null,null,null,null,null,null,null,null,null,null,null,null,null,null,null,null,null,null,null,null,null,null,null,null,null,null,null,"","",""]
[null,null,null,null,null,null,null,null,null,null,null,null,null,null,null,null,null,null,null,null,null,null,null,null,null,null,null,null,"","",""]
[null,null,null,null,null,null,null,null,null,null,null,null,null,null,null,null,null,null,null,null,null,null,null,null,null,null,null,null,"","",""]
[null,null,null,null,null,null,null,null,null,null,null,null,null,null,null,null,null,null,null,null,null,null,null,null,null,null,null,null,"","",""]
[null,null,null,null,null,null,null,null,null,null,null,null,null,null,null,null,null,null,null,null,null,null,null,null,null,null,null,null,"","",""]
[null,null,null,null,null,null,null,null,null,null,null,null,null,null,null,null,null,null,null,null,null,null,null,null,null,null,null,null,"","",""]
[null,null,null,null,null,null,null,null,null,null,null,null,null,null,null,null,null,null,null,null,null,null,null,null,null,null,null,null,"","",""]
[null,null,null,null,null,null,null,null,null,null,null,null,null,null,null,null,null,null,null,null,null,null,null,null,null,null,null,null,"","",""]
[null,null,null,null,null,null,null,null,null,null,null,null,null,null,null,null,null,null,null,null,null,null,null,null,null,null,null,null,"","",""]
[null,null,null,null,null,null,null,null,null,null,null,null,null,null,null,null,null,null,null,null,null,null,null,null,null,null,null,null,"","",""]
[null,null,null,null,null,null,null,null,null,null,null,null,null,null,null,null,null,null,null,null,null,null,null,null,null,null,null,null,"","",""]
[null,null,null,null,null,null,null,null,null,null,null,null,null,null,null,null,null,null,null,null,null,null,null,null,null,null,null,null,"","",""]
[null,null,null,null,null,null,null,null,null,null,null,null,null,null,null,null,null,null,null,null,null,null,null,null,null,null,null,null,"","",""]
[null,null,null,null,null,null,null,null,null,null,null,null,null,null,null,null,null,null,null,null,null,null,null,null,null,null,null,null,"","",""]
[null,null,null,null,null,null,null,null,null,null,null,null,null,null,null,null,null,null,null,null,null,null,null,null,null,null,null,null,"","",""]
[null,null,null,null,null,null,null,null,null,null,null,null,null,null,null,null,null,null,null,null,null,null,null,null,null,null,null,null,"","",""]
[null,null,null,null,null,null,null,null,null,null,null,null,null,null,null,null,null,null,null,null,null,null,null,null,null,null,null,null,"","",""]
[null,null,null,null,null,null,null,null,null,null,null,null,null,null,null,null,null,null,null,null,null,null,null,null,null,null,null,null,"","",""]
[null,null,null,null,null,null,null,null,null,null,null,null,null,null,null,null,null,null,null,null,null,null,null,null,null,null,null,null,"","",""]
[null,null,null,null,null,null,null,null,null,null,null,null,null,null,null,null,null,null,null,null,null,null,null,null,null,null,null,null,"","",""]
[null,null,null,null,null,null,null,null,null,null,null,null,null,null,null,null,null,null,null,null,null,null,null,null,null,null,null,null,"","",""]
[null,null,null,null,null,null,null,null,null,null,null,null,null,null,null,null,null,null,null,null,null,null,null,null,null,null,null,null,"","",""]
[null,null,null,null,null,null,null,null,null,null,null,null,null,null,null,null,null,null,null,null,null,null,null,null,null,null,null,null,"","",""]
[null,null,null,null,null,null,null,null,null,null,null,null,null,null,null,null,null,null,null,null,null,null,null,null,null,null,null,null,"","",""]
[null,null,null,null,null,null,null,null,null,null,null,null,null,null,null,null,null,null,null,null,null,null,null,null,null,null,null,null,{"$f":"IF($A579=\"\",\"\",$A579&$C579)","v":""},{"$f":"IF($A579=\"\",\"\",$O579)","v":""},{"$f":"IF($A579=\"\",\"\",IF(AND(LEFT($P579,1)=\"5\",RIGHT($P579,2)<\"99\",RIGHT($P579,2)>\"19\",$R579<>\"\"),$P579,\"\"))","v":""}]
[null,null,null,null,null,null,null,null,null,null,null,null,null,null,null,null,null,null,null,null,null,null,null,null,null,null,null,null,"","",""]
[null,null,null,null,null,null,null,null,null,null,null,null,null,null,null,null,null,null,null,null,null,null,null,null,null,null,null,null,"","",""]
[null,null,null,null,null,null,null,null,null,null,null,null,null,null,null,null,null,null,null,null,null,null,null,null,null,null,null,null,"","",""]
[null,null,null,null,null,null,null,null,null,null,null,null,null,null,null,null,null,null,null,null,null,null,null,null,null,null,null,null,"","",""]
[null,null,null,null,null,null,null,null,null,null,null,null,null,null,null,null,null,null,null,null,null,null,null,null,null,null,null,null,"","",""]
[null,null,null,null,null,null,null,null,null,null,null,null,null,null,null,null,null,null,null,null,null,null,null,null,null,null,null,null,"","",""]
[null,null,null,null,null,null,null,null,null,null,null,null,null,null,null,null,null,null,null,null,null,null,null,null,null,null,null,null,"","",""]
[null,null,null,null,null,null,null,null,null,null,null,null,null,null,null,null,null,null,null,null,null,null,null,null,null,null,null,null,"","",""]
[null,null,null,null,null,null,null,null,null,null,null,null,null,null,null,null,null,null,null,null,null,null,null,null,null,null,null,null,"","",""]
[null,null,null,null,null,null,null,null,null,null,null,null,null,null,null,null,null,null,null,null,null,null,null,null,null,null,null,null,"","",""]
[null,null,null,null,null,null,null,null,null,null,null,null,null,null,null,null,null,null,null,null,null,null,null,null,null,null,null,null,"","",""]
[null,null,null,null,null,null,null,null,null,null,null,null,null,null,null,null,null,null,null,null,null,null,null,null,null,null,null,null,"","",""]
[null,null,null,null,null,null,null,null,null,null,null,null,null,null,null,null,null,null,null,null,null,null,null,null,null,null,null,null,"","",""]
[null,null,null,null,null,null,null,null,null,null,null,null,null,null,null,null,null,null,null,null,null,null,null,null,null,null,null,null,"","",""]
[null,null,null,null,null,null,null,null,null,null,null,null,null,null,null,null,null,null,null,null,null,null,null,null,null,null,null,null,"","",""]
[null,null,null,null,null,null,null,null,null,null,null,null,null,null,null,null,null,null,null,null,null,null,null,null,null,null,null,null,"","",""]
[null,null,null,null,null,null,null,null,null,null,null,null,null,null,null,null,null,null,null,null,null,null,null,null,null,null,null,null,"","",""]
[null,null,null,null,null,null,null,null,null,null,null,null,null,null,null,null,null,null,null,null,null,null,null,null,null,null,null,null,"","",""]
[null,null,null,null,null,null,null,null,null,null,null,null,null,null,null,null,null,null,null,null,null,null,null,null,null,null,null,null,"","",""]
[null,null,null,null,null,null,null,null,null,null,null,null,null,null,null,null,null,null,null,null,null,null,null,null,null,null,null,null,"","",""]
[null,null,null,null,null,null,null,null,null,null,null,null,null,null,null,null,null,null,null,null,null,null,null,null,null,null,null,null,"","",""]
[null,null,null,null,null,null,null,null,null,null,null,null,null,null,null,null,null,null,null,null,null,null,null,null,null,null,null,null,"","",""]
[null,null,null,null,null,null,null,null,null,null,null,null,null,null,null,null,null,null,null,null,null,null,null,null,null,null,null,null,"","",""]
[null,null,null,null,null,null,null,null,null,null,null,null,null,null,null,null,null,null,null,null,null,null,null,null,null,null,null,null,"","",""]
[null,null,null,null,null,null,null,null,null,null,null,null,null,null,null,null,null,null,null,null,null,null,null,null,null,null,null,null,"","",""]
[null,null,null,null,null,null,null,null,null,null,null,null,null,null,null,null,null,null,null,null,null,null,null,null,null,null,null,null,"","",""]
[null,null,null,null,null,null,null,null,null,null,null,null,null,null,null,null,null,null,null,null,null,null,null,null,null,null,null,null,"","",""]
[null,null,null,null,null,null,null,null,null,null,null,null,null,null,null,null,null,null,null,null,null,null,null,null,null,null,null,null,"","",""]
[null,null,null,null,null,null,null,null,null,null,null,null,null,null,null,null,null,null,null,null,null,null,null,null,null,null,null,null,"","",""]
[null,null,null,null,null,null,null,null,null,null,null,null,null,null,null,null,null,null,null,null,null,null,null,null,null,null,null,null,"","",""]
[null,null,null,null,null,null,null,null,null,null,null,null,null,null,null,null,null,null,null,null,null,null,null,null,null,null,null,null,"","",""]
[null,null,null,null,null,null,null,null,null,null,null,null,null,null,null,null,null,null,null,null,null,null,null,null,null,null,null,null,"","",""]
[null,null,null,null,null,null,null,null,null,null,null,null,null,null,null,null,null,null,null,null,null,null,null,null,null,null,null,null,"","",""]
[null,null,null,null,null,null,null,null,null,null,null,null,null,null,null,null,null,null,null,null,null,null,null,null,null,null,null,null,"","",""]
[null,null,null,null,null,null,null,null,null,null,null,null,null,null,null,null,null,null,null,null,null,null,null,null,null,null,null,null,"","",""]
[null,null,null,null,null,null,null,null,null,null,null,null,null,null,null,null,null,null,null,null,null,null,null,null,null,null,null,null,"","",""]
[null,null,null,null,null,null,null,null,null,null,null,null,null,null,null,null,null,null,null,null,null,null,null,null,null,null,null,null,"","",""]
[null,null,null,null,null,null,null,null,null,null,null,null,null,null,null,null,null,null,null,null,null,null,null,null,null,null,null,null,"","",""]
[null,null,null,null,null,null,null,null,null,null,null,null,null,null,null,null,null,null,null,null,null,null,null,null,null,null,null,null,"","",""]
[null,null,null,null,null,null,null,null,null,null,null,null,null,null,null,null,null,null,null,null,null,null,null,null,null,null,null,null,"","",""]
[null,null,null,null,null,null,null,null,null,null,null,null,null,null,null,null,null,null,null,null,null,null,null,null,null,null,null,null,"","",""]
[null,null,null,null,null,null,null,null,null,null,null,null,null,null,null,null,null,null,null,null,null,null,null,null,null,null,null,null,"","",""]
[null,null,null,null,null,null,null,null,null,null,null,null,null,null,null,null,null,null,null,null,null,null,null,null,null,null,null,null,"","",""]
[null,null,null,null,null,null,null,null,null,null,null,null,null,null,null,null,null,null,null,null,null,null,null,null,null,null,null,null,"","",""]
[null,null,null,null,null,null,null,null,null,null,null,null,null,null,null,null,null,null,null,null,null,null,null,null,null,null,null,null,"","",""]
[null,null,null,null,null,null,null,null,null,null,null,null,null,null,null,null,null,null,null,null,null,null,null,null,null,null,null,null,"","",""]
[null,null,null,null,null,null,null,null,null,null,null,null,null,null,null,null,null,null,null,null,null,null,null,null,null,null,null,null,"","",""]
[null,null,null,null,null,null,null,null,null,null,null,null,null,null,null,null,null,null,null,null,null,null,null,null,null,null,null,null,"","",""]
[null,null,null,null,null,null,null,null,null,null,null,null,null,null,null,null,null,null,null,null,null,null,null,null,null,null,null,null,"","",""]
[null,null,null,null,null,null,null,null,null,null,null,null,null,null,null,null,null,null,null,null,null,null,null,null,null,null,null,null,"","",""]
[null,null,null,null,null,null,null,null,null,null,null,null,null,null,null,null,null,null,null,null,null,null,null,null,null,null,null,null,"","",""]
[null,null,null,null,null,null,null,null,null,null,null,null,null,null,null,null,null,null,null,null,null,null,null,null,null,null,null,null,"","",""]
[null,null,null,null,null,null,null,null,null,null,null,null,null,null,null,null,null,null,null,null,null,null,null,null,null,null,null,null,"","",""]
[null,null,null,null,null,null,null,null,null,null,null,null,null,null,null,null,null,null,null,null,null,null,null,null,null,null,null,null,"","",""]
[null,null,null,null,null,null,null,null,null,null,null,null,null,null,null,null,null,null,null,null,null,null,null,null,null,null,null,null,"","",""]
[null,null,null,null,null,null,null,null,null,null,null,null,null,null,null,null,null,null,null,null,null,null,null,null,null,null,null,null,"","",""]
[null,null,null,null,null,null,null,null,null,null,null,null,null,null,null,null,null,null,null,null,null,null,null,null,null,null,null,null,"","",""]
[null,null,null,null,null,null,null,null,null,null,null,null,null,null,null,null,null,null,null,null,null,null,null,null,null,null,null,null,"","",""]
[null,null,null,null,null,null,null,null,null,null,null,null,null,null,null,null,null,null,null,null,null,null,null,null,null,null,null,null,"","",""]
[null,null,null,null,null,null,null,null,null,null,null,null,null,null,null,null,null,null,null,null,null,null,null,null,null,null,null,null,"","",""]
[null,null,null,null,null,null,null,null,null,null,null,null,null,null,null,null,null,null,null,null,null,null,null,null,null,null,null,null,"","",""]
[null,null,null,null,null,null,null,null,null,null,null,null,null,null,null,null,null,null,null,null,null,null,null,null,null,null,null,null,"","",""]
[null,null,null,null,null,null,null,null,null,null,null,null,null,null,null,null,null,null,null,null,null,null,null,null,null,null,null,null,"","",""]
[null,null,null,null,null,null,null,null,null,null,null,null,null,null,null,null,null,null,null,null,null,null,null,null,null,null,null,null,{"$f":"IF($A643=\"\",\"\",$A643&$C643)","v":""},{"$f":"IF($A643=\"\",\"\",$O643)","v":""},{"$f":"IF($A643=\"\",\"\",IF(AND(LEFT($P643,1)=\"5\",RIGHT($P643,2)<\"99\",RIGHT($P643,2)>\"19\",$R643<>\"\"),$P643,\"\"))","v":""}]
[null,null,null,null,null,null,null,null,null,null,null,null,null,null,null,null,null,null,null,null,null,null,null,null,null,null,null,null,"","",""]
[null,null,null,null,null,null,null,null,null,null,null,null,null,null,null,null,null,null,null,null,null,null,null,null,null,null,null,null,"","",""]
[null,null,null,null,null,null,null,null,null,null,null,null,null,null,null,null,null,null,null,null,null,null,null,null,null,null,null,null,"","",""]
[null,null,null,null,null,null,null,null,null,null,null,null,null,null,null,null,null,null,null,null,null,null,null,null,null,null,null,null,"","",""]
[null,null,null,null,null,null,null,null,null,null,null,null,null,null,null,null,null,null,null,null,null,null,null,null,null,null,null,null,"","",""]
[null,null,null,null,null,null,null,null,null,null,null,null,null,null,null,null,null,null,null,null,null,null,null,null,null,null,null,null,"","",""]
[null,null,null,null,null,null,null,null,null,null,null,null,null,null,null,null,null,null,null,null,null,null,null,null,null,null,null,null,"","",""]
[null,null,null,null,null,null,null,null,null,null,null,null,null,null,null,null,null,null,null,null,null,null,null,null,null,null,null,null,"","",""]
[null,null,null,null,null,null,null,null,null,null,null,null,null,null,null,null,null,null,null,null,null,null,null,null,null,null,null,null,"","",""]
[null,null,null,null,null,null,null,null,null,null,null,null,null,null,null,null,null,null,null,null,null,null,null,null,null,null,null,null,"","",""]
[null,null,null,null,null,null,null,null,null,null,null,null,null,null,null,null,null,null,null,null,null,null,null,null,null,null,null,null,"","",""]
[null,null,null,null,null,null,null,null,null,null,null,null,null,null,null,null,null,null,null,null,null,null,null,null,null,null,null,null,"","",""]
[null,null,null,null,null,null,null,null,null,null,null,null,null,null,null,null,null,null,null,null,null,null,null,null,null,null,null,null,"","",""]
[null,null,null,null,null,null,null,null,null,null,null,null,null,null,null,null,null,null,null,null,null,null,null,null,null,null,null,null,"","",""]
[null,null,null,null,null,null,null,null,null,null,null,null,null,null,null,null,null,null,null,null,null,null,null,null,null,null,null,null,"","",""]
[null,null,null,null,null,null,null,null,null,null,null,null,null,null,null,null,null,null,null,null,null,null,null,null,null,null,null,null,"","",""]
[null,null,null,null,null,null,null,null,null,null,null,null,null,null,null,null,null,null,null,null,null,null,null,null,null,null,null,null,"","",""]
[null,null,null,null,null,null,null,null,null,null,null,null,null,null,null,null,null,null,null,null,null,null,null,null,null,null,null,null,"","",""]
[null,null,null,null,null,null,null,null,null,null,null,null,null,null,null,null,null,null,null,null,null,null,null,null,null,null,null,null,"","",""]
[null,null,null,null,null,null,null,null,null,null,null,null,null,null,null,null,null,null,null,null,null,null,null,null,null,null,null,null,"","",""]
[null,null,null,null,null,null,null,null,null,null,null,null,null,null,null,null,null,null,null,null,null,null,null,null,null,null,null,null,"","",""]
[null,null,null,null,null,null,null,null,null,null,null,null,null,null,null,null,null,null,null,null,null,null,null,null,null,null,null,null,"","",""]
[null,null,null,null,null,null,null,null,null,null,null,null,null,null,null,null,null,null,null,null,null,null,null,null,null,null,null,null,"","",""]
[null,null,null,null,null,null,null,null,null,null,null,null,null,null,null,null,null,null,null,null,null,null,null,null,null,null,null,null,"","",""]
[null,null,null,null,null,null,null,null,null,null,null,null,null,null,null,null,null,null,null,null,null,null,null,null,null,null,null,null,"","",""]
[null,null,null,null,null,null,null,null,null,null,null,null,null,null,null,null,null,null,null,null,null,null,null,null,null,null,null,null,"","",""]
[null,null,null,null,null,null,null,null,null,null,null,null,null,null,null,null,null,null,null,null,null,null,null,null,null,null,null,null,"","",""]
[null,null,null,null,null,null,null,null,null,null,null,null,null,null,null,null,null,null,null,null,null,null,null,null,null,null,null,null,"","",""]
[null,null,null,null,null,null,null,null,null,null,null,null,null,null,null,null,null,null,null,null,null,null,null,null,null,null,null,null,"","",""]
[null,null,null,null,null,null,null,null,null,null,null,null,null,null,null,null,null,null,null,null,null,null,null,null,null,null,null,null,"","",""]
[null,null,null,null,null,null,null,null,null,null,null,null,null,null,null,null,null,null,null,null,null,null,null,null,null,null,null,null,"","",""]
[null,null,null,null,null,null,null,null,null,null,null,null,null,null,null,null,null,null,null,null,null,null,null,null,null,null,null,null,"","",""]
[null,null,null,null,null,null,null,null,null,null,null,null,null,null,null,null,null,null,null,null,null,null,null,null,null,null,null,null,"","",""]
[null,null,null,null,null,null,null,null,null,null,null,null,null,null,null,null,null,null,null,null,null,null,null,null,null,null,null,null,"","",""]
[null,null,null,null,null,null,null,null,null,null,null,null,null,null,null,null,null,null,null,null,null,null,null,null,null,null,null,null,"","",""]
[null,null,null,null,null,null,null,null,null,null,null,null,null,null,null,null,null,null,null,null,null,null,null,null,null,null,null,null,"","",""]
[null,null,null,null,null,null,null,null,null,null,null,null,null,null,null,null,null,null,null,null,null,null,null,null,null,null,null,null,"","",""]
[null,null,null,null,null,null,null,null,null,null,null,null,null,null,null,null,null,null,null,null,null,null,null,null,null,null,null,null,"","",""]
[null,null,null,null,null,null,null,null,null,null,null,null,null,null,null,null,null,null,null,null,null,null,null,null,null,null,null,null,"","",""]
[null,null,null,null,null,null,null,null,null,null,null,null,null,null,null,null,null,null,null,null,null,null,null,null,null,null,null,null,"","",""]
[null,null,null,null,null,null,null,null,null,null,null,null,null,null,null,null,null,null,null,null,null,null,null,null,null,null,null,null,"","",""]
[null,null,null,null,null,null,null,null,null,null,null,null,null,null,null,null,null,null,null,null,null,null,null,null,null,null,null,null,"","",""]
[null,null,null,null,null,null,null,null,null,null,null,null,null,null,null,null,null,null,null,null,null,null,null,null,null,null,null,null,"","",""]
[null,null,null,null,null,null,null,null,null,null,null,null,null,null,null,null,null,null,null,null,null,null,null,null,null,null,null,null,"","",""]
[null,null,null,null,null,null,null,null,null,null,null,null,null,null,null,null,null,null,null,null,null,null,null,null,null,null,null,null,"","",""]
[null,null,null,null,null,null,null,null,null,null,null,null,null,null,null,null,null,null,null,null,null,null,null,null,null,null,null,null,"","",""]
[null,null,null,null,null,null,null,null,null,null,null,null,null,null,null,null,null,null,null,null,null,null,null,null,null,null,null,null,"","",""]
[null,null,null,null,null,null,null,null,null,null,null,null,null,null,null,null,null,null,null,null,null,null,null,null,null,null,null,null,"","",""]
[null,null,null,null,null,null,null,null,null,null,null,null,null,null,null,null,null,null,null,null,null,null,null,null,null,null,null,null,"","",""]
[null,null,null,null,null,null,null,null,null,null,null,null,null,null,null,null,null,null,null,null,null,null,null,null,null,null,null,null,"","",""]
[null,null,null,null,null,null,null,null,null,null,null,null,null,null,null,null,null,null,null,null,null,null,null,null,null,null,null,null,"","",""]
[null,null,null,null,null,null,null,null,null,null,null,null,null,null,null,null,null,null,null,null,null,null,null,null,null,null,null,null,"","",""]
[null,null,null,null,null,null,null,null,null,null,null,null,null,null,null,null,null,null,null,null,null,null,null,null,null,null,null,null,"","",""]
[null,null,null,null,null,null,null,null,null,null,null,null,null,null,null,null,null,null,null,null,null,null,null,null,null,null,null,null,"","",""]
[null,null,null,null,null,null,null,null,null,null,null,null,null,null,null,null,null,null,null,null,null,null,null,null,null,null,null,null,"","",""]
[null,null,null,null,null,null,null,null,null,null,null,null,null,null,null,null,null,null,null,null,null,null,null,null,null,null,null,null,"","",""]
[null,null,null,null,null,null,null,null,null,null,null,null,null,null,null,null,null,null,null,null,null,null,null,null,null,null,null,null,"","",""]
[null,null,null,null,null,null,null,null,null,null,null,null,null,null,null,null,null,null,null,null,null,null,null,null,null,null,null,null,"","",""]
[null,null,null,null,null,null,null,null,null,null,null,null,null,null,null,null,null,null,null,null,null,null,null,null,null,null,null,null,"","",""]
[null,null,null,null,null,null,null,null,null,null,null,null,null,null,null,null,null,null,null,null,null,null,null,null,null,null,null,null,"","",""]
[null,null,null,null,null,null,null,null,null,null,null,null,null,null,null,null,null,null,null,null,null,null,null,null,null,null,null,null,"","",""]
[null,null,null,null,null,null,null,null,null,null,null,null,null,null,null,null,null,null,null,null,null,null,null,null,null,null,null,null,"","",""]
[null,null,null,null,null,null,null,null,null,null,null,null,null,null,null,null,null,null,null,null,null,null,null,null,null,null,null,null,"","",""]
[null,null,null,null,null,null,null,null,null,null,null,null,null,null,null,null,null,null,null,null,null,null,null,null,null,null,null,null,{"$f":"IF($A707=\"\",\"\",$A707&$C707)","v":""},{"$f":"IF($A707=\"\",\"\",$O707)","v":""},{"$f":"IF($A707=\"\",\"\",IF(AND(LEFT($P707,1)=\"5\",RIGHT($P707,2)<\"99\",RIGHT($P707,2)>\"19\",$R707<>\"\"),$P707,\"\"))","v":""}]
[null,null,null,null,null,null,null,null,null,null,null,null,null,null,null,null,null,null,null,null,null,null,null,null,null,null,null,null,"","",""]
[null,null,null,null,null,null,null,null,null,null,null,null,null,null,null,null,null,null,null,null,null,null,null,null,null,null,null,null,"","",""]
[null,null,null,null,null,null,null,null,null,null,null,null,null,null,null,null,null,null,null,null,null,null,null,null,null,null,null,null,"","",""]
[null,null,null,null,null,null,null,null,null,null,null,null,null,null,null,null,null,null,null,null,null,null,null,null,null,null,null,null,"","",""]
[null,null,null,null,null,null,null,null,null,null,null,null,null,null,null,null,null,null,null,null,null,null,null,null,null,null,null,null,"","",""]
[null,null,null,null,null,null,null,null,null,null,null,null,null,null,null,null,null,null,null,null,null,null,null,null,null,null,null,null,"","",""]
[null,null,null,null,null,null,null,null,null,null,null,null,null,null,null,null,null,null,null,null,null,null,null,null,null,null,null,null,"","",""]
[null,null,null,null,null,null,null,null,null,null,null,null,null,null,null,null,null,null,null,null,null,null,null,null,null,null,null,null,"","",""]
[null,null,null,null,null,null,null,null,null,null,null,null,null,null,null,null,null,null,null,null,null,null,null,null,null,null,null,null,"","",""]
[null,null,null,null,null,null,null,null,null,null,null,null,null,null,null,null,null,null,null,null,null,null,null,null,null,null,null,null,"","",""]
[null,null,null,null,null,null,null,null,null,null,null,null,null,null,null,null,null,null,null,null,null,null,null,null,null,null,null,null,"","",""]
[null,null,null,null,null,null,null,null,null,null,null,null,null,null,null,null,null,null,null,null,null,null,null,null,null,null,null,null,"","",""]
[null,null,null,null,null,null,null,null,null,null,null,null,null,null,null,null,null,null,null,null,null,null,null,null,null,null,null,null,"","",""]
[null,null,null,null,null,null,null,null,null,null,null,null,null,null,null,null,null,null,null,null,null,null,null,null,null,null,null,null,"","",""]
[null,null,null,null,null,null,null,null,null,null,null,null,null,null,null,null,null,null,null,null,null,null,null,null,null,null,null,null,"","",""]
[null,null,null,null,null,null,null,null,null,null,null,null,null,null,null,null,null,null,null,null,null,null,null,null,null,null,null,null,"","",""]
[null,null,null,null,null,null,null,null,null,null,null,null,null,null,null,null,null,null,null,null,null,null,null,null,null,null,null,null,"","",""]
[null,null,null,null,null,null,null,null,null,null,null,null,null,null,null,null,null,null,null,null,null,null,null,null,null,null,null,null,"","",""]
[null,null,null,null,null,null,null,null,null,null,null,null,null,null,null,null,null,null,null,null,null,null,null,null,null,null,null,null,"","",""]
[null,null,null,null,null,null,null,null,null,null,null,null,null,null,null,null,null,null,null,null,null,null,null,null,null,null,null,null,"","",""]
[null,null,null,null,null,null,null,null,null,null,null,null,null,null,null,null,null,null,null,null,null,null,null,null,null,null,null,null,"","",""]
[null,null,null,null,null,null,null,null,null,null,null,null,null,null,null,null,null,null,null,null,null,null,null,null,null,null,null,null,"","",""]
[null,null,null,null,null,null,null,null,null,null,null,null,null,null,null,null,null,null,null,null,null,null,null,null,null,null,null,null,"","",""]
[null,null,null,null,null,null,null,null,null,null,null,null,null,null,null,null,null,null,null,null,null,null,null,null,null,null,null,null,"","",""]
[null,null,null,null,null,null,null,null,null,null,null,null,null,null,null,null,null,null,null,null,null,null,null,null,null,null,null,null,"","",""]
[null,null,null,null,null,null,null,null,null,null,null,null,null,null,null,null,null,null,null,null,null,null,null,null,null,null,null,null,"","",""]
[null,null,null,null,null,null,null,null,null,null,null,null,null,null,null,null,null,null,null,null,null,null,null,null,null,null,null,null,"","",""]
[null,null,null,null,null,null,null,null,null,null,null,null,null,null,null,null,null,null,null,null,null,null,null,null,null,null,null,null,"","",""]
[null,null,null,null,null,null,null,null,null,null,null,null,null,null,null,null,null,null,null,null,null,null,null,null,null,null,null,null,"","",""]
[null,null,null,null,null,null,null,null,null,null,null,null,null,null,null,null,null,null,null,null,null,null,null,null,null,null,null,null,"","",""]
[null,null,null,null,null,null,null,null,null,null,null,null,null,null,null,null,null,null,null,null,null,null,null,null,null,null,null,null,"","",""]
[null,null,null,null,null,null,null,null,null,null,null,null,null,null,null,null,null,null,null,null,null,null,null,null,null,null,null,null,"","",""]
[null,null,null,null,null,null,null,null,null,null,null,null,null,null,null,null,null,null,null,null,null,null,null,null,null,null,null,null,"","",""]
[null,null,null,null,null,null,null,null,null,null,null,null,null,null,null,null,null,null,null,null,null,null,null,null,null,null,null,null,"","",""]
[null,null,null,null,null,null,null,null,null,null,null,null,null,null,null,null,null,null,null,null,null,null,null,null,null,null,null,null,"","",""]
[null,null,null,null,null,null,null,null,null,null,null,null,null,null,null,null,null,null,null,null,null,null,null,null,null,null,null,null,"","",""]
[null,null,null,null,null,null,null,null,null,null,null,null,null,null,null,null,null,null,null,null,null,null,null,null,null,null,null,null,"","",""]
[null,null,null,null,null,null,null,null,null,null,null,null,null,null,null,null,null,null,null,null,null,null,null,null,null,null,null,null,"","",""]
[null,null,null,null,null,null,null,null,null,null,null,null,null,null,null,null,null,null,null,null,null,null,null,null,null,null,null,null,"","",""]
[null,null,null,null,null,null,null,null,null,null,null,null,null,null,null,null,null,null,null,null,null,null,null,null,null,null,null,null,"","",""]
[null,null,null,null,null,null,null,null,null,null,null,null,null,null,null,null,null,null,null,null,null,null,null,null,null,null,null,null,"","",""]
[null,null,null,null,null,null,null,null,null,null,null,null,null,null,null,null,null,null,null,null,null,null,null,null,null,null,null,null,"","",""]
[null,null,null,null,null,null,null,null,null,null,null,null,null,null,null,null,null,null,null,null,null,null,null,null,null,null,null,null,"","",""]
[null,null,null,null,null,null,null,null,null,null,null,null,null,null,null,null,null,null,null,null,null,null,null,null,null,null,null,null,"","",""]
[null,null,null,null,null,null,null,null,null,null,null,null,null,null,null,null,null,null,null,null,null,null,null,null,null,null,null,null,"","",""]
[null,null,null,null,null,null,null,null,null,null,null,null,null,null,null,null,null,null,null,null,null,null,null,null,null,null,null,null,"","",""]
[null,null,null,null,null,null,null,null,null,null,null,null,null,null,null,null,null,null,null,null,null,null,null,null,null,null,null,null,"","",""]
[null,null,null,null,null,null,null,null,null,null,null,null,null,null,null,null,null,null,null,null,null,null,null,null,null,null,null,null,"","",""]
[null,null,null,null,null,null,null,null,null,null,null,null,null,null,null,null,null,null,null,null,null,null,null,null,null,null,null,null,"","",""]
[null,null,null,null,null,null,null,null,null,null,null,null,null,null,null,null,null,null,null,null,null,null,null,null,null,null,null,null,"","",""]
[null,null,null,null,null,null,null,null,null,null,null,null,null,null,null,null,null,null,null,null,null,null,null,null,null,null,null,null,"","",""]
[null,null,null,null,null,null,null,null,null,null,null,null,null,null,null,null,null,null,null,null,null,null,null,null,null,null,null,null,"","",""]
[null,null,null,null,null,null,null,null,null,null,null,null,null,null,null,null,null,null,null,null,null,null,null,null,null,null,null,null,"","",""]
[null,null,null,null,null,null,null,null,null,null,null,null,null,null,null,null,null,null,null,null,null,null,null,null,null,null,null,null,"","",""]
[null,null,null,null,null,null,null,null,null,null,null,null,null,null,null,null,null,null,null,null,null,null,null,null,null,null,null,null,"","",""]
[null,null,null,null,null,null,null,null,null,null,null,null,null,null,null,null,null,null,null,null,null,null,null,null,null,null,null,null,"","",""]
[null,null,null,null,null,null,null,null,null,null,null,null,null,null,null,null,null,null,null,null,null,null,null,null,null,null,null,null,"","",""]
[null,null,null,null,null,null,null,null,null,null,null,null,null,null,null,null,null,null,null,null,null,null,null,null,null,null,null,null,"","",""]
[null,null,null,null,null,null,null,null,null,null,null,null,null,null,null,null,null,null,null,null,null,null,null,null,null,null,null,null,"","",""]
[null,null,null,null,null,null,null,null,null,null,null,null,null,null,null,null,null,null,null,null,null,null,null,null,null,null,null,null,"","",""]
[null,null,null,null,null,null,null,null,null,null,null,null,null,null,null,null,null,null,null,null,null,null,null,null,null,null,null,null,"","",""]
[null,null,null,null,null,null,null,null,null,null,null,null,null,null,null,null,null,null,null,null,null,null,null,null,null,null,null,null,"","",""]
[null,null,null,null,null,null,null,null,null,null,null,null,null,null,null,null,null,null,null,null,null,null,null,null,null,null,null,null,"","",""]
[null,null,null,null,null,null,null,null,null,null,null,null,null,null,null,null,null,null,null,null,null,null,null,null,null,null,null,null,{"$f":"IF($A771=\"\",\"\",$A771&$C771)","v":""},{"$f":"IF($A771=\"\",\"\",$O771)","v":""},{"$f":"IF($A771=\"\",\"\",IF(AND(LEFT($P771,1)=\"5\",RIGHT($P771,2)<\"99\",RIGHT($P771,2)>\"19\",$R771<>\"\"),$P771,\"\"))","v":""}]
[null,null,null,null,null,null,null,null,null,null,null,null,null,null,null,null,null,null,null,null,null,null,null,null,null,null,null,null,"","",""]
[null,null,null,null,null,null,null,null,null,null,null,null,null,null,null,null,null,null,null,null,null,null,null,null,null,null,null,null,"","",""]
[null,null,null,null,null,null,null,null,null,null,null,null,null,null,null,null,null,null,null,null,null,null,null,null,null,null,null,null,"","",""]
[null,null,null,null,null,null,null,null,null,null,null,null,null,null,null,null,null,null,null,null,null,null,null,null,null,null,null,null,"","",""]
[null,null,null,null,null,null,null,null,null,null,null,null,null,null,null,null,null,null,null,null,null,null,null,null,null,null,null,null,"","",""]
[null,null,null,null,null,null,null,null,null,null,null,null,null,null,null,null,null,null,null,null,null,null,null,null,null,null,null,null,"","",""]
[null,null,null,null,null,null,null,null,null,null,null,null,null,null,null,null,null,null,null,null,null,null,null,null,null,null,null,null,"","",""]
[null,null,null,null,null,null,null,null,null,null,null,null,null,null,null,null,null,null,null,null,null,null,null,null,null,null,null,null,"","",""]
[null,null,null,null,null,null,null,null,null,null,null,null,null,null,null,null,null,null,null,null,null,null,null,null,null,null,null,null,"","",""]
[null,null,null,null,null,null,null,null,null,null,null,null,null,null,null,null,null,null,null,null,null,null,null,null,null,null,null,null,"","",""]
[null,null,null,null,null,null,null,null,null,null,null,null,null,null,null,null,null,null,null,null,null,null,null,null,null,null,null,null,"","",""]
[null,null,null,null,null,null,null,null,null,null,null,null,null,null,null,null,null,null,null,null,null,null,null,null,null,null,null,null,"","",""]
[null,null,null,null,null,null,null,null,null,null,null,null,null,null,null,null,null,null,null,null,null,null,null,null,null,null,null,null,"","",""]
[null,null,null,null,null,null,null,null,null,null,null,null,null,null,null,null,null,null,null,null,null,null,null,null,null,null,null,null,"","",""]
[null,null,null,null,null,null,null,null,null,null,null,null,null,null,null,null,null,null,null,null,null,null,null,null,null,null,null,null,"","",""]
[null,null,null,null,null,null,null,null,null,null,null,null,null,null,null,null,null,null,null,null,null,null,null,null,null,null,null,null,"","",""]
[null,null,null,null,null,null,null,null,null,null,null,null,null,null,null,null,null,null,null,null,null,null,null,null,null,null,null,null,"","",""]
[null,null,null,null,null,null,null,null,null,null,null,null,null,null,null,null,null,null,null,null,null,null,null,null,null,null,null,null,"","",""]
[null,null,null,null,null,null,null,null,null,null,null,null,null,null,null,null,null,null,null,null,null,null,null,null,null,null,null,null,"","",""]
[null,null,null,null,null,null,null,null,null,null,null,null,null,null,null,null,null,null,null,null,null,null,null,null,null,null,null,null,"","",""]
[null,null,null,null,null,null,null,null,null,null,null,null,null,null,null,null,null,null,null,null,null,null,null,null,null,null,null,null,"","",""]
[null,null,null,null,null,null,null,null,null,null,null,null,null,null,null,null,null,null,null,null,null,null,null,null,null,null,null,null,"","",""]
[null,null,null,null,null,null,null,null,null,null,null,null,null,null,null,null,null,null,null,null,null,null,null,null,null,null,null,null,"","",""]
[null,null,null,null,null,null,null,null,null,null,null,null,null,null,null,null,null,null,null,null,null,null,null,null,null,null,null,null,"","",""]
[null,null,null,null,null,null,null,null,null,null,null,null,null,null,null,null,null,null,null,null,null,null,null,null,null,null,null,null,"","",""]
[null,null,null,null,null,null,null,null,null,null,null,null,null,null,null,null,null,null,null,null,null,null,null,null,null,null,null,null,"","",""]
[null,null,null,null,null,null,null,null,null,null,null,null,null,null,null,null,null,null,null,null,null,null,null,null,null,null,null,null,"","",""]
[null,null,null,null,null,null,null,null,null,null,null,null,null,null,null,null,null,null,null,null,null,null,null,null,null,null,null,null,"","",""]
[null,null,null,null,null,null,null,null,null,null,null,null,null,null,null,null,null,null,null,null,null,null,null,null,null,null,null,null,"","",""]
[null,null,null,null,null,null,null,null,null,null,null,null,null,null,null,null,null,null,null,null,null,null,null,null,null,null,null,null,"","",""]
[null,null,null,null,null,null,null,null,null,null,null,null,null,null,null,null,null,null,null,null,null,null,null,null,null,null,null,null,"","",""]
[null,null,null,null,null,null,null,null,null,null,null,null,null,null,null,null,null,null,null,null,null,null,null,null,null,null,null,null,"","",""]
[null,null,null,null,null,null,null,null,null,null,null,null,null,null,null,null,null,null,null,null,null,null,null,null,null,null,null,null,"","",""]
[null,null,null,null,null,null,null,null,null,null,null,null,null,null,null,null,null,null,null,null,null,null,null,null,null,null,null,null,"","",""]
[null,null,null,null,null,null,null,null,null,null,null,null,null,null,null,null,null,null,null,null,null,null,null,null,null,null,null,null,"","",""]
[null,null,null,null,null,null,null,null,null,null,null,null,null,null,null,null,null,null,null,null,null,null,null,null,null,null,null,null,"","",""]
[null,null,null,null,null,null,null,null,null,null,null,null,null,null,null,null,null,null,null,null,null,null,null,null,null,null,null,null,"","",""]
[null,null,null,null,null,null,null,null,null,null,null,null,null,null,null,null,null,null,null,null,null,null,null,null,null,null,null,null,"","",""]
[null,null,null,null,null,null,null,null,null,null,null,null,null,null,null,null,null,null,null,null,null,null,null,null,null,null,null,null,"","",""]
[null,null,null,null,null,null,null,null,null,null,null,null,null,null,null,null,null,null,null,null,null,null,null,null,null,null,null,null,"","",""]
[null,null,null,null,null,null,null,null,null,null,null,null,null,null,null,null,null,null,null,null,null,null,null,null,null,null,null,null,"","",""]
[null,null,null,null,null,null,null,null,null,null,null,null,null,null,null,null,null,null,null,null,null,null,null,null,null,null,null,null,"","",""]
[null,null,null,null,null,null,null,null,null,null,null,null,null,null,null,null,null,null,null,null,null,null,null,null,null,null,null,null,"","",""]
[null,null,null,null,null,null,null,null,null,null,null,null,null,null,null,null,null,null,null,null,null,null,null,null,null,null,null,null,"","",""]
[null,null,null,null,null,null,null,null,null,null,null,null,null,null,null,null,null,null,null,null,null,null,null,null,null,null,null,null,"","",""]
[null,null,null,null,null,null,null,null,null,null,null,null,null,null,null,null,null,null,null,null,null,null,null,null,null,null,null,null,"","",""]
[null,null,null,null,null,null,null,null,null,null,null,null,null,null,null,null,null,null,null,null,null,null,null,null,null,null,null,null,"","",""]
[null,null,null,null,null,null,null,null,null,null,null,null,null,null,null,null,null,null,null,null,null,null,null,null,null,null,null,null,"","",""]
[null,null,null,null,null,null,null,null,null,null,null,null,null,null,null,null,null,null,null,null,null,null,null,null,null,null,null,null,"","",""]
[null,null,null,null,null,null,null,null,null,null,null,null,null,null,null,null,null,null,null,null,null,null,null,null,null,null,null,null,"","",""]
[null,null,null,null,null,null,null,null,null,null,null,null,null,null,null,null,null,null,null,null,null,null,null,null,null,null,null,null,"","",""]
[null,null,null,null,null,null,null,null,null,null,null,null,null,null,null,null,null,null,null,null,null,null,null,null,null,null,null,null,"","",""]
[null,null,null,null,null,null,null,null,null,null,null,null,null,null,null,null,null,null,null,null,null,null,null,null,null,null,null,null,"","",""]
[null,null,null,null,null,null,null,null,null,null,null,null,null,null,null,null,null,null,null,null,null,null,null,null,null,null,null,null,"","",""]
[null,null,null,null,null,null,null,null,null,null,null,null,null,null,null,null,null,null,null,null,null,null,null,null,null,null,null,null,"","",""]
[null,null,null,null,null,null,null,null,null,null,null,null,null,null,null,null,null,null,null,null,null,null,null,null,null,null,null,null,"","",""]
[null,null,null,null,null,null,null,null,null,null,null,null,null,null,null,null,null,null,null,null,null,null,null,null,null,null,null,null,"","",""]
[null,null,null,null,null,null,null,null,null,null,null,null,null,null,null,null,null,null,null,null,null,null,null,null,null,null,null,null,"","",""]
[null,null,null,null,null,null,null,null,null,null,null,null,null,null,null,null,null,null,null,null,null,null,null,null,null,null,null,null,"","",""]
[null,null,null,null,null,null,null,null,null,null,null,null,null,null,null,null,null,null,null,null,null,null,null,null,null,null,null,null,"","",""]
[null,null,null,null,null,null,null,null,null,null,null,null,null,null,null,null,null,null,null,null,null,null,null,null,null,null,null,null,"","",""]
[null,null,null,null,null,null,null,null,null,null,null,null,null,null,null,null,null,null,null,null,null,null,null,null,null,null,null,null,"","",""]
[null,null,null,null,null,null,null,null,null,null,null,null,null,null,null,null,null,null,null,null,null,null,null,null,null,null,null,null,"","",""]
[null,null,null,null,null,null,null,null,null,null,null,null,null,null,null,null,null,null,null,null,null,null,null,null,null,null,null,null,{"$f":"IF($A835=\"\",\"\",$A835&$C835)","v":""},{"$f":"IF($A835=\"\",\"\",$O835)","v":""},{"$f":"IF($A835=\"\",\"\",IF(AND(LEFT($P835,1)=\"5\",RIGHT($P835,2)<\"99\",RIGHT($P835,2)>\"19\",$R835<>\"\"),$P835,\"\"))","v":""}]
[null,null,null,null,null,null,null,null,null,null,null,null,null,null,null,null,null,null,null,null,null,null,null,null,null,null,null,null,"","",""]
[null,null,null,null,null,null,null,null,null,null,null,null,null,null,null,null,null,null,null,null,null,null,null,null,null,null,null,null,"","",""]
[null,null,null,null,null,null,null,null,null,null,null,null,null,null,null,null,null,null,null,null,null,null,null,null,null,null,null,null,"","",""]
[null,null,null,null,null,null,null,null,null,null,null,null,null,null,null,null,null,null,null,null,null,null,null,null,null,null,null,null,"","",""]
[null,null,null,null,null,null,null,null,null,null,null,null,null,null,null,null,null,null,null,null,null,null,null,null,null,null,null,null,"","",""]
[null,null,null,null,null,null,null,null,null,null,null,null,null,null,null,null,null,null,null,null,null,null,null,null,null,null,null,null,"","",""]
[null,null,null,null,null,null,null,null,null,null,null,null,null,null,null,null,null,null,null,null,null,null,null,null,null,null,null,null,"","",""]
[null,null,null,null,null,null,null,null,null,null,null,null,null,null,null,null,null,null,null,null,null,null,null,null,null,null,null,null,"","",""]
[null,null,null,null,null,null,null,null,null,null,null,null,null,null,null,null,null,null,null,null,null,null,null,null,null,null,null,null,"","",""]
[null,null,null,null,null,null,null,null,null,null,null,null,null,null,null,null,null,null,null,null,null,null,null,null,null,null,null,null,"","",""]
[null,null,null,null,null,null,null,null,null,null,null,null,null,null,null,null,null,null,null,null,null,null,null,null,null,null,null,null,"","",""]
[null,null,null,null,null,null,null,null,null,null,null,null,null,null,null,null,null,null,null,null,null,null,null,null,null,null,null,null,"","",""]
[null,null,null,null,null,null,null,null,null,null,null,null,null,null,null,null,null,null,null,null,null,null,null,null,null,null,null,null,"","",""]
[null,null,null,null,null,null,null,null,null,null,null,null,null,null,null,null,null,null,null,null,null,null,null,null,null,null,null,null,"","",""]
[null,null,null,null,null,null,null,null,null,null,null,null,null,null,null,null,null,null,null,null,null,null,null,null,null,null,null,null,"","",""]
[null,null,null,null,null,null,null,null,null,null,null,null,null,null,null,null,null,null,null,null,null,null,null,null,null,null,null,null,"","",""]
[null,null,null,null,null,null,null,null,null,null,null,null,null,null,null,null,null,null,null,null,null,null,null,null,null,null,null,null,"","",""]
[null,null,null,null,null,null,null,null,null,null,null,null,null,null,null,null,null,null,null,null,null,null,null,null,null,null,null,null,"","",""]
[null,null,null,null,null,null,null,null,null,null,null,null,null,null,null,null,null,null,null,null,null,null,null,null,null,null,null,null,"","",""]
[null,null,null,null,null,null,null,null,null,null,null,null,null,null,null,null,null,null,null,null,null,null,null,null,null,null,null,null,"","",""]
[null,null,null,null,null,null,null,null,null,null,null,null,null,null,null,null,null,null,null,null,null,null,null,null,null,null,null,null,"","",""]
[null,null,null,null,null,null,null,null,null,null,null,null,null,null,null,null,null,null,null,null,null,null,null,null,null,null,null,null,"","",""]
[null,null,null,null,null,null,null,null,null,null,null,null,null,null,null,null,null,null,null,null,null,null,null,null,null,null,null,null,"","",""]
[null,null,null,null,null,null,null,null,null,null,null,null,null,null,null,null,null,null,null,null,null,null,null,null,null,null,null,null,"","",""]
[null,null,null,null,null,null,null,null,null,null,null,null,null,null,null,null,null,null,null,null,null,null,null,null,null,null,null,null,"","",""]
[null,null,null,null,null,null,null,null,null,null,null,null,null,null,null,null,null,null,null,null,null,null,null,null,null,null,null,null,"","",""]
[null,null,null,null,null,null,null,null,null,null,null,null,null,null,null,null,null,null,null,null,null,null,null,null,null,null,null,null,"","",""]
[null,null,null,null,null,null,null,null,null,null,null,null,null,null,null,null,null,null,null,null,null,null,null,null,null,null,null,null,"","",""]
[null,null,null,null,null,null,null,null,null,null,null,null,null,null,null,null,null,null,null,null,null,null,null,null,null,null,null,null,"","",""]
[null,null,null,null,null,null,null,null,null,null,null,null,null,null,null,null,null,null,null,null,null,null,null,null,null,null,null,null,"","",""]
[null,null,null,null,null,null,null,null,null,null,null,null,null,null,null,null,null,null,null,null,null,null,null,null,null,null,null,null,"","",""]
[null,null,null,null,null,null,null,null,null,null,null,null,null,null,null,null,null,null,null,null,null,null,null,null,null,null,null,null,"","",""]
[null,null,null,null,null,null,null,null,null,null,null,null,null,null,null,null,null,null,null,null,null,null,null,null,null,null,null,null,"","",""]
[null,null,null,null,null,null,null,null,null,null,null,null,null,null,null,null,null,null,null,null,null,null,null,null,null,null,null,null,"","",""]
[null,null,null,null,null,null,null,null,null,null,null,null,null,null,null,null,null,null,null,null,null,null,null,null,null,null,null,null,"","",""]
[null,null,null,null,null,null,null,null,null,null,null,null,null,null,null,null,null,null,null,null,null,null,null,null,null,null,null,null,"","",""]
[null,null,null,null,null,null,null,null,null,null,null,null,null,null,null,null,null,null,null,null,null,null,null,null,null,null,null,null,"","",""]
[null,null,null,null,null,null,null,null,null,null,null,null,null,null,null,null,null,null,null,null,null,null,null,null,null,null,null,null,"","",""]
[null,null,null,null,null,null,null,null,null,null,null,null,null,null,null,null,null,null,null,null,null,null,null,null,null,null,null,null,"","",""]
[null,null,null,null,null,null,null,null,null,null,null,null,null,null,null,null,null,null,null,null,null,null,null,null,null,null,null,null,"","",""]
[null,null,null,null,null,null,null,null,null,null,null,null,null,null,null,null,null,null,null,null,null,null,null,null,null,null,null,null,"","",""]
[null,null,null,null,null,null,null,null,null,null,null,null,null,null,null,null,null,null,null,null,null,null,null,null,null,null,null,null,"","",""]
[null,null,null,null,null,null,null,null,null,null,null,null,null,null,null,null,null,null,null,null,null,null,null,null,null,null,null,null,"","",""]
[null,null,null,null,null,null,null,null,null,null,null,null,null,null,null,null,null,null,null,null,null,null,null,null,null,null,null,null,"","",""]
[null,null,null,null,null,null,null,null,null,null,null,null,null,null,null,null,null,null,null,null,null,null,null,null,null,null,null,null,"","",""]
[null,null,null,null,null,null,null,null,null,null,null,null,null,null,null,null,null,null,null,null,null,null,null,null,null,null,null,null,"","",""]
[null,null,null,null,null,null,null,null,null,null,null,null,null,null,null,null,null,null,null,null,null,null,null,null,null,null,null,null,"","",""]
[null,null,null,null,null,null,null,null,null,null,null,null,null,null,null,null,null,null,null,null,null,null,null,null,null,null,null,null,"","",""]
[null,null,null,null,null,null,null,null,null,null,null,null,null,null,null,null,null,null,null,null,null,null,null,null,null,null,null,null,"","",""]
[null,null,null,null,null,null,null,null,null,null,null,null,null,null,null,null,null,null,null,null,null,null,null,null,null,null,null,null,"","",""]
[null,null,null,null,null,null,null,null,null,null,null,null,null,null,null,null,null,null,null,null,null,null,null,null,null,null,null,null,"","",""]
[null,null,null,null,null,null,null,null,null,null,null,null,null,null,null,null,null,null,null,null,null,null,null,null,null,null,null,null,"","",""]
[null,null,null,null,null,null,null,null,null,null,null,null,null,null,null,null,null,null,null,null,null,null,null,null,null,null,null,null,"","",""]
[null,null,null,null,null,null,null,null,null,null,null,null,null,null,null,null,null,null,null,null,null,null,null,null,null,null,null,null,"","",""]
[null,null,null,null,null,null,null,null,null,null,null,null,null,null,null,null,null,null,null,null,null,null,null,null,null,null,null,null,"","",""]
[null,null,null,null,null,null,null,null,null,null,null,null,null,null,null,null,null,null,null,null,null,null,null,null,null,null,null,null,"","",""]
[null,null,null,null,null,null,null,null,null,null,null,null,null,null,null,null,null,null,null,null,null,null,null,null,null,null,null,null,"","",""]
[null,null,null,null,null,null,null,null,null,null,null,null,null,null,null,null,null,null,null,null,null,null,null,null,null,null,null,null,"","",""]
[null,null,null,null,null,null,null,null,null,null,null,null,null,null,null,null,null,null,null,null,null,null,null,null,null,null,null,null,"","",""]
[null,null,null,null,null,null,null,null,null,null,null,null,null,null,null,null,null,null,null,null,null,null,null,null,null,null,null,null,"","",""]
[null,null,null,null,null,null,null,null,null,null,null,null,null,null,null,null,null,null,null,null,null,null,null,null,null,null,null,null,"","",""]
[null,null,null,null,null,null,null,null,null,null,null,null,null,null,null,null,null,null,null,null,null,null,null,null,null,null,null,null,"","",""]
[null,null,null,null,null,null,null,null,null,null,null,null,null,null,null,null,null,null,null,null,null,null,null,null,null,null,null,null,"","",""]
[null,null,null,null,null,null,null,null,null,null,null,null,null,null,null,null,null,null,null,null,null,null,null,null,null,null,null,null,{"$f":"IF($A899=\"\",\"\",$A899&$C899)","v":""},{"$f":"IF($A899=\"\",\"\",$O899)","v":""},{"$f":"IF($A899=\"\",\"\",IF(AND(LEFT($P899,1)=\"5\",RIGHT($P899,2)<\"99\",RIGHT($P899,2)>\"19\",$R899<>\"\"),$P899,\"\"))","v":""}]
[null,null,null,null,null,null,null,null,null,null,null,null,null,null,null,null,null,null,null,null,null,null,null,null,null,null,null,null,"","",""]
[null,null,null,null,null,null,null,null,null,null,null,null,null,null,null,null,null,null,null,null,null,null,null,null,null,null,null,null,"","",""]
[null,null,null,null,null,null,null,null,null,null,null,null,null,null,null,null,null,null,null,null,null,null,null,null,null,null,null,null,"","",""]
[null,null,null,null,null,null,null,null,null,null,null,null,null,null,null,null,null,null,null,null,null,null,null,null,null,null,null,null,"","",""]
[null,null,null,null,null,null,null,null,null,null,null,null,null,null,null,null,null,null,null,null,null,null,null,null,null,null,null,null,"","",""]
[null,null,null,null,null,null,null,null,null,null,null,null,null,null,null,null,null,null,null,null,null,null,null,null,null,null,null,null,"","",""]
[null,null,null,null,null,null,null,null,null,null,null,null,null,null,null,null,null,null,null,null,null,null,null,null,null,null,null,null,"","",""]
[null,null,null,null,null,null,null,null,null,null,null,null,null,null,null,null,null,null,null,null,null,null,null,null,null,null,null,null,"","",""]
[null,null,null,null,null,null,null,null,null,null,null,null,null,null,null,null,null,null,null,null,null,null,null,null,null,null,null,null,"","",""]
[null,null,null,null,null,null,null,null,null,null,null,null,null,null,null,null,null,null,null,null,null,null,null,null,null,null,null,null,"","",""]
[null,null,null,null,null,null,null,null,null,null,null,null,null,null,null,null,null,null,null,null,null,null,null,null,null,null,null,null,"","",""]
[null,null,null,null,null,null,null,null,null,null,null,null,null,null,null,null,null,null,null,null,null,null,null,null,null,null,null,null,"","",""]
[null,null,null,null,null,null,null,null,null,null,null,null,null,null,null,null,null,null,null,null,null,null,null,null,null,null,null,null,"","",""]
[null,null,null,null,null,null,null,null,null,null,null,null,null,null,null,null,null,null,null,null,null,null,null,null,null,null,null,null,"","",""]
[null,null,null,null,null,null,null,null,null,null,null,null,null,null,null,null,null,null,null,null,null,null,null,null,null,null,null,null,"","",""]
[null,null,null,null,null,null,null,null,null,null,null,null,null,null,null,null,null,null,null,null,null,null,null,null,null,null,null,null,"","",""]
[null,null,null,null,null,null,null,null,null,null,null,null,null,null,null,null,null,null,null,null,null,null,null,null,null,null,null,null,"","",""]
[null,null,null,null,null,null,null,null,null,null,null,null,null,null,null,null,null,null,null,null,null,null,null,null,null,null,null,null,"","",""]
[null,null,null,null,null,null,null,null,null,null,null,null,null,null,null,null,null,null,null,null,null,null,null,null,null,null,null,null,"","",""]
[null,null,null,null,null,null,null,null,null,null,null,null,null,null,null,null,null,null,null,null,null,null,null,null,null,null,null,null,"","",""]
[null,null,null,null,null,null,null,null,null,null,null,null,null,null,null,null,null,null,null,null,null,null,null,null,null,null,null,null,"","",""]
[null,null,null,null,null,null,null,null,null,null,null,null,null,null,null,null,null,null,null,null,null,null,null,null,null,null,null,null,"","",""]
[null,null,null,null,null,null,null,null,null,null,null,null,null,null,null,null,null,null,null,null,null,null,null,null,null,null,null,null,"","",""]
[null,null,null,null,null,null,null,null,null,null,null,null,null,null,null,null,null,null,null,null,null,null,null,null,null,null,null,null,"","",""]
[null,null,null,null,null,null,null,null,null,null,null,null,null,null,null,null,null,null,null,null,null,null,null,null,null,null,null,null,"","",""]
[null,null,null,null,null,null,null,null,null,null,null,null,null,null,null,null,null,null,null,null,null,null,null,null,null,null,null,null,"","",""]
[null,null,null,null,null,null,null,null,null,null,null,null,null,null,null,null,null,null,null,null,null,null,null,null,null,null,null,null,"","",""]
[null,null,null,null,null,null,null,null,null,null,null,null,null,null,null,null,null,null,null,null,null,null,null,null,null,null,null,null,"","",""]
[null,null,null,null,null,null,null,null,null,null,null,null,null,null,null,null,null,null,null,null,null,null,null,null,null,null,null,null,"","",""]
[null,null,null,null,null,null,null,null,null,null,null,null,null,null,null,null,null,null,null,null,null,null,null,null,null,null,null,null,"","",""]
[null,null,null,null,null,null,null,null,null,null,null,null,null,null,null,null,null,null,null,null,null,null,null,null,null,null,null,null,"","",""]
[null,null,null,null,null,null,null,null,null,null,null,null,null,null,null,null,null,null,null,null,null,null,null,null,null,null,null,null,"","",""]
[null,null,null,null,null,null,null,null,null,null,null,null,null,null,null,null,null,null,null,null,null,null,null,null,null,null,null,null,"","",""]
[null,null,null,null,null,null,null,null,null,null,null,null,null,null,null,null,null,null,null,null,null,null,null,null,null,null,null,null,"","",""]
[null,null,null,null,null,null,null,null,null,null,null,null,null,null,null,null,null,null,null,null,null,null,null,null,null,null,null,null,"","",""]
[null,null,null,null,null,null,null,null,null,null,null,null,null,null,null,null,null,null,null,null,null,null,null,null,null,null,null,null,"","",""]
[null,null,null,null,null,null,null,null,null,null,null,null,null,null,null,null,null,null,null,null,null,null,null,null,null,null,null,null,"","",""]
[null,null,null,null,null,null,null,null,null,null,null,null,null,null,null,null,null,null,null,null,null,null,null,null,null,null,null,null,"","",""]
[null,null,null,null,null,null,null,null,null,null,null,null,null,null,null,null,null,null,null,null,null,null,null,null,null,null,null,null,"","",""]
[null,null,null,null,null,null,null,null,null,null,null,null,null,null,null,null,null,null,null,null,null,null,null,null,null,null,null,null,"","",""]
[null,null,null,null,null,null,null,null,null,null,null,null,null,null,null,null,null,null,null,null,null,null,null,null,null,null,null,null,"","",""]
[null,null,null,null,null,null,null,null,null,null,null,null,null,null,null,null,null,null,null,null,null,null,null,null,null,null,null,null,"","",""]
[null,null,null,null,null,null,null,null,null,null,null,null,null,null,null,null,null,null,null,null,null,null,null,null,null,null,null,null,"","",""]
[null,null,null,null,null,null,null,null,null,null,null,null,null,null,null,null,null,null,null,null,null,null,null,null,null,null,null,null,"","",""]
[null,null,null,null,null,null,null,null,null,null,null,null,null,null,null,null,null,null,null,null,null,null,null,null,null,null,null,null,"","",""]
[null,null,null,null,null,null,null,null,null,null,null,null,null,null,null,null,null,null,null,null,null,null,null,null,null,null,null,null,"","",""]
[null,null,null,null,null,null,null,null,null,null,null,null,null,null,null,null,null,null,null,null,null,null,null,null,null,null,null,null,"","",""]
[null,null,null,null,null,null,null,null,null,null,null,null,null,null,null,null,null,null,null,null,null,null,null,null,null,null,null,null,"","",""]
[null,null,null,null,null,null,null,null,null,null,null,null,null,null,null,null,null,null,null,null,null,null,null,null,null,null,null,null,"","",""]
[null,null,null,null,null,null,null,null,null,null,null,null,null,null,null,null,null,null,null,null,null,null,null,null,null,null,null,null,"","",""]
[null,null,null,null,null,null,null,null,null,null,null,null,null,null,null,null,null,null,null,null,null,null,null,null,null,null,null,null,"","",""]
[null,null,null,null,null,null,null,null,null,null,null,null,null,null,null,null,null,null,null,null,null,null,null,null,null,null,null,null,"","",""]
[null,null,null,null,null,null,null,null,null,null,null,null,null,null,null,null,null,null,null,null,null,null,null,null,null,null,null,null,"","",""]
[null,null,null,null,null,null,null,null,null,null,null,null,null,null,null,null,null,null,null,null,null,null,null,null,null,null,null,null,"","",""]
[null,null,null,null,null,null,null,null,null,null,null,null,null,null,null,null,null,null,null,null,null,null,null,null,null,null,null,null,"","",""]
[null,null,null,null,null,null,null,null,null,null,null,null,null,null,null,null,null,null,null,null,null,null,null,null,null,null,null,null,"","",""]
[null,null,null,null,null,null,null,null,null,null,null,null,null,null,null,null,null,null,null,null,null,null,null,null,null,null,null,null,"","",""]
[null,null,null,null,null,null,null,null,null,null,null,null,null,null,null,null,null,null,null,null,null,null,null,null,null,null,null,null,"","",""]
[null,null,null,null,null,null,null,null,null,null,null,null,null,null,null,null,null,null,null,null,null,null,null,null,null,null,null,null,"","",""]
[null,null,null,null,null,null,null,null,null,null,null,null,null,null,null,null,null,null,null,null,null,null,null,null,null,null,null,null,"","",""]
[null,null,null,null,null,null,null,null,null,null,null,null,null,null,null,null,null,null,null,null,null,null,null,null,null,null,null,null,"","",""]
[null,null,null,null,null,null,null,null,null,null,null,null,null,null,null,null,null,null,null,null,null,null,null,null,null,null,null,null,"","",""]
[null,null,null,null,null,null,null,null,null,null,null,null,null,null,null,null,null,null,null,null,null,null,null,null,null,null,null,null,"","",""]
[null,null,null,null,null,null,null,null,null,null,null,null,null,null,null,null,null,null,null,null,null,null,null,null,null,null,null,null,{"$f":"IF($A963=\"\",\"\",$A963&$C963)","v":""},{"$f":"IF($A963=\"\",\"\",$O963)","v":""},{"$f":"IF($A963=\"\",\"\",IF(AND(LEFT($P963,1)=\"5\",RIGHT($P963,2)<\"99\",RIGHT($P963,2)>\"19\",$R963<>\"\"),$P963,\"\"))","v":""}]
[null,null,null,null,null,null,null,null,null,null,null,null,null,null,null,null,null,null,null,null,null,null,null,null,null,null,null,null,"","",""]
[null,null,null,null,null,null,null,null,null,null,null,null,null,null,null,null,null,null,null,null,null,null,null,null,null,null,null,null,"","",""]
[null,null,null,null,null,null,null,null,null,null,null,null,null,null,null,null,null,null,null,null,null,null,null,null,null,null,null,null,"","",""]
[null,null,null,null,null,null,null,null,null,null,null,null,null,null,null,null,null,null,null,null,null,null,null,null,null,null,null,null,"","",""]
[null,null,null,null,null,null,null,null,null,null,null,null,null,null,null,null,null,null,null,null,null,null,null,null,null,null,null,null,"","",""]
[null,null,null,null,null,null,null,null,null,null,null,null,null,null,null,null,null,null,null,null,null,null,null,null,null,null,null,null,"","",""]
[null,null,null,null,null,null,null,null,null,null,null,null,null,null,null,null,null,null,null,null,null,null,null,null,null,null,null,null,"","",""]
[null,null,null,null,null,null,null,null,null,null,null,null,null,null,null,null,null,null,null,null,null,null,null,null,null,null,null,null,"","",""]
[null,null,null,null,null,null,null,null,null,null,null,null,null,null,null,null,null,null,null,null,null,null,null,null,null,null,null,null,"","",""]
[null,null,null,null,null,null,null,null,null,null,null,null,null,null,null,null,null,null,null,null,null,null,null,null,null,null,null,null,"","",""]
[null,null,null,null,null,null,null,null,null,null,null,null,null,null,null,null,null,null,null,null,null,null,null,null,null,null,null,null,"","",""]
[null,null,null,null,null,null,null,null,null,null,null,null,null,null,null,null,null,null,null,null,null,null,null,null,null,null,null,null,"","",""]
[null,null,null,null,null,null,null,null,null,null,null,null,null,null,null,null,null,null,null,null,null,null,null,null,null,null,null,null,"","",""]
[null,null,null,null,null,null,null,null,null,null,null,null,null,null,null,null,null,null,null,null,null,null,null,null,null,null,null,null,"","",""]
[null,null,null,null,null,null,null,null,null,null,null,null,null,null,null,null,null,null,null,null,null,null,null,null,null,null,null,null,"","",""]
[null,null,null,null,null,null,null,null,null,null,null,null,null,null,null,null,null,null,null,null,null,null,null,null,null,null,null,null,"","",""]
[null,null,null,null,null,null,null,null,null,null,null,null,null,null,null,null,null,null,null,null,null,null,null,null,null,null,null,null,"","",""]
[null,null,null,null,null,null,null,null,null,null,null,null,null,null,null,null,null,null,null,null,null,null,null,null,null,null,null,null,"","",""]
[null,null,null,null,null,null,null,null,null,null,null,null,null,null,null,null,null,null,null,null,null,null,null,null,null,null,null,null,"","",""]
[null,null,null,null,null,null,null,null,null,null,null,null,null,null,null,null,null,null,null,null,null,null,null,null,null,null,null,null,"","",""]
[null,null,null,null,null,null,null,null,null,null,null,null,null,null,null,null,null,null,null,null,null,null,null,null,null,null,null,null,"","",""]
[null,null,null,null,null,null,null,null,null,null,null,null,null,null,null,null,null,null,null,null,null,null,null,null,null,null,null,null,"","",""]
[null,null,null,null,null,null,null,null,null,null,null,null,null,null,null,null,null,null,null,null,null,null,null,null,null,null,null,null,"","",""]
[null,null,null,null,null,null,null,null,null,null,null,null,null,null,null,null,null,null,null,null,null,null,null,null,null,null,null,null,"","",""]
[null,null,null,null,null,null,null,null,null,null,null,null,null,null,null,null,null,null,null,null,null,null,null,null,null,null,null,null,"","",""]
[null,null,null,null,null,null,null,null,null,null,null,null,null,null,null,null,null,null,null,null,null,null,null,null,null,null,null,null,"","",""]
[null,null,null,null,null,null,null,null,null,null,null,null,null,null,null,null,null,null,null,null,null,null,null,null,null,null,null,null,"","",""]
[null,null,null,null,null,null,null,null,null,null,null,null,null,null,null,null,null,null,null,null,null,null,null,null,null,null,null,null,"","",""]
[null,null,null,null,null,null,null,null,null,null,null,null,null,null,null,null,null,null,null,null,null,null,null,null,null,null,null,null,"","",""]
[null,null,null,null,null,null,null,null,null,null,null,null,null,null,null,null,null,null,null,null,null,null,null,null,null,null,null,null,"","",""]
[null,null,null,null,null,null,null,null,null,null,null,null,null,null,null,null,null,null,null,null,null,null,null,null,null,null,null,null,"","",""]
[null,null,null,null,null,null,null,null,null,null,null,null,null,null,null,null,null,null,null,null,null,null,null,null,null,null,null,null,"","",""]
[null,null,null,null,null,null,null,null,null,null,null,null,null,null,null,null,null,null,null,null,null,null,null,null,null,null,null,null,"","",""]
[null,null,null,null,null,null,null,null,null,null,null,null,null,null,null,null,null,null,null,null,null,null,null,null,null,null,null,null,"","",""]
[null,null,null,null,null,null,null,null,null,null,null,null,null,null,null,null,null,null,null,null,null,null,null,null,null,null,null,null,"","",""]
[null,null,null,null,null,null,null,null,null,null,null,null,null,null,null,null,null,null,null,null,null,null,null,null,null,null,null,null,"","",""]
[null,null,null,null,null,null,null,null,null,null,null,null,null,null,null,null,null,null,null,null,null,null,null,null,null,null,null,null,"","",""]
[null,null,null,null,null,null,null,null,null,null,null,null,null,null,null,null,null,null,null,null,null,null,null,null,null,null,null,null,"","",""]
[null,null,null,null,null,null,null,null,null,null,null,null,null,null,null,null,null,null,null,null,null,null,null,null,null,null,null,null,"","",""]
[null,null,null,null,null,null,null,null,null,null,null,null,null,null,null,null,null,null,null,null,null,null,null,null,null,null,null,null,"","",""]
[null,null,null,null,null,null,null,null,null,null,null,null,null,null,null,null,null,null,null,null,null,null,null,null,null,null,null,null,"","",""]
[null,null,null,null,null,null,null,null,null,null,null,null,null,null,null,null,null,null,null,null,null,null,null,null,null,null,null,null,"","",""]
[null,null,null,null,null,null,null,null,null,null,null,null,null,null,null,null,null,null,null,null,null,null,null,null,null,null,null,null,"","",""]
[null,null,null,null,null,null,null,null,null,null,null,null,null,null,null,null,null,null,null,null,null,null,null,null,null,null,null,null,"","",""]
[null,null,null,null,null,null,null,null,null,null,null,null,null,null,null,null,null,null,null,null,null,null,null,null,null,null,null,null,"","",""]
[null,null,null,null,null,null,null,null,null,null,null,null,null,null,null,null,null,null,null,null,null,null,null,null,null,null,null,null,"","",""]
[null,null,null,null,null,null,null,null,null,null,null,null,null,null,null,null,null,null,null,null,null,null,null,null,null,null,null,null,"","",""]
[null,null,null,null,null,null,null,null,null,null,null,null,null,null,null,null,null,null,null,null,null,null,null,null,null,null,null,null,"","",""]
[null,null,null,null,null,null,null,null,null,null,null,null,null,null,null,null,null,null,null,null,null,null,null,null,null,null,null,null,"","",""]
[null,null,null,null,null,null,null,null,null,null,null,null,null,null,null,null,null,null,null,null,null,null,null,null,null,null,null,null,"","",""]
[null,null,null,null,null,null,null,null,null,null,null,null,null,null,null,null,null,null,null,null,null,null,null,null,null,null,null,null,"","",""]
[null,null,null,null,null,null,null,null,null,null,null,null,null,null,null,null,null,null,null,null,null,null,null,null,null,null,null,null,"","",""]
[null,null,null,null,null,null,null,null,null,null,null,null,null,null,null,null,null,null,null,null,null,null,null,null,null,null,null,null,"","",""]
[null,null,null,null,null,null,null,null,null,null,null,null,null,null,null,null,null,null,null,null,null,null,null,null,null,null,null,null,"","",""]
[null,null,null,null,null,null,null,null,null,null,null,null,null,null,null,null,null,null,null,null,null,null,null,null,null,null,null,null,"","",""]
[null,null,null,null,null,null,null,null,null,null,null,null,null,null,null,null,null,null,null,null,null,null,null,null,null,null,null,null,"","",""]
[null,null,null,null,null,null,null,null,null,null,null,null,null,null,null,null,null,null,null,null,null,null,null,null,null,null,null,null,"","",""]
[null,null,null,null,null,null,null,null,null,null,null,null,null,null,null,null,null,null,null,null,null,null,null,null,null,null,null,null,"","",""]
[null,null,null,null,null,null,null,null,null,null,null,null,null,null,null,null,null,null,null,null,null,null,null,null,null,null,null,null,"","",""]
[null,null,null,null,null,null,null,null,null,null,null,null,null,null,null,null,null,null,null,null,null,null,null,null,null,null,null,null,"","",""]
[null,null,null,null,null,null,null,null,null,null,null,null,null,null,null,null,null,null,null,null,null,null,null,null,null,null,null,null,"","",""]
[null,null,null,null,null,null,null,null,null,null,null,null,null,null,null,null,null,null,null,null,null,null,null,null,null,null,null,null,"","",""]
[null,null,null,null,null,null,null,null,null,null,null,null,null,null,null,null,null,null,null,null,null,null,null,null,null,null,null,null,"","",""]
[null,null,null,null,null,null,null,null,null,null,null,null,null,null,null,null,null,null,null,null,null,null,null,null,null,null,null,null,"","",""]
[null,null,null,null,null,null,null,null,null,null,null,null,null,null,null,null,null,null,null,null,null,null,null,null,null,null,null,null,"","",""]
[null,null,null,null,null,null,null,null,null,null,null,null,null,null,null,null,null,null,null,null,null,null,null,null,null,null,null,null,"","",""]
[null,null,null,null,null,null,null,null,null,null,null,null,null,null,null,null,null,null,null,null,null,null,null,null,null,null,null,null,"","",""]
[null,null,null,null,null,null,null,null,null,null,null,null,null,null,null,null,null,null,null,null,null,null,null,null,null,null,null,null,"","",""]
[null,null,null,null,null,null,null,null,null,null,null,null,null,null,null,null,null,null,null,null,null,null,null,null,null,null,null,null,"","",""]
[null,null,null,null,null,null,null,null,null,null,null,null,null,null,null,null,null,null,null,null,null,null,null,null,null,null,null,null,"","",""]
[null,null,null,null,null,null,null,null,null,null,null,null,null,null,null,null,null,null,null,null,null,null,null,null,null,null,null,null,"","",""]
[null,null,null,null,null,null,null,null,null,null,null,null,null,null,null,null,null,null,null,null,null,null,null,null,null,null,null,null,"","",""]
[null,null,null,null,null,null,null,null,null,null,null,null,null,null,null,null,null,null,null,null,null,null,null,null,null,null,null,null,"","",""]
[null,null,null,null,null,null,null,null,null,null,null,null,null,null,null,null,null,null,null,null,null,null,null,null,null,null,null,null,"","",""]
[null,null,null,null,null,null,null,null,null,null,null,null,null,null,null,null,null,null,null,null,null,null,null,null,null,null,null,null,"","",""]
[null,null,null,null,null,null,null,null,null,null,null,null,null,null,null,null,null,null,null,null,null,null,null,null,null,null,null,null,"","",""]
[null,null,null,null,null,null,null,null,null,null,null,null,null,null,null,null,null,null,null,null,null,null,null,null,null,null,null,null,"","",""]
[null,null,null,null,null,null,null,null,null,null,null,null,null,null,null,null,null,null,null,null,null,null,null,null,null,null,null,null,"","",""]
[null,null,null,null,null,null,null,null,null,null,null,null,null,null,null,null,null,null,null,null,null,null,null,null,null,null,null,null,"","",""]
[null,null,null,null,null,null,null,null,null,null,null,null,null,null,null,null,null,null,null,null,null,null,null,null,null,null,null,null,"","",""]
[null,null,null,null,null,null,null,null,null,null,null,null,null,null,null,null,null,null,null,null,null,null,null,null,null,null,null,null,"","",""]
[null,null,null,null,null,null,null,null,null,null,null,null,null,null,null,null,null,null,null,null,null,null,null,null,null,null,null,null,"","",""]
[null,null,null,null,null,null,null,null,null,null,null,null,null,null,null,null,null,null,null,null,null,null,null,null,null,null,null,null,"","",""]
[null,null,null,null,null,null,null,null,null,null,null,null,null,null,null,null,null,null,null,null,null,null,null,null,null,null,null,null,"","",""]
[null,null,null,null,null,null,null,null,null,null,null,null,null,null,null,null,null,null,null,null,null,null,null,null,null,null,null,null,"","",""]
[null,null,null,null,null,null,null,null,null,null,null,null,null,null,null,null,null,null,null,null,null,null,null,null,null,null,null,null,"","",""]
[null,null,null,null,null,null,null,null,null,null,null,null,null,null,null,null,null,null,null,null,null,null,null,null,null,null,null,null,"","",""]
[null,null,null,null,null,null,null,null,null,null,null,null,null,null,null,null,null,null,null,null,null,null,null,null,null,null,null,null,"","",""]
[null,null,null,null,null,null,null,null,null,null,null,null,null,null,null,null,null,null,null,null,null,null,null,null,null,null,null,null,"","",""]
[null,null,null,null,null,null,null,null,null,null,null,null,null,null,null,null,null,null,null,null,null,null,null,null,null,null,null,null,"","",""]
[null,null,null,null,null,null,null,null,null,null,null,null,null,null,null,null,null,null,null,null,null,null,null,null,null,null,null,null,"","",""]
[null,null,null,null,null,null,null,null,null,null,null,null,null,null,null,null,null,null,null,null,null,null,null,null,null,null,null,null,"","",""]
[null,null,null,null,null,null,null,null,null,null,null,null,null,null,null,null,null,null,null,null,null,null,null,null,null,null,null,null,"","",""]
[null,null,null,null,null,null,null,null,null,null,null,null,null,null,null,null,null,null,null,null,null,null,null,null,null,null,null,null,"","",""]
[null,null,null,null,null,null,null,null,null,null,null,null,null,null,null,null,null,null,null,null,null,null,null,null,null,null,null,null,"","",""]
[null,null,null,null,null,null,null,null,null,null,null,null,null,null,null,null,null,null,null,null,null,null,null,null,null,null,null,null,"","",""]
[null,null,null,null,null,null,null,null,null,null,null,null,null,null,null,null,null,null,null,null,null,null,null,null,null,null,null,null,"","",""]
[null,null,null,null,null,null,null,null,null,null,null,null,null,null,null,null,null,null,null,null,null,null,null,null,null,null,null,null,"","",""]
[null,null,null,null,null,null,null,null,null,null,null,null,null,null,null,null,null,null,null,null,null,null,null,null,null,null,null,null,"","",""]
[null,null,null,null,null,null,null,null,null,null,null,null,null,null,null,null,null,null,null,null,null,null,null,null,null,null,null,null,"","",""]
[null,null,null,null,null,null,null,null,null,null,null,null,null,null,null,null,null,null,null,null,null,null,null,null,null,null,null,null,"","",""]
[null,null,null,null,null,null,null,null,null,null,null,null,null,null,null,null,null,null,null,null,null,null,null,null,null,null,null,null,"","",""]
[null,null,null,null,null,null,null,null,null,null,null,null,null,null,null,null,null,null,null,null,null,null,null,null,null,null,null,null,"","",""]
[null,null,null,null,null,null,null,null,null,null,null,null,null,null,null,null,null,null,null,null,null,null,null,null,null,null,null,null,"","",""]
[null,null,null,null,null,null,null,null,null,null,null,null,null,null,null,null,null,null,null,null,null,null,null,null,null,null,null,null,"","",""]
[null,null,null,null,null,null,null,null,null,null,null,null,null,null,null,null,null,null,null,null,null,null,null,null,null,null,null,null,"","",""]
[null,null,null,null,null,null,null,null,null,null,null,null,null,null,null,null,null,null,null,null,null,null,null,null,null,null,null,null,"","",""]
[null,null,null,null,null,null,null,null,null,null,null,null,null,null,null,null,null,null,null,null,null,null,null,null,null,null,null,null,"","",""]
[null,null,null,null,null,null,null,null,null,null,null,null,null,null,null,null,null,null,null,null,null,null,null,null,null,null,null,null,"","",""]
[null,null,null,null,null,null,null,null,null,null,null,null,null,null,null,null,null,null,null,null,null,null,null,null,null,null,null,null,"","",""]
[null,null,null,null,null,null,null,null,null,null,null,null,null,null,null,null,null,null,null,null,null,null,null,null,null,null,null,null,"","",""]
[null,null,null,null,null,null,null,null,null,null,null,null,null,null,null,null,null,null,null,null,null,null,null,null,null,null,null,null,"","",""]
[null,null,null,null,null,null,null,null,null,null,null,null,null,null,null,null,null,null,null,null,null,null,null,null,null,null,null,null,"","",""]
[null,null,null,null,null,null,null,null,null,null,null,null,null,null,null,null,null,null,null,null,null,null,null,null,null,null,null,null,"","",""]
[null,null,null,null,null,null,null,null,null,null,null,null,null,null,null,null,null,null,null,null,null,null,null,null,null,null,null,null,"","",""]
[null,null,null,null,null,null,null,null,null,null,null,null,null,null,null,null,null,null,null,null,null,null,null,null,null,null,null,null,"","",""]
[null,null,null,null,null,null,null,null,null,null,null,null,null,null,null,null,null,null,null,null,null,null,null,null,null,null,null,null,"","",""]
[null,null,null,null,null,null,null,null,null,null,null,null,null,null,null,null,null,null,null,null,null,null,null,null,null,null,null,null,"","",""]
[null,null,null,null,null,null,null,null,null,null,null,null,null,null,null,null,null,null,null,null,null,null,null,null,null,null,null,null,"","",""]
[null,null,null,null,null,null,null,null,null,null,null,null,null,null,null,null,null,null,null,null,null,null,null,null,null,null,null,null,"","",""]
[null,null,null,null,null,null,null,null,null,null,null,null,null,null,null,null,null,null,null,null,null,null,null,null,null,null,null,null,"","",""]
[null,null,null,null,null,null,null,null,null,null,null,null,null,null,null,null,null,null,null,null,null,null,null,null,null,null,null,null,"","",""]
[null,null,null,null,null,null,null,null,null,null,null,null,null,null,null,null,null,null,null,null,null,null,null,null,null,null,null,null,"","",""]
[null,null,null,null,null,null,null,null,null,null,null,null,null,null,null,null,null,null,null,null,null,null,null,null,null,null,null,null,"","",""]
[null,null,null,null,null,null,null,null,null,null,null,null,null,null,null,null,null,null,null,null,null,null,null,null,null,null,null,null,"","",""]
[null,null,null,null,null,null,null,null,null,null,null,null,null,null,null,null,null,null,null,null,null,null,null,null,null,null,null,null,"","",""]
[null,null,null,null,null,null,null,null,null,null,null,null,null,null,null,null,null,null,null,null,null,null,null,null,null,null,null,null,"","",""]
[null,null,null,null,null,null,null,null,null,null,null,null,null,null,null,null,null,null,null,null,null,null,null,null,null,null,null,null,"","",""]
[null,null,null,null,null,null,null,null,null,null,null,null,null,null,null,null,null,null,null,null,null,null,null,null,null,null,null,null,"","",""]
[null,null,null,null,null,null,null,null,null,null,null,null,null,null,null,null,null,null,null,null,null,null,null,null,null,null,null,null,"","",""]
[null,null,null,null,null,null,null,null,null,null,null,null,null,null,null,null,null,null,null,null,null,null,null,null,null,null,null,null,"","",""]
[null,null,null,null,null,null,null,null,null,null,null,null,null,null,null,null,null,null,null,null,null,null,null,null,null,null,null,null,"","",""]
[null,null,null,null,null,null,null,null,null,null,null,null,null,null,null,null,null,null,null,null,null,null,null,null,null,null,null,null,"","",""]
[null,null,null,null,null,null,null,null,null,null,null,null,null,null,null,null,null,null,null,null,null,null,null,null,null,null,null,null,"","",""]
[null,null,null,null,null,null,null,null,null,null,null,null,null,null,null,null,null,null,null,null,null,null,null,null,null,null,null,null,"","",""]
[null,null,null,null,null,null,null,null,null,null,null,null,null,null,null,null,null,null,null,null,null,null,null,null,null,null,null,null,"","",""]
[null,null,null,null,null,null,null,null,null,null,null,null,null,null,null,null,null,null,null,null,null,null,null,null,null,null,null,null,"","",""]
[null,null,null,null,null,null,null,null,null,null,null,null,null,null,null,null,null,null,null,null,null,null,null,null,null,null,null,null,"","",""]
[null,null,null,null,null,null,null,null,null,null,null,null,null,null,null,null,null,null,null,null,null,null,null,null,null,null,null,null,"","",""]
[null,null,null,null,null,null,null,null,null,null,null,null,null,null,null,null,null,null,null,null,null,null,null,null,null,null,null,null,"","",""]
[null,null,null,null,null,null,null,null,null,null,null,null,null,null,null,null,null,null,null,null,null,null,null,null,null,null,null,null,"","",""]
[null,null,null,null,null,null,null,null,null,null,null,null,null,null,null,null,null,null,null,null,null,null,null,null,null,null,null,null,"","",""]
[null,null,null,null,null,null,null,null,null,null,null,null,null,null,null,null,null,null,null,null,null,null,null,null,null,null,null,null,"","",""]
[null,null,null,null,null,null,null,null,null,null,null,null,null,null,null,null,null,null,null,null,null,null,null,null,null,null,null,null,"","",""]
[null,null,null,null,null,null,null,null,null,null,null,null,null,null,null,null,null,null,null,null,null,null,null,null,null,null,null,null,"","",""]
[null,null,null,null,null,null,null,null,null,null,null,null,null,null,null,null,null,null,null,null,null,null,null,null,null,null,null,null,"","",""]
[null,null,null,null,null,null,null,null,null,null,null,null,null,null,null,null,null,null,null,null,null,null,null,null,null,null,null,null,"","",""]
[null,null,null,null,null,null,null,null,null,null,null,null,null,null,null,null,null,null,null,null,null,null,null,null,null,null,null,null,"","",""]
[null,null,null,null,null,null,null,null,null,null,null,null,null,null,null,null,null,null,null,null,null,null,null,null,null,null,null,null,"","",""]
[null,null,null,null,null,null,null,null,null,null,null,null,null,null,null,null,null,null,null,null,null,null,null,null,null,null,null,null,"","",""]
[null,null,null,null,null,null,null,null,null,null,null,null,null,null,null,null,null,null,null,null,null,null,null,null,null,null,null,null,"","",""]
[null,null,null,null,null,null,null,null,null,null,null,null,null,null,null,null,null,null,null,null,null,null,null,null,null,null,null,null,"","",""]
[null,null,null,null,null,null,null,null,null,null,null,null,null,null,null,null,null,null,null,null,null,null,null,null,null,null,null,null,"","",""]
[null,null,null,null,null,null,null,null,null,null,null,null,null,null,null,null,null,null,null,null,null,null,null,null,null,null,null,null,"","",""]
[null,null,null,null,null,null,null,null,null,null,null,null,null,null,null,null,null,null,null,null,null,null,null,null,null,null,null,null,"","",""]
[null,null,null,null,null,null,null,null,null,null,null,null,null,null,null,null,null,null,null,null,null,null,null,null,null,null,null,null,"","",""]
[null,null,null,null,null,null,null,null,null,null,null,null,null,null,null,null,null,null,null,null,null,null,null,null,null,null,null,null,"","",""]
[null,null,null,null,null,null,null,null,null,null,null,null,null,null,null,null,null,null,null,null,null,null,null,null,null,null,null,null,"","",""]
[null,null,null,null,null,null,null,null,null,null,null,null,null,null,null,null,null,null,null,null,null,null,null,null,null,null,null,null,"","",""]
[null,null,null,null,null,null,null,null,null,null,null,null,null,null,null,null,null,null,null,null,null,null,null,null,null,null,null,null,"","",""]
[null,null,null,null,null,null,null,null,null,null,null,null,null,null,null,null,null,null,null,null,null,null,null,null,null,null,null,null,"","",""]
[null,null,null,null,null,null,null,null,null,null,null,null,null,null,null,null,null,null,null,null,null,null,null,null,null,null,null,null,"","",""]
[null,null,null,null,null,null,null,null,null,null,null,null,null,null,null,null,null,null,null,null,null,null,null,null,null,null,null,null,"","",""]
[null,null,null,null,null,null,null,null,null,null,null,null,null,null,null,null,null,null,null,null,null,null,null,null,null,null,null,null,"","",""]
[null,null,null,null,null,null,null,null,null,null,null,null,null,null,null,null,null,null,null,null,null,null,null,null,null,null,null,null,"","",""]
[null,null,null,null,null,null,null,null,null,null,null,null,null,null,null,null,null,null,null,null,null,null,null,null,null,null,null,null,"","",""]
[null,null,null,null,null,null,null,null,null,null,null,null,null,null,null,null,null,null,null,null,null,null,null,null,null,null,null,null,"","",""]
[null,null,null,null,null,null,null,null,null,null,null,null,null,null,null,null,null,null,null,null,null,null,null,null,null,null,null,null,"","",""]
[null,null,null,null,null,null,null,null,null,null,null,null,null,null,null,null,null,null,null,null,null,null,null,null,null,null,null,null,"","",""]
[null,null,null,null,null,null,null,null,null,null,null,null,null,null,null,null,null,null,null,null,null,null,null,null,null,null,null,null,"","",""]
[null,null,null,null,null,null,null,null,null,null,null,null,null,null,null,null,null,null,null,null,null,null,null,null,null,null,null,null,"","",""]
[null,null,null,null,null,null,null,null,null,null,null,null,null,null,null,null,null,null,null,null,null,null,null,null,null,null,null,null,"","",""]
[null,null,null,null,null,null,null,null,null,null,null,null,null,null,null,null,null,null,null,null,null,null,null,null,null,null,null,null,"","",""]
[null,null,null,null,null,null,null,null,null,null,null,null,null,null,null,null,null,null,null,null,null,null,null,null,null,null,null,null,"","",""]
[null,null,null,null,null,null,null,null,null,null,null,null,null,null,null,null,null,null,null,null,null,null,null,null,null,null,null,null,"","",""]
[null,null,null,null,null,null,null,null,null,null,null,null,null,null,null,null,null,null,null,null,null,null,null,null,null,null,null,null,"","",""]
[null,null,null,null,null,null,null,null,null,null,null,null,null,null,null,null,null,null,null,null,null,null,null,null,null,null,null,null,"","",""]
[null,null,null,null,null,null,null,null,null,null,null,null,null,null,null,null,null,null,null,null,null,null,null,null,null,null,null,null,"","",""]
[null,null,null,null,null,null,null,null,null,null,null,null,null,null,null,null,null,null,null,null,null,null,null,null,null,null,null,null,"","",""]
[null,null,null,null,null,null,null,null,null,null,null,null,null,null,null,null,null,null,null,null,null,null,null,null,null,null,null,null,"","",""]
[null,null,null,null,null,null,null,null,null,null,null,null,null,null,null,null,null,null,null,null,null,null,null,null,null,null,null,null,"","",""]
[null,null,null,null,null,null,null,null,null,null,null,null,null,null,null,null,null,null,null,null,null,null,null,null,null,null,null,null,"","",""]
[null,null,null,null,null,null,null,null,null,null,null,null,null,null,null,null,null,null,null,null,null,null,null,null,null,null,null,null,"","",""]
[null,null,null,null,null,null,null,null,null,null,null,null,null,null,null,null,null,null,null,null,null,null,null,null,null,null,null,null,"","",""]
[null,null,null,null,null,null,null,null,null,null,null,null,null,null,null,null,null,null,null,null,null,null,null,null,null,null,null,null,"","",""]
[null,null,null,null,null,null,null,null,null,null,null,null,null,null,null,null,null,null,null,null,null,null,null,null,null,null,null,null,"","",""]
[null,null,null,null,null,null,null,null,null,null,null,null,null,null,null,null,null,null,null,null,null,null,null,null,null,null,null,null,"","",""]
[null,null,null,null,null,null,null,null,null,null,null,null,null,null,null,null,null,null,null,null,null,null,null,null,null,null,null,null,"","",""]
[null,null,null,null,null,null,null,null,null,null,null,null,null,null,null,null,null,null,null,null,null,null,null,null,null,null,null,null,"","",""]
[null,null,null,null,null,null,null,null,null,null,null,null,null,null,null,null,null,null,null,null,null,null,null,null,null,null,null,null,"","",""]
[null,null,null,null,null,null,null,null,null,null,null,null,null,null,null,null,null,null,null,null,null,null,null,null,null,null,null,null,"","",""]
[null,null,null,null,null,null,null,null,null,null,null,null,null,null,null,null,null,null,null,null,null,null,null,null,null,null,null,null,"","",""]
[null,null,null,null,null,null,null,null,null,null,null,null,null,null,null,null,null,null,null,null,null,null,null,null,null,null,null,null,"","",""]
[null,null,null,null,null,null,null,null,null,null,null,null,null,null,null,null,null,null,null,null,null,null,null,null,null,null,null,null,{"$f":"IF($A2371=\"\",\"\",$A2371&$C2371)","v":""},{"$f":"IF($A2371=\"\",\"\",$O2371)","v":""},{"$f":"IF($A2371=\"\",\"\",IF(AND(LEFT($P2371,1)=\"5\",RIGHT($P2371,2)<\"99\",RIGHT($P2371,2)>\"19\",$R2371<>\"\"),$P2371,\"\"))","v":""}]
[null,null,null,null,null,null,null,null,null,null,null,null,null,null,null,null,null,null,null,null,null,null,null,null,null,null,null,null,"","",""]
[null,null,null,null,null,null,null,null,null,null,null,null,null,null,null,null,null,null,null,null,null,null,null,null,null,null,null,null,"","",""]
[null,null,null,null,null,null,null,null,null,null,null,null,null,null,null,null,null,null,null,null,null,null,null,null,null,null,null,null,"","",""]
[null,null,null,null,null,null,null,null,null,null,null,null,null,null,null,null,null,null,null,null,null,null,null,null,null,null,null,null,"","",""]
[null,null,null,null,null,null,null,null,null,null,null,null,null,null,null,null,null,null,null,null,null,null,null,null,null,null,null,null,"","",""]
[null,null,null,null,null,null,null,null,null,null,null,null,null,null,null,null,null,null,null,null,null,null,null,null,null,null,null,null,"","",""]
[null,null,null,null,null,null,null,null,null,null,null,null,null,null,null,null,null,null,null,null,null,null,null,null,null,null,null,null,"","",""]
[null,null,null,null,null,null,null,null,null,null,null,null,null,null,null,null,null,null,null,null,null,null,null,null,null,null,null,null,"","",""]
[null,null,null,null,null,null,null,null,null,null,null,null,null,null,null,null,null,null,null,null,null,null,null,null,null,null,null,null,"","",""]
[null,null,null,null,null,null,null,null,null,null,null,null,null,null,null,null,null,null,null,null,null,null,null,null,null,null,null,null,"","",""]
[null,null,null,null,null,null,null,null,null,null,null,null,null,null,null,null,null,null,null,null,null,null,null,null,null,null,null,null,"","",""]
[null,null,null,null,null,null,null,null,null,null,null,null,null,null,null,null,null,null,null,null,null,null,null,null,null,null,null,null,"","",""]
[null,null,null,null,null,null,null,null,null,null,null,null,null,null,null,null,null,null,null,null,null,null,null,null,null,null,null,null,"","",""]
[null,null,null,null,null,null,null,null,null,null,null,null,null,null,null,null,null,null,null,null,null,null,null,null,null,null,null,null,"","",""]
[null,null,null,null,null,null,null,null,null,null,null,null,null,null,null,null,null,null,null,null,null,null,null,null,null,null,null,null,"","",""]
[null,null,null,null,null,null,null,null,null,null,null,null,null,null,null,null,null,null,null,null,null,null,null,null,null,null,null,null,"","",""]
[null,null,null,null,null,null,null,null,null,null,null,null,null,null,null,null,null,null,null,null,null,null,null,null,null,null,null,null,"","",""]
[null,null,null,null,null,null,null,null,null,null,null,null,null,null,null,null,null,null,null,null,null,null,null,null,null,null,null,null,"","",""]
[null,null,null,null,null,null,null,null,null,null,null,null,null,null,null,null,null,null,null,null,null,null,null,null,null,null,null,null,"","",""]
[null,null,null,null,null,null,null,null,null,null,null,null,null,null,null,null,null,null,null,null,null,null,null,null,null,null,null,null,"","",""]
[null,null,null,null,null,null,null,null,null,null,null,null,null,null,null,null,null,null,null,null,null,null,null,null,null,null,null,null,"","",""]
[null,null,null,null,null,null,null,null,null,null,null,null,null,null,null,null,null,null,null,null,null,null,null,null,null,null,null,null,"","",""]
[null,null,null,null,null,null,null,null,null,null,null,null,null,null,null,null,null,null,null,null,null,null,null,null,null,null,null,null,"","",""]
[null,null,null,null,null,null,null,null,null,null,null,null,null,null,null,null,null,null,null,null,null,null,null,null,null,null,null,null,"","",""]
[null,null,null,null,null,null,null,null,null,null,null,null,null,null,null,null,null,null,null,null,null,null,null,null,null,null,null,null,"","",""]
[null,null,null,null,null,null,null,null,null,null,null,null,null,null,null,null,null,null,null,null,null,null,null,null,null,null,null,null,"","",""]
[null,null,null,null,null,null,null,null,null,null,null,null,null,null,null,null,null,null,null,null,null,null,null,null,null,null,null,null,"","",""]
[null,null,null,null,null,null,null,null,null,null,null,null,null,null,null,null,null,null,null,null,null,null,null,null,null,null,null,null,"","",""]
[null,null,null,null,null,null,null,null,null,null,null,null,null,null,null,null,null,null,null,null,null,null,null,null,null,null,null,null,{"$f":"IF($A2627=\"\",\"\",$A2627&$C2627)","v":""},{"$f":"IF($A2627=\"\",\"\",$O2627)","v":""},{"$f":"IF($A2627=\"\",\"\",IF(AND(LEFT($P2627,1)=\"5\",RIGHT($P2627,2)<\"99\",RIGHT($P2627,2)>\"19\",$R2627<>\"\"),$P2627,\"\"))","v":""}]
[null,null,null,null,null,null,null,null,null,null,null,null,null,null,null,null,null,null,null,null,null,null,null,null,null,null,null,null,"","",""]
[null,null,null,null,null,null,null,null,null,null,null,null,null,null,null,null,null,null,null,null,null,null,null,null,null,null,null,null,"","",""]
[null,null,null,null,null,null,null,null,null,null,null,null,null,null,null,null,null,null,null,null,null,null,null,null,null,null,null,null,"","",""]
[null,null,null,null,null,null,null,null,null,null,null,null,null,null,null,null,null,null,null,null,null,null,null,null,null,null,null,null,"","",""]
[null,null,null,null,null,null,null,null,null,null,null,null,null,null,null,null,null,null,null,null,null,null,null,null,null,null,null,null,"","",""]
[null,null,null,null,null,null,null,null,null,null,null,null,null,null,null,null,null,null,null,null,null,null,null,null,null,null,null,null,"","",""]
[null,null,null,null,null,null,null,null,null,null,null,null,null,null,null,null,null,null,null,null,null,null,null,null,null,null,null,null,"","",""]
[null,null,null,null,null,null,null,null,null,null,null,null,null,null,null,null,null,null,null,null,null,null,null,null,null,null,null,null,"","",""]
[null,null,null,null,null,null,null,null,null,null,null,null,null,null,null,null,null,null,null,null,null,null,null,null,null,null,null,null,"","",""]
[null,null,null,null,null,null,null,null,null,null,null,null,null,null,null,null,null,null,null,null,null,null,null,null,null,null,null,null,"","",""]
[null,null,null,null,null,null,null,null,null,null,null,null,null,null,null,null,null,null,null,null,null,null,null,null,null,null,null,null,"","",""]
[null,null,null,null,null,null,null,null,null,null,null,null,null,null,null,null,null,null,null,null,null,null,null,null,null,null,null,null,"","",""]
[null,null,null,null,null,null,null,null,null,null,null,null,null,null,null,null,null,null,null,null,null,null,null,null,null,null,null,null,"","",""]
[null,null,null,null,null,null,null,null,null,null,null,null,null,null,null,null,null,null,null,null,null,null,null,null,null,null,null,null,"","",""]
[null,null,null,null,null,null,null,null,null,null,null,null,null,null,null,null,null,null,null,null,null,null,null,null,null,null,null,null,"","",""]
[null,null,null,null,null,null,null,null,null,null,null,null,null,null,null,null,null,null,null,null,null,null,null,null,null,null,null,null,"","",""]
[null,null,null,null,null,null,null,null,null,null,null,null,null,null,null,null,null,null,null,null,null,null,null,null,null,null,null,null,"","",""]
[null,null,null,null,null,null,null,null,null,null,null,null,null,null,null,null,null,null,null,null,null,null,null,null,null,null,null,null,"","",""]
[null,null,null,null,null,null,null,null,null,null,null,null,null,null,null,null,null,null,null,null,null,null,null,null,null,null,null,null,"","",""]
[null,null,null,null,null,null,null,null,null,null,null,null,null,null,null,null,null,null,null,null,null,null,null,null,null,null,null,null,"","",""]
[null,null,null,null,null,null,null,null,null,null,null,null,null,null,null,null,null,null,null,null,null,null,null,null,null,null,null,null,"","",""]
[null,null,null,null,null,null,null,null,null,null,null,null,null,null,null,null,null,null,null,null,null,null,null,null,null,null,null,null,"","",""]
[null,null,null,null,null,null,null,null,null,null,null,null,null,null,null,null,null,null,null,null,null,null,null,null,null,null,null,null,"","",""]
[null,null,null,null,null,null,null,null,null,null,null,null,null,null,null,null,null,null,null,null,null,null,null,null,null,null,null,null,"","",""]
[null,null,null,null,null,null,null,null,null,null,null,null,null,null,null,null,null,null,null,null,null,null,null,null,null,null,null,null,"","",""]
[null,null,null,null,null,null,null,null,null,null,null,null,null,null,null,null,null,null,null,null,null,null,null,null,null,null,null,null,"","",""]
[null,null,null,null,null,null,null,null,null,null,null,null,null,null,null,null,null,null,null,null,null,null,null,null,null,null,null,null,"","",""]
[null,null,null,null,null,null,null,null,null,null,null,null,null,null,null,null,null,null,null,null,null,null,null,null,null,null,null,null,"","",""]
[null,null,null,null,null,null,null,null,null,null,null,null,null,null,null,null,null,null,null,null,null,null,null,null,null,null,null,null,"","",""]
[null,null,null,null,null,null,null,null,null,null,null,null,null,null,null,null,null,null,null,null,null,null,null,null,null,null,null,null,"","",""]
[null,null,null,null,null,null,null,null,null,null,null,null,null,null,null,null,null,null,null,null,null,null,null,null,null,null,null,null,"","",""]
[null,null,null,null,null,null,null,null,null,null,null,null,null,null,null,null,null,null,null,null,null,null,null,null,null,null,null,null,"","",""]
[null,null,null,null,null,null,null,null,null,null,null,null,null,null,null,null,null,null,null,null,null,null,null,null,null,null,null,null,"","",""]
[null,null,null,null,null,null,null,null,null,null,null,null,null,null,null,null,null,null,null,null,null,null,null,null,null,null,null,null,"","",""]
[null,null,null,null,null,null,null,null,null,null,null,null,null,null,null,null,null,null,null,null,null,null,null,null,null,null,null,null,"","",""]
[null,null,null,null,null,null,null,null,null,null,null,null,null,null,null,null,null,null,null,null,null,null,null,null,null,null,null,null,"","",""]
[null,null,null,null,null,null,null,null,null,null,null,null,null,null,null,null,null,null,null,null,null,null,null,null,null,null,null,null,{"$f":"IF($A2947=\"\",\"\",$A2947&$C2947)","v":""},{"$f":"IF($A2947=\"\",\"\",$O2947)","v":""},{"$f":"IF($A2947=\"\",\"\",IF(AND(LEFT($P2947,1)=\"5\",RIGHT($P2947,2)<\"99\",RIGHT($P2947,2)>\"19\",$R2947<>\"\"),$P2947,\"\"))","v":""}]
[null,null,null,null,null,null,null,null,null,null,null,null,null,null,null,null,null,null,null,null,null,null,null,null,null,null,null,null,"","",""]
[null,null,null,null,null,null,null,null,null,null,null,null,null,null,null,null,null,null,null,null,null,null,null,null,null,null,null,null,"","",""]
[null,null,null,null,null,null,null,null,null,null,null,null,null,null,null,null,null,null,null,null,null,null,null,null,null,null,null,null,"","",""]
[null,null,null,null,null,null,null,null,null,null,null,null,null,null,null,null,null,null,null,null,null,null,null,null,null,null,null,null,"","",""]
[null,null,null,null,null,null,null,null,null,null,null,null,null,null,null,null,null,null,null,null,null,null,null,null,null,null,null,null,"","",""]
[null,null,null,null,null,null,null,null,null,null,null,null,null,null,null,null,null,null,null,null,null,null,null,null,null,null,null,null,"","",""]
[null,null,null,null,null,null,null,null,null,null,null,null,null,null,null,null,null,null,null,null,null,null,null,null,null,null,null,null,"","",""]
[null,null,null,null,null,null,null,null,null,null,null,null,null,null,null,null,null,null,null,null,null,null,null,null,null,null,null,null,"","",""]
[null,null,null,null,null,null,null,null,null,null,null,null,null,null,null,null,null,null,null,null,null,null,null,null,null,null,null,null,"","",""]
[null,null,null,null,null,null,null,null,null,null,null,null,null,null,null,null,null,null,null,null,null,null,null,null,null,null,null,null,"","",""]
[null,null,null,null,null,null,null,null,null,null,null,null,null,null,null,null,null,null,null,null,null,null,null,null,null,null,null,null,"","",""]
[null,null,null,null,null,null,null,null,null,null,null,null,null,null,null,null,null,null,null,null,null,null,null,null,null,null,null,null,"","",""]
[null,null,null,null,null,null,null,null,null,null,null,null,null,null,null,null,null,null,null,null,null,null,null,null,null,null,null,null,"","",""]
[null,null,null,null,null,null,null,null,null,null,null,null,null,null,null,null,null,null,null,null,null,null,null,null,null,null,null,null,"","",""]
[null,null,null,null,null,null,null,null,null,null,null,null,null,null,null,null,null,null,null,null,null,null,null,null,null,null,null,null,{"$f":"IF($A3075=\"\",\"\",$A3075&$C3075)","v":""},{"$f":"IF($A3075=\"\",\"\",$O3075)","v":""},{"$f":"IF($A3075=\"\",\"\",IF(AND(LEFT($P3075,1)=\"5\",RIGHT($P3075,2)<\"99\",RIGHT($P3075,2)>\"19\",$R3075<>\"\"),$P3075,\"\"))","v":""}]
[null,null,null,null,null,null,null,null,null,null,null,null,null,null,null,null,null,null,null,null,null,null,null,null,null,null,null,null,"","",""]
[null,null,null,null,null,null,null,null,null,null,null,null,null,null,null,null,null,null,null,null,null,null,null,null,null,null,null,null,"","",""]
[null,null,null,null,null,null,null,null,null,null,null,null,null,null,null,null,null,null,null,null,null,null,null,null,null,null,null,null,"","",""]
[null,null,null,null,null,null,null,null,null,null,null,null,null,null,null,null,null,null,null,null,null,null,null,null,null,null,null,null,"","",""]
[null,null,null,null,null,null,null,null,null,null,null,null,null,null,null,null,null,null,null,null,null,null,null,null,null,null,null,null,"","",""]
[null,null,null,null,null,null,null,null,null,null,null,null,null,null,null,null,null,null,null,null,null,null,null,null,null,null,null,null,"","",""]
[null,null,null,null,null,null,null,null,null,null,null,null,null,null,null,null,null,null,null,null,null,null,null,null,null,null,null,null,"","",""]
[null,null,null,null,null,null,null,null,null,null,null,null,null,null,null,null,null,null,null,null,null,null,null,null,null,null,null,null,"","",""]
[null,null,null,null,null,null,null,null,null,null,null,null,null,null,null,null,null,null,null,null,null,null,null,null,null,null,null,null,"","",""]
[null,null,null,null,null,null,null,null,null,null,null,null,null,null,null,null,null,null,null,null,null,null,null,null,null,null,null,null,"","",""]
[null,null,null,null,null,null,null,null,null,null,null,null,null,null,null,null,null,null,null,null,null,null,null,null,null,null,null,null,"","",""]
[null,null,null,null,null,null,null,null,null,null,null,null,null,null,null,null,null,null,null,null,null,null,null,null,null,null,null,null,"","",""]
[null,null,null,null,null,null,null,null,null,null,null,null,null,null,null,null,null,null,null,null,null,null,null,null,null,null,null,null,"","",""]
[null,null,null,null,null,null,null,null,null,null,null,null,null,null,null,null,null,null,null,null,null,null,null,null,null,null,null,null,"","",""]
[null,null,null,null,null,null,null,null,null,null,null,null,null,null,null,null,null,null,null,null,null,null,null,null,null,null,null,null,"","",""]
[null,null,null,null,null,null,null,null,null,null,null,null,null,null,null,null,null,null,null,null,null,null,null,null,null,null,null,null,"","",""]
[null,null,null,null,null,null,null,null,null,null,null,null,null,null,null,null,null,null,null,null,null,null,null,null,null,null,null,null,"","",""]
[null,null,null,null,null,null,null,null,null,null,null,null,null,null,null,null,null,null,null,null,null,null,null,null,null,null,null,null,"","",""]
[null,null,null,null,null,null,null,null,null,null,null,null,null,null,null,null,null,null,null,null,null,null,null,null,null,null,null,null,"","",""]
[null,null,null,null,null,null,null,null,null,null,null,null,null,null,null,null,null,null,null,null,null,null,null,null,null,null,null,null,"","",""]
[null,null,null,null,null,null,null,null,null,null,null,null,null,null,null,null,null,null,null,null,null,null,null,null,null,null,null,null,"","",""]
[null,null,null,null,null,null,null,null,null,null,null,null,null,null,null,null,null,null,null,null,null,null,null,null,null,null,null,null,{"$f":"IF($A3267=\"\",\"\",$A3267&$C3267)","v":""},{"$f":"IF($A3267=\"\",\"\",$O3267)","v":""},{"$f":"IF($A3267=\"\",\"\",IF(AND(LEFT($P3267,1)=\"5\",RIGHT($P3267,2)<\"99\",RIGHT($P3267,2)>\"19\",$R3267<>\"\"),$P3267,\"\"))","v":""}]
[null,null,null,null,null,null,null,null,null,null,null,null,null,null,null,null,null,null,null,null,null,null,null,null,null,null,null,null,"","",""]
[null,null,null,null,null,null,null,null,null,null,null,null,null,null,null,null,null,null,null,null,null,null,null,null,null,null,null,null,"","",""]
[null,null,null,null,null,null,null,null,null,null,null,null,null,null,null,null,null,null,null,null,null,null,null,null,null,null,null,null,"","",""]
[null,null,null,null,null,null,null,null,null,null,null,null,null,null,null,null,null,null,null,null,null,null,null,null,null,null,null,null,"","",""]
[null,null,null,null,null,null,null,null,null,null,null,null,null,null,null,null,null,null,null,null,null,null,null,null,null,null,null,null,"","",""]
[null,null,null,null,null,null,null,null,null,null,null,null,null,null,null,null,null,null,null,null,null,null,null,null,null,null,null,null,"","",""]
[null,null,null,null,null,null,null,null,null,null,null,null,null,null,null,null,null,null,null,null,null,null,null,null,null,null,null,null,"","",""]
[null,null,null,null,null,null,null,null,null,null,null,null,null,null,null,null,null,null,null,null,null,null,null,null,null,null,null,null,"","",""]
[null,null,null,null,null,null,null,null,null,null,null,null,null,null,null,null,null,null,null,null,null,null,null,null,null,null,null,null,"","",""]
[null,null,null,null,null,null,null,null,null,null,null,null,null,null,null,null,null,null,null,null,null,null,null,null,null,null,null,null,"","",""]
[null,null,null,null,null,null,null,null,null,null,null,null,null,null,null,null,null,null,null,null,null,null,null,null,null,null,null,null,"","",""]
[null,null,null,null,null,null,null,null,null,null,null,null,null,null,null,null,null,null,null,null,null,null,null,null,null,null,null,null,"","",""]
[null,null,null,null,null,null,null,null,null,null,null,null,null,null,null,null,null,null,null,null,null,null,null,null,null,null,null,null,"","",""]
[null,null,null,null,null,null,null,null,null,null,null,null,null,null,null,null,null,null,null,null,null,null,null,null,null,null,null,null,"","",""]
[null,null,null,null,null,null,null,null,null,null,null,null,null,null,null,null,null,null,null,null,null,null,null,null,null,null,null,null,"","",""]
[null,null,null,null,null,null,null,null,null,null,null,null,null,null,null,null,null,null,null,null,null,null,null,null,null,null,null,null,"","",""]
[null,null,null,null,null,null,null,null,null,null,null,null,null,null,null,null,null,null,null,null,null,null,null,null,null,null,null,null,"","",""]
[null,null,null,null,null,null,null,null,null,null,null,null,null,null,null,null,null,null,null,null,null,null,null,null,null,null,null,null,"","",""]
[null,null,null,null,null,null,null,null,null,null,null,null,null,null,null,null,null,null,null,null,null,null,null,null,null,null,null,null,"","",""]
[null,null,null,null,null,null,null,null,null,null,null,null,null,null,null,null,null,null,null,null,null,null,null,null,null,null,null,null,"","",""]
[null,null,null,null,null,null,null,null,null,null,null,null,null,null,null,null,null,null,null,null,null,null,null,null,null,null,null,null,"","",""]
[null,null,null,null,null,null,null,null,null,null,null,null,null,null,null,null,null,null,null,null,null,null,null,null,null,null,null,null,"","",""]
[null,null,null,null,null,null,null,null,null,null,null,null,null,null,null,null,null,null,null,null,null,null,null,null,null,null,null,null,"","",""]
[null,null,null,null,null,null,null,null,null,null,null,null,null,null,null,null,null,null,null,null,null,null,null,null,null,null,null,null,"","",""]
[null,null,null,null,null,null,null,null,null,null,null,null,null,null,null,null,null,null,null,null,null,null,null,null,null,null,null,null,"","",""]
[null,null,null,null,null,null,null,null,null,null,null,null,null,null,null,null,null,null,null,null,null,null,null,null,null,null,null,null,"","",""]
[null,null,null,null,null,null,null,null,null,null,null,null,null,null,null,null,null,null,null,null,null,null,null,null,null,null,null,null,"","",""]
[null,null,null,null,null,null,null,null,null,null,null,null,null,null,null,null,null,null,null,null,null,null,null,null,null,null,null,null,"","",""]
[null,null,null,null,null,null,null,null,null,null,null,null,null,null,null,null,null,null,null,null,null,null,null,null,null,null,null,null,"","",""]
[null,null,null,null,null,null,null,null,null,null,null,null,null,null,null,null,null,null,null,null,null,null,null,null,null,null,null,null,"","",""]
[null,null,null,null,null,null,null,null,null,null,null,null,null,null,null,null,null,null,null,null,null,null,null,null,null,null,null,null,"","",""]
[null,null,null,null,null,null,null,null,null,null,null,null,null,null,null,null,null,null,null,null,null,null,null,null,null,null,null,null,"","",""]
[null,null,null,null,null,null,null,null,null,null,null,null,null,null,null,null,null,null,null,null,null,null,null,null,null,null,null,null,"","",""]
[null,null,null,null,null,null,null,null,null,null,null,null,null,null,null,null,null,null,null,null,null,null,null,null,null,null,null,null,"","",""]
[null,null,null,null,null,null,null,null,null,null,null,null,null,null,null,null,null,null,null,null,null,null,null,null,null,null,null,null,"","",""]
[null,null,null,null,null,null,null,null,null,null,null,null,null,null,null,null,null,null,null,null,null,null,null,null,null,null,null,null,"","",""]
[null,null,null,null,null,null,null,null,null,null,null,null,null,null,null,null,null,null,null,null,null,null,null,null,null,null,null,null,"","",""]
[null,null,null,null,null,null,null,null,null,null,null,null,null,null,null,null,null,null,null,null,null,null,null,null,null,null,null,null,"","",""]
[null,null,null,null,null,null,null,null,null,null,null,null,null,null,null,null,null,null,null,null,null,null,null,null,null,null,null,null,"","",""]
[null,null,null,null,null,null,null,null,null,null,null,null,null,null,null,null,null,null,null,null,null,null,null,null,null,null,null,null,"","",""]
[null,null,null,null,null,null,null,null,null,null,null,null,null,null,null,null,null,null,null,null,null,null,null,null,null,null,null,null,"","",""]
[null,null,null,null,null,null,null,null,null,null,null,null,null,null,null,null,null,null,null,null,null,null,null,null,null,null,null,null,"","",""]
[null,null,null,null,null,null,null,null,null,null,null,null,null,null,null,null,null,null,null,null,null,null,null,null,null,null,null,null,{"$f":"IF($A3651=\"\",\"\",$A3651&$C3651)","v":""},{"$f":"IF($A3651=\"\",\"\",$O3651)","v":""},{"$f":"IF($A3651=\"\",\"\",IF(AND(LEFT($P3651,1)=\"5\",RIGHT($P3651,2)<\"99\",RIGHT($P3651,2)>\"19\",$R3651<>\"\"),$P3651,\"\"))","v":""}]
[null,null,null,null,null,null,null,null,null,null,null,null,null,null,null,null,null,null,null,null,null,null,null,null,null,null,null,null,"","",""]
[null,null,null,null,null,null,null,null,null,null,null,null,null,null,null,null,null,null,null,null,null,null,null,null,null,null,null,null,"","",""]
[null,null,null,null,null,null,null,null,null,null,null,null,null,null,null,null,null,null,null,null,null,null,null,null,null,null,null,null,"","",""]
[null,null,null,null,null,null,null,null,null,null,null,null,null,null,null,null,null,null,null,null,null,null,null,null,null,null,null,null,"","",""]
[null,null,null,null,null,null,null,null,null,null,null,null,null,null,null,null,null,null,null,null,null,null,null,null,null,null,null,null,"","",""]
[null,null,null,null,null,null,null,null,null,null,null,null,null,null,null,null,null,null,null,null,null,null,null,null,null,null,null,null,"","",""]
[null,null,null,null,null,null,null,null,null,null,null,null,null,null,null,null,null,null,null,null,null,null,null,null,null,null,null,null,"","",""]
[null,null,null,null,null,null,null,null,null,null,null,null,null,null,null,null,null,null,null,null,null,null,null,null,null,null,null,null,"","",""]
[null,null,null,null,null,null,null,null,null,null,null,null,null,null,null,null,null,null,null,null,null,null,null,null,null,null,null,null,"","",""]
[null,null,null,null,null,null,null,null,null,null,null,null,null,null,null,null,null,null,null,null,null,null,null,null,null,null,null,null,"","",""]
[null,null,null,null,null,null,null,null,null,null,null,null,null,null,null,null,null,null,null,null,null,null,null,null,null,null,null,null,"","",""]
[null,null,null,null,null,null,null,null,null,null,null,null,null,null,null,null,null,null,null,null,null,null,null,null,null,null,null,null,"","",""]
[null,null,null,null,null,null,null,null,null,null,null,null,null,null,null,null,null,null,null,null,null,null,null,null,null,null,null,null,"","",""]
[null,null,null,null,null,null,null,null,null,null,null,null,null,null,null,null,null,null,null,null,null,null,null,null,null,null,null,null,"","",""]
[null,null,null,null,null,null,null,null,null,null,null,null,null,null,null,null,null,null,null,null,null,null,null,null,null,null,null,null,{"$f":"IF($A3779=\"\",\"\",$A3779&$C3779)","v":""},{"$f":"IF($A3779=\"\",\"\",$O3779)","v":""},{"$f":"IF($A3779=\"\",\"\",IF(AND(LEFT($P3779,1)=\"5\",RIGHT($P3779,2)<\"99\",RIGHT($P3779,2)>\"19\",$R3779<>\"\"),$P3779,\"\"))","v":""}]
[null,null,null,null,null,null,null,null,null,null,null,null,null,null,null,null,null,null,null,null,null,null,null,null,null,null,null,null,"","",""]
[null,null,null,null,null,null,null,null,null,null,null,null,null,null,null,null,null,null,null,null,null,null,null,null,null,null,null,null,"","",""]
[null,null,null,null,null,null,null,null,null,null,null,null,null,null,null,null,null,null,null,null,null,null,null,null,null,null,null,null,"","",""]
[null,null,null,null,null,null,null,null,null,null,null,null,null,null,null,null,null,null,null,null,null,null,null,null,null,null,null,null,"","",""]
[null,null,null,null,null,null,null,null,null,null,null,null,null,null,null,null,null,null,null,null,null,null,null,null,null,null,null,null,"","",""]
[null,null,null,null,null,null,null,null,null,null,null,null,null,null,null,null,null,null,null,null,null,null,null,null,null,null,null,null,"","",""]
[null,null,null,null,null,null,null,null,null,null,null,null,null,null,null,null,null,null,null,null,null,null,null,null,null,null,null,null,"","",""]
[null,null,null,null,null,null,null,null,null,null,null,null,null,null,null,null,null,null,null,null,null,null,null,null,null,null,null,null,"","",""]
[null,null,null,null,null,null,null,null,null,null,null,null,null,null,null,null,null,null,null,null,null,null,null,null,null,null,null,null,"","",""]
[null,null,null,null,null,null,null,null,null,null,null,null,null,null,null,null,null,null,null,null,null,null,null,null,null,null,null,null,"","",""]
[null,null,null,null,null,null,null,null,null,null,null,null,null,null,null,null,null,null,null,null,null,null,null,null,null,null,null,null,"","",""]
[null,null,null,null,null,null,null,null,null,null,null,null,null,null,null,null,null,null,null,null,null,null,null,null,null,null,null,null,"","",""]
[null,null,null,null,null,null,null,null,null,null,null,null,null,null,null,null,null,null,null,null,null,null,null,null,null,null,null,null,"","",""]
[null,null,null,null,null,null,null,null,null,null,null,null,null,null,null,null,null,null,null,null,null,null,null,null,null,null,null,null,"","",""]
[null,null,null,null,null,null,null,null,null,null,null,null,null,null,null,null,null,null,null,null,null,null,null,null,null,null,null,null,"","",""]
[null,null,null,null,null,null,null,null,null,null,null,null,null,null,null,null,null,null,null,null,null,null,null,null,null,null,null,null,"","",""]
[null,null,null,null,null,null,null,null,null,null,null,null,null,null,null,null,null,null,null,null,null,null,null,null,null,null,null,null,"","",""]
[null,null,null,null,null,null,null,null,null,null,null,null,null,null,null,null,null,null,null,null,null,null,null,null,null,null,null,null,"","",""]
[null,null,null,null,null,null,null,null,null,null,null,null,null,null,null,null,null,null,null,null,null,null,null,null,null,null,null,null,"","",""]
[null,null,null,null,null,null,null,null,null,null,null,null,null,null,null,null,null,null,null,null,null,null,null,null,null,null,null,null,"","",""]
[null,null,null,null,null,null,null,null,null,null,null,null,null,null,null,null,null,null,null,null,null,null,null,null,null,null,null,null,"","",""]
[null,null,null,null,null,null,null,null,null,null,null,null,null,null,null,null,null,null,null,null,null,null,null,null,null,null,null,null,{"$f":"IF($A3971=\"\",\"\",$A3971&$C3971)","v":""},{"$f":"IF($A3971=\"\",\"\",$O3971)","v":""},{"$f":"IF($A3971=\"\",\"\",IF(AND(LEFT($P3971,1)=\"5\",RIGHT($P3971,2)<\"99\",RIGHT($P3971,2)>\"19\",$R3971<>\"\"),$P3971,\"\"))","v":""}]
[null,null,null,null,null,null,null,null,null,null,null,null,null,null,null,null,null,null,null,null,null,null,null,null,null,null,null,null,"","",""]
[null,null,null,null,null,null,null,null,null,null,null,null,null,null,null,null,null,null,null,null,null,null,null,null,null,null,null,null,"","",""]
[null,null,null,null,null,null,null,null,null,null,null,null,null,null,null,null,null,null,null,null,null,null,null,null,null,null,null,null,"","",""]
[null,null,null,null,null,null,null,null,null,null,null,null,null,null,null,null,null,null,null,null,null,null,null,null,null,null,null,null,"","",""]
[null,null,null,null,null,null,null,null,null,null,null,null,null,null,null,null,null,null,null,null,null,null,null,null,null,null,null,null,"","",""]
[null,null,null,null,null,null,null,null,null,null,null,null,null,null,null,null,null,null,null,null,null,null,null,null,null,null,null,null,"","",""]
[null,null,null,null,null,null,null,null,null,null,null,null,null,null,null,null,null,null,null,null,null,null,null,null,null,null,null,null,"","",""]
[null,null,null,null,null,null,null,null,null,null,null,null,null,null,null,null,null,null,null,null,null,null,null,null,null,null,null,null,"","",""]
[null,null,null,null,null,null,null,null,null,null,null,null,null,null,null,null,null,null,null,null,null,null,null,null,null,null,null,null,"","",""]
[null,null,null,null,null,null,null,null,null,null,null,null,null,null,null,null,null,null,null,null,null,null,null,null,null,null,null,null,"","",""]
[null,null,null,null,null,null,null,null,null,null,null,null,null,null,null,null,null,null,null,null,null,null,null,null,null,null,null,null,"","",""]
[null,null,null,null,null,null,null,null,null,null,null,null,null,null,null,null,null,null,null,null,null,null,null,null,null,null,null,null,"","",""]
[null,null,null,null,null,null,null,null,null,null,null,null,null,null,null,null,null,null,null,null,null,null,null,null,null,null,null,null,"","",""]
[null,null,null,null,null,null,null,null,null,null,null,null,null,null,null,null,null,null,null,null,null,null,null,null,null,null,null,null,"","",""]
[null,null,null,null,null,null,null,null,null,null,null,null,null,null,null,null,null,null,null,null,null,null,null,null,null,null,null,null,{"$f":"IF($A4099=\"\",\"\",$A4099&$C4099)","v":""},{"$f":"IF($A4099=\"\",\"\",$O4099)","v":""},{"$f":"IF($A4099=\"\",\"\",IF(AND(LEFT($P4099,1)=\"5\",RIGHT($P4099,2)<\"99\",RIGHT($P4099,2)>\"19\",$R4099<>\"\"),$P4099,\"\"))","v":""}]
[null,null,null,null,null,null,null,null,null,null,null,null,null,null,null,null,null,null,null,null,null,null,null,null,null,null,null,null,"","",""]
[null,null,null,null,null,null,null,null,null,null,null,null,null,null,null,null,null,null,null,null,null,null,null,null,null,null,null,null,"","",""]
[null,null,null,null,null,null,null,null,null,null,null,null,null,null,null,null,null,null,null,null,null,null,null,null,null,null,null,null,"","",""]
[null,null,null,null,null,null,null,null,null,null,null,null,null,null,null,null,null,null,null,null,null,null,null,null,null,null,null,null,"","",""]
[null,null,null,null,null,null,null,null,null,null,null,null,null,null,null,null,null,null,null,null,null,null,null,null,null,null,null,null,"","",""]
[null,null,null,null,null,null,null,null,null,null,null,null,null,null,null,null,null,null,null,null,null,null,null,null,null,null,null,null,"","",""]
[null,null,null,null,null,null,null,null,null,null,null,null,null,null,null,null,null,null,null,null,null,null,null,null,null,null,null,null,"","",""]
[null,null,null,null,null,null,null,null,null,null,null,null,null,null,null,null,null,null,null,null,null,null,null,null,null,null,null,null,"","",""]
[null,null,null,null,null,null,null,null,null,null,null,null,null,null,null,null,null,null,null,null,null,null,null,null,null,null,null,null,"","",""]
[null,null,null,null,null,null,null,null,null,null,null,null,null,null,null,null,null,null,null,null,null,null,null,null,null,null,null,null,"","",""]
[null,null,null,null,null,null,null,null,null,null,null,null,null,null,null,null,null,null,null,null,null,null,null,null,null,null,null,null,"","",""]
[null,null,null,null,null,null,null,null,null,null,null,null,null,null,null,null,null,null,null,null,null,null,null,null,null,null,null,null,"","",""]
[null,null,null,null,null,null,null,null,null,null,null,null,null,null,null,null,null,null,null,null,null,null,null,null,null,null,null,null,"","",""]
[null,null,null,null,null,null,null,null,null,null,null,null,null,null,null,null,null,null,null,null,null,null,null,null,null,null,null,null,"","",""]
[null,null,null,null,null,null,null,null,null,null,null,null,null,null,null,null,null,null,null,null,null,null,null,null,null,null,null,null,"","",""]
[null,null,null,null,null,null,null,null,null,null,null,null,null,null,null,null,null,null,null,null,null,null,null,null,null,null,null,null,"","",""]
[null,null,null,null,null,null,null,null,null,null,null,null,null,null,null,null,null,null,null,null,null,null,null,null,null,null,null,null,"","",""]
[null,null,null,null,null,null,null,null,null,null,null,null,null,null,null,null,null,null,null,null,null,null,null,null,null,null,null,null,"","",""]
[null,null,null,null,null,null,null,null,null,null,null,null,null,null,null,null,null,null,null,null,null,null,null,null,null,null,null,null,"","",""]
[null,null,null,null,null,null,null,null,null,null,null,null,null,null,null,null,null,null,null,null,null,null,null,null,null,null,null,null,"","",""]
[null,null,null,null,null,null,null,null,null,null,null,null,null,null,null,null,null,null,null,null,null,null,null,null,null,null,null,null,"","",""]
[null,null,null,null,null,null,null,null,null,null,null,null,null,null,null,null,null,null,null,null,null,null,null,null,null,null,null,null,"","",""]
[null,null,null,null,null,null,null,null,null,null,null,null,null,null,null,null,null,null,null,null,null,null,null,null,null,null,null,null,"","",""]
[null,null,null,null,null,null,null,null,null,null,null,null,null,null,null,null,null,null,null,null,null,null,null,null,null,null,null,null,"","",""]
[null,null,null,null,null,null,null,null,null,null,null,null,null,null,null,null,null,null,null,null,null,null,null,null,null,null,null,null,"","",""]
[null,null,null,null,null,null,null,null,null,null,null,null,null,null,null,null,null,null,null,null,null,null,null,null,null,null,null,null,"","",""]
[null,null,null,null,null,null,null,null,null,null,null,null,null,null,null,null,null,null,null,null,null,null,null,null,null,null,null,null,"","",""]
[null,null,null,null,null,null,null,null,null,null,null,null,null,null,null,null,null,null,null,null,null,null,null,null,null,null,null,null,"","",""]
[null,null,null,null,null,null,null,null,null,null,null,null,null,null,null,null,null,null,null,null,null,null,null,null,null,null,null,null,"","",""]
[null,null,null,null,null,null,null,null,null,null,null,null,null,null,null,null,null,null,null,null,null,null,null,null,null,null,null,null,"","",""]
[null,null,null,null,null,null,null,null,null,null,null,null,null,null,null,null,null,null,null,null,null,null,null,null,null,null,null,null,"","",""]
[null,null,null,null,null,null,null,null,null,null,null,null,null,null,null,null,null,null,null,null,null,null,null,null,null,null,null,null,"","",""]
[null,null,null,null,null,null,null,null,null,null,null,null,null,null,null,null,null,null,null,null,null,null,null,null,null,null,null,null,"","",""]
[null,null,null,null,null,null,null,null,null,null,null,null,null,null,null,null,null,null,null,null,null,null,null,null,null,null,null,null,"","",""]
[null,null,null,null,null,null,null,null,null,null,null,null,null,null,null,null,null,null,null,null,null,null,null,null,null,null,null,null,"","",""]
[null,null,null,null,null,null,null,null,null,null,null,null,null,null,null,null,null,null,null,null,null,null,null,null,null,null,null,null,"","",""]
[null,null,null,null,null,null,null,null,null,null,null,null,null,null,null,null,null,null,null,null,null,null,null,null,null,null,null,null,"","",""]
[null,null,null,null,null,null,null,null,null,null,null,null,null,null,null,null,null,null,null,null,null,null,null,null,null,null,null,null,"","",""]
[null,null,null,null,null,null,null,null,null,null,null,null,null,null,null,null,null,null,null,null,null,null,null,null,null,null,null,null,"","",""]
[null,null,null,null,null,null,null,null,null,null,null,null,null,null,null,null,null,null,null,null,null,null,null,null,null,null,null,null,"","",""]
[null,null,null,null,null,null,null,null,null,null,null,null,null,null,null,null,null,null,null,null,null,null,null,null,null,null,null,null,"","",""]
[null,null,null,null,null,null,null,null,null,null,null,null,null,null,null,null,null,null,null,null,null,null,null,null,null,null,null,null,"","",""]
[null,null,null,null,null,null,null,null,null,null,null,null,null,null,null,null,null,null,null,null,null,null,null,null,null,null,null,null,"","",""]
[null,null,null,null,null,null,null,null,null,null,null,null,null,null,null,null,null,null,null,null,null,null,null,null,null,null,null,null,"","",""]
[null,null,null,null,null,null,null,null,null,null,null,null,null,null,null,null,null,null,null,null,null,null,null,null,null,null,null,null,"","",""]
[null,null,null,null,null,null,null,null,null,null,null,null,null,null,null,null,null,null,null,null,null,null,null,null,null,null,null,null,"","",""]
[null,null,null,null,null,null,null,null,null,null,null,null,null,null,null,null,null,null,null,null,null,null,null,null,null,null,null,null,"","",""]
[null,null,null,null,null,null,null,null,null,null,null,null,null,null,null,null,null,null,null,null,null,null,null,null,null,null,null,null,"","",""]
[null,null,null,null,null,null,null,null,null,null,null,null,null,null,null,null,null,null,null,null,null,null,null,null,null,null,null,null,"","",""]
[null,null,null,null,null,null,null,null,null,null,null,null,null,null,null,null,null,null,null,null,null,null,null,null,null,null,null,null,"","",""]
[null,null,null,null,null,null,null,null,null,null,null,null,null,null,null,null,null,null,null,null,null,null,null,null,null,null,null,null,"","",""]
[null,null,null,null,null,null,null,null,null,null,null,null,null,null,null,null,null,null,null,null,null,null,null,null,null,null,null,null,"","",""]
[null,null,null,null,null,null,null,null,null,null,null,null,null,null,null,null,null,null,null,null,null,null,null,null,null,null,null,null,"","",""]
[null,null,null,null,null,null,null,null,null,null,null,null,null,null,null,null,null,null,null,null,null,null,null,null,null,null,null,null,"","",""]
[null,null,null,null,null,null,null,null,null,null,null,null,null,null,null,null,null,null,null,null,null,null,null,null,null,null,null,null,"","",""]
[null,null,null,null,null,null,null,null,null,null,null,null,null,null,null,null,null,null,null,null,null,null,null,null,null,null,null,null,"","",""]
[null,null,null,null,null,null,null,null,null,null,null,null,null,null,null,null,null,null,null,null,null,null,null,null,null,null,null,null,"","",""]
[null,null,null,null,null,null,null,null,null,null,null,null,null,null,null,null,null,null,null,null,null,null,null,null,null,null,null,null,{"$f":"IF($A4611=\"\",\"\",$A4611&$C4611)","v":""},{"$f":"IF($A4611=\"\",\"\",$O4611)","v":""},{"$f":"IF($A4611=\"\",\"\",IF(AND(LEFT($P4611,1)=\"5\",RIGHT($P4611,2)<\"99\",RIGHT($P4611,2)>\"19\",$R4611<>\"\"),$P4611,\"\"))","v":""}]
[null,null,null,null,null,null,null,null,null,null,null,null,null,null,null,null,null,null,null,null,null,null,null,null,null,null,null,null,"","",""]
[null,null,null,null,null,null,null,null,null,null,null,null,null,null,null,null,null,null,null,null,null,null,null,null,null,null,null,null,"","",""]
[null,null,null,null,null,null,null,null,null,null,null,null,null,null,null,null,null,null,null,null,null,null,null,null,null,null,null,null,"","",""]
[null,null,null,null,null,null,null,null,null,null,null,null,null,null,null,null,null,null,null,null,null,null,null,null,null,null,null,null,"","",""]
[null,null,null,null,null,null,null,null,null,null,null,null,null,null,null,null,null,null,null,null,null,null,null,null,null,null,null,null,"","",""]
[null,null,null,null,null,null,null,null,null,null,null,null,null,null,null,null,null,null,null,null,null,null,null,null,null,null,null,null,"","",""]
[null,null,null,null,null,null,null,null,null,null,null,null,null,null,null,null,null,null,null,null,null,null,null,null,null,null,null,null,{"$f":"IF($A4675=\"\",\"\",$A4675&$C4675)","v":""},{"$f":"IF($A4675=\"\",\"\",$O4675)","v":""},{"$f":"IF($A4675=\"\",\"\",IF(AND(LEFT($P4675,1)=\"5\",RIGHT($P4675,2)<\"99\",RIGHT($P4675,2)>\"19\",$R4675<>\"\"),$P4675,\"\"))","v":""}]
[null,null,null,null,null,null,null,null,null,null,null,null,null,null,null,null,null,null,null,null,null,null,null,null,null,null,null,null,"","",""]
[null,null,null,null,null,null,null,null,null,null,null,null,null,null,null,null,null,null,null,null,null,null,null,null,null,null,null,null,"","",""]
[null,null,null,null,null,null,null,null,null,null,null,null,null,null,null,null,null,null,null,null,null,null,null,null,null,null,null,null,"","",""]
[null,null,null,null,null,null,null,null,null,null,null,null,null,null,null,null,null,null,null,null,null,null,null,null,null,null,null,null,"","",""]
[null,null,null,null,null,null,null,null,null,null,null,null,null,null,null,null,null,null,null,null,null,null,null,null,null,null,null,null,"","",""]
[null,null,null,null,null,null,null,null,null,null,null,null,null,null,null,null,null,null,null,null,null,null,null,null,null,null,null,null,"","",""]
[null,null,null,null,null,null,null,null,null,null,null,null,null,null,null,null,null,null,null,null,null,null,null,null,null,null,null,null,"","",""]
[null,null,null,null,null,null,null,null,null,null,null,null,null,null,null,null,null,null,null,null,null,null,null,null,null,null,null,null,"","",""]
[null,null,null,null,null,null,null,null,null,null,null,null,null,null,null,null,null,null,null,null,null,null,null,null,null,null,null,null,"","",""]
[null,null,null,null,null,null,null,null,null,null,null,null,null,null,null,null,null,null,null,null,null,null,null,null,null,null,null,null,"","",""]
[null,null,null,null,null,null,null,null,null,null,null,null,null,null,null,null,null,null,null,null,null,null,null,null,null,null,null,null,"","",""]
[null,null,null,null,null,null,null,null,null,null,null,null,null,null,null,null,null,null,null,null,null,null,null,null,null,null,null,null,"","",""]
[null,null,null,null,null,null,null,null,null,null,null,null,null,null,null,null,null,null,null,null,null,null,null,null,null,null,null,null,"","",""]
[null,null,null,null,null,null,null,null,null,null,null,null,null,null,null,null,null,null,null,null,null,null,null,null,null,null,null,null,"","",""]
[null,null,null,null,null,null,null,null,null,null,null,null,null,null,null,null,null,null,null,null,null,null,null,null,null,null,null,null,"","",""]
[null,null,null,null,null,null,null,null,null,null,null,null,null,null,null,null,null,null,null,null,null,null,null,null,null,null,null,null,"","",""]
[null,null,null,null,null,null,null,null,null,null,null,null,null,null,null,null,null,null,null,null,null,null,null,null,null,null,null,null,"","",""]
[null,null,null,null,null,null,null,null,null,null,null,null,null,null,null,null,null,null,null,null,null,null,null,null,null,null,null,null,"","",""]
[null,null,null,null,null,null,null,null,null,null,null,null,null,null,null,null,null,null,null,null,null,null,null,null,null,null,null,null,"","",""]
[null,null,null,null,null,null,null,null,null,null,null,null,null,null,null,null,null,null,null,null,null,null,null,null,null,null,null,null,"","",""]
[null,null,null,null,null,null,null,null,null,null,null,null,null,null,null,null,null,null,null,null,null,null,null,null,null,null,null,null,"","",""]
[null,null,null,null,null,null,null,null,null,null,null,null,null,null,null,null,null,null,null,null,null,null,null,null,null,null,null,null,"","",""]
[null,null,null,null,null,null,null,null,null,null,null,null,null,null,null,null,null,null,null,null,null,null,null,null,null,null,null,null,"","",""]
[null,null,null,null,null,null,null,null,null,null,null,null,null,null,null,null,null,null,null,null,null,null,null,null,null,null,null,null,"","",""]
[null,null,null,null,null,null,null,null,null,null,null,null,null,null,null,null,null,null,null,null,null,null,null,null,null,null,null,null,"","",""]
[null,null,null,null,null,null,null,null,null,null,null,null,null,null,null,null,null,null,null,null,null,null,null,null,null,null,null,null,"","",""]
[null,null,null,null,null,null,null,null,null,null,null,null,null,null,null,null,null,null,null,null,null,null,null,null,null,null,null,null,"","",""]
[null,null,null,null,null,null,null,null,null,null,null,null,null,null,null,null,null,null,null,null,null,null,null,null,null,null,null,null,"","",""]
[null,null,null,null,null,null,null,null,null,null,null,null,null,null,null,null,null,null,null,null,null,null,null,null,null,null,null,null,"","",""]
[null,null,null,null,null,null,null,null,null,null,null,null,null,null,null,null,null,null,null,null,null,null,null,null,null,null,null,null,"","",""]
[null,null,null,null,null,null,null,null,null,null,null,null,null,null,null,null,null,null,null,null,null,null,null,null,null,null,null,null,"","",""]
[null,null,null,null,null,null,null,null,null,null,null,null,null,null,null,null,null,null,null,null,null,null,null,null,null,null,null,null,"","",""]
[null,null,null,null,null,null,null,null,null,null,null,null,null,null,null,null,null,null,null,null,null,null,null,null,null,null,null,null,"","",""]
[null,null,null,null,null,null,null,null,null,null,null,null,null,null,null,null,null,null,null,null,null,null,null,null,null,null,null,null,"","",""]
[null,null,null,null,null,null,null,null,null,null,null,null,null,null,null,null,null,null,null,null,null,null,null,null,null,null,null,null,"","",""]
[null,null,null,null,null,null,null,null,null,null,null,null,null,null,null,null,null,null,null,null,null,null,null,null,null,null,null,null,"","",""]
[null,null,null,null,null,null,null,null,null,null,null,null,null,null,null,null,null,null,null,null,null,null,null,null,null,null,null,null,"","",""]
[null,null,null,null,null,null,null,null,null,null,null,null,null,null,null,null,null,null,null,null,null,null,null,null,null,null,null,null,"","",""]
[null,null,null,null,null,null,null,null,null,null,null,null,null,null,null,null,null,null,null,null,null,null,null,null,null,null,null,null,"","",""]
[null,null,null,null,null,null,null,null,null,null,null,null,null,null,null,null,null,null,null,null,null,null,null,null,null,null,null,null,"","",""]
[null,null,null,null,null,null,null,null,null,null,null,null,null,null,null,null,null,null,null,null,null,null,null,null,null,null,null,null,"","",""]
[null,null,null,null,null,null,null,null,null,null,null,null,null,null,null,null,null,null,null,null,null,null,null,null,null,null,null,null,"","",""]
[null,null,null,null,null,null,null,null,null,null,null,null,null,null,null,null,null,null,null,null,null,null,null,null,null,null,null,null,"","",""]
[null,null,null,null,null,null,null,null,null,null,null,null,null,null,null,null,null,null,null,null,null,null,null,null,null,null,null,null,"","",""]
[null,null,null,null,null,null,null,null,null,null,null,null,null,null,null,null,null,null,null,null,null,null,null,null,null,null,null,null,"","",""]
[null,null,null,null,null,null,null,null,null,null,null,null,null,null,null,null,null,null,null,null,null,null,null,null,null,null,null,null,"","",""]
[null,null,null,null,null,null,null,null,null,null,null,null,null,null,null,null,null,null,null,null,null,null,null,null,null,null,null,null,"","",""]
[null,null,null,null,null,null,null,null,null,null,null,null,null,null,null,null,null,null,null,null,null,null,null,null,null,null,null,null,"","",""]
[null,null,null,null,null,null,null,null,null,null,null,null,null,null,null,null,null,null,null,null,null,null,null,null,null,null,null,null,"","",""]
[null,null,null,null,null,null,null,null,null,null,null,null,null,null,null,null,null,null,null,null,null,null,null,null,null,null,null,null,"","",""]
[null,null,null,null,null,null,null,null,null,null,null,null,null,null,null,null,null,null,null,null,null,null,null,null,null,null,null,null,"","",""]
[null,null,null,null,null,null,null,null,null,null,null,null,null,null,null,null,null,null,null,null,null,null,null,null,null,null,null,null,"","",""]
[null,null,null,null,null,null,null,null,null,null,null,null,null,null,null,null,null,null,null,null,null,null,null,null,null,null,null,null,"","",""]
[null,null,null,null,null,null,null,null,null,null,null,null,null,null,null,null,null,null,null,null,null,null,null,null,null,null,null,null,"","",""]
[null,null,null,null,null,null,null,null,null,null,null,null,null,null,null,null,null,null,null,null,null,null,null,null,null,null,null,null,"","",""]
[null,null,null,null,null,null,null,null,null,null,null,null,null,null,null,null,null,null,null,null,null,null,null,null,null,null,null,null,"","",""]
[null,null,null,null,null,null,null,null,null,null,null,null,null,null,null,null,null,null,null,null,null,null,null,null,null,null,null,null,"","",""]
[null,null,null,null,null,null,null,null,null,null,null,null,null,null,null,null,null,null,null,null,null,null,null,null,null,null,null,null,"","",""]
[null,null,null,null,null,null,null,null,null,null,null,null,null,null,null,null,null,null,null,null,null,null,null,null,null,null,null,null,"","",""]
[null,null,null,null,null,null,null,null,null,null,null,null,null,null,null,null,null,null,null,null,null,null,null,null,null,null,null,null,"","",""]
[null,null,null,null,null,null,null,null,null,null,null,null,null,null,null,null,null,null,null,null,null,null,null,null,null,null,null,null,"","",""]
[null,null,null,null,null,null,null,null,null,null,null,null,null,null,null,null,null,null,null,null,null,null,null,null,null,null,null,null,"","",""]
[null,null,null,null,null,null,null,null,null,null,null,null,null,null,null,null,null,null,null,null,null,null,null,null,null,null,null,null,"","",""]
[null,null,null,null,null,null,null,null,null,null,null,null,null,null,null,null,null,null,null,null,null,null,null,null,null,null,null,null,"","",""]
[null,null,null,null,null,null,null,null,null,null,null,null,null,null,null,null,null,null,null,null,null,null,null,null,null,null,null,null,"","",""]
[null,null,null,null,null,null,null,null,null,null,null,null,null,null,null,null,null,null,null,null,null,null,null,null,null,null,null,null,"","",""]
[null,null,null,null,null,null,null,null,null,null,null,null,null,null,null,null,null,null,null,null,null,null,null,null,null,null,null,null,"","",""]
[null,null,null,null,null,null,null,null,null,null,null,null,null,null,null,null,null,null,null,null,null,null,null,null,null,null,null,null,"","",""]
[null,null,null,null,null,null,null,null,null,null,null,null,null,null,null,null,null,null,null,null,null,null,null,null,null,null,null,null,"","",""]
[null,null,null,null,null,null,null,null,null,null,null,null,null,null,null,null,null,null,null,null,null,null,null,null,null,null,null,null,"","",""]
[null,null,null,null,null,null,null,null,null,null,null,null,null,null,null,null,null,null,null,null,null,null,null,null,null,null,null,null,"","",""]
[null,null,null,null,null,null,null,null,null,null,null,null,null,null,null,null,null,null,null,null,null,null,null,null,null,null,null,null,"","",""]
[null,null,null,null,null,null,null,null,null,null,null,null,null,null,null,null,null,null,null,null,null,null,null,null,null,null,null,null,"","",""]
[null,null,null,null,null,null,null,null,null,null,null,null,null,null,null,null,null,null,null,null,null,null,null,null,null,null,null,null,"","",""]
[null,null,null,null,null,null,null,null,null,null,null,null,null,null,null,null,null,null,null,null,null,null,null,null,null,null,null,null,"","",""]
[null,null,null,null,null,null,null,null,null,null,null,null,null,null,null,null,null,null,null,null,null,null,null,null,null,null,null,null,"","",""]
[null,null,null,null,null,null,null,null,null,null,null,null,null,null,null,null,null,null,null,null,null,null,null,null,null,null,null,null,"","",""]
[null,null,null,null,null,null,null,null,null,null,null,null,null,null,null,null,null,null,null,null,null,null,null,null,null,null,null,null,"","",""]
[null,null,null,null,null,null,null,null,null,null,null,null,null,null,null,null,null,null,null,null,null,null,null,null,null,null,null,null,"","",""]
[null,null,null,null,null,null,null,null,null,null,null,null,null,null,null,null,null,null,null,null,null,null,null,null,null,null,null,null,"","",""]
[null,null,null,null,null,null,null,null,null,null,null,null,null,null,null,null,null,null,null,null,null,null,null,null,null,null,null,null,"","",""]
[null,null,null,null,null,null,null,null,null,null,null,null,null,null,null,null,null,null,null,null,null,null,null,null,null,null,null,null,"","",""]
[null,null,null,null,null,null,null,null,null,null,null,null,null,null,null,null,null,null,null,null,null,null,null,null,null,null,null,null,"","",""]
[null,null,null,null,null,null,null,null,null,null,null,null,null,null,null,null,null,null,null,null,null,null,null,null,null,null,null,null,"","",""]
[null,null,null,null,null,null,null,null,null,null,null,null,null,null,null,null,null,null,null,null,null,null,null,null,null,null,null,null,"","",""]
[null,null,null,null,null,null,null,null,null,null,null,null,null,null,null,null,null,null,null,null,null,null,null,null,null,null,null,null,"","",""]
[null,null,null,null,null,null,null,null,null,null,null,null,null,null,null,null,null,null,null,null,null,null,null,null,null,null,null,null,"","",""]
[null,null,null,null,null,null,null,null,null,null,null,null,null,null,null,null,null,null,null,null,null,null,null,null,null,null,null,null,"","",""]
[null,null,null,null,null,null,null,null,null,null,null,null,null,null,null,null,null,null,null,null,null,null,null,null,null,null,null,null,"","",""]
[null,null,null,null,null,null,null,null,null,null,null,null,null,null,null,null,null,null,null,null,null,null,null,null,null,null,null,null,"","",""]
[null,null,null,null,null,null,null,null,null,null,null,null,null,null,null,null,null,null,null,null,null,null,null,null,null,null,null,null,"","",""]
[null,null,null,null,null,null,null,null,null,null,null,null,null,null,null,null,null,null,null,null,null,null,null,null,null,null,null,null,"","",""]
[null,null,null,null,null,null,null,null,null,null,null,null,null,null,null,null,null,null,null,null,null,null,null,null,null,null,null,null,"","",""]
[null,null,null,null,null,null,null,null,null,null,null,null,null,null,null,null,null,null,null,null,null,null,null,null,null,null,null,null,"","",""]
[null,null,null,null,null,null,null,null,null,null,null,null,null,null,null,null,null,null,null,null,null,null,null,null,null,null,null,null,"","",""]
[null,null,null,null,null,null,null,null,null,null,null,null,null,null,null,null,null,null,null,null,null,null,null,null,null,null,null,null,"","",""]
[null,null,null,null,null,null,null,null,null,null,null,null,null,null,null,null,null,null,null,null,null,null,null,null,null,null,null,null,"","",""]
[null,null,null,null,null,null,null,null,null,null,null,null,null,null,null,null,null,null,null,null,null,null,null,null,null,null,null,null,"","",""]
[null,null,null,null,null,null,null,null,null,null,null,null,null,null,null,null,null,null,null,null,null,null,null,null,null,null,null,null,"","",""]
[null,null,null,null,null,null,null,null,null,null,null,null,null,null,null,null,null,null,null,null,null,null,null,null,null,null,null,null,"","",""]
[null,null,null,null,null,null,null,null,null,null,null,null,null,null,null,null,null,null,null,null,null,null,null,null,null,null,null,null,"","",""]
[null,null,null,null,null,null,null,null,null,null,null,null,null,null,null,null,null,null,null,null,null,null,null,null,null,null,null,null,"","",""]
[null,null,null,null,null,null,null,null,null,null,null,null,null,null,null,null,null,null,null,null,null,null,null,null,null,null,null,null,"","",""]
[null,null,null,null,null,null,null,null,null,null,null,null,null,null,null,null,null,null,null,null,null,null,null,null,null,null,null,null,"","",""]
[null,null,null,null,null,null,null,null,null,null,null,null,null,null,null,null,null,null,null,null,null,null,null,null,null,null,null,null,"","",""]
[null,null,null,null,null,null,null,null,null,null,null,null,null,null,null,null,null,null,null,null,null,null,null,null,null,null,null,null,"","",""]
[null,null,null,null,null,null,null,null,null,null,null,null,null,null,null,null,null,null,null,null,null,null,null,null,null,null,null,null,"","",""]
[null,null,null,null,null,null,null,null,null,null,null,null,null,null,null,null,null,null,null,null,null,null,null,null,null,null,null,null,"","",""]
[null,null,null,null,null,null,null,null,null,null,null,null,null,null,null,null,null,null,null,null,null,null,null,null,null,null,null,null,"","",""]
[null,null,null,null,null,null,null,null,null,null,null,null,null,null,null,null,null,null,null,null,null,null,null,null,null,null,null,null,"","",""]
[null,null,null,null,null,null,null,null,null,null,null,null,null,null,null,null,null,null,null,null,null,null,null,null,null,null,null,null,"","",""]
[null,null,null,null,null,null,null,null,null,null,null,null,null,null,null,null,null,null,null,null,null,null,null,null,null,null,null,null,"","",""]
[null,null,null,null,null,null,null,null,null,null,null,null,null,null,null,null,null,null,null,null,null,null,null,null,null,null,null,null,"","",""]
[null,null,null,null,null,null,null,null,null,null,null,null,null,null,null,null,null,null,null,null,null,null,null,null,null,null,null,null,"","",""]
[null,null,null,null,null,null,null,null,null,null,null,null,null,null,null,null,null,null,null,null,null,null,null,null,null,null,null,null,"","",""]
[null,null,null,null,null,null,null,null,null,null,null,null,null,null,null,null,null,null,null,null,null,null,null,null,null,null,null,null,"","",""]
[null,null,null,null,null,null,null,null,null,null,null,null,null,null,null,null,null,null,null,null,null,null,null,null,null,null,null,null,"","",""]
[null,null,null,null,null,null,null,null,null,null,null,null,null,null,null,null,null,null,null,null,null,null,null,null,null,null,null,null,"","",""]
[null,null,null,null,null,null,null,null,null,null,null,null,null,null,null,null,null,null,null,null,null,null,null,null,null,null,null,null,"","",""]
[null,null,null,null,null,null,null,null,null,null,null,null,null,null,null,null,null,null,null,null,null,null,null,null,null,null,null,null,"","",""]
[null,null,null,null,null,null,null,null,null,null,null,null,null,null,null,null,null,null,null,null,null,null,null,null,null,null,null,null,"","",""]
[null,null,null,null,null,null,null,null,null,null,null,null,null,null,null,null,null,null,null,null,null,null,null,null,null,null,null,null,"","",""]
[null,null,null,null,null,null,null,null,null,null,null,null,null,null,null,null,null,null,null,null,null,null,null,null,null,null,null,null,"","",""]
[null,null,null,null,null,null,null,null,null,null,null,null,null,null,null,null,null,null,null,null,null,null,null,null,null,null,null,null,"","",""]
[null,null,null,null,null,null,null,null,null,null,null,null,null,null,null,null,null,null,null,null,null,null,null,null,null,null,null,null,"","",""]
[null,null,null,null,null,null,null,null,null,null,null,null,null,null,null,null,null,null,null,null,null,null,null,null,null,null,null,null,"","",""]
[null,null,null,null,null,null,null,null,null,null,null,null,null,null,null,null,null,null,null,null,null,null,null,null,null,null,null,null,"","",""]
[null,null,null,null,null,null,null,null,null,null,null,null,null,null,null,null,null,null,null,null,null,null,null,null,null,null,null,null,"","",""]
[null,null,null,null,null,null,null,null,null,null,null,null,null,null,null,null,null,null,null,null,null,null,null,null,null,null,null,null,"","",""]
[null,null,null,null,null,null,null,null,null,null,null,null,null,null,null,null,null,null,null,null,null,null,null,null,null,null,null,null,"","",""]
[null,null,null,null,null,null,null,null,null,null,null,null,null,null,null,null,null,null,null,null,null,null,null,null,null,null,null,null,"","",""]
[null,null,null,null,null,null,null,null,null,null,null,null,null,null,null,null,null,null,null,null,null,null,null,null,null,null,null,null,"","",""]
[null,null,null,null,null,null,null,null,null,null,null,null,null,null,null,null,null,null,null,null,null,null,null,null,null,null,null,null,"","",""]
[null,null,null,null,null,null,null,null,null,null,null,null,null,null,null,null,null,null,null,null,null,null,null,null,null,null,null,null,"","",""]
[null,null,null,null,null,null,null,null,null,null,null,null,null,null,null,null,null,null,null,null,null,null,null,null,null,null,null,null,"","",""]
[null,null,null,null,null,null,null,null,null,null,null,null,null,null,null,null,null,null,null,null,null,null,null,null,null,null,null,null,"","",""]
[null,null,null,null,null,null,null,null,null,null,null,null,null,null,null,null,null,null,null,null,null,null,null,null,null,null,null,null,"","",""]
[null,null,null,null,null,null,null,null,null,null,null,null,null,null,null,null,null,null,null,null,null,null,null,null,null,null,null,null,"","",""]
[null,null,null,null,null,null,null,null,null,null,null,null,null,null,null,null,null,null,null,null,null,null,null,null,null,null,null,null,"","",""]
[null,null,null,null,null,null,null,null,null,null,null,null,null,null,null,null,null,null,null,null,null,null,null,null,null,null,null,null,"","",""]
[null,null,null,null,null,null,null,null,null,null,null,null,null,null,null,null,null,null,null,null,null,null,null,null,null,null,null,null,"","",""]
[null,null,null,null,null,null,null,null,null,null,null,null,null,null,null,null,null,null,null,null,null,null,null,null,null,null,null,null,"","",""]
[null,null,null,null,null,null,null,null,null,null,null,null,null,null,null,null,null,null,null,null,null,null,null,null,null,null,null,null,"","",""]
[null,null,null,null,null,null,null,null,null,null,null,null,null,null,null,null,null,null,null,null,null,null,null,null,null,null,null,null,"","",""]
[null,null,null,null,null,null,null,null,null,null,null,null,null,null,null,null,null,null,null,null,null,null,null,null,null,null,null,null,"","",""]
[null,null,null,null,null,null,null,null,null,null,null,null,null,null,null,null,null,null,null,null,null,null,null,null,null,null,null,null,"","",""]
[null,null,null,null,null,null,null,null,null,null,null,null,null,null,null,null,null,null,null,null,null,null,null,null,null,null,null,null,"","",""]
[null,null,null,null,null,null,null,null,null,null,null,null,null,null,null,null,null,null,null,null,null,null,null,null,null,null,null,null,"","",""]
[null,null,null,null,null,null,null,null,null,null,null,null,null,null,null,null,null,null,null,null,null,null,null,null,null,null,null,null,"","",""]
[null,null,null,null,null,null,null,null,null,null,null,null,null,null,null,null,null,null,null,null,null,null,null,null,null,null,null,null,"","",""]
[null,null,null,null,null,null,null,null,null,null,null,null,null,null,null,null,null,null,null,null,null,null,null,null,null,null,null,null,"","",""]
[null,null,null,null,null,null,null,null,null,null,null,null,null,null,null,null,null,null,null,null,null,null,null,null,null,null,null,null,"","",""]
[null,null,null,null,null,null,null,null,null,null,null,null,null,null,null,null,null,null,null,null,null,null,null,null,null,null,null,null,"","",""]
[null,null,null,null,null,null,null,null,null,null,null,null,null,null,null,null,null,null,null,null,null,null,null,null,null,null,null,null,"","",""]
[null,null,null,null,null,null,null,null,null,null,null,null,null,null,null,null,null,null,null,null,null,null,null,null,null,null,null,null,"","",""]
[null,null,null,null,null,null,null,null,null,null,null,null,null,null,null,null,null,null,null,null,null,null,null,null,null,null,null,null,"","",""]
[null,null,null,null,null,null,null,null,null,null,null,null,null,null,null,null,null,null,null,null,null,null,null,null,null,null,null,null,"","",""]
[null,null,null,null,null,null,null,null,null,null,null,null,null,null,null,null,null,null,null,null,null,null,null,null,null,null,null,null,"","",""]
[null,null,null,null,null,null,null,null,null,null,null,null,null,null,null,null,null,null,null,null,null,null,null,null,null,null,null,null,"","",""]
[null,null,null,null,null,null,null,null,null,null,null,null,null,null,null,null,null,null,null,null,null,null,null,null,null,null,null,null,"","",""]
[null,null,null,null,null,null,null,null,null,null,null,null,null,null,null,null,null,null,null,null,null,null,null,null,null,null,null,null,"","",""]
[null,null,null,null,null,null,null,null,null,null,null,null,null,null,null,null,null,null,null,null,null,null,null,null,null,null,null,null,"","",""]
[null,null,null,null,null,null,null,null,null,null,null,null,null,null,null,null,null,null,null,null,null,null,null,null,null,null,null,null,"","",""]
[null,null,null,null,null,null,null,null,null,null,null,null,null,null,null,null,null,null,null,null,null,null,null,null,null,null,null,null,"","",""]
[null,null,null,null,null,null,null,null,null,null,null,null,null,null,null,null,null,null,null,null,null,null,null,null,null,null,null,null,"","",""]
[null,null,null,null,null,null,null,null,null,null,null,null,null,null,null,null,null,null,null,null,null,null,null,null,null,null,null,null,"","",""]
[null,null,null,null,null,null,null,null,null,null,null,null,null,null,null,null,null,null,null,null,null,null,null,null,null,null,null,null,"","",""]
[null,null,null,null,null,null,null,null,null,null,null,null,null,null,null,null,null,null,null,null,null,null,null,null,null,null,null,null,"","",""]
[null,null,null,null,null,null,null,null,null,null,null,null,null,null,null,null,null,null,null,null,null,null,null,null,null,null,null,null,"","",""]
[null,null,null,null,null,null,null,null,null,null,null,null,null,null,null,null,null,null,null,null,null,null,null,null,null,null,null,null,"","",""]
[null,null,null,null,null,null,null,null,null,null,null,null,null,null,null,null,null,null,null,null,null,null,null,null,null,null,null,null,"","",""]
[null,null,null,null,null,null,null,null,null,null,null,null,null,null,null,null,null,null,null,null,null,null,null,null,null,null,null,null,"","",""]
[null,null,null,null,null,null,null,null,null,null,null,null,null,null,null,null,null,null,null,null,null,null,null,null,null,null,null,null,"","",""]
[null,null,null,null,null,null,null,null,null,null,null,null,null,null,null,null,null,null,null,null,null,null,null,null,null,null,null,null,"","",""]
[null,null,null,null,null,null,null,null,null,null,null,null,null,null,null,null,null,null,null,null,null,null,null,null,null,null,null,null,"","",""]
[null,null,null,null,null,null,null,null,null,null,null,null,null,null,null,null,null,null,null,null,null,null,null,null,null,null,null,null,"","",""]
[null,null,null,null,null,null,null,null,null,null,null,null,null,null,null,null,null,null,null,null,null,null,null,null,null,null,null,null,"","",""]
[null,null,null,null,null,null,null,null,null,null,null,null,null,null,null,null,null,null,null,null,null,null,null,null,null,null,null,null,"","",""]
[null,null,null,null,null,null,null,null,null,null,null,null,null,null,null,null,null,null,null,null,null,null,null,null,null,null,null,null,"","",""]
[null,null,null,null,null,null,null,null,null,null,null,null,null,null,null,null,null,null,null,null,null,null,null,null,null,null,null,null,"","",""]
[null,null,null,null,null,null,null,null,null,null,null,null,null,null,null,null,null,null,null,null,null,null,null,null,null,null,null,null,"","",""]
[null,null,null,null,null,null,null,null,null,null,null,null,null,null,null,null,null,null,null,null,null,null,null,null,null,null,null,null,"","",""]
[null,null,null,null,null,null,null,null,null,null,null,null,null,null,null,null,null,null,null,null,null,null,null,null,null,null,null,null,"","",""]
[null,null,null,null,null,null,null,null,null,null,null,null,null,null,null,null,null,null,null,null,null,null,null,null,null,null,null,null,"","",""]
[null,null,null,null,null,null,null,null,null,null,null,null,null,null,null,null,null,null,null,null,null,null,null,null,null,null,null,null,"","",""]
[null,null,null,null,null,null,null,null,null,null,null,null,null,null,null,null,null,null,null,null,null,null,null,null,null,null,null,null,"","",""]
[null,null,null,null,null,null,null,null,null,null,null,null,null,null,null,null,null,null,null,null,null,null,null,null,null,null,null,null,"","",""]
[null,null,null,null,null,null,null,null,null,null,null,null,null,null,null,null,null,null,null,null,null,null,null,null,null,null,null,null,"","",""]
[null,null,null,null,null,null,null,null,null,null,null,null,null,null,null,null,null,null,null,null,null,null,null,null,null,null,null,null,"","",""]
[null,null,null,null,null,null,null,null,null,null,null,null,null,null,null,null,null,null,null,null,null,null,null,null,null,null,null,null,"","",""]
[null,null,null,null,null,null,null,null,null,null,null,null,null,null,null,null,null,null,null,null,null,null,null,null,null,null,null,null,"","",""]
[null,null,null,null,null,null,null,null,null,null,null,null,null,null,null,null,null,null,null,null,null,null,null,null,null,null,null,null,"","",""]
[null,null,null,null,null,null,null,null,null,null,null,null,null,null,null,null,null,null,null,null,null,null,null,null,null,null,null,null,"","",""]
[null,null,null,null,null,null,null,null,null,null,null,null,null,null,null,null,null,null,null,null,null,null,null,null,null,null,null,null,"","",""]
[null,null,null,null,null,null,null,null,null,null,null,null,null,null,null,null,null,null,null,null,null,null,null,null,null,null,null,null,"","",""]
[null,null,null,null,null,null,null,null,null,null,null,null,null,null,null,null,null,null,null,null,null,null,null,null,null,null,null,null,"","",""]
[null,null,null,null,null,null,null,null,null,null,null,null,null,null,null,null,null,null,null,null,null,null,null,null,null,null,null,null,"","",""]
[null,null,null,null,null,null,null,null,null,null,null,null,null,null,null,null,null,null,null,null,null,null,null,null,null,null,null,null,"","",""]
[null,null,null,null,null,null,null,null,null,null,null,null,null,null,null,null,null,null,null,null,null,null,null,null,null,null,null,null,"","",""]
[null,null,null,null,null,null,null,null,null,null,null,null,null,null,null,null,null,null,null,null,null,null,null,null,null,null,null,null,"","",""]
[null,null,null,null,null,null,null,null,null,null,null,null,null,null,null,null,null,null,null,null,null,null,null,null,null,null,null,null,"","",""]
[null,null,null,null,null,null,null,null,null,null,null,null,null,null,null,null,null,null,null,null,null,null,null,null,null,null,null,null,"","",""]
[null,null,null,null,null,null,null,null,null,null,null,null,null,null,null,null,null,null,null,null,null,null,null,null,null,null,null,null,"","",""]
[null,null,null,null,null,null,null,null,null,null,null,null,null,null,null,null,null,null,null,null,null,null,null,null,null,null,null,null,"","",""]
[null,null,null,null,null,null,null,null,null,null,null,null,null,null,null,null,null,null,null,null,null,null,null,null,null,null,null,null,"","",""]
[null,null,null,null,null,null,null,null,null,null,null,null,null,null,null,null,null,null,null,null,null,null,null,null,null,null,null,null,"","",""]
[null,null,null,null,null,null,null,null,null,null,null,null,null,null,null,null,null,null,null,null,null,null,null,null,null,null,null,null,"","",""]
[null,null,null,null,null,null,null,null,null,null,null,null,null,null,null,null,null,null,null,null,null,null,null,null,null,null,null,null,"","",""]
[null,null,null,null,null,null,null,null,null,null,null,null,null,null,null,null,null,null,null,null,null,null,null,null,null,null,null,null,"","",""]
[null,null,null,null,null,null,null,null,null,null,null,null,null,null,null,null,null,null,null,null,null,null,null,null,null,null,null,null,"","",""]
[null,null,null,null,null,null,null,null,null,null,null,null,null,null,null,null,null,null,null,null,null,null,null,null,null,null,null,null,"","",""]
[null,null,null,null,null,null,null,null,null,null,null,null,null,null,null,null,null,null,null,null,null,null,null,null,null,null,null,null,"","",""]
[null,null,null,null,null,null,null,null,null,null,null,null,null,null,null,null,null,null,null,null,null,null,null,null,null,null,null,null,"","",""]
[null,null,null,null,null,null,null,null,null,null,null,null,null,null,null,null,null,null,null,null,null,null,null,null,null,null,null,null,"","",""]
[null,null,null,null,null,null,null,null,null,null,null,null,null,null,null,null,null,null,null,null,null,null,null,null,null,null,null,null,"","",""]
[null,null,null,null,null,null,null,null,null,null,null,null,null,null,null,null,null,null,null,null,null,null,null,null,null,null,null,null,"","",""]
[null,null,null,null,null,null,null,null,null,null,null,null,null,null,null,null,null,null,null,null,null,null,null,null,null,null,null,null,"","",""]
[null,null,null,null,null,null,null,null,null,null,null,null,null,null,null,null,null,null,null,null,null,null,null,null,null,null,null,null,"","",""]
[null,null,null,null,null,null,null,null,null,null,null,null,null,null,null,null,null,null,null,null,null,null,null,null,null,null,null,null,"","",""]
[null,null,null,null,null,null,null,null,null,null,null,null,null,null,null,null,null,null,null,null,null,null,null,null,null,null,null,null,"","",""]
[null,null,null,null,null,null,null,null,null,null,null,null,null,null,null,null,null,null,null,null,null,null,null,null,null,null,null,null,"","",""]
[null,null,null,null,null,null,null,null,null,null,null,null,null,null,null,null,null,null,null,null,null,null,null,null,null,null,null,null,"","",""]
[null,null,null,null,null,null,null,null,null,null,null,null,null,null,null,null,null,null,null,null,null,null,null,null,null,null,null,null,"","",""]
[null,null,null,null,null,null,null,null,null,null,null,null,null,null,null,null,null,null,null,null,null,null,null,null,null,null,null,null,"","",""]
[null,null,null,null,null,null,null,null,null,null,null,null,null,null,null,null,null,null,null,null,null,null,null,null,null,null,null,null,"","",""]
[null,null,null,null,null,null,null,null,null,null,null,null,null,null,null,null,null,null,null,null,null,null,null,null,null,null,null,null,"","",""]
[null,null,null,null,null,null,null,null,null,null,null,null,null,null,null,null,null,null,null,null,null,null,null,null,null,null,null,null,"","",""]
[null,null,null,null,null,null,null,null,null,null,null,null,null,null,null,null,null,null,null,null,null,null,null,null,null,null,null,null,"","",""]
[null,null,null,null,null,null,null,null,null,null,null,null,null,null,null,null,null,null,null,null,null,null,null,null,null,null,null,null,"","",""]
[null,null,null,null,null,null,null,null,null,null,null,null,null,null,null,null,null,null,null,null,null,null,null,null,null,null,null,null,"","",""]
[null,null,null,null,null,null,null,null,null,null,null,null,null,null,null,null,null,null,null,null,null,null,null,null,null,null,null,null,"","",""]
[null,null,null,null,null,null,null,null,null,null,null,null,null,null,null,null,null,null,null,null,null,null,null,null,null,null,null,null,"","",""]
[null,null,null,null,null,null,null,null,null,null,null,null,null,null,null,null,null,null,null,null,null,null,null,null,null,null,null,null,"","",""]
[null,null,null,null,null,null,null,null,null,null,null,null,null,null,null,null,null,null,null,null,null,null,null,null,null,null,null,null,"","",""]
[null,null,null,null,null,null,null,null,null,null,null,null,null,null,null,null,null,null,null,null,null,null,null,null,null,null,null,null,"","",""]
[null,null,null,null,null,null,null,null,null,null,null,null,null,null,null,null,null,null,null,null,null,null,null,null,null,null,null,null,"","",""]
[null,null,null,null,null,null,null,null,null,null,null,null,null,null,null,null,null,null,null,null,null,null,null,null,null,null,null,null,"","",""]
[null,null,null,null,null,null,null,null,null,null,null,null,null,null,null,null,null,null,null,null,null,null,null,null,null,null,null,null,"","",""]
[null,null,null,null,null,null,null,null,null,null,null,null,null,null,null,null,null,null,null,null,null,null,null,null,null,null,null,null,"","",""]
[null,null,null,null,null,null,null,null,null,null,null,null,null,null,null,null,null,null,null,null,null,null,null,null,null,null,null,null,"","",""]
[null,null,null,null,null,null,null,null,null,null,null,null,null,null,null,null,null,null,null,null,null,null,null,null,null,null,null,null,"","",""]
[null,null,null,null,null,null,null,null,null,null,null,null,null,null,null,null,null,null,null,null,null,null,null,null,null,null,null,null,"","",""]
[null,null,null,null,null,null,null,null,null,null,null,null,null,null,null,null,null,null,null,null,null,null,null,null,null,null,null,null,"","",""]
[null,null,null,null,null,null,null,null,null,null,null,null,null,null,null,null,null,null,null,null,null,null,null,null,null,null,null,null,"","",""]
[null,null,null,null,null,null,null,null,null,null,null,null,null,null,null,null,null,null,null,null,null,null,null,null,null,null,null,null,"","",""]
[null,null,null,null,null,null,null,null,null,null,null,null,null,null,null,null,null,null,null,null,null,null,null,null,null,null,null,null,"","",""]
[null,null,null,null,null,null,null,null,null,null,null,null,null,null,null,null,null,null,null,null,null,null,null,null,null,null,null,null,"","",""]
[null,null,null,null,null,null,null,null,null,null,null,null,null,null,null,null,null,null,null,null,null,null,null,null,null,null,null,null,"","",""]
[null,null,null,null,null,null,null,null,null,null,null,null,null,null,null,null,null,null,null,null,null,null,null,null,null,null,null,null,{"$f":"IF($A6851=\"\",\"\",$A6851&$C6851)","v":""},{"$f":"IF($A6851=\"\",\"\",$O6851)","v":""},{"$f":"IF($A6851=\"\",\"\",IF(AND(LEFT($P6851,1)=\"5\",RIGHT($P6851,2)<\"99\",RIGHT($P6851,2)>\"19\",$R6851<>\"\"),$P6851,\"\"))","v":""}]
[null,null,null,null,null,null,null,null,null,null,null,null,null,null,null,null,null,null,null,null,null,null,null,null,null,null,null,null,"","",""]
[null,null,null,null,null,null,null,null,null,null,null,null,null,null,null,null,null,null,null,null,null,null,null,null,null,null,null,null,"","",""]
[null,null,null,null,null,null,null,null,null,null,null,null,null,null,null,null,null,null,null,null,null,null,null,null,null,null,null,null,"","",""]
[null,null,null,null,null,null,null,null,null,null,null,null,null,null,null,null,null,null,null,null,null,null,null,null,null,null,null,null,"","",""]
[null,null,null,null,null,null,null,null,null,null,null,null,null,null,null,null,null,null,null,null,null,null,null,null,null,null,null,null,"","",""]
[null,null,null,null,null,null,null,null,null,null,null,null,null,null,null,null,null,null,null,null,null,null,null,null,null,null,null,null,"","",""]
[null,null,null,null,null,null,null,null,null,null,null,null,null,null,null,null,null,null,null,null,null,null,null,null,null,null,null,null,"","",""]
[null,null,null,null,null,null,null,null,null,null,null,null,null,null,null,null,null,null,null,null,null,null,null,null,null,null,null,null,"","",""]
[null,null,null,null,null,null,null,null,null,null,null,null,null,null,null,null,null,null,null,null,null,null,null,null,null,null,null,null,"","",""]
[null,null,null,null,null,null,null,null,null,null,null,null,null,null,null,null,null,null,null,null,null,null,null,null,null,null,null,null,"","",""]
[null,null,null,null,null,null,null,null,null,null,null,null,null,null,null,null,null,null,null,null,null,null,null,null,null,null,null,null,"","",""]
[null,null,null,null,null,null,null,null,null,null,null,null,null,null,null,null,null,null,null,null,null,null,null,null,null,null,null,null,"","",""]
[null,null,null,null,null,null,null,null,null,null,null,null,null,null,null,null,null,null,null,null,null,null,null,null,null,null,null,null,"","",""]
[null,null,null,null,null,null,null,null,null,null,null,null,null,null,null,null,null,null,null,null,null,null,null,null,null,null,null,null,"","",""]
[null,null,null,null,null,null,null,null,null,null,null,null,null,null,null,null,null,null,null,null,null,null,null,null,null,null,null,null,"","",""]
[null,null,null,null,null,null,null,null,null,null,null,null,null,null,null,null,null,null,null,null,null,null,null,null,null,null,null,null,"","",""]
[null,null,null,null,null,null,null,null,null,null,null,null,null,null,null,null,null,null,null,null,null,null,null,null,null,null,null,null,"","",""]
[null,null,null,null,null,null,null,null,null,null,null,null,null,null,null,null,null,null,null,null,null,null,null,null,null,null,null,null,"","",""]
[null,null,null,null,null,null,null,null,null,null,null,null,null,null,null,null,null,null,null,null,null,null,null,null,null,null,null,null,"","",""]
[null,null,null,null,null,null,null,null,null,null,null,null,null,null,null,null,null,null,null,null,null,null,null,null,null,null,null,null,"","",""]
[null,null,null,null,null,null,null,null,null,null,null,null,null,null,null,null,null,null,null,null,null,null,null,null,null,null,null,null,"","",""]
[null,null,null,null,null,null,null,null,null,null,null,null,null,null,null,null,null,null,null,null,null,null,null,null,null,null,null,null,"","",""]
[null,null,null,null,null,null,null,null,null,null,null,null,null,null,null,null,null,null,null,null,null,null,null,null,null,null,null,null,"","",""]
[null,null,null,null,null,null,null,null,null,null,null,null,null,null,null,null,null,null,null,null,null,null,null,null,null,null,null,null,"","",""]
[null,null,null,null,null,null,null,null,null,null,null,null,null,null,null,null,null,null,null,null,null,null,null,null,null,null,null,null,"","",""]
[null,null,null,null,null,null,null,null,null,null,null,null,null,null,null,null,null,null,null,null,null,null,null,null,null,null,null,null,"","",""]
[null,null,null,null,null,null,null,null,null,null,null,null,null,null,null,null,null,null,null,null,null,null,null,null,null,null,null,null,"","",""]
[null,null,null,null,null,null,null,null,null,null,null,null,null,null,null,null,null,null,null,null,null,null,null,null,null,null,null,null,"","",""]
[null,null,null,null,null,null,null,null,null,null,null,null,null,null,null,null,null,null,null,null,null,null,null,null,null,null,null,null,"","",""]
[null,null,null,null,null,null,null,null,null,null,null,null,null,null,null,null,null,null,null,null,null,null,null,null,null,null,null,null,"","",""]
[null,null,null,null,null,null,null,null,null,null,null,null,null,null,null,null,null,null,null,null,null,null,null,null,null,null,null,null,"","",""]
[null,null,null,null,null,null,null,null,null,null,null,null,null,null,null,null,null,null,null,null,null,null,null,null,null,null,null,null,"","",""]
[null,null,null,null,null,null,null,null,null,null,null,null,null,null,null,null,null,null,null,null,null,null,null,null,null,null,null,null,"","",""]
[null,null,null,null,null,null,null,null,null,null,null,null,null,null,null,null,null,null,null,null,null,null,null,null,null,null,null,null,"","",""]
[null,null,null,null,null,null,null,null,null,null,null,null,null,null,null,null,null,null,null,null,null,null,null,null,null,null,null,null,"","",""]
[null,null,null,null,null,null,null,null,null,null,null,null,null,null,null,null,null,null,null,null,null,null,null,null,null,null,null,null,"","",""]
[null,null,null,null,null,null,null,null,null,null,null,null,null,null,null,null,null,null,null,null,null,null,null,null,null,null,null,null,"","",""]
[null,null,null,null,null,null,null,null,null,null,null,null,null,null,null,null,null,null,null,null,null,null,null,null,null,null,null,null,"","",""]
[null,null,null,null,null,null,null,null,null,null,null,null,null,null,null,null,null,null,null,null,null,null,null,null,null,null,null,null,"","",""]
[null,null,null,null,null,null,null,null,null,null,null,null,null,null,null,null,null,null,null,null,null,null,null,null,null,null,null,null,"","",""]
[null,null,null,null,null,null,null,null,null,null,null,null,null,null,null,null,null,null,null,null,null,null,null,null,null,null,null,null,"","",""]
[null,null,null,null,null,null,null,null,null,null,null,null,null,null,null,null,null,null,null,null,null,null,null,null,null,null,null,null,"","",""]
[null,null,null,null,null,null,null,null,null,null,null,null,null,null,null,null,null,null,null,null,null,null,null,null,null,null,null,null,"","",""]
[null,null,null,null,null,null,null,null,null,null,null,null,null,null,null,null,null,null,null,null,null,null,null,null,null,null,null,null,"","",""]
[null,null,null,null,null,null,null,null,null,null,null,null,null,null,null,null,null,null,null,null,null,null,null,null,null,null,null,null,"","",""]
[null,null,null,null,null,null,null,null,null,null,null,null,null,null,null,null,null,null,null,null,null,null,null,null,null,null,null,null,"","",""]
[null,null,null,null,null,null,null,null,null,null,null,null,null,null,null,null,null,null,null,null,null,null,null,null,null,null,null,null,"","",""]
[null,null,null,null,null,null,null,null,null,null,null,null,null,null,null,null,null,null,null,null,null,null,null,null,null,null,null,null,"","",""]
[null,null,null,null,null,null,null,null,null,null,null,null,null,null,null,null,null,null,null,null,null,null,null,null,null,null,null,null,"","",""]
[null,null,null,null,null,null,null,null,null,null,null,null,null,null,null,null,null,null,null,null,null,null,null,null,null,null,null,null,"","",""]
[null,null,null,null,null,null,null,null,null,null,null,null,null,null,null,null,null,null,null,null,null,null,null,null,null,null,null,null,"","",""]
[null,null,null,null,null,null,null,null,null,null,null,null,null,null,null,null,null,null,null,null,null,null,null,null,null,null,null,null,"","",""]
[null,null,null,null,null,null,null,null,null,null,null,null,null,null,null,null,null,null,null,null,null,null,null,null,null,null,null,null,"","",""]
[null,null,null,null,null,null,null,null,null,null,null,null,null,null,null,null,null,null,null,null,null,null,null,null,null,null,null,null,"","",""]
[null,null,null,null,null,null,null,null,null,null,null,null,null,null,null,null,null,null,null,null,null,null,null,null,null,null,null,null,"","",""]
[null,null,null,null,null,null,null,null,null,null,null,null,null,null,null,null,null,null,null,null,null,null,null,null,null,null,null,null,"","",""]
[null,null,null,null,null,null,null,null,null,null,null,null,null,null,null,null,null,null,null,null,null,null,null,null,null,null,null,null,"","",""]
[null,null,null,null,null,null,null,null,null,null,null,null,null,null,null,null,null,null,null,null,null,null,null,null,null,null,null,null,"","",""]
[null,null,null,null,null,null,null,null,null,null,null,null,null,null,null,null,null,null,null,null,null,null,null,null,null,null,null,null,"","",""]
[null,null,null,null,null,null,null,null,null,null,null,null,null,null,null,null,null,null,null,null,null,null,null,null,null,null,null,null,"","",""]
[null,null,null,null,null,null,null,null,null,null,null,null,null,null,null,null,null,null,null,null,null,null,null,null,null,null,null,null,"","",""]
[null,null,null,null,null,null,null,null,null,null,null,null,null,null,null,null,null,null,null,null,null,null,null,null,null,null,null,null,"","",""]
[null,null,null,null,null,null,null,null,null,null,null,null,null,null,null,null,null,null,null,null,null,null,null,null,null,null,null,null,"","",""]
[null,null,null,null,null,null,null,null,null,null,null,null,null,null,null,null,null,null,null,null,null,null,null,null,null,null,null,null,"","",""]
[null,null,null,null,null,null,null,null,null,null,null,null,null,null,null,null,null,null,null,null,null,null,null,null,null,null,null,null,"","",""]
[null,null,null,null,null,null,null,null,null,null,null,null,null,null,null,null,null,null,null,null,null,null,null,null,null,null,null,null,"","",""]
[null,null,null,null,null,null,null,null,null,null,null,null,null,null,null,null,null,null,null,null,null,null,null,null,null,null,null,null,"","",""]
[null,null,null,null,null,null,null,null,null,null,null,null,null,null,null,null,null,null,null,null,null,null,null,null,null,null,null,null,"","",""]
[null,null,null,null,null,null,null,null,null,null,null,null,null,null,null,null,null,null,null,null,null,null,null,null,null,null,null,null,"","",""]
[null,null,null,null,null,null,null,null,null,null,null,null,null,null,null,null,null,null,null,null,null,null,null,null,null,null,null,null,"","",""]
[null,null,null,null,null,null,null,null,null,null,null,null,null,null,null,null,null,null,null,null,null,null,null,null,null,null,null,null,"","",""]
[null,null,null,null,null,null,null,null,null,null,null,null,null,null,null,null,null,null,null,null,null,null,null,null,null,null,null,null,"","",""]
[null,null,null,null,null,null,null,null,null,null,null,null,null,null,null,null,null,null,null,null,null,null,null,null,null,null,null,null,"","",""]
[null,null,null,null,null,null,null,null,null,null,null,null,null,null,null,null,null,null,null,null,null,null,null,null,null,null,null,null,"","",""]
[null,null,null,null,null,null,null,null,null,null,null,null,null,null,null,null,null,null,null,null,null,null,null,null,null,null,null,null,"","",""]
[null,null,null,null,null,null,null,null,null,null,null,null,null,null,null,null,null,null,null,null,null,null,null,null,null,null,null,null,"","",""]
[null,null,null,null,null,null,null,null,null,null,null,null,null,null,null,null,null,null,null,null,null,null,null,null,null,null,null,null,"","",""]
[null,null,null,null,null,null,null,null,null,null,null,null,null,null,null,null,null,null,null,null,null,null,null,null,null,null,null,null,"","",""]
[null,null,null,null,null,null,null,null,null,null,null,null,null,null,null,null,null,null,null,null,null,null,null,null,null,null,null,null,"","",""]
[null,null,null,null,null,null,null,null,null,null,null,null,null,null,null,null,null,null,null,null,null,null,null,null,null,null,null,null,"","",""]
[null,null,null,null,null,null,null,null,null,null,null,null,null,null,null,null,null,null,null,null,null,null,null,null,null,null,null,null,"","",""]
[null,null,null,null,null,null,null,null,null,null,null,null,null,null,null,null,null,null,null,null,null,null,null,null,null,null,null,null,"","",""]
[null,null,null,null,null,null,null,null,null,null,null,null,null,null,null,null,null,null,null,null,null,null,null,null,null,null,null,null,"","",""]
[null,null,null,null,null,null,null,null,null,null,null,null,null,null,null,null,null,null,null,null,null,null,null,null,null,null,null,null,"","",""]
[null,null,null,null,null,null,null,null,null,null,null,null,null,null,null,null,null,null,null,null,null,null,null,null,null,null,null,null,"","",""]
[null,null,null,null,null,null,null,null,null,null,null,null,null,null,null,null,null,null,null,null,null,null,null,null,null,null,null,null,"","",""]
[null,null,null,null,null,null,null,null,null,null,null,null,null,null,null,null,null,null,null,null,null,null,null,null,null,null,null,null,"","",""]
[null,null,null,null,null,null,null,null,null,null,null,null,null,null,null,null,null,null,null,null,null,null,null,null,null,null,null,null,"","",""]
[null,null,null,null,null,null,null,null,null,null,null,null,null,null,null,null,null,null,null,null,null,null,null,null,null,null,null,null,"","",""]
[null,null,null,null,null,null,null,null,null,null,null,null,null,null,null,null,null,null,null,null,null,null,null,null,null,null,null,null,"","",""]
[null,null,null,null,null,null,null,null,null,null,null,null,null,null,null,null,null,null,null,null,null,null,null,null,null,null,null,null,"","",""]
[null,null,null,null,null,null,null,null,null,null,null,null,null,null,null,null,null,null,null,null,null,null,null,null,null,null,null,null,"","",""]
[null,null,null,null,null,null,null,null,null,null,null,null,null,null,null,null,null,null,null,null,null,null,null,null,null,null,null,null,"","",""]
[null,null,null,null,null,null,null,null,null,null,null,null,null,null,null,null,null,null,null,null,null,null,null,null,null,null,null,null,"","",""]
[null,null,null,null,null,null,null,null,null,null,null,null,null,null,null,null,null,null,null,null,null,null,null,null,null,null,null,null,"","",""]
[null,null,null,null,null,null,null,null,null,null,null,null,null,null,null,null,null,null,null,null,null,null,null,null,null,null,null,null,"","",""]
[null,null,null,null,null,null,null,null,null,null,null,null,null,null,null,null,null,null,null,null,null,null,null,null,null,null,null,null,"","",""]
[null,null,null,null,null,null,null,null,null,null,null,null,null,null,null,null,null,null,null,null,null,null,null,null,null,null,null,null,"","",""]
[null,null,null,null,null,null,null,null,null,null,null,null,null,null,null,null,null,null,null,null,null,null,null,null,null,null,null,null,"","",""]
[null,null,null,null,null,null,null,null,null,null,null,null,null,null,null,null,null,null,null,null,null,null,null,null,null,null,null,null,"","",""]
[null,null,null,null,null,null,null,null,null,null,null,null,null,null,null,null,null,null,null,null,null,null,null,null,null,null,null,null,"","",""]
[null,null,null,null,null,null,null,null,null,null,null,null,null,null,null,null,null,null,null,null,null,null,null,null,null,null,null,null,"","",""]
[null,null,null,null,null,null,null,null,null,null,null,null,null,null,null,null,null,null,null,null,null,null,null,null,null,null,null,null,"","",""]
[null,null,null,null,null,null,null,null,null,null,null,null,null,null,null,null,null,null,null,null,null,null,null,null,null,null,null,null,"","",""]
[null,null,null,null,null,null,null,null,null,null,null,null,null,null,null,null,null,null,null,null,null,null,null,null,null,null,null,null,"","",""]
[null,null,null,null,null,null,null,null,null,null,null,null,null,null,null,null,null,null,null,null,null,null,null,null,null,null,null,null,"","",""]
[null,null,null,null,null,null,null,null,null,null,null,null,null,null,null,null,null,null,null,null,null,null,null,null,null,null,null,null,"","",""]
[null,null,null,null,null,null,null,null,null,null,null,null,null,null,null,null,null,null,null,null,null,null,null,null,null,null,null,null,"","",""]
[null,null,null,null,null,null,null,null,null,null,null,null,null,null,null,null,null,null,null,null,null,null,null,null,null,null,null,null,"","",""]
[null,null,null,null,null,null,null,null,null,null,null,null,null,null,null,null,null,null,null,null,null,null,null,null,null,null,null,null,"","",""]
[null,null,null,null,null,null,null,null,null,null,null,null,null,null,null,null,null,null,null,null,null,null,null,null,null,null,null,null,"","",""]
[null,null,null,null,null,null,null,null,null,null,null,null,null,null,null,null,null,null,null,null,null,null,null,null,null,null,null,null,"","",""]
[null,null,null,null,null,null,null,null,null,null,null,null,null,null,null,null,null,null,null,null,null,null,null,null,null,null,null,null,"","",""]
[null,null,null,null,null,null,null,null,null,null,null,null,null,null,null,null,null,null,null,null,null,null,null,null,null,null,null,null,"","",""]
[null,null,null,null,null,null,null,null,null,null,null,null,null,null,null,null,null,null,null,null,null,null,null,null,null,null,null,null,"","",""]
[null,null,null,null,null,null,null,null,null,null,null,null,null,null,null,null,null,null,null,null,null,null,null,null,null,null,null,null,"","",""]
[null,null,null,null,null,null,null,null,null,null,null,null,null,null,null,null,null,null,null,null,null,null,null,null,null,null,null,null,{"$f":"IF($A7875=\"\",\"\",$A7875&$C7875)","v":""},{"$f":"IF($A7875=\"\",\"\",$O7875)","v":""},{"$f":"IF($A7875=\"\",\"\",IF(AND(LEFT($P7875,1)=\"5\",RIGHT($P7875,2)<\"99\",RIGHT($P7875,2)>\"19\",$R7875<>\"\"),$P7875,\"\"))","v":""}]
[null,null,null,null,null,null,null,null,null,null,null,null,null,null,null,null,null,null,null,null,null,null,null,null,null,null,null,null,"","",""]
[null,null,null,null,null,null,null,null,null,null,null,null,null,null,null,null,null,null,null,null,null,null,null,null,null,null,null,null,"","",""]
[null,null,null,null,null,null,null,null,null,null,null,null,null,null,null,null,null,null,null,null,null,null,null,null,null,null,null,null,"","",""]
[null,null,null,null,null,null,null,null,null,null,null,null,null,null,null,null,null,null,null,null,null,null,null,null,null,null,null,null,"","",""]
[null,null,null,null,null,null,null,null,null,null,null,null,null,null,null,null,null,null,null,null,null,null,null,null,null,null,null,null,"","",""]
[null,null,null,null,null,null,null,null,null,null,null,null,null,null,null,null,null,null,null,null,null,null,null,null,null,null,null,null,"","",""]
[null,null,null,null,null,null,null,null,null,null,null,null,null,null,null,null,null,null,null,null,null,null,null,null,null,null,null,null,"","",""]
[null,null,null,null,null,null,null,null,null,null,null,null,null,null,null,null,null,null,null,null,null,null,null,null,null,null,null,null,"","",""]
[null,null,null,null,null,null,null,null,null,null,null,null,null,null,null,null,null,null,null,null,null,null,null,null,null,null,null,null,"","",""]
[null,null,null,null,null,null,null,null,null,null,null,null,null,null,null,null,null,null,null,null,null,null,null,null,null,null,null,null,"","",""]
[null,null,null,null,null,null,null,null,null,null,null,null,null,null,null,null,null,null,null,null,null,null,null,null,null,null,null,null,"","",""]
[null,null,null,null,null,null,null,null,null,null,null,null,null,null,null,null,null,null,null,null,null,null,null,null,null,null,null,null,"","",""]
[null,null,null,null,null,null,null,null,null,null,null,null,null,null,null,null,null,null,null,null,null,null,null,null,null,null,null,null,"","",""]
[null,null,null,null,null,null,null,null,null,null,null,null,null,null,null,null,null,null,null,null,null,null,null,null,null,null,null,null,"","",""]
[null,null,null,null,null,null,null,null,null,null,null,null,null,null,null,null,null,null,null,null,null,null,null,null,null,null,null,null,"","",""]
[null,null,null,null,null,null,null,null,null,null,null,null,null,null,null,null,null,null,null,null,null,null,null,null,null,null,null,null,"","",""]
[null,null,null,null,null,null,null,null,null,null,null,null,null,null,null,null,null,null,null,null,null,null,null,null,null,null,null,null,"","",""]
[null,null,null,null,null,null,null,null,null,null,null,null,null,null,null,null,null,null,null,null,null,null,null,null,null,null,null,null,"","",""]
[null,null,null,null,null,null,null,null,null,null,null,null,null,null,null,null,null,null,null,null,null,null,null,null,null,null,null,null,"","",""]
[null,null,null,null,null,null,null,null,null,null,null,null,null,null,null,null,null,null,null,null,null,null,null,null,null,null,null,null,"","",""]
[null,null,null,null,null,null,null,null,null,null,null,null,null,null,null,null,null,null,null,null,null,null,null,null,null,null,null,null,"","",""]
[null,null,null,null,null,null,null,null,null,null,null,null,null,null,null,null,null,null,null,null,null,null,null,null,null,null,null,null,"","",""]
[null,null,null,null,null,null,null,null,null,null,null,null,null,null,null,null,null,null,null,null,null,null,null,null,null,null,null,null,"","",""]
[null,null,null,null,null,null,null,null,null,null,null,null,null,null,null,null,null,null,null,null,null,null,null,null,null,null,null,null,"","",""]
[null,null,null,null,null,null,null,null,null,null,null,null,null,null,null,null,null,null,null,null,null,null,null,null,null,null,null,null,"","",""]
[null,null,null,null,null,null,null,null,null,null,null,null,null,null,null,null,null,null,null,null,null,null,null,null,null,null,null,null,"","",""]
[null,null,null,null,null,null,null,null,null,null,null,null,null,null,null,null,null,null,null,null,null,null,null,null,null,null,null,null,"","",""]
[null,null,null,null,null,null,null,null,null,null,null,null,null,null,null,null,null,null,null,null,null,null,null,null,null,null,null,null,"","",""]
[null,null,null,null,null,null,null,null,null,null,null,null,null,null,null,null,null,null,null,null,null,null,null,null,null,null,null,null,"","",""]
[null,null,null,null,null,null,null,null,null,null,null,null,null,null,null,null,null,null,null,null,null,null,null,null,null,null,null,null,"","",""]
[null,null,null,null,null,null,null,null,null,null,null,null,null,null,null,null,null,null,null,null,null,null,null,null,null,null,null,null,"","",""]
[null,null,null,null,null,null,null,null,null,null,null,null,null,null,null,null,null,null,null,null,null,null,null,null,null,null,null,null,"","",""]
[null,null,null,null,null,null,null,null,null,null,null,null,null,null,null,null,null,null,null,null,null,null,null,null,null,null,null,null,"","",""]
[null,null,null,null,null,null,null,null,null,null,null,null,null,null,null,null,null,null,null,null,null,null,null,null,null,null,null,null,"","",""]
[null,null,null,null,null,null,null,null,null,null,null,null,null,null,null,null,null,null,null,null,null,null,null,null,null,null,null,null,"","",""]
[null,null,null,null,null,null,null,null,null,null,null,null,null,null,null,null,null,null,null,null,null,null,null,null,null,null,null,null,"","",""]
[null,null,null,null,null,null,null,null,null,null,null,null,null,null,null,null,null,null,null,null,null,null,null,null,null,null,null,null,{"$f":"IF($A8195=\"\",\"\",$A8195&$C8195)","v":""},{"$f":"IF($A8195=\"\",\"\",$O8195)","v":""},{"$f":"IF($A8195=\"\",\"\",IF(AND(LEFT($P8195,1)=\"5\",RIGHT($P8195,2)<\"99\",RIGHT($P8195,2)>\"19\",$R8195<>\"\"),$P8195,\"\"))","v":""}]
[null,null,null,null,null,null,null,null,null,null,null,null,null,null,null,null,null,null,null,null,null,null,null,null,null,null,null,null,"","",""]
[null,null,null,null,null,null,null,null,null,null,null,null,null,null,null,null,null,null,null,null,null,null,null,null,null,null,null,null,"","",""]
[null,null,null,null,null,null,null,null,null,null,null,null,null,null,null,null,null,null,null,null,null,null,null,null,null,null,null,null,"","",""]
[null,null,null,null,null,null,null,null,null,null,null,null,null,null,null,null,null,null,null,null,null,null,null,null,null,null,null,null,"","",""]
[null,null,null,null,null,null,null,null,null,null,null,null,null,null,null,null,null,null,null,null,null,null,null,null,null,null,null,null,"","",""]
[null,null,null,null,null,null,null,null,null,null,null,null,null,null,null,null,null,null,null,null,null,null,null,null,null,null,null,null,"","",""]
[null,null,null,null,null,null,null,null,null,null,null,null,null,null,null,null,null,null,null,null,null,null,null,null,null,null,null,null,"","",""]
[null,null,null,null,null,null,null,null,null,null,null,null,null,null,null,null,null,null,null,null,null,null,null,null,null,null,null,null,"","",""]
[null,null,null,null,null,null,null,null,null,null,null,null,null,null,null,null,null,null,null,null,null,null,null,null,null,null,null,null,"","",""]
[null,null,null,null,null,null,null,null,null,null,null,null,null,null,null,null,null,null,null,null,null,null,null,null,null,null,null,null,"","",""]
[null,null,null,null,null,null,null,null,null,null,null,null,null,null,null,null,null,null,null,null,null,null,null,null,null,null,null,null,"","",""]
[null,null,null,null,null,null,null,null,null,null,null,null,null,null,null,null,null,null,null,null,null,null,null,null,null,null,null,null,"","",""]
[null,null,null,null,null,null,null,null,null,null,null,null,null,null,null,null,null,null,null,null,null,null,null,null,null,null,null,null,"","",""]
[null,null,null,null,null,null,null,null,null,null,null,null,null,null,null,null,null,null,null,null,null,null,null,null,null,null,null,null,"","",""]
[null,null,null,null,null,null,null,null,null,null,null,null,null,null,null,null,null,null,null,null,null,null,null,null,null,null,null,null,"","",""]
[null,null,null,null,null,null,null,null,null,null,null,null,null,null,null,null,null,null,null,null,null,null,null,null,null,null,null,null,"","",""]
[null,null,null,null,null,null,null,null,null,null,null,null,null,null,null,null,null,null,null,null,null,null,null,null,null,null,null,null,"","",""]
[null,null,null,null,null,null,null,null,null,null,null,null,null,null,null,null,null,null,null,null,null,null,null,null,null,null,null,null,"","",""]
[null,null,null,null,null,null,null,null,null,null,null,null,null,null,null,null,null,null,null,null,null,null,null,null,null,null,null,null,"","",""]
[null,null,null,null,null,null,null,null,null,null,null,null,null,null,null,null,null,null,null,null,null,null,null,null,null,null,null,null,"","",""]
[null,null,null,null,null,null,null,null,null,null,null,null,null,null,null,null,null,null,null,null,null,null,null,null,null,null,null,null,"","",""]
[null,null,null,null,null,null,null,null,null,null,null,null,null,null,null,null,null,null,null,null,null,null,null,null,null,null,null,null,"","",""]
[null,null,null,null,null,null,null,null,null,null,null,null,null,null,null,null,null,null,null,null,null,null,null,null,null,null,null,null,"","",""]
[null,null,null,null,null,null,null,null,null,null,null,null,null,null,null,null,null,null,null,null,null,null,null,null,null,null,null,null,"","",""]
[null,null,null,null,null,null,null,null,null,null,null,null,null,null,null,null,null,null,null,null,null,null,null,null,null,null,null,null,"","",""]
[null,null,null,null,null,null,null,null,null,null,null,null,null,null,null,null,null,null,null,null,null,null,null,null,null,null,null,null,"","",""]
[null,null,null,null,null,null,null,null,null,null,null,null,null,null,null,null,null,null,null,null,null,null,null,null,null,null,null,null,"","",""]
[null,null,null,null,null,null,null,null,null,null,null,null,null,null,null,null,null,null,null,null,null,null,null,null,null,null,null,null,"","",""]
[null,null,null,null,null,null,null,null,null,null,null,null,null,null,null,null,null,null,null,null,null,null,null,null,null,null,null,null,"","",""]
[null,null,null,null,null,null,null,null,null,null,null,null,null,null,null,null,null,null,null,null,null,null,null,null,null,null,null,null,"","",""]
[null,null,null,null,null,null,null,null,null,null,null,null,null,null,null,null,null,null,null,null,null,null,null,null,null,null,null,null,"","",""]
[null,null,null,null,null,null,null,null,null,null,null,null,null,null,null,null,null,null,null,null,null,null,null,null,null,null,null,null,"","",""]
[null,null,null,null,null,null,null,null,null,null,null,null,null,null,null,null,null,null,null,null,null,null,null,null,null,null,null,null,"","",""]
[null,null,null,null,null,null,null,null,null,null,null,null,null,null,null,null,null,null,null,null,null,null,null,null,null,null,null,null,"","",""]
[null,null,null,null,null,null,null,null,null,null,null,null,null,null,null,null,null,null,null,null,null,null,null,null,null,null,null,null,"","",""]
[null,null,null,null,null,null,null,null,null,null,null,null,null,null,null,null,null,null,null,null,null,null,null,null,null,null,null,null,"","",""]
[null,null,null,null,null,null,null,null,null,null,null,null,null,null,null,null,null,null,null,null,null,null,null,null,null,null,null,null,"","",""]
[null,null,null,null,null,null,null,null,null,null,null,null,null,null,null,null,null,null,null,null,null,null,null,null,null,null,null,null,"","",""]
[null,null,null,null,null,null,null,null,null,null,null,null,null,null,null,null,null,null,null,null,null,null,null,null,null,null,null,null,"","",""]
[null,null,null,null,null,null,null,null,null,null,null,null,null,null,null,null,null,null,null,null,null,null,null,null,null,null,null,null,"","",""]
[null,null,null,null,null,null,null,null,null,null,null,null,null,null,null,null,null,null,null,null,null,null,null,null,null,null,null,null,"","",""]
[null,null,null,null,null,null,null,null,null,null,null,null,null,null,null,null,null,null,null,null,null,null,null,null,null,null,null,null,"","",""]
[null,null,null,null,null,null,null,null,null,null,null,null,null,null,null,null,null,null,null,null,null,null,null,null,null,null,null,null,"","",""]
[null,null,null,null,null,null,null,null,null,null,null,null,null,null,null,null,null,null,null,null,null,null,null,null,null,null,null,null,"","",""]
[null,null,null,null,null,null,null,null,null,null,null,null,null,null,null,null,null,null,null,null,null,null,null,null,null,null,null,null,"","",""]
[null,null,null,null,null,null,null,null,null,null,null,null,null,null,null,null,null,null,null,null,null,null,null,null,null,null,null,null,"","",""]
[null,null,null,null,null,null,null,null,null,null,null,null,null,null,null,null,null,null,null,null,null,null,null,null,null,null,null,null,"","",""]
[null,null,null,null,null,null,null,null,null,null,null,null,null,null,null,null,null,null,null,null,null,null,null,null,null,null,null,null,"","",""]
[null,null,null,null,null,null,null,null,null,null,null,null,null,null,null,null,null,null,null,null,null,null,null,null,null,null,null,null,"","",""]
[null,null,null,null,null,null,null,null,null,null,null,null,null,null,null,null,null,null,null,null,null,null,null,null,null,null,null,null,"","",""]
[null,null,null,null,null,null,null,null,null,null,null,null,null,null,null,null,null,null,null,null,null,null,null,null,null,null,null,null,"","",""]
[null,null,null,null,null,null,null,null,null,null,null,null,null,null,null,null,null,null,null,null,null,null,null,null,null,null,null,null,"","",""]
[null,null,null,null,null,null,null,null,null,null,null,null,null,null,null,null,null,null,null,null,null,null,null,null,null,null,null,null,"","",""]
[null,null,null,null,null,null,null,null,null,null,null,null,null,null,null,null,null,null,null,null,null,null,null,null,null,null,null,null,"","",""]
[null,null,null,null,null,null,null,null,null,null,null,null,null,null,null,null,null,null,null,null,null,null,null,null,null,null,null,null,"","",""]
[null,null,null,null,null,null,null,null,null,null,null,null,null,null,null,null,null,null,null,null,null,null,null,null,null,null,null,null,"","",""]
[null,null,null,null,null,null,null,null,null,null,null,null,null,null,null,null,null,null,null,null,null,null,null,null,null,null,null,null,"","",""]
[null,null,null,null,null,null,null,null,null,null,null,null,null,null,null,null,null,null,null,null,null,null,null,null,null,null,null,null,"","",""]
[null,null,null,null,null,null,null,null,null,null,null,null,null,null,null,null,null,null,null,null,null,null,null,null,null,null,null,null,"","",""]
[null,null,null,null,null,null,null,null,null,null,null,null,null,null,null,null,null,null,null,null,null,null,null,null,null,null,null,null,"","",""]
[null,null,null,null,null,null,null,null,null,null,null,null,null,null,null,null,null,null,null,null,null,null,null,null,null,null,null,null,"","",""]
[null,null,null,null,null,null,null,null,null,null,null,null,null,null,null,null,null,null,null,null,null,null,null,null,null,null,null,null,"","",""]
[null,null,null,null,null,null,null,null,null,null,null,null,null,null,null,null,null,null,null,null,null,null,null,null,null,null,null,null,"","",""]
[null,null,null,null,null,null,null,null,null,null,null,null,null,null,null,null,null,null,null,null,null,null,null,null,null,null,null,null,"","",""]
[null,null,null,null,null,null,null,null,null,null,null,null,null,null,null,null,null,null,null,null,null,null,null,null,null,null,null,null,"","",""]
[null,null,null,null,null,null,null,null,null,null,null,null,null,null,null,null,null,null,null,null,null,null,null,null,null,null,null,null,"","",""]
[null,null,null,null,null,null,null,null,null,null,null,null,null,null,null,null,null,null,null,null,null,null,null,null,null,null,null,null,"","",""]
[null,null,null,null,null,null,null,null,null,null,null,null,null,null,null,null,null,null,null,null,null,null,null,null,null,null,null,null,"","",""]
[null,null,null,null,null,null,null,null,null,null,null,null,null,null,null,null,null,null,null,null,null,null,null,null,null,null,null,null,"","",""]
[null,null,null,null,null,null,null,null,null,null,null,null,null,null,null,null,null,null,null,null,null,null,null,null,null,null,null,null,"","",""]
[null,null,null,null,null,null,null,null,null,null,null,null,null,null,null,null,null,null,null,null,null,null,null,null,null,null,null,null,"","",""]
[null,null,null,null,null,null,null,null,null,null,null,null,null,null,null,null,null,null,null,null,null,null,null,null,null,null,null,null,"","",""]
[null,null,null,null,null,null,null,null,null,null,null,null,null,null,null,null,null,null,null,null,null,null,null,null,null,null,null,null,"","",""]
[null,null,null,null,null,null,null,null,null,null,null,null,null,null,null,null,null,null,null,null,null,null,null,null,null,null,null,null,"","",""]
[null,null,null,null,null,null,null,null,null,null,null,null,null,null,null,null,null,null,null,null,null,null,null,null,null,null,null,null,"","",""]
[null,null,null,null,null,null,null,null,null,null,null,null,null,null,null,null,null,null,null,null,null,null,null,null,null,null,null,null,"","",""]
[null,null,null,null,null,null,null,null,null,null,null,null,null,null,null,null,null,null,null,null,null,null,null,null,null,null,null,null,"","",""]
[null,null,null,null,null,null,null,null,null,null,null,null,null,null,null,null,null,null,null,null,null,null,null,null,null,null,null,null,"","",""]
[null,null,null,null,null,null,null,null,null,null,null,null,null,null,null,null,null,null,null,null,null,null,null,null,null,null,null,null,"","",""]
[null,null,null,null,null,null,null,null,null,null,null,null,null,null,null,null,null,null,null,null,null,null,null,null,null,null,null,null,{"$f":"IF($A8899=\"\",\"\",$A8899&$C8899)","v":""},{"$f":"IF($A8899=\"\",\"\",$O8899)","v":""},{"$f":"IF($A8899=\"\",\"\",IF(AND(LEFT($P8899,1)=\"5\",RIGHT($P8899,2)<\"99\",RIGHT($P8899,2)>\"19\",$R8899<>\"\"),$P8899,\"\"))","v":""}]
[null,null,null,null,null,null,null,null,null,null,null,null,null,null,null,null,null,null,null,null,null,null,null,null,null,null,null,null,"","",""]
[null,null,null,null,null,null,null,null,null,null,null,null,null,null,null,null,null,null,null,null,null,null,null,null,null,null,null,null,"","",""]
[null,null,null,null,null,null,null,null,null,null,null,null,null,null,null,null,null,null,null,null,null,null,null,null,null,null,null,null,"","",""]
[null,null,null,null,null,null,null,null,null,null,null,null,null,null,null,null,null,null,null,null,null,null,null,null,null,null,null,null,"","",""]
[null,null,null,null,null,null,null,null,null,null,null,null,null,null,null,null,null,null,null,null,null,null,null,null,null,null,null,null,"","",""]
[null,null,null,null,null,null,null,null,null,null,null,null,null,null,null,null,null,null,null,null,null,null,null,null,null,null,null,null,"","",""]
[null,null,null,null,null,null,null,null,null,null,null,null,null,null,null,null,null,null,null,null,null,null,null,null,null,null,null,null,"","",""]
[null,null,null,null,null,null,null,null,null,null,null,null,null,null,null,null,null,null,null,null,null,null,null,null,null,null,null,null,"","",""]
[null,null,null,null,null,null,null,null,null,null,null,null,null,null,null,null,null,null,null,null,null,null,null,null,null,null,null,null,"","",""]
[null,null,null,null,null,null,null,null,null,null,null,null,null,null,null,null,null,null,null,null,null,null,null,null,null,null,null,null,"","",""]
[null,null,null,null,null,null,null,null,null,null,null,null,null,null,null,null,null,null,null,null,null,null,null,null,null,null,null,null,"","",""]
[null,null,null,null,null,null,null,null,null,null,null,null,null,null,null,null,null,null,null,null,null,null,null,null,null,null,null,null,"","",""]
[null,null,null,null,null,null,null,null,null,null,null,null,null,null,null,null,null,null,null,null,null,null,null,null,null,null,null,null,"","",""]
[null,null,null,null,null,null,null,null,null,null,null,null,null,null,null,null,null,null,null,null,null,null,null,null,null,null,null,null,"","",""]
[null,null,null,null,null,null,null,null,null,null,null,null,null,null,null,null,null,null,null,null,null,null,null,null,null,null,null,null,{"$f":"IF($A9027=\"\",\"\",$A9027&$C9027)","v":""},{"$f":"IF($A9027=\"\",\"\",$O9027)","v":""},{"$f":"IF($A9027=\"\",\"\",IF(AND(LEFT($P9027,1)=\"5\",RIGHT($P9027,2)<\"99\",RIGHT($P9027,2)>\"19\",$R9027<>\"\"),$P9027,\"\"))","v":""}]
[null,null,null,null,null,null,null,null,null,null,null,null,null,null,null,null,null,null,null,null,null,null,null,null,null,null,null,null,"","",""]
[null,null,null,null,null,null,null,null,null,null,null,null,null,null,null,null,null,null,null,null,null,null,null,null,null,null,null,null,"","",""]
[null,null,null,null,null,null,null,null,null,null,null,null,null,null,null,null,null,null,null,null,null,null,null,null,null,null,null,null,"","",""]
[null,null,null,null,null,null,null,null,null,null,null,null,null,null,null,null,null,null,null,null,null,null,null,null,null,null,null,null,"","",""]
[null,null,null,null,null,null,null,null,null,null,null,null,null,null,null,null,null,null,null,null,null,null,null,null,null,null,null,null,"","",""]
[null,null,null,null,null,null,null,null,null,null,null,null,null,null,null,null,null,null,null,null,null,null,null,null,null,null,null,null,"","",""]
[null,null,null,null,null,null,null,null,null,null,null,null,null,null,null,null,null,null,null,null,null,null,null,null,null,null,null,null,{"$f":"IF($A9091=\"\",\"\",$A9091&$C9091)","v":""},{"$f":"IF($A9091=\"\",\"\",$O9091)","v":""},{"$f":"IF($A9091=\"\",\"\",IF(AND(LEFT($P9091,1)=\"5\",RIGHT($P9091,2)<\"99\",RIGHT($P9091,2)>\"19\",$R9091<>\"\"),$P9091,\"\"))","v":""}]
[null,null,null,null,null,null,null,null,null,null,null,null,null,null,null,null,null,null,null,null,null,null,null,null,null,null,null,null,"","",""]
[null,null,null,null,null,null,null,null,null,null,null,null,null,null,null,null,null,null,null,null,null,null,null,null,null,null,null,null,"","",""]
[null,null,null,null,null,null,null,null,null,null,null,null,null,null,null,null,null,null,null,null,null,null,null,null,null,null,null,null,"","",""]
[null,null,null,null,null,null,null,null,null,null,null,null,null,null,null,null,null,null,null,null,null,null,null,null,null,null,null,null,"","",""]
[null,null,null,null,null,null,null,null,null,null,null,null,null,null,null,null,null,null,null,null,null,null,null,null,null,null,null,null,"","",""]
[null,null,null,null,null,null,null,null,null,null,null,null,null,null,null,null,null,null,null,null,null,null,null,null,null,null,null,null,"","",""]
[null,null,null,null,null,null,null,null,null,null,null,null,null,null,null,null,null,null,null,null,null,null,null,null,null,null,null,null,"","",""]
[null,null,null,null,null,null,null,null,null,null,null,null,null,null,null,null,null,null,null,null,null,null,null,null,null,null,null,null,"","",""]
[null,null,null,null,null,null,null,null,null,null,null,null,null,null,null,null,null,null,null,null,null,null,null,null,null,null,null,null,"","",""]
[null,null,null,null,null,null,null,null,null,null,null,null,null,null,null,null,null,null,null,null,null,null,null,null,null,null,null,null,"","",""]
[null,null,null,null,null,null,null,null,null,null,null,null,null,null,null,null,null,null,null,null,null,null,null,null,null,null,null,null,"","",""]
[null,null,null,null,null,null,null,null,null,null,null,null,null,null,null,null,null,null,null,null,null,null,null,null,null,null,null,null,"","",""]
[null,null,null,null,null,null,null,null,null,null,null,null,null,null,null,null,null,null,null,null,null,null,null,null,null,null,null,null,"","",""]
[null,null,null,null,null,null,null,null,null,null,null,null,null,null,null,null,null,null,null,null,null,null,null,null,null,null,null,null,"","",""]
[null,null,null,null,null,null,null,null,null,null,null,null,null,null,null,null,null,null,null,null,null,null,null,null,null,null,null,null,{"$f":"IF($A9219=\"\",\"\",$A9219&$C9219)","v":""},{"$f":"IF($A9219=\"\",\"\",$O9219)","v":""},{"$f":"IF($A9219=\"\",\"\",IF(AND(LEFT($P9219,1)=\"5\",RIGHT($P9219,2)<\"99\",RIGHT($P9219,2)>\"19\",$R9219<>\"\"),$P9219,\"\"))","v":""}]
[null,null,null,null,null,null,null,null,null,null,null,null,null,null,null,null,null,null,null,null,null,null,null,null,null,null,null,null,"","",""]
[null,null,null,null,null,null,null,null,null,null,null,null,null,null,null,null,null,null,null,null,null,null,null,null,null,null,null,null,"","",""]
[null,null,null,null,null,null,null,null,null,null,null,null,null,null,null,null,null,null,null,null,null,null,null,null,null,null,null,null,"","",""]
[null,null,null,null,null,null,null,null,null,null,null,null,null,null,null,null,null,null,null,null,null,null,null,null,null,null,null,null,"","",""]
[null,null,null,null,null,null,null,null,null,null,null,null,null,null,null,null,null,null,null,null,null,null,null,null,null,null,null,null,"","",""]
[null,null,null,null,null,null,null,null,null,null,null,null,null,null,null,null,null,null,null,null,null,null,null,null,null,null,null,null,"","",""]
[null,null,null,null,null,null,null,null,null,null,null,null,null,null,null,null,null,null,null,null,null,null,null,null,null,null,null,null,"","",""]
[null,null,null,null,null,null,null,null,null,null,null,null,null,null,null,null,null,null,null,null,null,null,null,null,null,null,null,null,"","",""]
[null,null,null,null,null,null,null,null,null,null,null,null,null,null,null,null,null,null,null,null,null,null,null,null,null,null,null,null,"","",""]
[null,null,null,null,null,null,null,null,null,null,null,null,null,null,null,null,null,null,null,null,null,null,null,null,null,null,null,null,"","",""]
[null,null,null,null,null,null,null,null,null,null,null,null,null,null,null,null,null,null,null,null,null,null,null,null,null,null,null,null,"","",""]
[null,null,null,null,null,null,null,null,null,null,null,null,null,null,null,null,null,null,null,null,null,null,null,null,null,null,null,null,"","",""]
[null,null,null,null,null,null,null,null,null,null,null,null,null,null,null,null,null,null,null,null,null,null,null,null,null,null,null,null,"","",""]
[null,null,null,null,null,null,null,null,null,null,null,null,null,null,null,null,null,null,null,null,null,null,null,null,null,null,null,null,"","",""]
[null,null,null,null,null,null,null,null,null,null,null,null,null,null,null,null,null,null,null,null,null,null,null,null,null,null,null,null,"","",""]
[null,null,null,null,null,null,null,null,null,null,null,null,null,null,null,null,null,null,null,null,null,null,null,null,null,null,null,null,"","",""]
[null,null,null,null,null,null,null,null,null,null,null,null,null,null,null,null,null,null,null,null,null,null,null,null,null,null,null,null,"","",""]
[null,null,null,null,null,null,null,null,null,null,null,null,null,null,null,null,null,null,null,null,null,null,null,null,null,null,null,null,"","",""]
[null,null,null,null,null,null,null,null,null,null,null,null,null,null,null,null,null,null,null,null,null,null,null,null,null,null,null,null,"","",""]
[null,null,null,null,null,null,null,null,null,null,null,null,null,null,null,null,null,null,null,null,null,null,null,null,null,null,null,null,"","",""]
[null,null,null,null,null,null,null,null,null,null,null,null,null,null,null,null,null,null,null,null,null,null,null,null,null,null,null,null,"","",""]
[null,null,null,null,null,null,null,null,null,null,null,null,null,null,null,null,null,null,null,null,null,null,null,null,null,null,null,null,"","",""]
[null,null,null,null,null,null,null,null,null,null,null,null,null,null,null,null,null,null,null,null,null,null,null,null,null,null,null,null,"","",""]
[null,null,null,null,null,null,null,null,null,null,null,null,null,null,null,null,null,null,null,null,null,null,null,null,null,null,null,null,"","",""]
[null,null,null,null,null,null,null,null,null,null,null,null,null,null,null,null,null,null,null,null,null,null,null,null,null,null,null,null,"","",""]
[null,null,null,null,null,null,null,null,null,null,null,null,null,null,null,null,null,null,null,null,null,null,null,null,null,null,null,null,"","",""]
[null,null,null,null,null,null,null,null,null,null,null,null,null,null,null,null,null,null,null,null,null,null,null,null,null,null,null,null,"","",""]
[null,null,null,null,null,null,null,null,null,null,null,null,null,null,null,null,null,null,null,null,null,null,null,null,null,null,null,null,"","",""]
[null,null,null,null,null,null,null,null,null,null,null,null,null,null,null,null,null,null,null,null,null,null,null,null,null,null,null,null,"","",""]
[null,null,null,null,null,null,null,null,null,null,null,null,null,null,null,null,null,null,null,null,null,null,null,null,null,null,null,null,"","",""]
[null,null,null,null,null,null,null,null,null,null,null,null,null,null,null,null,null,null,null,null,null,null,null,null,null,null,null,null,"","",""]
[null,null,null,null,null,null,null,null,null,null,null,null,null,null,null,null,null,null,null,null,null,null,null,null,null,null,null,null,"","",""]
[null,null,null,null,null,null,null,null,null,null,null,null,null,null,null,null,null,null,null,null,null,null,null,null,null,null,null,null,"","",""]
[null,null,null,null,null,null,null,null,null,null,null,null,null,null,null,null,null,null,null,null,null,null,null,null,null,null,null,null,"","",""]
[null,null,null,null,null,null,null,null,null,null,null,null,null,null,null,null,null,null,null,null,null,null,null,null,null,null,null,null,"","",""]
[null,null,null,null,null,null,null,null,null,null,null,null,null,null,null,null,null,null,null,null,null,null,null,null,null,null,null,null,"","",""]
[null,null,null,null,null,null,null,null,null,null,null,null,null,null,null,null,null,null,null,null,null,null,null,null,null,null,null,null,"","",""]
[null,null,null,null,null,null,null,null,null,null,null,null,null,null,null,null,null,null,null,null,null,null,null,null,null,null,null,null,"","",""]
[null,null,null,null,null,null,null,null,null,null,null,null,null,null,null,null,null,null,null,null,null,null,null,null,null,null,null,null,"","",""]
[null,null,null,null,null,null,null,null,null,null,null,null,null,null,null,null,null,null,null,null,null,null,null,null,null,null,null,null,"","",""]
[null,null,null,null,null,null,null,null,null,null,null,null,null,null,null,null,null,null,null,null,null,null,null,null,null,null,null,null,"","",""]
[null,null,null,null,null,null,null,null,null,null,null,null,null,null,null,null,null,null,null,null,null,null,null,null,null,null,null,null,"","",""]
[null,null,null,null,null,null,null,null,null,null,null,null,null,null,null,null,null,null,null,null,null,null,null,null,null,null,null,null,"","",""]
[null,null,null,null,null,null,null,null,null,null,null,null,null,null,null,null,null,null,null,null,null,null,null,null,null,null,null,null,"","",""]
[null,null,null,null,null,null,null,null,null,null,null,null,null,null,null,null,null,null,null,null,null,null,null,null,null,null,null,null,"","",""]
[null,null,null,null,null,null,null,null,null,null,null,null,null,null,null,null,null,null,null,null,null,null,null,null,null,null,null,null,"","",""]
[null,null,null,null,null,null,null,null,null,null,null,null,null,null,null,null,null,null,null,null,null,null,null,null,null,null,null,null,"","",""]
[null,null,null,null,null,null,null,null,null,null,null,null,null,null,null,null,null,null,null,null,null,null,null,null,null,null,null,null,"","",""]
[null,null,null,null,null,null,null,null,null,null,null,null,null,null,null,null,null,null,null,null,null,null,null,null,null,null,null,null,"","",""]
[null,null,null,null,null,null,null,null,null,null,null,null,null,null,null,null,null,null,null,null,null,null,null,null,null,null,null,null,"","",""]
[null,null,null,null,null,null,null,null,null,null,null,null,null,null,null,null,null,null,null,null,null,null,null,null,null,null,null,null,"","",""]
[null,null,null,null,null,null,null,null,null,null,null,null,null,null,null,null,null,null,null,null,null,null,null,null,null,null,null,null,"","",""]
[null,null,null,null,null,null,null,null,null,null,null,null,null,null,null,null,null,null,null,null,null,null,null,null,null,null,null,null,"","",""]
[null,null,null,null,null,null,null,null,null,null,null,null,null,null,null,null,null,null,null,null,null,null,null,null,null,null,null,null,"","",""]
[null,null,null,null,null,null,null,null,null,null,null,null,null,null,null,null,null,null,null,null,null,null,null,null,null,null,null,null,"","",""]
[null,null,null,null,null,null,null,null,null,null,null,null,null,null,null,null,null,null,null,null,null,null,null,null,null,null,null,null,"","",""]
[null,null,null,null,null,null,null,null,null,null,null,null,null,null,null,null,null,null,null,null,null,null,null,null,null,null,null,null,"","",""]
[null,null,null,null,null,null,null,null,null,null,null,null,null,null,null,null,null,null,null,null,null,null,null,null,null,null,null,null,"","",""]
[null,null,null,null,null,null,null,null,null,null,null,null,null,null,null,null,null,null,null,null,null,null,null,null,null,null,null,null,"","",""]
[null,null,null,null,null,null,null,null,null,null,null,null,null,null,null,null,null,null,null,null,null,null,null,null,null,null,null,null,"","",""]
[null,null,null,null,null,null,null,null,null,null,null,null,null,null,null,null,null,null,null,null,null,null,null,null,null,null,null,null,"","",""]
[null,null,null,null,null,null,null,null,null,null,null,null,null,null,null,null,null,null,null,null,null,null,null,null,null,null,null,null,"","",""]
[null,null,null,null,null,null,null,null,null,null,null,null,null,null,null,null,null,null,null,null,null,null,null,null,null,null,null,null,"","",""]
[null,null,null,null,null,null,null,null,null,null,null,null,null,null,null,null,null,null,null,null,null,null,null,null,null,null,null,null,"","",""]
[null,null,null,null,null,null,null,null,null,null,null,null,null,null,null,null,null,null,null,null,null,null,null,null,null,null,null,null,"","",""]
[null,null,null,null,null,null,null,null,null,null,null,null,null,null,null,null,null,null,null,null,null,null,null,null,null,null,null,null,"","",""]
[null,null,null,null,null,null,null,null,null,null,null,null,null,null,null,null,null,null,null,null,null,null,null,null,null,null,null,null,"","",""]
[null,null,null,null,null,null,null,null,null,null,null,null,null,null,null,null,null,null,null,null,null,null,null,null,null,null,null,null,"","",""]
[null,null,null,null,null,null,null,null,null,null,null,null,null,null,null,null,null,null,null,null,null,null,null,null,null,null,null,null,"","",""]
[null,null,null,null,null,null,null,null,null,null,null,null,null,null,null,null,null,null,null,null,null,null,null,null,null,null,null,null,"","",""]
[null,null,null,null,null,null,null,null,null,null,null,null,null,null,null,null,null,null,null,null,null,null,null,null,null,null,null,null,"","",""]
[null,null,null,null,null,null,null,null,null,null,null,null,null,null,null,null,null,null,null,null,null,null,null,null,null,null,null,null,"","",""]
[null,null,null,null,null,null,null,null,null,null,null,null,null,null,null,null,null,null,null,null,null,null,null,null,null,null,null,null,"","",""]
[null,null,null,null,null,null,null,null,null,null,null,null,null,null,null,null,null,null,null,null,null,null,null,null,null,null,null,null,"","",""]
[null,null,null,null,null,null,null,null,null,null,null,null,null,null,null,null,null,null,null,null,null,null,null,null,null,null,null,null,"","",""]
[null,null,null,null,null,null,null,null,null,null,null,null,null,null,null,null,null,null,null,null,null,null,null,null,null,null,null,null,"","",""]
[null,null,null,null,null,null,null,null,null,null,null,null,null,null,null,null,null,null,null,null,null,null,null,null,null,null,null,null,"","",""]
[null,null,null,null,null,null,null,null,null,null,null,null,null,null,null,null,null,null,null,null,null,null,null,null,null,null,null,null,"","",""]
[null,null,null,null,null,null,null,null,null,null,null,null,null,null,null,null,null,null,null,null,null,null,null,null,null,null,null,null,"","",""]
[null,null,null,null,null,null,null,null,null,null,null,null,null,null,null,null,null,null,null,null,null,null,null,null,null,null,null,null,"","",""]
[null,null,null,null,null,null,null,null,null,null,null,null,null,null,null,null,null,null,null,null,null,null,null,null,null,null,null,null,"","",""]
[null,null,null,null,null,null,null,null,null,null,null,null,null,null,null,null,null,null,null,null,null,null,null,null,null,null,null,null,"","",""]
[null,null,null,null,null,null,null,null,null,null,null,null,null,null,null,null,null,null,null,null,null,null,null,null,null,null,null,null,"","",""]
[null,null,null,null,null,null,null,null,null,null,null,null,null,null,null,null,null,null,null,null,null,null,null,null,null,null,null,null,"","",""]
[null,null,null,null,null,null,null,null,null,null,null,null,null,null,null,null,null,null,null,null,null,null,null,null,null,null,null,null,"","",""]
[null,null,null,null,null,null,null,null,null,null,null,null,null,null,null,null,null,null,null,null,null,null,null,null,null,null,null,null,"","",""]
[null,null,null,null,null,null,null,null,null,null,null,null,null,null,null,null,null,null,null,null,null,null,null,null,null,null,null,null,"","",""]
[null,null,null,null,null,null,null,null,null,null,null,null,null,null,null,null,null,null,null,null,null,null,null,null,null,null,null,null,"","",""]
[null,null,null,null,null,null,null,null,null,null,null,null,null,null,null,null,null,null,null,null,null,null,null,null,null,null,null,null,"","",""]
[null,null,null,null,null,null,null,null,null,null,null,null,null,null,null,null,null,null,null,null,null,null,null,null,null,null,null,null,"","",""]
[null,null,null,null,null,null,null,null,null,null,null,null,null,null,null,null,null,null,null,null,null,null,null,null,null,null,null,null,"","",""]
[null,null,null,null,null,null,null,null,null,null,null,null,null,null,null,null,null,null,null,null,null,null,null,null,null,null,null,null,"","",""]
[null,null,null,null,null,null,null,null,null,null,null,null,null,null,null,null,null,null,null,null,null,null,null,null,null,null,null,null,"","",""]
[null,null,null,null,null,null,null,null,null,null,null,null,null,null,null,null,null,null,null,null,null,null,null,null,null,null,null,null,"","",""]
[null,null,null,null,null,null,null,null,null,null,null,null,null,null,null,null,null,null,null,null,null,null,null,null,null,null,null,null,"","",""]
[null,null,null,null,null,null,null,null,null,null,null,null,null,null,null,null,null,null,null,null,null,null,null,null,null,null,null,null,"","",""]
[null,null,null,null,null,null,null,null,null,null,null,null,null,null,null,null,null,null,null,null,null,null,null,null,null,null,null,null,"","",""]
[null,null,null,null,null,null,null,null,null,null,null,null,null,null,null,null,null,null,null,null,null,null,null,null,null,null,null,null,"","",""]
[null,null,null,null,null,null,null,null,null,null,null,null,null,null,null,null,null,null,null,null,null,null,null,null,null,null,null,null,"","",""]
[null,null,null,null,null,null,null,null,null,null,null,null,null,null,null,null,null,null,null,null,null,null,null,null,null,null,null,null,"","",""]
[null,null,null,null,null,null,null,null,null,null,null,null,null,null,null,null,null,null,null,null,null,null,null,null,null,null,null,null,"","",""]
[null,null,null,null,null,null,null,null,null,null,null,null,null,null,null,null,null,null,null,null,null,null,null,null,null,null,null,null,"","",""]
[null,null,null,null,null,null,null,null,null,null,null,null,null,null,null,null,null,null,null,null,null,null,null,null,null,null,null,null,"","",""]
[null,null,null,null,null,null,null,null,null,null,null,null,null,null,null,null,null,null,null,null,null,null,null,null,null,null,null,null,"","",""]
[null,null,null,null,null,null,null,null,null,null,null,null,null,null,null,null,null,null,null,null,null,null,null,null,null,null,null,null,{"$f":"IF($A9795=\"\",\"\",$A9795&$C9795)","v":""},{"$f":"IF($A9795=\"\",\"\",$O9795)","v":""},{"$f":"IF($A9795=\"\",\"\",IF(AND(LEFT($P9795,1)=\"5\",RIGHT($P9795,2)<\"99\",RIGHT($P9795,2)>\"19\",$R9795<>\"\"),$P9795,\"\"))","v":""}]
[null,null,null,null,null,null,null,null,null,null,null,null,null,null,null,null,null,null,null,null,null,null,null,null,null,null,null,null,"","",""]
[null,null,null,null,null,null,null,null,null,null,null,null,null,null,null,null,null,null,null,null,null,null,null,null,null,null,null,null,"","",""]
[null,null,null,null,null,null,null,null,null,null,null,null,null,null,null,null,null,null,null,null,null,null,null,null,null,null,null,null,"","",""]
[null,null,null,null,null,null,null,null,null,null,null,null,null,null,null,null,null,null,null,null,null,null,null,null,null,null,null,null,"","",""]
[null,null,null,null,null,null,null,null,null,null,null,null,null,null,null,null,null,null,null,null,null,null,null,null,null,null,null,null,"","",""]
[null,null,null,null,null,null,null,null,null,null,null,null,null,null,null,null,null,null,null,null,null,null,null,null,null,null,null,null,"","",""]
[null,null,null,null,null,null,null,null,null,null,null,null,null,null,null,null,null,null,null,null,null,null,null,null,null,null,null,null,"","",""]
[null,null,null,null,null,null,null,null,null,null,null,null,null,null,null,null,null,null,null,null,null,null,null,null,null,null,null,null,"","",""]
[null,null,null,null,null,null,null,null,null,null,null,null,null,null,null,null,null,null,null,null,null,null,null,null,null,null,null,null,"","",""]
[null,null,null,null,null,null,null,null,null,null,null,null,null,null,null,null,null,null,null,null,null,null,null,null,null,null,null,null,"","",""]
[null,null,null,null,null,null,null,null,null,null,null,null,null,null,null,null,null,null,null,null,null,null,null,null,null,null,null,null,"","",""]
[null,null,null,null,null,null,null,null,null,null,null,null,null,null,null,null,null,null,null,null,null,null,null,null,null,null,null,null,"","",""]
[null,null,null,null,null,null,null,null,null,null,null,null,null,null,null,null,null,null,null,null,null,null,null,null,null,null,null,null,"","",""]
[null,null,null,null,null,null,null,null,null,null,null,null,null,null,null,null,null,null,null,null,null,null,null,null,null,null,null,null,"","",""]
[null,null,null,null,null,null,null,null,null,null,null,null,null,null,null,null,null,null,null,null,null,null,null,null,null,null,null,null,"","",""]
[null,null,null,null,null,null,null,null,null,null,null,null,null,null,null,null,null,null,null,null,null,null,null,null,null,null,null,null,"","",""]
[null,null,null,null,null,null,null,null,null,null,null,null,null,null,null,null,null,null,null,null,null,null,null,null,null,null,null,null,"","",""]
[null,null,null,null,null,null,null,null,null,null,null,null,null,null,null,null,null,null,null,null,null,null,null,null,null,null,null,null,"","",""]
[null,null,null,null,null,null,null,null,null,null,null,null,null,null,null,null,null,null,null,null,null,null,null,null,null,null,null,null,"","",""]
[null,null,null,null,null,null,null,null,null,null,null,null,null,null,null,null,null,null,null,null,null,null,null,null,null,null,null,null,"","",""]
[null,null,null,null,null,null,null,null,null,null,null,null,null,null,null,null,null,null,null,null,null,null,null,null,null,null,null,null,"","",""]
[null,null,null,null,null,null,null,null,null,null,null,null,null,null,null,null,null,null,null,null,null,null,null,null,null,null,null,null,"","",""]
[null,null,null,null,null,null,null,null,null,null,null,null,null,null,null,null,null,null,null,null,null,null,null,null,null,null,null,null,"","",""]
[null,null,null,null,null,null,null,null,null,null,null,null,null,null,null,null,null,null,null,null,null,null,null,null,null,null,null,null,"","",""]
[null,null,null,null,null,null,null,null,null,null,null,null,null,null,null,null,null,null,null,null,null,null,null,null,null,null,null,null,"","",""]
[null,null,null,null,null,null,null,null,null,null,null,null,null,null,null,null,null,null,null,null,null,null,null,null,null,null,null,null,"","",""]
[null,null,null,null,null,null,null,null,null,null,null,null,null,null,null,null,null,null,null,null,null,null,null,null,null,null,null,null,"","",""]
[null,null,null,null,null,null,null,null,null,null,null,null,null,null,null,null,null,null,null,null,null,null,null,null,null,null,null,null,"","",""]
[null,null,null,null,null,null,null,null,null,null,null,null,null,null,null,null,null,null,null,null,null,null,null,null,null,null,null,null,"","",""]
[null,null,null,null,null,null,null,null,null,null,null,null,null,null,null,null,null,null,null,null,null,null,null,null,null,null,null,null,"","",""]
[null,null,null,null,null,null,null,null,null,null,null,null,null,null,null,null,null,null,null,null,null,null,null,null,null,null,null,null,"","",""]
[null,null,null,null,null,null,null,null,null,null,null,null,null,null,null,null,null,null,null,null,null,null,null,null,null,null,null,null,"","",""]
[null,null,null,null,null,null,null,null,null,null,null,null,null,null,null,null,null,null,null,null,null,null,null,null,null,null,null,null,"","",""]
[null,null,null,null,null,null,null,null,null,null,null,null,null,null,null,null,null,null,null,null,null,null,null,null,null,null,null,null,"","",""]
[null,null,null,null,null,null,null,null,null,null,null,null,null,null,null,null,null,null,null,null,null,null,null,null,null,null,null,null,"","",""]
[null,null,null,null,null,null,null,null,null,null,null,null,null,null,null,null,null,null,null,null,null,null,null,null,null,null,null,null,"","",""]
[null,null,null,null,null,null,null,null,null,null,null,null,null,null,null,null,null,null,null,null,null,null,null,null,null,null,null,null,"","",""]
[null,null,null,null,null,null,null,null,null,null,null,null,null,null,null,null,null,null,null,null,null,null,null,null,null,null,null,null,"","",""]
[null,null,null,null,null,null,null,null,null,null,null,null,null,null,null,null,null,null,null,null,null,null,null,null,null,null,null,null,"","",""]
[null,null,null,null,null,null,null,null,null,null,null,null,null,null,null,null,null,null,null,null,null,null,null,null,null,null,null,null,"","",""]
[null,null,null,null,null,null,null,null,null,null,null,null,null,null,null,null,null,null,null,null,null,null,null,null,null,null,null,null,"","",""]
[null,null,null,null,null,null,null,null,null,null,null,null,null,null,null,null,null,null,null,null,null,null,null,null,null,null,null,null,"","",""]
[null,null,null,null,null,null,null,null,null,null,null,null,null,null,null,null,null,null,null,null,null,null,null,null,null,null,null,null,"","",""]
[null,null,null,null,null,null,null,null,null,null,null,null,null,null,null,null,null,null,null,null,null,null,null,null,null,null,null,null,"","",""]
[null,null,null,null,null,null,null,null,null,null,null,null,null,null,null,null,null,null,null,null,null,null,null,null,null,null,null,null,"","",""]
[null,null,null,null,null,null,null,null,null,null,null,null,null,null,null,null,null,null,null,null,null,null,null,null,null,null,null,null,"","",""]
[null,null,null,null,null,null,null,null,null,null,null,null,null,null,null,null,null,null,null,null,null,null,null,null,null,null,null,null,"","",""]
[null,null,null,null,null,null,null,null,null,null,null,null,null,null,null,null,null,null,null,null,null,null,null,null,null,null,null,null,"","",""]
[null,null,null,null,null,null,null,null,null,null,null,null,null,null,null,null,null,null,null,null,null,null,null,null,null,null,null,null,"","",""]
[null,null,null,null,null,null,null,null,null,null,null,null,null,null,null,null,null,null,null,null,null,null,null,null,null,null,null,null,"","",""]
[null,null,null,null,null,null,null,null,null,null,null,null,null,null,null,null,null,null,null,null,null,null,null,null,null,null,null,null,"","",""]
[null,null,null,null,null,null,null,null,null,null,null,null,null,null,null,null,null,null,null,null,null,null,null,null,null,null,null,null,"","",""]
[null,null,null,null,null,null,null,null,null,null,null,null,null,null,null,null,null,null,null,null,null,null,null,null,null,null,null,null,"","",""]
[null,null,null,null,null,null,null,null,null,null,null,null,null,null,null,null,null,null,null,null,null,null,null,null,null,null,null,null,"","",""]
[null,null,null,null,null,null,null,null,null,null,null,null,null,null,null,null,null,null,null,null,null,null,null,null,null,null,null,null,"","",""]
[null,null,null,null,null,null,null,null,null,null,null,null,null,null,null,null,null,null,null,null,null,null,null,null,null,null,null,null,"","",""]
[null,null,null,null,null,null,null,null,null,null,null,null,null,null,null,null,null,null,null,null,null,null,null,null,null,null,null,null,"","",""]
[null,null,null,null,null,null,null,null,null,null,null,null,null,null,null,null,null,null,null,null,null,null,null,null,null,null,null,null,"","",""]
[null,null,null,null,null,null,null,null,null,null,null,null,null,null,null,null,null,null,null,null,null,null,null,null,null,null,null,null,"","",""]
[null,null,null,null,null,null,null,null,null,null,null,null,null,null,null,null,null,null,null,null,null,null,null,null,null,null,null,null,"","",""]
[null,null,null,null,null,null,null,null,null,null,null,null,null,null,null,null,null,null,null,null,null,null,null,null,null,null,null,null,"","",""]
[null,null,null,null,null,null,null,null,null,null,null,null,null,null,null,null,null,null,null,null,null,null,null,null,null,null,null,null,"","",""]
[null,null,null,null,null,null,null,null,null,null,null,null,null,null,null,null,null,null,null,null,null,null,null,null,null,null,null,null,"","",""]
[null,null,null,null,null,null,null,null,null,null,null,null,null,null,null,null,null,null,null,null,null,null,null,null,null,null,null,null,{"$f":"IF($A9859=\"\",\"\",$A9859&$C9859)","v":""},{"$f":"IF($A9859=\"\",\"\",$O9859)","v":""},{"$f":"IF($A9859=\"\",\"\",IF(AND(LEFT($P9859,1)=\"5\",RIGHT($P9859,2)<\"99\",RIGHT($P9859,2)>\"19\",$R9859<>\"\"),$P9859,\"\"))","v":""}]
[null,null,null,null,null,null,null,null,null,null,null,null,null,null,null,null,null,null,null,null,null,null,null,null,null,null,null,null,"","",""]
[null,null,null,null,null,null,null,null,null,null,null,null,null,null,null,null,null,null,null,null,null,null,null,null,null,null,null,null,"","",""]
[null,null,null,null,null,null,null,null,null,null,null,null,null,null,null,null,null,null,null,null,null,null,null,null,null,null,null,null,"","",""]
[null,null,null,null,null,null,null,null,null,null,null,null,null,null,null,null,null,null,null,null,null,null,null,null,null,null,null,null,"","",""]
[null,null,null,null,null,null,null,null,null,null,null,null,null,null,null,null,null,null,null,null,null,null,null,null,null,null,null,null,"","",""]
[null,null,null,null,null,null,null,null,null,null,null,null,null,null,null,null,null,null,null,null,null,null,null,null,null,null,null,null,"","",""]
[null,null,null,null,null,null,null,null,null,null,null,null,null,null,null,null,null,null,null,null,null,null,null,null,null,null,null,null,"","",""]
[null,null,null,null,null,null,null,null,null,null,null,null,null,null,null,null,null,null,null,null,null,null,null,null,null,null,null,null,"","",""]
[null,null,null,null,null,null,null,null,null,null,null,null,null,null,null,null,null,null,null,null,null,null,null,null,null,null,null,null,"","",""]
[null,null,null,null,null,null,null,null,null,null,null,null,null,null,null,null,null,null,null,null,null,null,null,null,null,null,null,null,"","",""]
[null,null,null,null,null,null,null,null,null,null,null,null,null,null,null,null,null,null,null,null,null,null,null,null,null,null,null,null,"","",""]
[null,null,null,null,null,null,null,null,null,null,null,null,null,null,null,null,null,null,null,null,null,null,null,null,null,null,null,null,"","",""]
[null,null,null,null,null,null,null,null,null,null,null,null,null,null,null,null,null,null,null,null,null,null,null,null,null,null,null,null,"","",""]
[null,null,null,null,null,null,null,null,null,null,null,null,null,null,null,null,null,null,null,null,null,null,null,null,null,null,null,null,"","",""]
[null,null,null,null,null,null,null,null,null,null,null,null,null,null,null,null,null,null,null,null,null,null,null,null,null,null,null,null,"","",""]
[null,null,null,null,null,null,null,null,null,null,null,null,null,null,null,null,null,null,null,null,null,null,null,null,null,null,null,null,"","",""]
[null,null,null,null,null,null,null,null,null,null,null,null,null,null,null,null,null,null,null,null,null,null,null,null,null,null,null,null,"","",""]
[null,null,null,null,null,null,null,null,null,null,null,null,null,null,null,null,null,null,null,null,null,null,null,null,null,null,null,null,"","",""]
[null,null,null,null,null,null,null,null,null,null,null,null,null,null,null,null,null,null,null,null,null,null,null,null,null,null,null,null,"","",""]
[null,null,null,null,null,null,null,null,null,null,null,null,null,null,null,null,null,null,null,null,null,null,null,null,null,null,null,null,"","",""]
[null,null,null,null,null,null,null,null,null,null,null,null,null,null,null,null,null,null,null,null,null,null,null,null,null,null,null,null,"","",""]
[null,null,null,null,null,null,null,null,null,null,null,null,null,null,null,null,null,null,null,null,null,null,null,null,null,null,null,null,"","",""]
[null,null,null,null,null,null,null,null,null,null,null,null,null,null,null,null,null,null,null,null,null,null,null,null,null,null,null,null,"","",""]
[null,null,null,null,null,null,null,null,null,null,null,null,null,null,null,null,null,null,null,null,null,null,null,null,null,null,null,null,"","",""]
[null,null,null,null,null,null,null,null,null,null,null,null,null,null,null,null,null,null,null,null,null,null,null,null,null,null,null,null,"","",""]
[null,null,null,null,null,null,null,null,null,null,null,null,null,null,null,null,null,null,null,null,null,null,null,null,null,null,null,null,"","",""]
[null,null,null,null,null,null,null,null,null,null,null,null,null,null,null,null,null,null,null,null,null,null,null,null,null,null,null,null,"","",""]
[null,null,null,null,null,null,null,null,null,null,null,null,null,null,null,null,null,null,null,null,null,null,null,null,null,null,null,null,"","",""]
[null,null,null,null,null,null,null,null,null,null,null,null,null,null,null,null,null,null,null,null,null,null,null,null,null,null,null,null,"","",""]
[null,null,null,null,null,null,null,null,null,null,null,null,null,null,null,null,null,null,null,null,null,null,null,null,null,null,null,null,"","",""]
[null,null,null,null,null,null,null,null,null,null,null,null,null,null,null,null,null,null,null,null,null,null,null,null,null,null,null,null,"","",""]
[null,null,null,null,null,null,null,null,null,null,null,null,null,null,null,null,null,null,null,null,null,null,null,null,null,null,null,null,"","",""]
[null,null,null,null,null,null,null,null,null,null,null,null,null,null,null,null,null,null,null,null,null,null,null,null,null,null,null,null,"","",""]
[null,null,null,null,null,null,null,null,null,null,null,null,null,null,null,null,null,null,null,null,null,null,null,null,null,null,null,null,"","",""]
[null,null,null,null,null,null,null,null,null,null,null,null,null,null,null,null,null,null,null,null,null,null,null,null,null,null,null,null,"","",""]
[null,null,null,null,null,null,null,null,null,null,null,null,null,null,null,null,null,null,null,null,null,null,null,null,null,null,null,null,"","",""]
[null,null,null,null,null,null,null,null,null,null,null,null,null,null,null,null,null,null,null,null,null,null,null,null,null,null,null,null,"","",""]
[null,null,null,null,null,null,null,null,null,null,null,null,null,null,null,null,null,null,null,null,null,null,null,null,null,null,null,null,"","",""]
[null,null,null,null,null,null,null,null,null,null,null,null,null,null,null,null,null,null,null,null,null,null,null,null,null,null,null,null,"","",""]
[null,null,null,null,null,null,null,null,null,null,null,null,null,null,null,null,null,null,null,null,null,null,null,null,null,null,null,null,"","",""]
[null,null,null,null,null,null,null,null,null,null,null,null,null,null,null,null,null,null,null,null,null,null,null,null,null,null,null,null,"","",""]
[null,null,null,null,null,null,null,null,null,null,null,null,null,null,null,null,null,null,null,null,null,null,null,null,null,null,null,null,"","",""]
[null,null,null,null,null,null,null,null,null,null,null,null,null,null,null,null,null,null,null,null,null,null,null,null,null,null,null,null,"","",""]
[null,null,null,null,null,null,null,null,null,null,null,null,null,null,null,null,null,null,null,null,null,null,null,null,null,null,null,null,"","",""]
[null,null,null,null,null,null,null,null,null,null,null,null,null,null,null,null,null,null,null,null,null,null,null,null,null,null,null,null,"","",""]
[null,null,null,null,null,null,null,null,null,null,null,null,null,null,null,null,null,null,null,null,null,null,null,null,null,null,null,null,"","",""]
[null,null,null,null,null,null,null,null,null,null,null,null,null,null,null,null,null,null,null,null,null,null,null,null,null,null,null,null,"","",""]
[null,null,null,null,null,null,null,null,null,null,null,null,null,null,null,null,null,null,null,null,null,null,null,null,null,null,null,null,"","",""]
[null,null,null,null,null,null,null,null,null,null,null,null,null,null,null,null,null,null,null,null,null,null,null,null,null,null,null,null,"","",""]
[null,null,null,null,null,null,null,null,null,null,null,null,null,null,null,null,null,null,null,null,null,null,null,null,null,null,null,null,"","",""]
[null,null,null,null,null,null,null,null,null,null,null,null,null,null,null,null,null,null,null,null,null,null,null,null,null,null,null,null,"","",""]
[null,null,null,null,null,null,null,null,null,null,null,null,null,null,null,null,null,null,null,null,null,null,null,null,null,null,null,null,"","",""]
[null,null,null,null,null,null,null,null,null,null,null,null,null,null,null,null,null,null,null,null,null,null,null,null,null,null,null,null,"","",""]
[null,null,null,null,null,null,null,null,null,null,null,null,null,null,null,null,null,null,null,null,null,null,null,null,null,null,null,null,"","",""]
[null,null,null,null,null,null,null,null,null,null,null,null,null,null,null,null,null,null,null,null,null,null,null,null,null,null,null,null,"","",""]
[null,null,null,null,null,null,null,null,null,null,null,null,null,null,null,null,null,null,null,null,null,null,null,null,null,null,null,null,"","",""]
[null,null,null,null,null,null,null,null,null,null,null,null,null,null,null,null,null,null,null,null,null,null,null,null,null,null,null,null,"","",""]
[null,null,null,null,null,null,null,null,null,null,null,null,null,null,null,null,null,null,null,null,null,null,null,null,null,null,null,null,"","",""]
[null,null,null,null,null,null,null,null,null,null,null,null,null,null,null,null,null,null,null,null,null,null,null,null,null,null,null,null,"","",""]
[null,null,null,null,null,null,null,null,null,null,null,null,null,null,null,null,null,null,null,null,null,null,null,null,null,null,null,null,"","",""]
[null,null,null,null,null,null,null,null,null,null,null,null,null,null,null,null,null,null,null,null,null,null,null,null,null,null,null,null,"","",""]
[null,null,null,null,null,null,null,null,null,null,null,null,null,null,null,null,null,null,null,null,null,null,null,null,null,null,null,null,"","",""]
[null,null,null,null,null,null,null,null,null,null,null,null,null,null,null,null,null,null,null,null,null,null,null,null,null,null,null,null,"","",""]
[null,null,null,null,null,null,null,null,null,null,null,null,null,null,null,null,null,null,null,null,null,null,null,null,null,null,null,null,{"$f":"IF($A9923=\"\",\"\",$A9923&$C9923)","v":""},{"$f":"IF($A9923=\"\",\"\",$O9923)","v":""},{"$f":"IF($A9923=\"\",\"\",IF(AND(LEFT($P9923,1)=\"5\",RIGHT($P9923,2)<\"99\",RIGHT($P9923,2)>\"19\",$R9923<>\"\"),$P9923,\"\"))","v":""}]
[null,null,null,null,null,null,null,null,null,null,null,null,null,null,null,null,null,null,null,null,null,null,null,null,null,null,null,null,"","",""]
[null,null,null,null,null,null,null,null,null,null,null,null,null,null,null,null,null,null,null,null,null,null,null,null,null,null,null,null,"","",""]
[null,null,null,null,null,null,null,null,null,null,null,null,null,null,null,null,null,null,null,null,null,null,null,null,null,null,null,null,"","",""]
[null,null,null,null,null,null,null,null,null,null,null,null,null,null,null,null,null,null,null,null,null,null,null,null,null,null,null,null,"","",""]
[null,null,null,null,null,null,null,null,null,null,null,null,null,null,null,null,null,null,null,null,null,null,null,null,null,null,null,null,"","",""]
[null,null,null,null,null,null,null,null,null,null,null,null,null,null,null,null,null,null,null,null,null,null,null,null,null,null,null,null,"","",""]
[null,null,null,null,null,null,null,null,null,null,null,null,null,null,null,null,null,null,null,null,null,null,null,null,null,null,null,null,"","",""]
[null,null,null,null,null,null,null,null,null,null,null,null,null,null,null,null,null,null,null,null,null,null,null,null,null,null,null,null,"","",""]
[null,null,null,null,null,null,null,null,null,null,null,null,null,null,null,null,null,null,null,null,null,null,null,null,null,null,null,null,"","",""]
[null,null,null,null,null,null,null,null,null,null,null,null,null,null,null,null,null,null,null,null,null,null,null,null,null,null,null,null,"","",""]
[null,null,null,null,null,null,null,null,null,null,null,null,null,null,null,null,null,null,null,null,null,null,null,null,null,null,null,null,"","",""]
[null,null,null,null,null,null,null,null,null,null,null,null,null,null,null,null,null,null,null,null,null,null,null,null,null,null,null,null,"","",""]
[null,null,null,null,null,null,null,null,null,null,null,null,null,null,null,null,null,null,null,null,null,null,null,null,null,null,null,null,"","",""]
[null,null,null,null,null,null,null,null,null,null,null,null,null,null,null,null,null,null,null,null,null,null,null,null,null,null,null,null,"","",""]
[null,null,null,null,null,null,null,null,null,null,null,null,null,null,null,null,null,null,null,null,null,null,null,null,null,null,null,null,"","",""]
[null,null,null,null,null,null,null,null,null,null,null,null,null,null,null,null,null,null,null,null,null,null,null,null,null,null,null,null,"","",""]
[null,null,null,null,null,null,null,null,null,null,null,null,null,null,null,null,null,null,null,null,null,null,null,null,null,null,null,null,"","",""]
[null,null,null,null,null,null,null,null,null,null,null,null,null,null,null,null,null,null,null,null,null,null,null,null,null,null,null,null,"","",""]
[null,null,null,null,null,null,null,null,null,null,null,null,null,null,null,null,null,null,null,null,null,null,null,null,null,null,null,null,"","",""]
[null,null,null,null,null,null,null,null,null,null,null,null,null,null,null,null,null,null,null,null,null,null,null,null,null,null,null,null,"","",""]
[null,null,null,null,null,null,null,null,null,null,null,null,null,null,null,null,null,null,null,null,null,null,null,null,null,null,null,null,"","",""]
[null,null,null,null,null,null,null,null,null,null,null,null,null,null,null,null,null,null,null,null,null,null,null,null,null,null,null,null,"","",""]
[null,null,null,null,null,null,null,null,null,null,null,null,null,null,null,null,null,null,null,null,null,null,null,null,null,null,null,null,"","",""]
[null,null,null,null,null,null,null,null,null,null,null,null,null,null,null,null,null,null,null,null,null,null,null,null,null,null,null,null,"","",""]
[null,null,null,null,null,null,null,null,null,null,null,null,null,null,null,null,null,null,null,null,null,null,null,null,null,null,null,null,"","",""]
[null,null,null,null,null,null,null,null,null,null,null,null,null,null,null,null,null,null,null,null,null,null,null,null,null,null,null,null,"","",""]
[null,null,null,null,null,null,null,null,null,null,null,null,null,null,null,null,null,null,null,null,null,null,null,null,null,null,null,null,"","",""]
[null,null,null,null,null,null,null,null,null,null,null,null,null,null,null,null,null,null,null,null,null,null,null,null,null,null,null,null,"","",""]
[null,null,null,null,null,null,null,null,null,null,null,null,null,null,null,null,null,null,null,null,null,null,null,null,null,null,null,null,"","",""]
[null,null,null,null,null,null,null,null,null,null,null,null,null,null,null,null,null,null,null,null,null,null,null,null,null,null,null,null,"","",""]
[null,null,null,null,null,null,null,null,null,null,null,null,null,null,null,null,null,null,null,null,null,null,null,null,null,null,null,null,"","",""]
[null,null,null,null,null,null,null,null,null,null,null,null,null,null,null,null,null,null,null,null,null,null,null,null,null,null,null,null,"","",""]
[null,null,null,null,null,null,null,null,null,null,null,null,null,null,null,null,null,null,null,null,null,null,null,null,null,null,null,null,"","",""]
[null,null,null,null,null,null,null,null,null,null,null,null,null,null,null,null,null,null,null,null,null,null,null,null,null,null,null,null,"","",""]
[null,null,null,null,null,null,null,null,null,null,null,null,null,null,null,null,null,null,null,null,null,null,null,null,null,null,null,null,"","",""]
[null,null,null,null,null,null,null,null,null,null,null,null,null,null,null,null,null,null,null,null,null,null,null,null,null,null,null,null,"","",""]
[null,null,null,null,null,null,null,null,null,null,null,null,null,null,null,null,null,null,null,null,null,null,null,null,null,null,null,null,"","",""]
[null,null,null,null,null,null,null,null,null,null,null,null,null,null,null,null,null,null,null,null,null,null,null,null,null,null,null,null,"","",""]
[null,null,null,null,null,null,null,null,null,null,null,null,null,null,null,null,null,null,null,null,null,null,null,null,null,null,null,null,"","",""]
[null,null,null,null,null,null,null,null,null,null,null,null,null,null,null,null,null,null,null,null,null,null,null,null,null,null,null,null,"","",""]
[null,null,null,null,null,null,null,null,null,null,null,null,null,null,null,null,null,null,null,null,null,null,null,null,null,null,null,null,"","",""]
[null,null,null,null,null,null,null,null,null,null,null,null,null,null,null,null,null,null,null,null,null,null,null,null,null,null,null,null,"","",""]
[null,null,null,null,null,null,null,null,null,null,null,null,null,null,null,null,null,null,null,null,null,null,null,null,null,null,null,null,"","",""]
[null,null,null,null,null,null,null,null,null,null,null,null,null,null,null,null,null,null,null,null,null,null,null,null,null,null,null,null,"","",""]
[null,null,null,null,null,null,null,null,null,null,null,null,null,null,null,null,null,null,null,null,null,null,null,null,null,null,null,null,"","",""]
[null,null,null,null,null,null,null,null,null,null,null,null,null,null,null,null,null,null,null,null,null,null,null,null,null,null,null,null,"","",""]
[null,null,null,null,null,null,null,null,null,null,null,null,null,null,null,null,null,null,null,null,null,null,null,null,null,null,null,null,"","",""]
[null,null,null,null,null,null,null,null,null,null,null,null,null,null,null,null,null,null,null,null,null,null,null,null,null,null,null,null,"","",""]
[null,null,null,null,null,null,null,null,null,null,null,null,null,null,null,null,null,null,null,null,null,null,null,null,null,null,null,null,"","",""]
[null,null,null,null,null,null,null,null,null,null,null,null,null,null,null,null,null,null,null,null,null,null,null,null,null,null,null,null,"","",""]
[null,null,null,null,null,null,null,null,null,null,null,null,null,null,null,null,null,null,null,null,null,null,null,null,null,null,null,null,"","",""]
[null,null,null,null,null,null,null,null,null,null,null,null,null,null,null,null,null,null,null,null,null,null,null,null,null,null,null,null,"","",""]
[null,null,null,null,null,null,null,null,null,null,null,null,null,null,null,null,null,null,null,null,null,null,null,null,null,null,null,null,"","",""]
[null,null,null,null,null,null,null,null,null,null,null,null,null,null,null,null,null,null,null,null,null,null,null,null,null,null,null,null,"","",""]
[null,null,null,null,null,null,null,null,null,null,null,null,null,null,null,null,null,null,null,null,null,null,null,null,null,null,null,null,"","",""]
[null,null,null,null,null,null,null,null,null,null,null,null,null,null,null,null,null,null,null,null,null,null,null,null,null,null,null,null,"","",""]
[null,null,null,null,null,null,null,null,null,null,null,null,null,null,null,null,null,null,null,null,null,null,null,null,null,null,null,null,"","",""]
[null,null,null,null,null,null,null,null,null,null,null,null,null,null,null,null,null,null,null,null,null,null,null,null,null,null,null,null,"","",""]
[null,null,null,null,null,null,null,null,null,null,null,null,null,null,null,null,null,null,null,null,null,null,null,null,null,null,null,null,"","",""]
[null,null,null,null,null,null,null,null,null,null,null,null,null,null,null,null,null,null,null,null,null,null,null,null,null,null,null,null,"","",""]
[null,null,null,null,null,null,null,null,null,null,null,null,null,null,null,null,null,null,null,null,null,null,null,null,null,null,null,null,"","",""]
[null,null,null,null,null,null,null,null,null,null,null,null,null,null,null,null,null,null,null,null,null,null,null,null,null,null,null,null,"","",""]
[null,null,null,null,null,null,null,null,null,null,null,null,null,null,null,null,null,null,null,null,null,null,null,null,null,null,null,null,"","",""]
[null,null,null,null,null,null,null,null,null,null,null,null,null,null,null,null,null,null,null,null,null,null,null,null,null,null,null,null,{"$f":"IF($A9987=\"\",\"\",$A9987&$C9987)","v":""},{"$f":"IF($A9987=\"\",\"\",$O9987)","v":""},{"$f":"IF($A9987=\"\",\"\",IF(AND(LEFT($P9987,1)=\"5\",RIGHT($P9987,2)<\"99\",RIGHT($P9987,2)>\"19\",$R9987<>\"\"),$P9987,\"\"))","v":""}]
[null,null,null,null,null,null,null,null,null,null,null,null,null,null,null,null,null,null,null,null,null,null,null,null,null,null,null,null,"","",""]
[null,null,null,null,null,null,null,null,null,null,null,null,null,null,null,null,null,null,null,null,null,null,null,null,null,null,null,null,"","",""]
[null,null,null,null,null,null,null,null,null,null,null,null,null,null,null,null,null,null,null,null,null,null,null,null,null,null,null,null,"","",""]
[null,null,null,null,null,null,null,null,null,null,null,null,null,null,null,null,null,null,null,null,null,null,null,null,null,null,null,null,"","",""]
[null,null,null,null,null,null,null,null,null,null,null,null,null,null,null,null,null,null,null,null,null,null,null,null,null,null,null,null,"","",""]
[null,null,null,null,null,null,null,null,null,null,null,null,null,null,null,null,null,null,null,null,null,null,null,null,null,null,null,null,"","",""]
[null,null,null,null,null,null,null,null,null,null,null,null,null,null,null,null,null,null,null,null,null,null,null,null,null,null,null,null,"","",""]
[null,null,null,null,null,null,null,null,null,null,null,null,null,null,null,null,null,null,null,null,null,null,null,null,null,null,null,null,"","",""]
[null,null,null,null,null,null,null,null,null,null,null,null,null,null,null,null,null,null,null,null,null,null,null,null,null,null,null,null,"","",""]
[null,null,null,null,null,null,null,null,null,null,null,null,null,null,null,null,null,null,null,null,null,null,null,null,null,null,null,null,"","",""]
[null,null,null,null,null,null,null,null,null,null,null,null,null,null,null,null,null,null,null,null,null,null,null,null,null,null,null,null,"","",""]
[null,null,null,null,null,null,null,null,null,null,null,null,null,null,null,null,null,null,null,null,null,null,null,null,null,null,null,null,"","",""]
[null,null,null,null,null,null,null,null,null,null,null,null,null,null,null,null,null,null,null,null,null,null,null,null,null,null,null,null,"","",""]

{"sheet":"Values","index":9,"n_rows":121,"n_cols":13,"rows_kept":121,"cut":false,"hidden":true,"merged":[[0,0,0,1],[0,11,0,12]]}
["FSU_AUX_BILL_SPECIALIST",null,null,"FSU_AUX_BILL_SOURCE_INFO",null,null,null,null,null,null,null,"FSU_AUX_VENDOR_INFO"]
["Biller","Name",null,"Source","Descr","Biller","Bill Authority","Source2","CONTRACT_NUM","Bill Inq",null,"Supplier","Supplier"]
["AUXACG","Auxiliary Services",null,"AUX074","Adult Learning Evaluation Ctr","AUXALEC","AUXALEC","AUX074",null,"(850) 644-3611",null,"AUX0000001","FSU Office of Business Services"]
["AUXALEC","Adult Learning Evaluation Ctr",null,"AUX612","Askew Student Life Building","AUXOGL2","AUXOGL2","AUX612",null,"(850) 644-6749",null,"AUX0000002","OBS Copy Program"]
["AUXATH","FSU Athletics",null,"AUX617","Askew Student Life Cinema","AUXOGL7","AUXOGL7","AUX617",null,"(850) 644-6749",null,"AUX0000003","OBS Postal Services"]
["AUXBARN","Mark & Marianne Barnebey Lab",null,"AUX500","Auxiliary Services","AUXACG","AUXACG","AUX500",null,"(850) 644-1824",null,"AUX0000004","Inactive Card Center -"]
["AUXBIO1","Biology Stockroom",null,"AUX065","Biology BSIR Microscope","AUXBIO3","AUXBIO3","AUX065",null,"(850) 644-4788",null,"AUX0000005","Inactive Parking and Transportation"]
["AUXBIO2","Biology CORE Labs",null,"AUX065","Biology CORE Labs","AUXBIO2","AUXBIO2","AUX065",null,"(850) 644-4788",null,"AUX0000006","FSU Card Center"]
["AUXBIO3","Biology BSIR Microscope",null,"AUX065","Biology Greenhouse","AUXBIO4","AUXBIO4","AUX065",null,"(850) 644-4788",null,"AUX0000007","Parking and Transportation"]
["AUXBIO4","Biology Greenhouse",null,"AUX065","Biology Stockroom","AUXBIO1","AUXBIO1","AUX065",null,"(850) 644-4788",null,"AUX0000008","Warehouse"]
["AUXBUSEV","College of Business Events",null,"AUX619","Bowling & Billiards Center","AUXOGL9","AUXOGL9","AUX619",null,"(850) 644-6749",null,"AUX0000009","FSU Information Technology Service"]
["AUXCAPD","CTR Academic & Professional Dev",null,"AUX615","Campus Event Services","AUXOGL5","AUXOGL5","AUX615",null,"(850) 644-6749",null,"AUX0000010","College of Music Performance Halls"]
["AUXCAPS","CAPS Auxiliary Services",null,"AUX603","Campus Rec Aquatics","AUXREC3","AUXREC3","AUX603",null,"(850) 644-4531",null,"AUX0000011","College of Medicine Stockroom"]
["AUXCAR","Career Center",null,"AUX604","Campus Rec Challenge Course","AUXREC4","AUXREC4","AUX604",null,"(850) 644-6124",null,"AUX0000012","College of Medicine Labs"]
["AUXCDPH","Demography & Population Health",null,"AUX601","Campus Rec Fitness","AUXREC1","AUXREC1","AUX601",null,"(850) 645-0485",null,"AUX0000013","Chemistry Stockroom"]
["AUXCEFA","Ctr for Economic Forecasting & Analysis",null,"AUX605","Campus Rec IM Sports","AUXREC5","AUXREC5","AUX605",null,"(850) 645-0922",null,"AUX0000014","Chemistry Labs"]
["AUXCHA","Challenger Learning Center",null,"AUX602","Campus Rec Outdoor Adv","AUXREC2","AUXREC2","AUX602",null,"(850) 644-0555",null,"AUX0000015","Biology Stockroom"]
["AUXCHEM1","Chemistry Stockroom",null,"AUX077","CAPS Auxiliary Services","AUXCAPS","AUXCAPS","AUX077",null,"(850) 645-2157",null,"AUX0000016","Biology CORE Labs"]
["AUXCHEM2","Chemistry Labs",null,"AUX091","Career Center","AUXCAR","AUXCAR","AUX091",null,"(850) 644-6439",null,"AUX0000017","Biology BSIR Facility"]
["AUXCIRC","Flying High Circus",null,"AUX113","Center for Disaster Risk Policy","AUXFPAC","AUXFPAC","AUX113",null,"(850) 644-9961",null,"AUX0000018","Biology Greenhouse"]
["AUXCLSC","Ctr for Leadership & Services",null,"AUX093","Center for Global Engagement","AUXGLO","AUXGLO","AUX093",null,"(850) 645-9417",null,"AUX0000020","College of Medicine-MRI Facility"]
["AUXCMMP","CMMP - Physics",null,"AUX301","Challenger Learning Center","AUXCHA","AUXCHA","AUX301",null,"(850) 645-7779",null,"AUX0000021","Photo and Video Services"]
["AUXCTL","Controller's Office",null,"AUX063","Chemistry Labs","AUXCHEM2","AUXCHEM2","AUX063",null,"(850) 644-1287",null,"AUX0000022","HR Background Checks"]
["AUXDCEE","DeSantis Center for Executive Education",null,"AUX063","Chemistry Stockroom","AUXCHEM1","AUXCHEM1","AUX063",null,"(850) 644-1287",null,"AUX0000023","Institute of Molecular Biophysics"]
["AUXDOS","Dean of Students",null,"AUX073","CMMP - Physics","AUXCMMP","AUXCMMP","AUX073",null,"(850) 644-6476",null,"AUX0000024","Condensed Matter & Material Physics"]
["AUXFCIM","FCIM - Florida Ctr for Interactive Media",null,"AUX133","College of Business Events","AUXBUSEV","AUXBUSEV","AUX133",null,"(850) 644-7871",null,"AUX0000025","Adult Learning Evaluation Ctr"]
["AUXFCPM","FL Center for Public Mgmt",null,"AUX087","College of Law","AUXLAW","AUXLAW","AUX087",null,"(850) 644-1824",null,"AUX0000026","Seminole Productions"]
["AUXFLVC","Florida Virtual Campus",null,"AUX104","College of Law Journals","AUXLWJ","AUXLWJ","AUX104",null,"(850) 644-7781",null,"AUX0000027","FSU Coastal & Marine Lab"]
["AUXFLVC2","Florida Virtual Campus Events",null,"AUX105","College of Law Research Center","AUXLWR","AUXLWR","AUX105",null,"(850) 644-4578",null,"AUX0000028","CAPS Auxiliary Services"]
["AUXFPAC","Center for Disaster Risk Policy",null,"AUX061","College of Medicine Labs","AUXMED2","AUXMED2","AUX061",null,"(850) 645-8892",null,"AUX0000029","University Health Services"]
["AUXFSL","Fraternity and Sorority Life",null,"AUX061","College of Medicine MEDShare","AUXMED4","AUXMED4","AUX061",null,"(850) 645-8892",null,"AUX0000030","FCAAP - Wind Tunnel"]
["AUXFSUPD","FSU Police Department",null,"AUX061","College of Medicine MRI Facility","AUXMED3","AUXMED3","AUX061",null,"(850) 645-8892",null,"AUX0000031","Lab Animal Resources"]
["AUXGEN","Ctr for Genomics & Pers Med",null,"AUX061","College of Medicine Stockroom","AUXMED1","AUXMED1","AUX061",null,"(850) 645-8892",null,"AUX0000032","FCRR-Florida Center for Reading Research"]
["AUXGLO","Center for Global Engagement",null,"AUX061","College of Medicine CLIA Lab","AUXMED5","AUXMED5","AUX061",null,"(850) 645-8892",null,"AUX0000033","Mark & Marianne Barnebey Lab"]
["AUXHOUS","University Housing",null,"AUX061","College of Medicine Viral Vector Lab","AUXMED6","AUXMED6","AUX061",null,"(850) 645-8892",null,"AUX0000034","FSU Athletics"]
["AUXHR","HR Background Checks",null,"AUX060","College of Music Performance Halls","AUXMUS","AUXMUS","AUX060",null,"(850) 644-6572",null,"AUX0000035","Jim Moran Building"]
["AUXICOFA","ICOFA",null,"AUX500","Controller's Office","AUXCTL","AUXCTL","AUX500",null,"(850) 644-1824",null,"AUX0000036","WFSU Public Media"]
["AUXIFVS","Institute for Family Violence Studies",null,"AUX110","CSW Multidisciplinary Center","AUXMDC","AUXMDC","AUX110",null,"(850) 644-9920",null,"AUX0000037","Natl High Magnetic Field Lab"]
["AUXIJRD","Inst for Justice Research & Development",null,"AUX132","CTR Academic & Professional Dev","AUXCAPD","AUXCAPD","AUX132",null,"(850) 644-7569",null,"AUX0000038","Psychology"]
["AUXIMB1","IMB Core Labs - PEF",null,"AUX127","Ctr for Economic Forecasting & Analysis","AUXCEFA","AUXCEFA","AUX127",null,"(850) 644-7357",null,"AUX0000039","New Student and Family Program"]
["AUXIMB2","IMB Core Labs - XRAY",null,"AUX061","Ctr for Genomics & Pers Med","AUXGEN","AUXGEN","AUX061",null,"(850) 645-8892",null,"AUX0000040","Career Center"]
["AUXIMB3","IMB Core Labs - PBF",null,"AUX095","Ctr for Leadership & Services","AUXCLSC","AUXCLSC","AUX095",null,"(850) 644-8365",null,"AUX0000041","Campus Recreation"]
["AUXIRD","FCRR - IRD Auxiliary",null,"AUX117","Ctr for Prev and Early Int Pol","CPEIP","CPEIP","AUX117",null,"(850) 922-1300",null,"AUX0000042","University Housing"]
["AUXISPP","NIP Internship ISPP",null,"AUX090","Dean of Students","AUXDOS","AUXDOS","AUX090",null,"(850) 644-2785",null,"AUX0000043","Ctr Leadership & Service"]
["AUXITS","ITS Accounting",null,"AUX109","Demography & Population Health","AUXCDPH","AUXCDPH","AUX109",null,"(850) 644-8755",null,"AUX0000044","Student Union"]
["AUXJMB","Jim Moran Building Auxiliary",null,"AUX115","DeSantis Center for Executive Education","AUXDCEE","AUXDCEE","AUX115",null,"(850) 644-3090",null,"AUX0000045","Ringling Center for the Arts"]
["AUXLAR","Lab Animal Resources",null,"AUX004","Dining Services","AUXOBS03","AUXOBS03","AUX004",null,"(850) 644-4147",null,"AUX0000046","FCIM - Florida Ctr for Interactive Media"]
["AUXLAW","College of Law",null,"AUX112","EOAS-Marine Field & Research Support","AUXMFG","AUXMFG","AUX112",null,"(850) 644-3936",null,"AUX0000047","EOAS-Earth, Ocean, & Atmospheric Science"]
["AUXLWJ","College of Law Journals",null,"AUX112","EOAS-Oceanography Analytical Facility","AUXOAF","AUXOAF","AUX112",null,"(850) 644-3936",null,"AUX0000048","CSW Multidisciplinary Center"]
["AUXLWR","College of Law Research Center",null,"AUX400","Facilities Administration","FACADM","FACADM","AUX400",null,"(850) 644-2329",null,"AUX0000049","JMI-Seminole 100"]
["AUXMAG","Natl High Magnetic Field Lab",null,"AUX405","Facilities Building Services","FACBLD","FACBLD","AUX405",null,"(850) 644-2329",null,"AUX0000050","FSU Facilities"]
["AUXMARIN","FSU Coastal & Marine Lab",null,"AUX401","Facilities Services","FACSVC","FACSVC","AUX401",null,"(850) 644-2329",null,"AUX0000051","Master Craftsman Studios"]
["AUXMDC","CSW Multidisciplinary Center",null,"AUX402","Facilities Utilities","FACUTL","FACUTL","AUX402",null,"(850) 644-2329",null,"AUX0000052","FSU Police Department"]
["AUXMED1","College of Medicine Stockroom",null,"AUX403","Facilities Waste Management","FACWM","FACWM","AUX403",null,"(850) 644-2329",null,"AUX0000053","Northwest Regional Data Center - NWRDC"]
["AUXMED2","College of Medicine Labs",null,"AUX080","FCAAP - Wind Tunnel","AUXWIND","AUXWIND","AUX080",null,"(850) 645-0134",null,"AUX0000054","Florida Conflict Resolution Center"]
["AUXMED3","College of Medicine MRI Facility",null,"AUX106","FCIM - Florida Ctr for Interactive Media","AUXFCIM","AUXFCIM","AUX106",null,"(850) 645-1759",null,"AUX0000055","FREAC-Fl Res & Enviro Anis Ctr"]
["AUXMED4","College of Medicine MEDShare",null,"AUX103","FCRR - IRD Auxiliary","AUXIRD","AUXIRD","AUX103",null,"(850) 645-8873",null,"AUX0000056","PCC Underwtr Crime Scene Investigation"]
["AUXMED5","College of Medicine CLIA Lab",null,"AUX082","FCRR - QMI Auxiliary","AUXQMI","AUXQMI","AUX082",null,"(850) 645-8873",null,"AUX0000057","PCC Space Utilization Auxiliary"]
["AUXMED6","College of Medicine Viral Vector Lab",null,"AUX107","FCRR – The Village Auxiliary","AUXVIL","AUXVIL","AUX107",null,"(850) 645-8873",null,"AUX0000058","Nutrition and Integrative Physiology"]
["AUXMFG","EOAS-Marine Field & Research Support",null,"AUX119","FIOG-Fl Inst of Government","FIOG","FIOG","AUX119",null,"(850) 487-1870",null,"AUX0000059","Inst for Justice Research and Developmnt"]
["AUXMUS","College of Music Performance Halls",null,"AUX134","FL Center for Public Mgmt","AUXFCPM","AUXFCPM","AUX134",null,"(850) 644-6460",null,"AUX0000060","Challenger Learning Center"]
["AUXNFESE","NIP Equipment",null,"AUX116","Fl Conflict Resolution Center","ISPAFCRC","ISPAFCRC","AUX116",null,"(850) 644-9289",null,"AUX0000061","Cntr for Economic Forecasting & Analysis"]
["AUXNFEST","NIP Food Testing",null,"AUX129","Florida Virtual Campus","AUXFLVC","AUXFLVC","AUX129",null,"(850) 922-6044",null,"AUX0000062","College of Law Research Center"]
["AUXNSFP","New Student and Family Programs",null,"AUX129","Florida Virtual Campus Events","AUXFLVC2","AUXFLVC2","AUX129",null,"(850) 922-6044",null,"AUX0000063","FLVC - Florida Virtual Campus"]
["AUXOAF","EOAS-Oceanography Analytical Facility",null,"AUX098","Flying High Circus","AUXCIRC","AUXCIRC","AUX098",null,"(850) 644-0828",null,"AUX0000064","College of Medicine MedShare"]
["AUXOBS01","OBS Copy Program",null,"AUX096","Fraternity and Sorority Life","AUXFSL","AUXFSL","AUX096",null,"(850) 644-9574",null,"AUX0000065","Center for Academic & Professional Dev"]
["AUXOBS02","OBS Postal Services",null,"AUX118","FREAC-Fl Res & Enviro Anls Ctr","FREACAUX","FREACAUX","AUX118",null,"(850) 224-8207",null,"AUX0000066","Dining Services"]
["AUXOBS03","Dining Services",null,"AUX118","FREAC-FNAI FL Natural Area Inv","FREACFNA","FREACFNA","AUX118",null,"(850) 224-8207",null,"AUX0000067","Florida Center for Public Management"]
["AUXOBS05","Office of Business Services - General",null,"AUX118","FREAC-TAP Technical Asst Prog","FREACTAP","FREACTAP","AUX118",null,"(850) 224-8207"]
["AUXOBS06","Parking & Transportation",null,"AUX084","FSU Athletics","AUXATH","AUXATH","AUX084",null,"(850) 644-1713"]
["AUXOBS07","FSU Card",null,"AUX020","FSU Card","AUXOBS07","AUXOBS07","AUX020",null,"(850) 644-0318"]
["AUXOBS08","OBS Golf Course",null,"AUX076","FSU Coastal & Marine Lab","AUXMARIN","AUXMARIN","AUX076",null,"(850) 697-4119"]
["AUXOBS09","OBS Warehouse",null,"AUX092","FSU Police Department","AUXFSUPD","AUXFSUPD","AUX092",null,"(850) 644-1344"]
["AUXODL","Office of Distance Learning",null,"AUX071","HR Background Checks","AUXHR","AUXHR","AUX071",null,"(850) 644-5457"]
["AUXOGL1","Student Union",null,"AUX100","ICOFA","AUXICOFA","AUXICOFA","AUX100",null,"(603)759-5278"]
["AUXOGL2","Askew Student Life Building",null,"AUX072","IMB Core Labs - PBF","AUXIMB3","AUXIMB3","AUX072",null,"(850) 644-5147"]
["AUXOGL3","Student Union Family Weekend",null,"AUX072","IMB Core Labs - PEF","AUXIMB1","AUXIMB1","AUX072",null,"(850) 644-5147"]
["AUXOGL4","Student Orgs & Involvement",null,"AUX072","IMB Core Labs - XRAY","AUXIMB2","AUXIMB2","AUX072",null,"(850) 644-5147"]
["AUXOGL5","Campus Event Services",null,"AUX126","Inst for Justice Research & Development","AUXIJRD","AUXIJRD","AUX126",null,"(850) 645-6855"]
["AUXOGL6","Union Productions/Club Downund",null,"AUX111","Institute for Family Violence Studies","AUXIFVS","AUXIFVS","AUX111",null,"(850) 644-1715"]
["AUXOGL7","Askew Student Life Cinema",null,"AUX050","ITS Accounting","AUXITS","AUXITS","AUX050",null,"(850) 644-4357"]
["AUXOGL8","Union Art Center",null,"AUX085","Jim Moran Building Auxiliary","AUXJMB","AUXJMB","AUX085",null,"(850) 644-3779"]
["AUXOGL9","Bowling & Billiards Center",null,"AUX114","JMI - Seminole 100","JMIS100","JMIS100","AUX114",null,"(850) 644-3372"]
["AUXOLLI","Osher Lifelong Learning Institute",null,"AUX081","Lab Animal Resources","AUXLAR","AUXLAR","AUX081",null,"(850) 644-2873"]
["AUXPCCSH","PCC Student Housing",null,"AUX083","Mark & Marianne Barnebey Lab","AUXBARN","AUXBARN","AUX083",null,"(850) 644-8518"]
["AUXPEPP","The Pepper Institute",null,"AUX404","Master Craftsman Studios","FACMCS","FACMCS","AUX404",null,"(850) 644-2329"]
["AUXPHT","Photo and Video Services",null,"AUX088","Natl High Magnetic Field Lab","AUXMAG","AUXMAG","AUX088",null,"(850) 644-3651"]
["AUXPROV","Office of the Provost",null,"AUX090","New Student and Family Programs","AUXNSFP","AUXNSFP","AUX090",null,"(850) 644-2785"]
["AUXPSYCH","Psychology",null,"AUX125","HNFS Equipment","AUXNFESE","AUXNFESE","AUX125",null,"(850) 644-5807"]
["AUXQMI","FCRR - QMI Auxiliary",null,"AUX131","HNFS Food Testing","AUXNFEST","AUXNFEST","AUX131",null,"(850) 644-5807"]
["AUXREC1","Campus Rec Fitness",null,"AUX124","HNFS Internship ISPP","AUXISPP","AUXISPP","AUX124",null,"(850) 644-5807"]
["AUXREC2","Campus Rec Outdoor Adv",null,"AUX302","Northwest Regional Data Center","NWRDC","NWRDC","AUX302",null,"(850) 645-3500"]
["AUXREC3","Campus Rec Aquatics",null,"AUX006","OBS Copy Program","AUXOBS01","AUXOBS01","AUX006",null,"(850) 644-4147"]
["AUXREC4","Campus Rec Challenge Course",null,"AUX003","OBS Golf Course","AUXOBS08","AUXOBS08","AUX003",null,"(850) 644-0318"]
["AUXREC5","Campus Rec IM Sports",null,"AUX007","OBS Postal Services","AUXOBS02","AUXOBS02","AUX007",null,"(850) 644-0318"]
["AUXRING","Ringling Center for the Arts",null,"AUX009","OBS Warehouse","AUXOBS09","AUXOBS09","AUX009",null,"(850) 644-0316"]
["AUXSEMPR","Seminole Productions",null,"AUX021","Office of Business Services - General","AUXOBS05","AUXOBS05","AUX021",null,"(850) 644-0316"]
["AUXTRC","Trauma & Resilience Collab",null,"AUX102","Office of Distance Learning","AUXODL","AUXODL","AUX102",null,"(850) 644-6776"]
["AUXTXT","Textile Testing Services",null,"AUX135","Office of the Provost","AUXPROV","AUXPROV","AUX135",null,"(850) 644-1472"]
["AUXUHS","University Health Services",null,"AUX128","Osher Lifelong Learning Institute","AUXOLLI","AUXOLLI","AUX128",null,"(850) 645-9650"]
["AUXVIL","FCRR – The Village Auxiliary",null,"AUX008","Parking & Transportation","AUXOBS06","AUXOBS06","AUX008",null,"(850) 644-0316"]
["AUXWFSU","WFSU Public Media",null,"AUX130","PCC Student Housing","AUXPCCSH","AUXPCCSH","AUX130",null,"(850) 770-2114"]
["AUXWIND","FCAAP - Wind Tunnel",null,"AUX122","PCC-ABA Assistantship","PCCABA","PCCABA","AUX122",null,"(850) 770-2231"]
["CPEIP","Ctr for Prev and Early Int Pol",null,"AUX123","PCC-Campus Safety","PCCCS","PCCCS","AUX123",null,"(850) 770-2114"]
["FACADM","Facilities Administration",null,"AUX120","PCC-Space Utilization Aux","PCCSUA","PCCSUA","AUX120",null,"(850) 770-2114"]
["FACBLD","Facilities Building Services",null,"AUX121","PCC-Underwater Crime Scene Inv","PCCUSCI","PCCUSCI","AUX121",null,"(850) 770-2201"]
["FACMCS","Master Craftsman Studios",null,"AUX070","Photo and Video Services","AUXPHT","AUXPHT","AUX070",null,"(850) 645-9748"]
["FACSVC","Facilities Services",null,"AUX089","Psychology","AUXPSYCH","AUXPSYCH","AUX089",null,"(850) 644-9899"]
["FACUTL","Facilities Utilities",null,"AUX101","Ringling Center for the Arts","AUXRING","AUXRING","AUX101",null,"(941) 358-2639"]
["FACWM","Facilities Waste Management",null,"AUX075","Seminole Productions","AUXSEMPR","AUXSEMPR","AUX075",null,"(850) 644-8034"]
["FIOG","FIOG-Fl Inst of Government",null,"AUX614","Student Orgs & Involvement","AUXOGL4","AUXOGL4","AUX614",null,"(850) 644-6749"]
["FREACAUX","FREAC-Fl Res & Enviro Anls Ctr",null,"AUX611","Student Union","AUXOGL1","AUXOGL1","AUX611",null,"(850) 644-6749"]
["FREACFNA","FREAC-FNAI FL Natural Area Inv",null,"AUX613","Student Union Family Weekend","AUXOGL3","AUXOGL3","AUX613",null,"(850) 644-6749"]
["FREACTAP","FREAC-TAP Technical Asst Prog",null,"AUX079","Textile Testing Services","AUXTXT","AUXTXT","AUX079",null,"(850) 644-3779"]
["ISPAFCRC","Fl Conflict Resolution Center",null,"AUX108","The Pepper Institute","AUXPEPP","AUXPEPP","AUX108",null,"(850) 644-8558"]
["JMIS100","JMI - Seminole 100",null,"AUX136","Trauma & Resilience Collab","AUXTRC","AUXTRC","AUX136",null,"(850) 645-7770"]
["NWRDC","Northwest Regional Data Center",null,"AUX618","Union Art Center","AUXOGL8","AUXOGL8","AUX618",null,"(850) 644-6749"]
["PCCABA","PCC-ABA Assistantship",null,"AUX616","Union Productions/Club Downund","AUXOGL6","AUXOGL6","AUX616",null,"(850) 644-6749"]
["PCCCS","PCC-Campus Safety",null,"AUX078","University Health Services","AUXUHS","AUXUHS","AUX078",null,"(850) 644-6598"]
["PCCSUA","PCC-Space Utilization Aux",null,"AUX094","University Housing","AUXHOUS","AUXHOUS","AUX094",null,"(850) 645-1344"]
["PCCUSCI","PCC-Underwater Crime Scene Inv",null,"AUX086","WFSU Public Media","AUXWFSU","AUXWFSU","AUX086",null,"(850) 645-6049"]